{"text_format":"1","workbook":"xlsx","n_sheets":8,"sheets":["1.Définitions","2.Informations sur l'entreprise","3.Zones_desservies","3Data","4.Utilisation-Fréquentation","5.Services délivrés","6.Modalités d'accès","7.Informations EFS"],"not_rendered":{"charts":0,"images":1,"macros":1,"external_links":0,"defined_names":5,"comments":0,"pivot_tables":1},"unopened":[],"bounds":{"document_bytes":16777216,"sheet_cells":100000,"rows_first":2000,"rows_last":500,"rows_between":2000,"halvings":0,"cell_chars":16384,"cell_head_chars":4096},"cells_cut":0,"cells_raw":0,"read":"whole","date_system":"1900"}

{"sheet":"1.Définitions","index":0,"n_rows":59,"n_cols":8,"rows_kept":59,"cut":false,"hidden":false,"merged":[[58,1,58,2],[58,3,58,10],[55,1,55,2],[55,3,55,10],[56,1,56,2],[56,3,56,10],[57,1,57,2],[57,3,57,10],[54,1,54,2],[54,3,54,10],[47,1,47,2],[47,3,47,10],[48,1,48,2],[48,3,48,10],[49,1,49,2],[49,3,49,10],[51,0,51,10],[52,1,52,2],[52,3,52,10],[53,1,53,2],[53,3,53,10],[46,1,46,2],[46,3,46,10],[39,1,39,2],[39,3,39,10],[40,1,40,2],[40,3,40,10],[41,1,41,2],[41,3,41,10],[42,1,42,2],[42,3,42,10],[44,0,44,10],[45,1,45,2],[45,3,45,10],[38,1,38,2],[38,3,38,10],[29,1,29,2],[29,3,29,10],[30,1,30,2],[30,3,30,10],[32,0,32,10],[33,1,33,2],[33,3,33,10],[34,1,34,2],[34,3,34,10],[35,1,35,2],[35,3,35,10],[37,0,37,10],[28,1,28,2],[28,3,28,10],[19,0,19,10],[21,0,21,4],[21,5,21,6],[21,7,21,10],[23,0,23,10],[24,0,24,10],[25,0,25,10],[26,1,26,2],[26,3,26,10],[27,1,27,2],[27,3,27,10],[18,0,18,10],[0,0,0,10],[1,0,1,10],[3,0,3,10],[4,0,4,9],[17,0,17,10]]}
["Annexe de la décision n° 2015-043 du 2 décembre 2015 "]
["Liste et définition des informations à transmettre à l'Autorité de régulation des activités ferroviaires"]
[]
["MODALITES "]
["L'annexe complétée doit  être envoyée à l'adresse suivante : observatoire@arafer.fr"]
["Pour toutes demandes de précisions sur la présente annexe, merci de vous adresser également à cette adresse."]
[]
["Ce fichier est composé de 7 onglets  :"]
["1. Définitions"]
["L'entreprise doit compléter intégralement les cellules grisées des onglets 2 à 7 :"]
["2. Informations sur l'entreprise"]
["3. Zones desservies"]
["4. Utilisation-fréquentation"]
["5. Services délivrés"]
["6. Modalités d'accès"]
["7. Informations EFS (économiques, financières et sociales)"]
[]
["L'ensemble des informations collectées porte sur l'activité de transport par autocar pour des lignes comprenant au moins une liaison en France."]
["- Pour la première collecte, les données à renseigner couvrent la période du 8 août au 30 septembre 2015. Le fichier doit être transmis à l'Autorité au plus tard le 15 janvier 2016."]
["- pour les données du 4ème trimestre 2015 et des quatre trimestres de l'année 2016, les informations relatives à chaque trimestre d'activité sont transmises à l’Autorité au plus tard le 15 du deuxième mois suivant la fin du trimestre."]
[]
["Merci de préciser le trimestre couvert par les informations fournies dans ce fichier : ",null,null,null,null,"Du : JJ/MM/AAAA",null,"Au: JJ/MM/AAAA"]
[]
["L'entreprise est invitée à fournir à l'Autorité tous documents et/ou précisions complémentaires susceptibles de permettre à l'Autorité d'analyser au mieux les informations collectées dans le cadre de la présente Décision."]
["Dans tout le document, le terme \"entreprise\" désigne l'entité, la filiale, le département etc. directement en charge de l'activité de transport par autocar. "]
["Informations sur les zones desservies"]
["Libellé","Format de l'information",null,"Définition"]
["Ligne ","Liste des origines/destinations",null,"Une ligne est définie comme une origine et une destination finale proposée par un transporteur. Les lignes concernées par la présente collecte d'information sont celles proposant au moins une liaison en France."]
["Liaison ","Liste des origines/destinations",null,"Une liaison est définie comme une origine et une destination à l’intérieur d’une ligne, y compris l'origine et la destination finales de la ligne. Par exemple, la ligne n°1 allant de A à D peut comporter jusqu'à 6 liaisons : A-B ; A-C ; A-D ; B-C ; B-D ; C-D."]
["Arrêt","Liste des villes desservies par les lignes",null,"Un arrêt est défini comme une origine ou une destination au sein d'une liaison."]
["Date de lancement","JJ/MM/AAAA",null,"Date de début de commercialisation des lignes et des liaisons."]
[]
["Informations sur l'utilisation et la fréquentation des services"]
["Libellé","Format de l'information",null,"Définition"]
["Taux de remplissage ","%",null,"Taux de remplissage moyen des autocars par liaison sur la période considérée, calculé de la façon suivante : Nombre total de passagers transportés par liaison/nombre total de sièges disponibles pour la liaison. \nLe nombre total de sièges disponibles correspond à la capacité totale offerte pour effectuer la liaison."]
["Nombre de passagers transportés","Nombre",null,"Nombre total de passagers transportés par liaison, sur la période considérée."]
[]
["Informations sur les services délivrés"]
["Libellé","Format de l'information",null,"Définition"]
["Fréquence","Fréquence ou fréquence moyenne",null,"Nombre de départs quotidiens pour une ligne. En cas de fréquences journalières irrégulières, fournir une moyenne journalière sur la période considérée. La moyenne peut être inférieure à 1 en cas de fréquence non journalière."]
["Temps de trajet","Temps en minutes",null,"Temps de trajet annoncé (à la commercialisation) entre l'origine et la destination de chaque liaison. En cas de temps de trajet irréguliers, fournir une moyenne sur la période considérée."]
["Distance routière effective","Km",null,"Distance effectivement parcourue pour effectuer une liaison."]
["Nombre moyen de sièges par autocar","Nombre moyen",null,"Nombre moyen de sièges dans l'autocar assurant la liaison (pondéré de la fréquence)."]
[]
["Informations sur les modalités d'accès aux services"]
["Libellé","Format de l'information",null,"Définition"]
["Gares routières desservies","Liste",null,"Dénomination des gares routières desservies lors des arrêts."]
["Gestionnaires des gares routières","Liste",null,"Dénomination des gestionnaires des gares routières desservies lors des arrêts. Le gestionnaire désigne l'entité décisionnaire de l'accès à la gare routière."]
["Autres points d'arrêt","Liste",null,"Dénomination et adresse des points d'arrêt, lorsque ceux-ci ne s'effectuent pas dans une gare routière."]
["Localisation GPS","[latitude;longitude]",null,"Localisation GPS du point d'arrêt, au format décimal."]
[]
["Informations économiques, financières et sociales"]
["Libellé","Format de l'information",null,"Définition"]
["Nombre d'employés au sein de l'entreprise","Nombre total",null,"Nombre total d'équivalents temps plein dans l'entreprise. Ce nombre n'inclut pas la sous-traitance."]
["Part des chauffeurs d'autocars dans l'ensemble des emplois","%",null,"Nombre d'équivalents temps plein dans l'entreprise dédiés à la conduite des autocars rapporté au nombre total d'employés au sein de l'entreprise."]
["Nombre total de chauffeurs pour les lignes commercialisées","Nombre total",null,"Nombre d'équivalents temps plein dédiés à la conduite des autocars exploitant les lignes commercialisées par l'entreprise. Ce nombre inclut les chauffeurs employés par les sous-traitants et partenaires."]
["Chiffre d'affaires lié à la vente de titres de transport","k€ HT",null,"Chiffre d'affaires provenant uniquement de la vente de titres de transport pour des trajets par autocars."]
["Chiffre d'affaires lié à d'autres prestations de service","k€ HT",null,"Chiffre d'affaires provenant de toutes autres activités sur le marché de transport par autocar."]
["Nature de ces autres prestations","Liste",null,"Liste des autres activités concernées."]

{"sheet":"2.Informations sur l'entreprise","index":1,"n_rows":16,"n_cols":6,"rows_kept":16,"cut":false,"hidden":false,"merged":[[92,1,92,4],[92,5,92,7],[93,1,93,4],[93,5,93,7],[94,1,94,4],[94,5,94,7],[95,1,95,4],[95,5,95,7],[96,1,96,4],[96,5,96,7],[87,1,87,4],[87,5,87,7],[88,1,88,4],[88,5,88,7],[89,1,89,4],[89,5,89,7],[90,1,90,4],[90,5,90,7],[91,1,91,4],[91,5,91,7],[82,1,82,4],[82,5,82,7],[83,1,83,4],[83,5,83,7],[84,1,84,4],[84,5,84,7],[85,1,85,4],[85,5,85,7],[86,1,86,4],[86,5,86,7],[77,1,77,4],[77,5,77,7],[78,1,78,4],[78,5,78,7],[79,1,79,4],[79,5,79,7],[80,1,80,4],[80,5,80,7],[81,1,81,4],[81,5,81,7],[72,1,72,4],[72,5,72,7],[73,1,73,4],[73,5,73,7],[74,1,74,4],[74,5,74,7],[75,1,75,4],[75,5,75,7],[76,1,76,4],[76,5,76,7],[97,1,97,4],[97,5,97,7],[98,1,98,4],[98,5,98,7],[62,1,62,4],[62,5,62,7],[63,1,63,4],[63,5,63,7],[64,1,64,4],[64,5,64,7],[65,1,65,4],[65,5,65,7],[66,1,66,4],[66,5,66,7],[67,1,67,4],[67,5,67,7],[68,1,68,4],[68,5,68,7],[69,1,69,4],[69,5,69,7],[70,1,70,4],[70,5,70,7],[71,1,71,4],[71,5,71,7],[59,1,59,4],[59,5,59,7],[60,1,60,4],[60,5,60,7],[61,1,61,4],[61,5,61,7],[56,1,56,4],[56,5,56,7],[57,1,57,4],[57,5,57,7],[58,1,58,4],[58,5,58,7],[53,1,53,4],[53,5,53,7],[54,1,54,4],[54,5,54,7],[55,1,55,4],[55,5,55,7],[50,1,50,4],[50,5,50,7],[51,1,51,4],[51,5,51,7],[52,1,52,4],[52,5,52,7],[47,1,47,4],[47,5,47,7],[48,1,48,4],[48,5,48,7],[49,1,49,4],[49,5,49,7],[44,1,44,4],[44,5,44,7],[45,1,45,4],[45,5,45,7],[46,1,46,4],[46,5,46,7],[42,5,42,7],[43,5,43,7],[32,1,32,4],[33,1,33,4],[34,1,34,4],[35,1,35,4],[36,1,36,4],[37,1,37,4],[38,1,38,4],[39,1,39,4],[40,1,40,4],[41,1,41,4],[42,1,42,4],[43,1,43,4],[37,5,37,7],[38,5,38,7],[39,5,39,7],[40,5,40,7],[41,5,41,7],[32,5,32,7],[33,5,33,7],[34,5,34,7],[35,5,35,7],[36,5,36,7],[28,1,28,4],[29,1,29,4],[30,1,30,4],[31,1,31,4],[23,5,23,7],[24,5,24,7],[25,5,25,7],[26,5,26,7],[27,5,27,7],[28,5,28,7],[29,5,29,7],[30,5,30,7],[31,5,31,7],[23,1,23,4],[24,1,24,4],[25,1,25,4],[26,1,26,4],[27,1,27,4],[19,1,19,4],[20,1,20,4],[21,1,21,4],[22,1,22,4],[21,5,21,7],[22,5,22,7],[15,1,15,4],[16,1,16,4],[17,1,17,4],[18,1,18,4],[15,5,15,7],[16,5,16,7],[17,5,17,7],[18,5,18,7],[19,5,19,7],[20,5,20,7],[12,1,12,14],[10,1,10,5],[4,1,4,5],[3,1,3,5],[3,7,3,14],[4,7,4,14],[5,7,5,14],[6,7,6,14],[8,7,8,14],[9,7,9,14],[10,7,10,14],[6,1,6,5],[8,1,8,5],[9,1,9,5]]}
[]
[null,"INFORMATIONS SUR L'ENTREPRISE"]
[]
[null,"Nom de l'entreprise/ Dénomination sociale"]
[null,"N° SIREN de l'entreprise"]
[null,"Nom du groupe / Dénomination sociale du groupe, le cas échéant"]
[null,"N° SiREN du groupe, le cas échéant"]
[]
[null,"NOM et prénom du correspondant"]
[null,"Téléphone"]
[null,"Courriel"]
[]
[null,"Merci de lister ci-dessous toutes les entreprises de transport par autocar partenaires et/ou sous-traitantes de votre entreprise, et d'en indiquer le n° SIREN."]
[]
[]
[null,"Nom de l'entreprise/Dénomination sociale",null,null,null,"N° SIREN de l'entreprise"]

{"sheet":"3.Zones_desservies","index":2,"n_rows":45,"n_cols":109,"rows_kept":45,"cut":false,"hidden":false,"merged":[[39,1,41,11],[3,1,4,20],[9,1,9,20],[5,1,5,20],[6,1,6,20],[7,1,8,20]]}
[]
[null,"INFORMATIONS SUR LES ZONES DESSERVIES"]
[]
[null,"Merci d'indiquer, pour chaque ligne commercialisée, l'ensemble des arrêts. Indiquer pour cela le nom de la ville, et si plusieurs arrêts existent pour cette même ville, ajouter un terme permettant son identification. \nPar exemple, dans le cas de Paris, il peut exister l'arrêt \"Paris Bercy\", \"Paris La Défense\", \"Paris Bagnolet\", \"Paris Charenton\", ou encore \"Paris Porte Maillot\"."]
[]
[]
[]
[null,"Pour la première collecte (relative au T3 2015), merci de remplir complètement ce tableau, en veillant à indiquer la date de lancement commercial de chaque ligne. "]
[]
[null,"A partir de la deuxième collecte (T4 2015 et ultérieurs):\n- En cas de suppression de ligne(s) par rapport au trimestre précédent, la colonne correspondante doit être maintenue, en y inscrivant \"n/a\" en ligne 14 (exemple : la ligne 1 n'est plus commercialisée lors de la seconde collecte. Il sera inscrit \"n/a\" en cellule C14, les cellules suivantes pouvant être vidées).\n- En cas d'ajout d'arrêts supplémentaires au sein d'une ligne, les nouveaux arrêts doivent apparaître à la suite des arrêts qui étaient déjà desservis lors de la collecte précédente (exemple : la ligne 1 comprenait 5 arrêts lors de la première collecte. Un arrêt supplémentaire a été ajouté entre l'arrêt 1 et 2. Cet arrêt supplémentaire doit être numéroté arrêt 6 lors de la deuxième collecte).\n- En cas de suppression d'arrêt(s) au sein d'une ligne, la cellule correspondante doit toujours apparaître dans le tableau, mais en y inscrivant \"n/a\" en lieu et place de la ville (exemple : l'arrêt 1 de la ligne 1 n'est plus desservi lors de la seconde collecte. La cellule C15  doit toujours apparaître dans le tableau, mais elle doit afficher \"n/a\"). \nLa numérotation des lignes est utilisée comme identifiant et doit donc rester identique dans le reste du document et d'une collecte à l'autre."]
[]
[]
[null,"             n° de ligne\nn° d'arrêt",1,2,3,4,5,6,7,8,9,10,11,12,13,14,15,16,17,18,19,20,21,22,23,24,25,26,27,28,29,30,31,32,33,34,35,36,37,38,39,40,41,42,43,44,45,46,47,48,49,50,51,52,53,54,55,56,57,58,59,60,61,62,63,64,65,66,67,68,69,70,71,72,73,74,75,76,77,78,79,80,81,82,83,84,85,86,87,88,89,90,91,92,93,94,95,96,97,98,99,100,"…"]
[null,"0 (départ)","Ville 0","Ville 0","Ville 0",null,null,null,null,null,null,null,null,null,null,null,null,null,null,null,null,null,null,null,null,null,null,null,null,null,null,null,null,null,null,null,null,null,null,null,null,null,null,null,null,null,null,null,null,null,null,null,null,null,null,null,null,null,null,null,null,null,null,null,null,null,null,null,null,null,null,null,null,null,null,null,null,null,null,null,null,null,null,null,null,null,null,null,null,null,null,null,null,null,null,null,null,null,null,null,null,null,"_"]
[null,1,"Ville 1","Ville 1","Ville 1",null,null,null,null,null,null,null,null,null,null,null,null,null,null,null,null,null,null,null,null,null,null,null,null,null,null,null,null,null,null,null,null,null,null,null,null,null,null,null,null,null,null,null,null,null,null,null,null,null,null,null,null,null,null,null,null,null,null,null,null,null,null,null,null,null,null,null,null,null,null,null,null,null,null,null,null,null,null,null,null,null,null,null,null,null,null,null,null,null,null,null,null,null,null,null,null,null,"_"]
[null,2,"Ville 2","Ville 2","Ville 2",null,null,null,null,null,null,null,null,null,null,null,null,null,null,null,null,null,null,null,null,null,null,null,null,null,null,null,null,null,null,null,null,null,null,null,null,null,null,null,null,null,null,null,null,null,null,null,null,null,null,null,null,null,null,null,null,null,null,null,null,null,null,null,null,null,null,null,null,null,null,null,null,null,null,null,null,null,null,null,null,null,null,null,null,null,null,null,null,null,null,null,null,null,null,null,null,null,"_"]
[null,3,"Ville 3","Ville 3",null,null,null,null,null,null,null,null,null,null,null,null,null,null,null,null,null,null,null,null,null,null,null,null,null,null,null,null,null,null,null,null,null,null,null,null,null,null,null,null,null,null,null,null,null,null,null,null,null,null,null,null,null,null,null,null,null,null,null,null,null,null,null,null,null,null,null,null,null,null,null,null,null,null,null,null,null,null,null,null,null,null,null,null,null,null,null,null,null,null,null,null,null,null,null,null,null,null,"_"]
[null,4,"Ville 4","Ville 4",null,null,null,null,null,null,null,null,null,null,null,null,null,null,null,null,null,null,null,null,null,null,null,null,null,null,null,null,null,null,null,null,null,null,null,null,null,null,null,null,null,null,null,null,null,null,null,null,null,null,null,null,null,null,null,null,null,null,null,null,null,null,null,null,null,null,null,null,null,null,null,null,null,null,null,null,null,null,null,null,null,null,null,null,null,null,null,null,null,null,null,null,null,null,null,null,null,null,"_"]
[null,5,"Ville 5","Ville 5",null,null,null,null,null,null,null,null,null,null,null,null,null,null,null,null,null,null,null,null,null,null,null,null,null,null,null,null,null,null,null,null,null,null,null,null,null,null,null,null,null,null,null,null,null,null,null,null,null,null,null,null,null,null,null,null,null,null,null,null,null,null,null,null,null,null,null,null,null,null,null,null,null,null,null,null,null,null,null,null,null,null,null,null,null,null,null,null,null,null,null,null,null,null,null,null,null,null,"_"]
[null,6,"Ville 6","Ville 6",null,null,null,null,null,null,null,null,null,null,null,null,null,null,null,null,null,null,null,null,null,null,null,null,null,null,null,null,null,null,null,null,null,null,null,null,null,null,null,null,null,null,null,null,null,null,null,null,null,null,null,null,null,null,null,null,null,null,null,null,null,null,null,null,null,null,null,null,null,null,null,null,null,null,null,null,null,null,null,null,null,null,null,null,null,null,null,null,null,null,null,null,null,null,null,null,null,null,"_"]
[null,7,"Ville 7",null,null,null,null,null,null,null,null,null,null,null,null,null,null,null,null,null,null,null,null,null,null,null,null,null,null,null,null,null,null,null,null,null,null,null,null,null,null,null,null,null,null,null,null,null,null,null,null,null,null,null,null,null,null,null,null,null,null,null,null,null,null,null,null,null,null,null,null,null,null,null,null,null,null,null,null,null,null,null,null,null,null,null,null,null,null,null,null,null,null,null,null,null,null,null,null,null,null,null,"_"]
[null,8,"Ville 8",null,null,null,null,null,null,null,null,null,null,null,null,null,null,null,null,null,null,null,null,null,null,null,null,null,null,null,null,null,null,null,null,null,null,null,null,null,null,null,null,null,null,null,null,null,null,null,null,null,null,null,null,null,null,null,null,null,null,null,null,null,null,null,null,null,null,null,null,null,null,null,null,null,null,null,null,null,null,null,null,null,null,null,null,null,null,null,null,null,null,null,null,null,null,null,null,null,null,null,"_"]
[null,9,"Ville 9",null,null,null,null,null,null,null,null,null,null,null,null,null,null,null,null,null,null,null,null,null,null,null,null,null,null,null,null,null,null,null,null,null,null,null,null,null,null,null,null,null,null,null,null,null,null,null,null,null,null,null,null,null,null,null,null,null,null,null,null,null,null,null,null,null,null,null,null,null,null,null,null,null,null,null,null,null,null,null,null,null,null,null,null,null,null,null,null,null,null,null,null,null,null,null,null,null,null,null,"_"]
[null,10,"Ville 10",null,null,null,null,null,null,null,null,null,null,null,null,null,null,null,null,null,null,null,null,null,null,null,null,null,null,null,null,null,null,null,null,null,null,null,null,null,null,null,null,null,null,null,null,null,null,null,null,null,null,null,null,null,null,null,null,null,null,null,null,null,null,null,null,null,null,null,null,null,null,null,null,null,null,null,null,null,null,null,null,null,null,null,null,null,null,null,null,null,null,null,null,null,null,null,null,null,null,null,"_"]
[null,11,null,null,null,null,null,null,null,null,null,null,null,null,null,null,null,null,null,null,null,null,null,null,null,null,null,null,null,null,null,null,null,null,null,null,null,null,null,null,null,null,null,null,null,null,null,null,null,null,null,null,null,null,null,null,null,null,null,null,null,null,null,null,null,null,null,null,null,null,null,null,null,null,null,null,null,null,null,null,null,null,null,null,null,null,null,null,null,null,null,null,null,null,null,null,null,null,null,null,null,null,"_"]
[null,12,null,null,null,null,null,null,null,null,null,null,null,null,null,null,null,null,null,null,null,null,null,null,null,null,null,null,null,null,null,null,null,null,null,null,null,null,null,null,null,null,null,null,null,null,null,null,null,null,null,null,null,null,null,null,null,null,null,null,null,null,null,null,null,null,null,null,null,null,null,null,null,null,null,null,null,null,null,null,null,null,null,null,null,null,null,null,null,null,null,null,null,null,null,null,null,null,null,null,null,null,"_"]
[null,13,null,null,null,null,null,null,null,null,null,null,null,null,null,null,null,null,null,null,null,null,null,null,null,null,null,null,null,null,null,null,null,null,null,null,null,null,null,null,null,null,null,null,null,null,null,null,null,null,null,null,null,null,null,null,null,null,null,null,null,null,null,null,null,null,null,null,null,null,null,null,null,null,null,null,null,null,null,null,null,null,null,null,null,null,null,null,null,null,null,null,null,null,null,null,null,null,null,null,null,null,"_"]
[null,14,null,null,null,null,null,null,null,null,null,null,null,null,null,null,null,null,null,null,null,null,null,null,null,null,null,null,null,null,null,null,null,null,null,null,null,null,null,null,null,null,null,null,null,null,null,null,null,null,null,null,null,null,null,null,null,null,null,null,null,null,null,null,null,null,null,null,null,null,null,null,null,null,null,null,null,null,null,null,null,null,null,null,null,null,null,null,null,null,null,null,null,null,null,null,null,null,null,null,null,null,"_"]
[null,15,null,null,null,null,null,null,null,null,null,null,null,null,null,null,null,null,null,null,null,null,null,null,null,null,null,null,null,null,null,null,null,null,null,null,null,null,null,null,null,null,null,null,null,null,null,null,null,null,null,null,null,null,null,null,null,null,null,null,null,null,null,null,null,null,null,null,null,null,null,null,null,null,null,null,null,null,null,null,null,null,null,null,null,null,null,null,null,null,null,null,null,null,null,null,null,null,null,null,null,null,"_"]
[null,16,null,null,null,null,null,null,null,null,null,null,null,null,null,null,null,null,null,null,null,null,null,null,null,null,null,null,null,null,null,null,null,null,null,null,null,null,null,null,null,null,null,null,null,null,null,null,null,null,null,null,null,null,null,null,null,null,null,null,null,null,null,null,null,null,null,null,null,null,null,null,null,null,null,null,null,null,null,null,null,null,null,null,null,null,null,null,null,null,null,null,null,null,null,null,null,null,null,null,null,null,"_"]
[null,17,null,null,null,null,null,null,null,null,null,null,null,null,null,null,null,null,null,null,null,null,null,null,null,null,null,null,null,null,null,null,null,null,null,null,null,null,null,null,null,null,null,null,null,null,null,null,null,null,null,null,null,null,null,null,null,null,null,null,null,null,null,null,null,null,null,null,null,null,null,null,null,null,null,null,null,null,null,null,null,null,null,null,null,null,null,null,null,null,null,null,null,null,null,null,null,null,null,null,null,null,"_"]
[null,18,null,null,null,null,null,null,null,null,null,null,null,null,null,null,null,null,null,null,null,null,null,null,null,null,null,null,null,null,null,null,null,null,null,null,null,null,null,null,null,null,null,null,null,null,null,null,null,null,null,null,null,null,null,null,null,null,null,null,null,null,null,null,null,null,null,null,null,null,null,null,null,null,null,null,null,null,null,null,null,null,null,null,null,null,null,null,null,null,null,null,null,null,null,null,null,null,null,null,null,null,"_"]
[null,19,null,null,null,null,null,null,null,null,null,null,null,null,null,null,null,null,null,null,null,null,null,null,null,null,null,null,null,null,null,null,null,null,null,null,null,null,null,null,null,null,null,null,null,null,null,null,null,null,null,null,null,null,null,null,null,null,null,null,null,null,null,null,null,null,null,null,null,null,null,null,null,null,null,null,null,null,null,null,null,null,null,null,null,null,null,null,null,null,null,null,null,null,null,null,null,null,null,null,null,null,"_"]
[null,20,null,null,null,null,null,null,null,null,null,null,null,null,null,null,null,null,null,null,null,null,null,null,null,null,null,null,null,null,null,null,null,null,null,null,null,null,null,null,null,null,null,null,null,null,null,null,null,null,null,null,null,null,null,null,null,null,null,null,null,null,null,null,null,null,null,null,null,null,null,null,null,null,null,null,null,null,null,null,null,null,null,null,null,null,null,null,null,null,null,null,null,null,null,null,null,null,null,null,null,null,"_"]
[null,"_","_","_","_","_","_","_","_","_","_","_","_","_","_","_","_","_","_","_","_",null,null,null,null,null,null,null,null,null,null,null,null,null,null,null,null,null,null,null,null,null,null,null,null,null,null,null,null,null,null,null,null,null,null,null,null,null,null,null,null,null,null,null,null,null,null,null,null,null,null,null,null,null,null,null,null,null,null,null,null,null,null,null,null,null,null,null,null,null,null,null,null,null,null,null,null,null,null,null,null,null,"_"]
[]
[null,"Date de lancement de la ligne",null,null,null,null,null,null,null,null,null,null,null,null,null,null,null,null,null,null,null,null,null,null,null,null,null,null,null,null,null,null,null,null,null,null,null,null,null,null,null,null,null,null,null,null,null,null,null,null,null,null,null,null,null,null,null,null,null,null,null,null,null,null,null,null,null,null,null,null,null,null,null,null,null,null,null,null,null,null,null,null,null,null,null,null,null,null,null,null,null,null,null,null,null,null,null,null,null,null,null,null,null,null,null,null,null,null,"_"]
[]
[]
[null,"Une fois le tableau (lignes/arrêts) ci-dessus complété, cliquez sur le bouton action rouge permettant de pré-remplir automatiquement la table des Origines-destinations possibles (ne pas oublier d'activer les macros, le calcul peut prendre quelques dizaines de secondes).\nIl suffira alors de compléter les deux colonnes grisées, à savoir indiquer si la liaison est commercialisée, et si oui sa date de lancement commercial. Assurez-vous de bien remplir l'intégralité des informations, en particulier la colonne F (commercialisation).\nEn cas de problème, vous pouvez réinitialiser le tableau ci-dessous avec le bouton action triangulaire gris (attention, efface également les colonnes F et G)."]
[]
[]
[]
[null,"n° de ligne","n° de liaison","Origine","Destination","Liaison commercialisée?\nOui/Non","Date de lancement"]
[null,1,1,{"$f":"C14","v":"Ville 0"},{"$f":"C15","v":"Ville 1"},null,"JJ/MM/AAAA"]

{"sheet":"3Data","index":3,"n_rows":509,"n_cols":502,"rows_kept":509,"cut":false,"hidden":true,"merged":[]}
[]
[null,{"$f":"'3.Zones_desservies'!B13","v":"             n° de ligne\nn° d'arrêt"},{"$f":"'3.Zones_desservies'!C13","v":1},{"$f":"'3.Zones_desservies'!D13","v":2},{"$f":"'3.Zones_desservies'!E13","v":3},{"$f":"'3.Zones_desservies'!F13","v":4},{"$f":"'3.Zones_desservies'!G13","v":5},{"$f":"'3.Zones_desservies'!H13","v":6},{"$f":"'3.Zones_desservies'!I13","v":7},{"$f":"'3.Zones_desservies'!J13","v":8},{"$f":"'3.Zones_desservies'!K13","v":9},{"$f":"'3.Zones_desservies'!L13","v":10},{"$f":"'3.Zones_desservies'!M13","v":11},{"$f":"'3.Zones_desservies'!N13","v":12},{"$f":"'3.Zones_desservies'!O13","v":13},{"$f":"'3.Zones_desservies'!P13","v":14},{"$f":"'3.Zones_desservies'!Q13","v":15},{"$f":"'3.Zones_desservies'!R13","v":16},{"$f":"'3.Zones_desservies'!S13","v":17},{"$f":"'3.Zones_desservies'!T13","v":18},{"$f":"'3.Zones_desservies'!U13","v":19},{"$f":"'3.Zones_desservies'!V13","v":20},{"$f":"'3.Zones_desservies'!W13","v":21},{"$f":"'3.Zones_desservies'!X13","v":22},{"$f":"'3.Zones_desservies'!Y13","v":23},{"$f":"'3.Zones_desservies'!Z13","v":24},{"$f":"'3.Zones_desservies'!AA13","v":25},{"$f":"'3.Zones_desservies'!AB13","v":26},{"$f":"'3.Zones_desservies'!AC13","v":27},{"$f":"'3.Zones_desservies'!AD13","v":28},{"$f":"'3.Zones_desservies'!AE13","v":29},{"$f":"'3.Zones_desservies'!AF13","v":30},{"$f":"'3.Zones_desservies'!AG13","v":31},{"$f":"'3.Zones_desservies'!AH13","v":32},{"$f":"'3.Zones_desservies'!AI13","v":33},{"$f":"'3.Zones_desservies'!AJ13","v":34},{"$f":"'3.Zones_desservies'!AK13","v":35},{"$f":"'3.Zones_desservies'!AL13","v":36},{"$f":"'3.Zones_desservies'!AM13","v":37},{"$f":"'3.Zones_desservies'!AN13","v":38},{"$f":"'3.Zones_desservies'!AO13","v":39},{"$f":"'3.Zones_desservies'!AP13","v":40},{"$f":"'3.Zones_desservies'!AQ13","v":41},{"$f":"'3.Zones_desservies'!AR13","v":42},{"$f":"'3.Zones_desservies'!AS13","v":43},{"$f":"'3.Zones_desservies'!AT13","v":44},{"$f":"'3.Zones_desservies'!AU13","v":45},{"$f":"'3.Zones_desservies'!AV13","v":46},{"$f":"'3.Zones_desservies'!AW13","v":47},{"$f":"'3.Zones_desservies'!AX13","v":48},{"$f":"'3.Zones_desservies'!AY13","v":49},{"$f":"'3.Zones_desservies'!AZ13","v":50},{"$f":"'3.Zones_desservies'!BA13","v":51},{"$f":"'3.Zones_desservies'!BB13","v":52},{"$f":"'3.Zones_desservies'!BC13","v":53},{"$f":"'3.Zones_desservies'!BD13","v":54},{"$f":"'3.Zones_desservies'!BE13","v":55},{"$f":"'3.Zones_desservies'!BF13","v":56},{"$f":"'3.Zones_desservies'!BG13","v":57},{"$f":"'3.Zones_desservies'!BH13","v":58},{"$f":"'3.Zones_desservies'!BI13","v":59},{"$f":"'3.Zones_desservies'!BJ13","v":60},{"$f":"'3.Zones_desservies'!BK13","v":61},{"$f":"'3.Zones_desservies'!BL13","v":62},{"$f":"'3.Zones_desservies'!BM13","v":63},{"$f":"'3.Zones_desservies'!BN13","v":64},{"$f":"'3.Zones_desservies'!BO13","v":65},{"$f":"'3.Zones_desservies'!BP13","v":66},{"$f":"'3.Zones_desservies'!BQ13","v":67},{"$f":"'3.Zones_desservies'!BR13","v":68},{"$f":"'3.Zones_desservies'!BS13","v":69},{"$f":"'3.Zones_desservies'!BT13","v":70},{"$f":"'3.Zones_desservies'!BU13","v":71},{"$f":"'3.Zones_desservies'!BV13","v":72},{"$f":"'3.Zones_desservies'!BW13","v":73},{"$f":"'3.Zones_desservies'!BX13","v":74},{"$f":"'3.Zones_desservies'!BY13","v":75},{"$f":"'3.Zones_desservies'!BZ13","v":76},{"$f":"'3.Zones_desservies'!CA13","v":77},{"$f":"'3.Zones_desservies'!CB13","v":78},{"$f":"'3.Zones_desservies'!CC13","v":79},{"$f":"'3.Zones_desservies'!CD13","v":80},{"$f":"'3.Zones_desservies'!CE13","v":81},{"$f":"'3.Zones_desservies'!CF13","v":82},{"$f":"'3.Zones_desservies'!CG13","v":83},{"$f":"'3.Zones_desservies'!CH13","v":84},{"$f":"'3.Zones_desservies'!CI13","v":85},{"$f":"'3.Zones_desservies'!CJ13","v":86},{"$f":"'3.Zones_desservies'!CK13","v":87},{"$f":"'3.Zones_desservies'!CL13","v":88},{"$f":"'3.Zones_desservies'!CM13","v":89},{"$f":"'3.Zones_desservies'!CN13","v":90},{"$f":"'3.Zones_desservies'!CO13","v":91},{"$f":"'3.Zones_desservies'!CP13","v":92},{"$f":"'3.Zones_desservies'!CQ13","v":93},{"$f":"'3.Zones_desservies'!CR13","v":94},{"$f":"'3.Zones_desservies'!CS13","v":95},{"$f":"'3.Zones_desservies'!CT13","v":96},{"$f":"'3.Zones_desservies'!CU13","v":97},{"$f":"'3.Zones_desservies'!CV13","v":98},{"$f":"'3.Zones_desservies'!CW13","v":99},{"$f":"'3.Zones_desservies'!CX13","v":100},{"$f":"'3.Zones_desservies'!CY13","v":"…"},{"$f":"'3.Zones_desservies'!CZ13","v":0},{"$f":"'3.Zones_desservies'!DA13","v":0},{"$f":"'3.Zones_desservies'!DB13","v":0},{"$f":"'3.Zones_desservies'!DC13","v":0},{"$f":"'3.Zones_desservies'!DD13","v":0},{"$f":"'3.Zones_desservies'!DE13","v":0},{"$f":"'3.Zones_desservies'!DF13","v":0},{"$f":"'3.Zones_desservies'!DG13","v":0},{"$f":"'3.Zones_desservies'!DH13","v":0},{"$f":"'3.Zones_desservies'!DI13","v":0},{"$f":"'3.Zones_desservies'!DJ13","v":0},{"$f":"'3.Zones_desservies'!DK13","v":0},{"$f":"'3.Zones_desservies'!DL13","v":0},{"$f":"'3.Zones_desservies'!DM13","v":0},{"$f":"'3.Zones_desservies'!DN13","v":0},{"$f":"'3.Zones_desservies'!DO13","v":0},{"$f":"'3.Zones_desservies'!DP13","v":0},{"$f":"'3.Zones_desservies'!DQ13","v":0},{"$f":"'3.Zones_desservies'!DR13","v":0},{"$f":"'3.Zones_desservies'!DS13","v":0},{"$f":"'3.Zones_desservies'!DT13","v":0},{"$f":"'3.Zones_desservies'!DU13","v":0},{"$f":"'3.Zones_desservies'!DV13","v":0},{"$f":"'3.Zones_desservies'!DW13","v":0},{"$f":"'3.Zones_desservies'!DX13","v":0},{"$f":"'3.Zones_desservies'!DY13","v":0},{"$f":"'3.Zones_desservies'!DZ13","v":0},{"$f":"'3.Zones_desservies'!EA13","v":0},{"$f":"'3.Zones_desservies'!EB13","v":0},{"$f":"'3.Zones_desservies'!EC13","v":0},{"$f":"'3.Zones_desservies'!ED13","v":0},{"$f":"'3.Zones_desservies'!EE13","v":0},{"$f":"'3.Zones_desservies'!EF13","v":0},{"$f":"'3.Zones_desservies'!EG13","v":0},{"$f":"'3.Zones_desservies'!EH13","v":0},{"$f":"'3.Zones_desservies'!EI13","v":0},{"$f":"'3.Zones_desservies'!EJ13","v":0},{"$f":"'3.Zones_desservies'!EK13","v":0},{"$f":"'3.Zones_desservies'!EL13","v":0},{"$f":"'3.Zones_desservies'!EM13","v":0},{"$f":"'3.Zones_desservies'!EN13","v":0},{"$f":"'3.Zones_desservies'!EO13","v":0},{"$f":"'3.Zones_desservies'!EP13","v":0},{"$f":"'3.Zones_desservies'!EQ13","v":0},{"$f":"'3.Zones_desservies'!ER13","v":0},{"$f":"'3.Zones_desservies'!ES13","v":0},{"$f":"'3.Zones_desservies'!ET13","v":0},{"$f":"'3.Zones_desservies'!EU13","v":0},{"$f":"'3.Zones_desservies'!EV13","v":0},{"$f":"'3.Zones_desservies'!EW13","v":0},{"$f":"'3.Zones_desservies'!EX13","v":0},{"$f":"'3.Zones_desservies'!EY13","v":0},{"$f":"'3.Zones_desservies'!EZ13","v":0},{"$f":"'3.Zones_desservies'!FA13","v":0},{"$f":"'3.Zones_desservies'!FB13","v":0},{"$f":"'3.Zones_desservies'!FC13","v":0},{"$f":"'3.Zones_desservies'!FD13","v":0},{"$f":"'3.Zones_desservies'!FE13","v":0},{"$f":"'3.Zones_desservies'!FF13","v":0},{"$f":"'3.Zones_desservies'!FG13","v":0},{"$f":"'3.Zones_desservies'!FH13","v":0},{"$f":"'3.Zones_desservies'!FI13","v":0},{"$f":"'3.Zones_desservies'!FJ13","v":0},{"$f":"'3.Zones_desservies'!FK13","v":0},{"$f":"'3.Zones_desservies'!FL13","v":0},{"$f":"'3.Zones_desservies'!FM13","v":0},{"$f":"'3.Zones_desservies'!FN13","v":0},{"$f":"'3.Zones_desservies'!FO13","v":0},{"$f":"'3.Zones_desservies'!FP13","v":0},{"$f":"'3.Zones_desservies'!FQ13","v":0},{"$f":"'3.Zones_desservies'!FR13","v":0},{"$f":"'3.Zones_desservies'!FS13","v":0},{"$f":"'3.Zones_desservies'!FT13","v":0},{"$f":"'3.Zones_desservies'!FU13","v":0},{"$f":"'3.Zones_desservies'!FV13","v":0},{"$f":"'3.Zones_desservies'!FW13","v":0},{"$f":"'3.Zones_desservies'!FX13","v":0},{"$f":"'3.Zones_desservies'!FY13","v":0},{"$f":"'3.Zones_desservies'!FZ13","v":0},{"$f":"'3.Zones_desservies'!GA13","v":0},{"$f":"'3.Zones_desservies'!GB13","v":0},{"$f":"'3.Zones_desservies'!GC13","v":0},{"$f":"'3.Zones_desservies'!GD13","v":0},{"$f":"'3.Zones_desservies'!GE13","v":0},{"$f":"'3.Zones_desservies'!GF13","v":0},{"$f":"'3.Zones_desservies'!GG13","v":0},{"$f":"'3.Zones_desservies'!GH13","v":0},{"$f":"'3.Zones_desservies'!GI13","v":0},{"$f":"'3.Zones_desservies'!GJ13","v":0},{"$f":"'3.Zones_desservies'!GK13","v":0},{"$f":"'3.Zones_desservies'!GL13","v":0},{"$f":"'3.Zones_desservies'!GM13","v":0},{"$f":"'3.Zones_desservies'!GN13","v":0},{"$f":"'3.Zones_desservies'!GO13","v":0},{"$f":"'3.Zones_desservies'!GP13","v":0},{"$f":"'3.Zones_desservies'!GQ13","v":0},{"$f":"'3.Zones_desservies'!GR13","v":0},{"$f":"'3.Zones_desservies'!GS13","v":0},{"$f":"'3.Zones_desservies'!GT13","v":0},{"$f":"'3.Zones_desservies'!GU13","v":0},{"$f":"'3.Zones_desservies'!GV13","v":0},{"$f":"'3.Zones_desservies'!GW13","v":0},{"$f":"'3.Zones_desservies'!GX13","v":0},{"$f":"'3.Zones_desservies'!GY13","v":0},{"$f":"'3.Zones_desservies'!GZ13","v":0},{"$f":"'3.Zones_desservies'!HA13","v":0},{"$f":"'3.Zones_desservies'!HB13","v":0},{"$f":"'3.Zones_desservies'!HC13","v":0},{"$f":"'3.Zones_desservies'!HD13","v":0},{"$f":"'3.Zones_desservies'!HE13","v":0},{"$f":"'3.Zones_desservies'!HF13","v":0},{"$f":"'3.Zones_desservies'!HG13","v":0},{"$f":"'3.Zones_desservies'!HH13","v":0},{"$f":"'3.Zones_desservies'!HI13","v":0},{"$f":"'3.Zones_desservies'!HJ13","v":0},{"$f":"'3.Zones_desservies'!HK13","v":0},{"$f":"'3.Zones_desservies'!HL13","v":0},{"$f":"'3.Zones_desservies'!HM13","v":0},{"$f":"'3.Zones_desservies'!HN13","v":0},{"$f":"'3.Zones_desservies'!HO13","v":0},{"$f":"'3.Zones_desservies'!HP13","v":0},{"$f":"'3.Zones_desservies'!HQ13","v":0},{"$f":"'3.Zones_desservies'!HR13","v":0},{"$f":"'3.Zones_desservies'!HS13","v":0},{"$f":"'3.Zones_desservies'!HT13","v":0},{"$f":"'3.Zones_desservies'!HU13","v":0},{"$f":"'3.Zones_desservies'!HV13","v":0},{"$f":"'3.Zones_desservies'!HW13","v":0},{"$f":"'3.Zones_desservies'!HX13","v":0},{"$f":"'3.Zones_desservies'!HY13","v":0},{"$f":"'3.Zones_desservies'!HZ13","v":0},{"$f":"'3.Zones_desservies'!IA13","v":0},{"$f":"'3.Zones_desservies'!IB13","v":0},{"$f":"'3.Zones_desservies'!IC13","v":0},{"$f":"'3.Zones_desservies'!ID13","v":0},{"$f":"'3.Zones_desservies'!IE13","v":0},{"$f":"'3.Zones_desservies'!IF13","v":0},{"$f":"'3.Zones_desservies'!IG13","v":0},{"$f":"'3.Zones_desservies'!IH13","v":0},{"$f":"'3.Zones_desservies'!II13","v":0},{"$f":"'3.Zones_desservies'!IJ13","v":0},{"$f":"'3.Zones_desservies'!IK13","v":0},{"$f":"'3.Zones_desservies'!IL13","v":0},{"$f":"'3.Zones_desservies'!IM13","v":0},{"$f":"'3.Zones_desservies'!IN13","v":0},{"$f":"'3.Zones_desservies'!IO13","v":0},{"$f":"'3.Zones_desservies'!IP13","v":0},{"$f":"'3.Zones_desservies'!IQ13","v":0},{"$f":"'3.Zones_desservies'!IR13","v":0},{"$f":"'3.Zones_desservies'!IS13","v":0},{"$f":"'3.Zones_desservies'!IT13","v":0},{"$f":"'3.Zones_desservies'!IU13","v":0},{"$f":"'3.Zones_desservies'!IV13","v":0},{"$f":"'3.Zones_desservies'!IW13","v":0},{"$f":"'3.Zones_desservies'!IX13","v":0},{"$f":"'3.Zones_desservies'!IY13","v":0},{"$f":"'3.Zones_desservies'!IZ13","v":0},{"$f":"'3.Zones_desservies'!JA13","v":0},{"$f":"'3.Zones_desservies'!JB13","v":0},{"$f":"'3.Zones_desservies'!JC13","v":0},{"$f":"'3.Zones_desservies'!JD13","v":0},{"$f":"'3.Zones_desservies'!JE13","v":0},{"$f":"'3.Zones_desservies'!JF13","v":0},{"$f":"'3.Zones_desservies'!JG13","v":0},{"$f":"'3.Zones_desservies'!JH13","v":0},{"$f":"'3.Zones_desservies'!JI13","v":0},{"$f":"'3.Zones_desservies'!JJ13","v":0},{"$f":"'3.Zones_desservies'!JK13","v":0},{"$f":"'3.Zones_desservies'!JL13","v":0},{"$f":"'3.Zones_desservies'!JM13","v":0},{"$f":"'3.Zones_desservies'!JN13","v":0},{"$f":"'3.Zones_desservies'!JO13","v":0},{"$f":"'3.Zones_desservies'!JP13","v":0},{"$f":"'3.Zones_desservies'!JQ13","v":0},{"$f":"'3.Zones_desservies'!JR13","v":0},{"$f":"'3.Zones_desservies'!JS13","v":0},{"$f":"'3.Zones_desservies'!JT13","v":0},{"$f":"'3.Zones_desservies'!JU13","v":0},{"$f":"'3.Zones_desservies'!JV13","v":0},{"$f":"'3.Zones_desservies'!JW13","v":0},{"$f":"'3.Zones_desservies'!JX13","v":0},{"$f":"'3.Zones_desservies'!JY13","v":0},{"$f":"'3.Zones_desservies'!JZ13","v":0},{"$f":"'3.Zones_desservies'!KA13","v":0},{"$f":"'3.Zones_desservies'!KB13","v":0},{"$f":"'3.Zones_desservies'!KC13","v":0},{"$f":"'3.Zones_desservies'!KD13","v":0},{"$f":"'3.Zones_desservies'!KE13","v":0},{"$f":"'3.Zones_desservies'!KF13","v":0},{"$f":"'3.Zones_desservies'!KG13","v":0},{"$f":"'3.Zones_desservies'!KH13","v":0},{"$f":"'3.Zones_desservies'!KI13","v":0},{"$f":"'3.Zones_desservies'!KJ13","v":0},{"$f":"'3.Zones_desservies'!KK13","v":0},{"$f":"'3.Zones_desservies'!KL13","v":0},{"$f":"'3.Zones_desservies'!KM13","v":0},{"$f":"'3.Zones_desservies'!KN13","v":0},{"$f":"'3.Zones_desservies'!KO13","v":0},{"$f":"'3.Zones_desservies'!KP13","v":0},{"$f":"'3.Zones_desservies'!KQ13","v":0},{"$f":"'3.Zones_desservies'!KR13","v":0},{"$f":"'3.Zones_desservies'!KS13","v":0},{"$f":"'3.Zones_desservies'!KT13","v":0},{"$f":"'3.Zones_desservies'!KU13","v":0},{"$f":"'3.Zones_desservies'!KV13","v":0},{"$f":"'3.Zones_desservies'!KW13","v":0},{"$f":"'3.Zones_desservies'!KX13","v":0},{"$f":"'3.Zones_desservies'!KY13","v":0},{"$f":"'3.Zones_desservies'!KZ13","v":0},{"$f":"'3.Zones_desservies'!LA13","v":0},{"$f":"'3.Zones_desservies'!LB13","v":0},{"$f":"'3.Zones_desservies'!LC13","v":0},{"$f":"'3.Zones_desservies'!LD13","v":0},{"$f":"'3.Zones_desservies'!LE13","v":0},{"$f":"'3.Zones_desservies'!LF13","v":0},{"$f":"'3.Zones_desservies'!LG13","v":0},{"$f":"'3.Zones_desservies'!LH13","v":0},{"$f":"'3.Zones_desservies'!LI13","v":0},{"$f":"'3.Zones_desservies'!LJ13","v":0},{"$f":"'3.Zones_desservies'!LK13","v":0},{"$f":"'3.Zones_desservies'!LL13","v":0},{"$f":"'3.Zones_desservies'!LM13","v":0},{"$f":"'3.Zones_desservies'!LN13","v":0},{"$f":"'3.Zones_desservies'!LO13","v":0},{"$f":"'3.Zones_desservies'!LP13","v":0},{"$f":"'3.Zones_desservies'!LQ13","v":0},{"$f":"'3.Zones_desservies'!LR13","v":0},{"$f":"'3.Zones_desservies'!LS13","v":0},{"$f":"'3.Zones_desservies'!LT13","v":0},{"$f":"'3.Zones_desservies'!LU13","v":0},{"$f":"'3.Zones_desservies'!LV13","v":0},{"$f":"'3.Zones_desservies'!LW13","v":0},{"$f":"'3.Zones_desservies'!LX13","v":0},{"$f":"'3.Zones_desservies'!LY13","v":0},{"$f":"'3.Zones_desservies'!LZ13","v":0},{"$f":"'3.Zones_desservies'!MA13","v":0},{"$f":"'3.Zones_desservies'!MB13","v":0},{"$f":"'3.Zones_desservies'!MC13","v":0},{"$f":"'3.Zones_desservies'!MD13","v":0},{"$f":"'3.Zones_desservies'!ME13","v":0},{"$f":"'3.Zones_desservies'!MF13","v":0},{"$f":"'3.Zones_desservies'!MG13","v":0},{"$f":"'3.Zones_desservies'!MH13","v":0},{"$f":"'3.Zones_desservies'!MI13","v":0},{"$f":"'3.Zones_desservies'!MJ13","v":0},{"$f":"'3.Zones_desservies'!MK13","v":0},{"$f":"'3.Zones_desservies'!ML13","v":0},{"$f":"'3.Zones_desservies'!MM13","v":0},{"$f":"'3.Zones_desservies'!MN13","v":0},{"$f":"'3.Zones_desservies'!MO13","v":0},{"$f":"'3.Zones_desservies'!MP13","v":0},{"$f":"'3.Zones_desservies'!MQ13","v":0},{"$f":"'3.Zones_desservies'!MR13","v":0},{"$f":"'3.Zones_desservies'!MS13","v":0},{"$f":"'3.Zones_desservies'!MT13","v":0},{"$f":"'3.Zones_desservies'!MU13","v":0},{"$f":"'3.Zones_desservies'!MV13","v":0},{"$f":"'3.Zones_desservies'!MW13","v":0},{"$f":"'3.Zones_desservies'!MX13","v":0},{"$f":"'3.Zones_desservies'!MY13","v":0},{"$f":"'3.Zones_desservies'!MZ13","v":0},{"$f":"'3.Zones_desservies'!NA13","v":0},{"$f":"'3.Zones_desservies'!NB13","v":0},{"$f":"'3.Zones_desservies'!NC13","v":0},{"$f":"'3.Zones_desservies'!ND13","v":0},{"$f":"'3.Zones_desservies'!NE13","v":0},{"$f":"'3.Zones_desservies'!NF13","v":0},{"$f":"'3.Zones_desservies'!NG13","v":0},{"$f":"'3.Zones_desservies'!NH13","v":0},{"$f":"'3.Zones_desservies'!NI13","v":0},{"$f":"'3.Zones_desservies'!NJ13","v":0},{"$f":"'3.Zones_desservies'!NK13","v":0},{"$f":"'3.Zones_desservies'!NL13","v":0},{"$f":"'3.Zones_desservies'!NM13","v":0},{"$f":"'3.Zones_desservies'!NN13","v":0},{"$f":"'3.Zones_desservies'!NO13","v":0},{"$f":"'3.Zones_desservies'!NP13","v":0},{"$f":"'3.Zones_desservies'!NQ13","v":0},{"$f":"'3.Zones_desservies'!NR13","v":0},{"$f":"'3.Zones_desservies'!NS13","v":0},{"$f":"'3.Zones_desservies'!NT13","v":0},{"$f":"'3.Zones_desservies'!NU13","v":0},{"$f":"'3.Zones_desservies'!NV13","v":0},{"$f":"'3.Zones_desservies'!NW13","v":0},{"$f":"'3.Zones_desservies'!NX13","v":0},{"$f":"'3.Zones_desservies'!NY13","v":0},{"$f":"'3.Zones_desservies'!NZ13","v":0},{"$f":"'3.Zones_desservies'!OA13","v":0},{"$f":"'3.Zones_desservies'!OB13","v":0},{"$f":"'3.Zones_desservies'!OC13","v":0},{"$f":"'3.Zones_desservies'!OD13","v":0},{"$f":"'3.Zones_desservies'!OE13","v":0},{"$f":"'3.Zones_desservies'!OF13","v":0},{"$f":"'3.Zones_desservies'!OG13","v":0},{"$f":"'3.Zones_desservies'!OH13","v":0},{"$f":"'3.Zones_desservies'!OI13","v":0},{"$f":"'3.Zones_desservies'!OJ13","v":0},{"$f":"'3.Zones_desservies'!OK13","v":0},{"$f":"'3.Zones_desservies'!OL13","v":0},{"$f":"'3.Zones_desservies'!OM13","v":0},{"$f":"'3.Zones_desservies'!ON13","v":0},{"$f":"'3.Zones_desservies'!OO13","v":0},{"$f":"'3.Zones_desservies'!OP13","v":0},{"$f":"'3.Zones_desservies'!OQ13","v":0},{"$f":"'3.Zones_desservies'!OR13","v":0},{"$f":"'3.Zones_desservies'!OS13","v":0},{"$f":"'3.Zones_desservies'!OT13","v":0},{"$f":"'3.Zones_desservies'!OU13","v":0},{"$f":"'3.Zones_desservies'!OV13","v":0},{"$f":"'3.Zones_desservies'!OW13","v":0},{"$f":"'3.Zones_desservies'!OX13","v":0},{"$f":"'3.Zones_desservies'!OY13","v":0},{"$f":"'3.Zones_desservies'!OZ13","v":0},{"$f":"'3.Zones_desservies'!PA13","v":0},{"$f":"'3.Zones_desservies'!PB13","v":0},{"$f":"'3.Zones_desservies'!PC13","v":0},{"$f":"'3.Zones_desservies'!PD13","v":0},{"$f":"'3.Zones_desservies'!PE13","v":0},{"$f":"'3.Zones_desservies'!PF13","v":0},{"$f":"'3.Zones_desservies'!PG13","v":0},{"$f":"'3.Zones_desservies'!PH13","v":0},{"$f":"'3.Zones_desservies'!PI13","v":0},{"$f":"'3.Zones_desservies'!PJ13","v":0},{"$f":"'3.Zones_desservies'!PK13","v":0},{"$f":"'3.Zones_desservies'!PL13","v":0},{"$f":"'3.Zones_desservies'!PM13","v":0},{"$f":"'3.Zones_desservies'!PN13","v":0},{"$f":"'3.Zones_desservies'!PO13","v":0},{"$f":"'3.Zones_desservies'!PP13","v":0},{"$f":"'3.Zones_desservies'!PQ13","v":0},{"$f":"'3.Zones_desservies'!PR13","v":0},{"$f":"'3.Zones_desservies'!PS13","v":0},{"$f":"'3.Zones_desservies'!PT13","v":0},{"$f":"'3.Zones_desservies'!PU13","v":0},{"$f":"'3.Zones_desservies'!PV13","v":0},{"$f":"'3.Zones_desservies'!PW13","v":0},{"$f":"'3.Zones_desservies'!PX13","v":0},{"$f":"'3.Zones_desservies'!PY13","v":0},{"$f":"'3.Zones_desservies'!PZ13","v":0},{"$f":"'3.Zones_desservies'!QA13","v":0},{"$f":"'3.Zones_desservies'!QB13","v":0},{"$f":"'3.Zones_desservies'!QC13","v":0},{"$f":"'3.Zones_desservies'!QD13","v":0},{"$f":"'3.Zones_desservies'!QE13","v":0},{"$f":"'3.Zones_desservies'!QF13","v":0},{"$f":"'3.Zones_desservies'!QG13","v":0},{"$f":"'3.Zones_desservies'!QH13","v":0},{"$f":"'3.Zones_desservies'!QI13","v":0},{"$f":"'3.Zones_desservies'!QJ13","v":0},{"$f":"'3.Zones_desservies'!QK13","v":0},{"$f":"'3.Zones_desservies'!QL13","v":0},{"$f":"'3.Zones_desservies'!QM13","v":0},{"$f":"'3.Zones_desservies'!QN13","v":0},{"$f":"'3.Zones_desservies'!QO13","v":0},{"$f":"'3.Zones_desservies'!QP13","v":0},{"$f":"'3.Zones_desservies'!QQ13","v":0},{"$f":"'3.Zones_desservies'!QR13","v":0},{"$f":"'3.Zones_desservies'!QS13","v":0},{"$f":"'3.Zones_desservies'!QT13","v":0},{"$f":"'3.Zones_desservies'!QU13","v":0},{"$f":"'3.Zones_desservies'!QV13","v":0},{"$f":"'3.Zones_desservies'!QW13","v":0},{"$f":"'3.Zones_desservies'!QX13","v":0},{"$f":"'3.Zones_desservies'!QY13","v":0},{"$f":"'3.Zones_desservies'!QZ13","v":0},{"$f":"'3.Zones_desservies'!RA13","v":0},{"$f":"'3.Zones_desservies'!RB13","v":0},{"$f":"'3.Zones_desservies'!RC13","v":0},{"$f":"'3.Zones_desservies'!RD13","v":0},{"$f":"'3.Zones_desservies'!RE13","v":0},{"$f":"'3.Zones_desservies'!RF13","v":0},{"$f":"'3.Zones_desservies'!RG13","v":0},{"$f":"'3.Zones_desservies'!RH13","v":0},{"$f":"'3.Zones_desservies'!RI13","v":0},{"$f":"'3.Zones_desservies'!RJ13","v":0},{"$f":"'3.Zones_desservies'!RK13","v":0},{"$f":"'3.Zones_desservies'!RL13","v":0},{"$f":"'3.Zones_desservies'!RM13","v":0},{"$f":"'3.Zones_desservies'!RN13","v":0},{"$f":"'3.Zones_desservies'!RO13","v":0},{"$f":"'3.Zones_desservies'!RP13","v":0},{"$f":"'3.Zones_desservies'!RQ13","v":0},{"$f":"'3.Zones_desservies'!RR13","v":0},{"$f":"'3.Zones_desservies'!RS13","v":0},{"$f":"'3.Zones_desservies'!RT13","v":0},{"$f":"'3.Zones_desservies'!RU13","v":0},{"$f":"'3.Zones_desservies'!RV13","v":0},{"$f":"'3.Zones_desservies'!RW13","v":0},{"$f":"'3.Zones_desservies'!RX13","v":0},{"$f":"'3.Zones_desservies'!RY13","v":0},{"$f":"'3.Zones_desservies'!RZ13","v":0},{"$f":"'3.Zones_desservies'!SA13","v":0},{"$f":"'3.Zones_desservies'!SB13","v":0},{"$f":"'3.Zones_desservies'!SC13","v":0},{"$f":"'3.Zones_desservies'!SD13","v":0},{"$f":"'3.Zones_desservies'!SE13","v":0},{"$f":"'3.Zones_desservies'!SF13","v":0},{"$f":"'3.Zones_desservies'!SG13","v":0},{"$f":"'3.Zones_desservies'!SH13","v":0}]
[null,{"$f":"'3.Zones_desservies'!B14","v":"0 (départ)"},{"$f":"'3.Zones_desservies'!C14","v":"Ville 0"},{"$f":"'3.Zones_desservies'!D14","v":"Ville 0"},{"$f":"'3.Zones_desservies'!E14","v":"Ville 0"},{"$f":"'3.Zones_desservies'!F14","v":0},{"$f":"'3.Zones_desservies'!G14","v":0},{"$f":"'3.Zones_desservies'!H14","v":0},{"$f":"'3.Zones_desservies'!I14","v":0},{"$f":"'3.Zones_desservies'!J14","v":0},{"$f":"'3.Zones_desservies'!K14","v":0},{"$f":"'3.Zones_desservies'!L14","v":0},{"$f":"'3.Zones_desservies'!M14","v":0},{"$f":"'3.Zones_desservies'!N14","v":0},{"$f":"'3.Zones_desservies'!O14","v":0},{"$f":"'3.Zones_desservies'!P14","v":0},{"$f":"'3.Zones_desservies'!Q14","v":0},{"$f":"'3.Zones_desservies'!R14","v":0},{"$f":"'3.Zones_desservies'!S14","v":0},{"$f":"'3.Zones_desservies'!T14","v":0},{"$f":"'3.Zones_desservies'!U14","v":0},{"$f":"'3.Zones_desservies'!V14","v":0},{"$f":"'3.Zones_desservies'!W14","v":0},{"$f":"'3.Zones_desservies'!X14","v":0},{"$f":"'3.Zones_desservies'!Y14","v":0},{"$f":"'3.Zones_desservies'!Z14","v":0},{"$f":"'3.Zones_desservies'!AA14","v":0},{"$f":"'3.Zones_desservies'!AB14","v":0},{"$f":"'3.Zones_desservies'!AC14","v":0},{"$f":"'3.Zones_desservies'!AD14","v":0},{"$f":"'3.Zones_desservies'!AE14","v":0},{"$f":"'3.Zones_desservies'!AF14","v":0},{"$f":"'3.Zones_desservies'!AG14","v":0},{"$f":"'3.Zones_desservies'!AH14","v":0},{"$f":"'3.Zones_desservies'!AI14","v":0},{"$f":"'3.Zones_desservies'!AJ14","v":0},{"$f":"'3.Zones_desservies'!AK14","v":0},{"$f":"'3.Zones_desservies'!AL14","v":0},{"$f":"'3.Zones_desservies'!AM14","v":0},{"$f":"'3.Zones_desservies'!AN14","v":0},{"$f":"'3.Zones_desservies'!AO14","v":0},{"$f":"'3.Zones_desservies'!AP14","v":0},{"$f":"'3.Zones_desservies'!AQ14","v":0},{"$f":"'3.Zones_desservies'!AR14","v":0},{"$f":"'3.Zones_desservies'!AS14","v":0},{"$f":"'3.Zones_desservies'!AT14","v":0},{"$f":"'3.Zones_desservies'!AU14","v":0},{"$f":"'3.Zones_desservies'!AV14","v":0},{"$f":"'3.Zones_desservies'!AW14","v":0},{"$f":"'3.Zones_desservies'!AX14","v":0},{"$f":"'3.Zones_desservies'!AY14","v":0},{"$f":"'3.Zones_desservies'!AZ14","v":0},{"$f":"'3.Zones_desservies'!BA14","v":0},{"$f":"'3.Zones_desservies'!BB14","v":0},{"$f":"'3.Zones_desservies'!BC14","v":0},{"$f":"'3.Zones_desservies'!BD14","v":0},{"$f":"'3.Zones_desservies'!BE14","v":0},{"$f":"'3.Zones_desservies'!BF14","v":0},{"$f":"'3.Zones_desservies'!BG14","v":0},{"$f":"'3.Zones_desservies'!BH14","v":0},{"$f":"'3.Zones_desservies'!BI14","v":0},{"$f":"'3.Zones_desservies'!BJ14","v":0},{"$f":"'3.Zones_desservies'!BK14","v":0},{"$f":"'3.Zones_desservies'!BL14","v":0},{"$f":"'3.Zones_desservies'!BM14","v":0},{"$f":"'3.Zones_desservies'!BN14","v":0},{"$f":"'3.Zones_desservies'!BO14","v":0},{"$f":"'3.Zones_desservies'!BP14","v":0},{"$f":"'3.Zones_desservies'!BQ14","v":0},{"$f":"'3.Zones_desservies'!BR14","v":0},{"$f":"'3.Zones_desservies'!BS14","v":0},{"$f":"'3.Zones_desservies'!BT14","v":0},{"$f":"'3.Zones_desservies'!BU14","v":0},{"$f":"'3.Zones_desservies'!BV14","v":0},{"$f":"'3.Zones_desservies'!BW14","v":0},{"$f":"'3.Zones_desservies'!BX14","v":0},{"$f":"'3.Zones_desservies'!BY14","v":0},{"$f":"'3.Zones_desservies'!BZ14","v":0},{"$f":"'3.Zones_desservies'!CA14","v":0},{"$f":"'3.Zones_desservies'!CB14","v":0},{"$f":"'3.Zones_desservies'!CC14","v":0},{"$f":"'3.Zones_desservies'!CD14","v":0},{"$f":"'3.Zones_desservies'!CE14","v":0},{"$f":"'3.Zones_desservies'!CF14","v":0},{"$f":"'3.Zones_desservies'!CG14","v":0},{"$f":"'3.Zones_desservies'!CH14","v":0},{"$f":"'3.Zones_desservies'!CI14","v":0},{"$f":"'3.Zones_desservies'!CJ14","v":0},{"$f":"'3.Zones_desservies'!CK14","v":0},{"$f":"'3.Zones_desservies'!CL14","v":0},{"$f":"'3.Zones_desservies'!CM14","v":0},{"$f":"'3.Zones_desservies'!CN14","v":0},{"$f":"'3.Zones_desservies'!CO14","v":0},{"$f":"'3.Zones_desservies'!CP14","v":0},{"$f":"'3.Zones_desservies'!CQ14","v":0},{"$f":"'3.Zones_desservies'!CR14","v":0},{"$f":"'3.Zones_desservies'!CS14","v":0},{"$f":"'3.Zones_desservies'!CT14","v":0},{"$f":"'3.Zones_desservies'!CU14","v":0},{"$f":"'3.Zones_desservies'!CV14","v":0},{"$f":"'3.Zones_desservies'!CW14","v":0},{"$f":"'3.Zones_desservies'!CX14","v":0},{"$f":"'3.Zones_desservies'!CY14","v":"_"},{"$f":"'3.Zones_desservies'!CZ14","v":0},{"$f":"'3.Zones_desservies'!DA14","v":0},{"$f":"'3.Zones_desservies'!DB14","v":0},{"$f":"'3.Zones_desservies'!DC14","v":0},{"$f":"'3.Zones_desservies'!DD14","v":0},{"$f":"'3.Zones_desservies'!DE14","v":0},{"$f":"'3.Zones_desservies'!DF14","v":0},{"$f":"'3.Zones_desservies'!DG14","v":0},{"$f":"'3.Zones_desservies'!DH14","v":0},{"$f":"'3.Zones_desservies'!DI14","v":0},{"$f":"'3.Zones_desservies'!DJ14","v":0},{"$f":"'3.Zones_desservies'!DK14","v":0},{"$f":"'3.Zones_desservies'!DL14","v":0},{"$f":"'3.Zones_desservies'!DM14","v":0},{"$f":"'3.Zones_desservies'!DN14","v":0},{"$f":"'3.Zones_desservies'!DO14","v":0},{"$f":"'3.Zones_desservies'!DP14","v":0},{"$f":"'3.Zones_desservies'!DQ14","v":0},{"$f":"'3.Zones_desservies'!DR14","v":0},{"$f":"'3.Zones_desservies'!DS14","v":0},{"$f":"'3.Zones_desservies'!DT14","v":0},{"$f":"'3.Zones_desservies'!DU14","v":0},{"$f":"'3.Zones_desservies'!DV14","v":0},{"$f":"'3.Zones_desservies'!DW14","v":0},{"$f":"'3.Zones_desservies'!DX14","v":0},{"$f":"'3.Zones_desservies'!DY14","v":0},{"$f":"'3.Zones_desservies'!DZ14","v":0},{"$f":"'3.Zones_desservies'!EA14","v":0},{"$f":"'3.Zones_desservies'!EB14","v":0},{"$f":"'3.Zones_desservies'!EC14","v":0},{"$f":"'3.Zones_desservies'!ED14","v":0},{"$f":"'3.Zones_desservies'!EE14","v":0},{"$f":"'3.Zones_desservies'!EF14","v":0},{"$f":"'3.Zones_desservies'!EG14","v":0},{"$f":"'3.Zones_desservies'!EH14","v":0},{"$f":"'3.Zones_desservies'!EI14","v":0},{"$f":"'3.Zones_desservies'!EJ14","v":0},{"$f":"'3.Zones_desservies'!EK14","v":0},{"$f":"'3.Zones_desservies'!EL14","v":0},{"$f":"'3.Zones_desservies'!EM14","v":0},{"$f":"'3.Zones_desservies'!EN14","v":0},{"$f":"'3.Zones_desservies'!EO14","v":0},{"$f":"'3.Zones_desservies'!EP14","v":0},{"$f":"'3.Zones_desservies'!EQ14","v":0},{"$f":"'3.Zones_desservies'!ER14","v":0},{"$f":"'3.Zones_desservies'!ES14","v":0},{"$f":"'3.Zones_desservies'!ET14","v":0},{"$f":"'3.Zones_desservies'!EU14","v":0},{"$f":"'3.Zones_desservies'!EV14","v":0},{"$f":"'3.Zones_desservies'!EW14","v":0},{"$f":"'3.Zones_desservies'!EX14","v":0},{"$f":"'3.Zones_desservies'!EY14","v":0},{"$f":"'3.Zones_desservies'!EZ14","v":0},{"$f":"'3.Zones_desservies'!FA14","v":0},{"$f":"'3.Zones_desservies'!FB14","v":0},{"$f":"'3.Zones_desservies'!FC14","v":0},{"$f":"'3.Zones_desservies'!FD14","v":0},{"$f":"'3.Zones_desservies'!FE14","v":0},{"$f":"'3.Zones_desservies'!FF14","v":0},{"$f":"'3.Zones_desservies'!FG14","v":0},{"$f":"'3.Zones_desservies'!FH14","v":0},{"$f":"'3.Zones_desservies'!FI14","v":0},{"$f":"'3.Zones_desservies'!FJ14","v":0},{"$f":"'3.Zones_desservies'!FK14","v":0},{"$f":"'3.Zones_desservies'!FL14","v":0},{"$f":"'3.Zones_desservies'!FM14","v":0},{"$f":"'3.Zones_desservies'!FN14","v":0},{"$f":"'3.Zones_desservies'!FO14","v":0},{"$f":"'3.Zones_desservies'!FP14","v":0},{"$f":"'3.Zones_desservies'!FQ14","v":0},{"$f":"'3.Zones_desservies'!FR14","v":0},{"$f":"'3.Zones_desservies'!FS14","v":0},{"$f":"'3.Zones_desservies'!FT14","v":0},{"$f":"'3.Zones_desservies'!FU14","v":0},{"$f":"'3.Zones_desservies'!FV14","v":0},{"$f":"'3.Zones_desservies'!FW14","v":0},{"$f":"'3.Zones_desservies'!FX14","v":0},{"$f":"'3.Zones_desservies'!FY14","v":0},{"$f":"'3.Zones_desservies'!FZ14","v":0},{"$f":"'3.Zones_desservies'!GA14","v":0},{"$f":"'3.Zones_desservies'!GB14","v":0},{"$f":"'3.Zones_desservies'!GC14","v":0},{"$f":"'3.Zones_desservies'!GD14","v":0},{"$f":"'3.Zones_desservies'!GE14","v":0},{"$f":"'3.Zones_desservies'!GF14","v":0},{"$f":"'3.Zones_desservies'!GG14","v":0},{"$f":"'3.Zones_desservies'!GH14","v":0},{"$f":"'3.Zones_desservies'!GI14","v":0},{"$f":"'3.Zones_desservies'!GJ14","v":0},{"$f":"'3.Zones_desservies'!GK14","v":0},{"$f":"'3.Zones_desservies'!GL14","v":0},{"$f":"'3.Zones_desservies'!GM14","v":0},{"$f":"'3.Zones_desservies'!GN14","v":0},{"$f":"'3.Zones_desservies'!GO14","v":0},{"$f":"'3.Zones_desservies'!GP14","v":0},{"$f":"'3.Zones_desservies'!GQ14","v":0},{"$f":"'3.Zones_desservies'!GR14","v":0},{"$f":"'3.Zones_desservies'!GS14","v":0},{"$f":"'3.Zones_desservies'!GT14","v":0},{"$f":"'3.Zones_desservies'!GU14","v":0},{"$f":"'3.Zones_desservies'!GV14","v":0},{"$f":"'3.Zones_desservies'!GW14","v":0},{"$f":"'3.Zones_desservies'!GX14","v":0},{"$f":"'3.Zones_desservies'!GY14","v":0},{"$f":"'3.Zones_desservies'!GZ14","v":0},{"$f":"'3.Zones_desservies'!HA14","v":0},{"$f":"'3.Zones_desservies'!HB14","v":0},{"$f":"'3.Zones_desservies'!HC14","v":0},{"$f":"'3.Zones_desservies'!HD14","v":0},{"$f":"'3.Zones_desservies'!HE14","v":0},{"$f":"'3.Zones_desservies'!HF14","v":0},{"$f":"'3.Zones_desservies'!HG14","v":0},{"$f":"'3.Zones_desservies'!HH14","v":0},{"$f":"'3.Zones_desservies'!HI14","v":0},{"$f":"'3.Zones_desservies'!HJ14","v":0},{"$f":"'3.Zones_desservies'!HK14","v":0},{"$f":"'3.Zones_desservies'!HL14","v":0},{"$f":"'3.Zones_desservies'!HM14","v":0},{"$f":"'3.Zones_desservies'!HN14","v":0},{"$f":"'3.Zones_desservies'!HO14","v":0},{"$f":"'3.Zones_desservies'!HP14","v":0},{"$f":"'3.Zones_desservies'!HQ14","v":0},{"$f":"'3.Zones_desservies'!HR14","v":0},{"$f":"'3.Zones_desservies'!HS14","v":0},{"$f":"'3.Zones_desservies'!HT14","v":0},{"$f":"'3.Zones_desservies'!HU14","v":0},{"$f":"'3.Zones_desservies'!HV14","v":0},{"$f":"'3.Zones_desservies'!HW14","v":0},{"$f":"'3.Zones_desservies'!HX14","v":0},{"$f":"'3.Zones_desservies'!HY14","v":0},{"$f":"'3.Zones_desservies'!HZ14","v":0},{"$f":"'3.Zones_desservies'!IA14","v":0},{"$f":"'3.Zones_desservies'!IB14","v":0},{"$f":"'3.Zones_desservies'!IC14","v":0},{"$f":"'3.Zones_desservies'!ID14","v":0},{"$f":"'3.Zones_desservies'!IE14","v":0},{"$f":"'3.Zones_desservies'!IF14","v":0},{"$f":"'3.Zones_desservies'!IG14","v":0},{"$f":"'3.Zones_desservies'!IH14","v":0},{"$f":"'3.Zones_desservies'!II14","v":0},{"$f":"'3.Zones_desservies'!IJ14","v":0},{"$f":"'3.Zones_desservies'!IK14","v":0},{"$f":"'3.Zones_desservies'!IL14","v":0},{"$f":"'3.Zones_desservies'!IM14","v":0},{"$f":"'3.Zones_desservies'!IN14","v":0},{"$f":"'3.Zones_desservies'!IO14","v":0},{"$f":"'3.Zones_desservies'!IP14","v":0},{"$f":"'3.Zones_desservies'!IQ14","v":0},{"$f":"'3.Zones_desservies'!IR14","v":0},{"$f":"'3.Zones_desservies'!IS14","v":0},{"$f":"'3.Zones_desservies'!IT14","v":0},{"$f":"'3.Zones_desservies'!IU14","v":0},{"$f":"'3.Zones_desservies'!IV14","v":0},{"$f":"'3.Zones_desservies'!IW14","v":0},{"$f":"'3.Zones_desservies'!IX14","v":0},{"$f":"'3.Zones_desservies'!IY14","v":0},{"$f":"'3.Zones_desservies'!IZ14","v":0},{"$f":"'3.Zones_desservies'!JA14","v":0},{"$f":"'3.Zones_desservies'!JB14","v":0},{"$f":"'3.Zones_desservies'!JC14","v":0},{"$f":"'3.Zones_desservies'!JD14","v":0},{"$f":"'3.Zones_desservies'!JE14","v":0},{"$f":"'3.Zones_desservies'!JF14","v":0},{"$f":"'3.Zones_desservies'!JG14","v":0},{"$f":"'3.Zones_desservies'!JH14","v":0},{"$f":"'3.Zones_desservies'!JI14","v":0},{"$f":"'3.Zones_desservies'!JJ14","v":0},{"$f":"'3.Zones_desservies'!JK14","v":0},{"$f":"'3.Zones_desservies'!JL14","v":0},{"$f":"'3.Zones_desservies'!JM14","v":0},{"$f":"'3.Zones_desservies'!JN14","v":0},{"$f":"'3.Zones_desservies'!JO14","v":0},{"$f":"'3.Zones_desservies'!JP14","v":0},{"$f":"'3.Zones_desservies'!JQ14","v":0},{"$f":"'3.Zones_desservies'!JR14","v":0},{"$f":"'3.Zones_desservies'!JS14","v":0},{"$f":"'3.Zones_desservies'!JT14","v":0},{"$f":"'3.Zones_desservies'!JU14","v":0},{"$f":"'3.Zones_desservies'!JV14","v":0},{"$f":"'3.Zones_desservies'!JW14","v":0},{"$f":"'3.Zones_desservies'!JX14","v":0},{"$f":"'3.Zones_desservies'!JY14","v":0},{"$f":"'3.Zones_desservies'!JZ14","v":0},{"$f":"'3.Zones_desservies'!KA14","v":0},{"$f":"'3.Zones_desservies'!KB14","v":0},{"$f":"'3.Zones_desservies'!KC14","v":0},{"$f":"'3.Zones_desservies'!KD14","v":0},{"$f":"'3.Zones_desservies'!KE14","v":0},{"$f":"'3.Zones_desservies'!KF14","v":0},{"$f":"'3.Zones_desservies'!KG14","v":0},{"$f":"'3.Zones_desservies'!KH14","v":0},{"$f":"'3.Zones_desservies'!KI14","v":0},{"$f":"'3.Zones_desservies'!KJ14","v":0},{"$f":"'3.Zones_desservies'!KK14","v":0},{"$f":"'3.Zones_desservies'!KL14","v":0},{"$f":"'3.Zones_desservies'!KM14","v":0},{"$f":"'3.Zones_desservies'!KN14","v":0},{"$f":"'3.Zones_desservies'!KO14","v":0},{"$f":"'3.Zones_desservies'!KP14","v":0},{"$f":"'3.Zones_desservies'!KQ14","v":0},{"$f":"'3.Zones_desservies'!KR14","v":0},{"$f":"'3.Zones_desservies'!KS14","v":0},{"$f":"'3.Zones_desservies'!KT14","v":0},{"$f":"'3.Zones_desservies'!KU14","v":0},{"$f":"'3.Zones_desservies'!KV14","v":0},{"$f":"'3.Zones_desservies'!KW14","v":0},{"$f":"'3.Zones_desservies'!KX14","v":0},{"$f":"'3.Zones_desservies'!KY14","v":0},{"$f":"'3.Zones_desservies'!KZ14","v":0},{"$f":"'3.Zones_desservies'!LA14","v":0},{"$f":"'3.Zones_desservies'!LB14","v":0},{"$f":"'3.Zones_desservies'!LC14","v":0},{"$f":"'3.Zones_desservies'!LD14","v":0},{"$f":"'3.Zones_desservies'!LE14","v":0},{"$f":"'3.Zones_desservies'!LF14","v":0},{"$f":"'3.Zones_desservies'!LG14","v":0},{"$f":"'3.Zones_desservies'!LH14","v":0},{"$f":"'3.Zones_desservies'!LI14","v":0},{"$f":"'3.Zones_desservies'!LJ14","v":0},{"$f":"'3.Zones_desservies'!LK14","v":0},{"$f":"'3.Zones_desservies'!LL14","v":0},{"$f":"'3.Zones_desservies'!LM14","v":0},{"$f":"'3.Zones_desservies'!LN14","v":0},{"$f":"'3.Zones_desservies'!LO14","v":0},{"$f":"'3.Zones_desservies'!LP14","v":0},{"$f":"'3.Zones_desservies'!LQ14","v":0},{"$f":"'3.Zones_desservies'!LR14","v":0},{"$f":"'3.Zones_desservies'!LS14","v":0},{"$f":"'3.Zones_desservies'!LT14","v":0},{"$f":"'3.Zones_desservies'!LU14","v":0},{"$f":"'3.Zones_desservies'!LV14","v":0},{"$f":"'3.Zones_desservies'!LW14","v":0},{"$f":"'3.Zones_desservies'!LX14","v":0},{"$f":"'3.Zones_desservies'!LY14","v":0},{"$f":"'3.Zones_desservies'!LZ14","v":0},{"$f":"'3.Zones_desservies'!MA14","v":0},{"$f":"'3.Zones_desservies'!MB14","v":0},{"$f":"'3.Zones_desservies'!MC14","v":0},{"$f":"'3.Zones_desservies'!MD14","v":0},{"$f":"'3.Zones_desservies'!ME14","v":0},{"$f":"'3.Zones_desservies'!MF14","v":0},{"$f":"'3.Zones_desservies'!MG14","v":0},{"$f":"'3.Zones_desservies'!MH14","v":0},{"$f":"'3.Zones_desservies'!MI14","v":0},{"$f":"'3.Zones_desservies'!MJ14","v":0},{"$f":"'3.Zones_desservies'!MK14","v":0},{"$f":"'3.Zones_desservies'!ML14","v":0},{"$f":"'3.Zones_desservies'!MM14","v":0},{"$f":"'3.Zones_desservies'!MN14","v":0},{"$f":"'3.Zones_desservies'!MO14","v":0},{"$f":"'3.Zones_desservies'!MP14","v":0},{"$f":"'3.Zones_desservies'!MQ14","v":0},{"$f":"'3.Zones_desservies'!MR14","v":0},{"$f":"'3.Zones_desservies'!MS14","v":0},{"$f":"'3.Zones_desservies'!MT14","v":0},{"$f":"'3.Zones_desservies'!MU14","v":0},{"$f":"'3.Zones_desservies'!MV14","v":0},{"$f":"'3.Zones_desservies'!MW14","v":0},{"$f":"'3.Zones_desservies'!MX14","v":0},{"$f":"'3.Zones_desservies'!MY14","v":0},{"$f":"'3.Zones_desservies'!MZ14","v":0},{"$f":"'3.Zones_desservies'!NA14","v":0},{"$f":"'3.Zones_desservies'!NB14","v":0},{"$f":"'3.Zones_desservies'!NC14","v":0},{"$f":"'3.Zones_desservies'!ND14","v":0},{"$f":"'3.Zones_desservies'!NE14","v":0},{"$f":"'3.Zones_desservies'!NF14","v":0},{"$f":"'3.Zones_desservies'!NG14","v":0},{"$f":"'3.Zones_desservies'!NH14","v":0},{"$f":"'3.Zones_desservies'!NI14","v":0},{"$f":"'3.Zones_desservies'!NJ14","v":0},{"$f":"'3.Zones_desservies'!NK14","v":0},{"$f":"'3.Zones_desservies'!NL14","v":0},{"$f":"'3.Zones_desservies'!NM14","v":0},{"$f":"'3.Zones_desservies'!NN14","v":0},{"$f":"'3.Zones_desservies'!NO14","v":0},{"$f":"'3.Zones_desservies'!NP14","v":0},{"$f":"'3.Zones_desservies'!NQ14","v":0},{"$f":"'3.Zones_desservies'!NR14","v":0},{"$f":"'3.Zones_desservies'!NS14","v":0},{"$f":"'3.Zones_desservies'!NT14","v":0},{"$f":"'3.Zones_desservies'!NU14","v":0},{"$f":"'3.Zones_desservies'!NV14","v":0},{"$f":"'3.Zones_desservies'!NW14","v":0},{"$f":"'3.Zones_desservies'!NX14","v":0},{"$f":"'3.Zones_desservies'!NY14","v":0},{"$f":"'3.Zones_desservies'!NZ14","v":0},{"$f":"'3.Zones_desservies'!OA14","v":0},{"$f":"'3.Zones_desservies'!OB14","v":0},{"$f":"'3.Zones_desservies'!OC14","v":0},{"$f":"'3.Zones_desservies'!OD14","v":0},{"$f":"'3.Zones_desservies'!OE14","v":0},{"$f":"'3.Zones_desservies'!OF14","v":0},{"$f":"'3.Zones_desservies'!OG14","v":0},{"$f":"'3.Zones_desservies'!OH14","v":0},{"$f":"'3.Zones_desservies'!OI14","v":0},{"$f":"'3.Zones_desservies'!OJ14","v":0},{"$f":"'3.Zones_desservies'!OK14","v":0},{"$f":"'3.Zones_desservies'!OL14","v":0},{"$f":"'3.Zones_desservies'!OM14","v":0},{"$f":"'3.Zones_desservies'!ON14","v":0},{"$f":"'3.Zones_desservies'!OO14","v":0},{"$f":"'3.Zones_desservies'!OP14","v":0},{"$f":"'3.Zones_desservies'!OQ14","v":0},{"$f":"'3.Zones_desservies'!OR14","v":0},{"$f":"'3.Zones_desservies'!OS14","v":0},{"$f":"'3.Zones_desservies'!OT14","v":0},{"$f":"'3.Zones_desservies'!OU14","v":0},{"$f":"'3.Zones_desservies'!OV14","v":0},{"$f":"'3.Zones_desservies'!OW14","v":0},{"$f":"'3.Zones_desservies'!OX14","v":0},{"$f":"'3.Zones_desservies'!OY14","v":0},{"$f":"'3.Zones_desservies'!OZ14","v":0},{"$f":"'3.Zones_desservies'!PA14","v":0},{"$f":"'3.Zones_desservies'!PB14","v":0},{"$f":"'3.Zones_desservies'!PC14","v":0},{"$f":"'3.Zones_desservies'!PD14","v":0},{"$f":"'3.Zones_desservies'!PE14","v":0},{"$f":"'3.Zones_desservies'!PF14","v":0},{"$f":"'3.Zones_desservies'!PG14","v":0},{"$f":"'3.Zones_desservies'!PH14","v":0},{"$f":"'3.Zones_desservies'!PI14","v":0},{"$f":"'3.Zones_desservies'!PJ14","v":0},{"$f":"'3.Zones_desservies'!PK14","v":0},{"$f":"'3.Zones_desservies'!PL14","v":0},{"$f":"'3.Zones_desservies'!PM14","v":0},{"$f":"'3.Zones_desservies'!PN14","v":0},{"$f":"'3.Zones_desservies'!PO14","v":0},{"$f":"'3.Zones_desservies'!PP14","v":0},{"$f":"'3.Zones_desservies'!PQ14","v":0},{"$f":"'3.Zones_desservies'!PR14","v":0},{"$f":"'3.Zones_desservies'!PS14","v":0},{"$f":"'3.Zones_desservies'!PT14","v":0},{"$f":"'3.Zones_desservies'!PU14","v":0},{"$f":"'3.Zones_desservies'!PV14","v":0},{"$f":"'3.Zones_desservies'!PW14","v":0},{"$f":"'3.Zones_desservies'!PX14","v":0},{"$f":"'3.Zones_desservies'!PY14","v":0},{"$f":"'3.Zones_desservies'!PZ14","v":0},{"$f":"'3.Zones_desservies'!QA14","v":0},{"$f":"'3.Zones_desservies'!QB14","v":0},{"$f":"'3.Zones_desservies'!QC14","v":0},{"$f":"'3.Zones_desservies'!QD14","v":0},{"$f":"'3.Zones_desservies'!QE14","v":0},{"$f":"'3.Zones_desservies'!QF14","v":0},{"$f":"'3.Zones_desservies'!QG14","v":0},{"$f":"'3.Zones_desservies'!QH14","v":0},{"$f":"'3.Zones_desservies'!QI14","v":0},{"$f":"'3.Zones_desservies'!QJ14","v":0},{"$f":"'3.Zones_desservies'!QK14","v":0},{"$f":"'3.Zones_desservies'!QL14","v":0},{"$f":"'3.Zones_desservies'!QM14","v":0},{"$f":"'3.Zones_desservies'!QN14","v":0},{"$f":"'3.Zones_desservies'!QO14","v":0},{"$f":"'3.Zones_desservies'!QP14","v":0},{"$f":"'3.Zones_desservies'!QQ14","v":0},{"$f":"'3.Zones_desservies'!QR14","v":0},{"$f":"'3.Zones_desservies'!QS14","v":0},{"$f":"'3.Zones_desservies'!QT14","v":0},{"$f":"'3.Zones_desservies'!QU14","v":0},{"$f":"'3.Zones_desservies'!QV14","v":0},{"$f":"'3.Zones_desservies'!QW14","v":0},{"$f":"'3.Zones_desservies'!QX14","v":0},{"$f":"'3.Zones_desservies'!QY14","v":0},{"$f":"'3.Zones_desservies'!QZ14","v":0},{"$f":"'3.Zones_desservies'!RA14","v":0},{"$f":"'3.Zones_desservies'!RB14","v":0},{"$f":"'3.Zones_desservies'!RC14","v":0},{"$f":"'3.Zones_desservies'!RD14","v":0},{"$f":"'3.Zones_desservies'!RE14","v":0},{"$f":"'3.Zones_desservies'!RF14","v":0},{"$f":"'3.Zones_desservies'!RG14","v":0},{"$f":"'3.Zones_desservies'!RH14","v":0},{"$f":"'3.Zones_desservies'!RI14","v":0},{"$f":"'3.Zones_desservies'!RJ14","v":0},{"$f":"'3.Zones_desservies'!RK14","v":0},{"$f":"'3.Zones_desservies'!RL14","v":0},{"$f":"'3.Zones_desservies'!RM14","v":0},{"$f":"'3.Zones_desservies'!RN14","v":0},{"$f":"'3.Zones_desservies'!RO14","v":0},{"$f":"'3.Zones_desservies'!RP14","v":0},{"$f":"'3.Zones_desservies'!RQ14","v":0},{"$f":"'3.Zones_desservies'!RR14","v":0},{"$f":"'3.Zones_desservies'!RS14","v":0},{"$f":"'3.Zones_desservies'!RT14","v":0},{"$f":"'3.Zones_desservies'!RU14","v":0},{"$f":"'3.Zones_desservies'!RV14","v":0},{"$f":"'3.Zones_desservies'!RW14","v":0},{"$f":"'3.Zones_desservies'!RX14","v":0},{"$f":"'3.Zones_desservies'!RY14","v":0},{"$f":"'3.Zones_desservies'!RZ14","v":0},{"$f":"'3.Zones_desservies'!SA14","v":0},{"$f":"'3.Zones_desservies'!SB14","v":0},{"$f":"'3.Zones_desservies'!SC14","v":0},{"$f":"'3.Zones_desservies'!SD14","v":0},{"$f":"'3.Zones_desservies'!SE14","v":0},{"$f":"'3.Zones_desservies'!SF14","v":0},{"$f":"'3.Zones_desservies'!SG14","v":0},{"$f":"'3.Zones_desservies'!SH14","v":0}]
[null,{"$f":"'3.Zones_desservies'!B15","v":1},{"$f":"'3.Zones_desservies'!C15","v":"Ville 1"},{"$f":"'3.Zones_desservies'!D15","v":"Ville 1"},{"$f":"'3.Zones_desservies'!E15","v":"Ville 1"},{"$f":"'3.Zones_desservies'!F15","v":0},{"$f":"'3.Zones_desservies'!G15","v":0},{"$f":"'3.Zones_desservies'!H15","v":0},{"$f":"'3.Zones_desservies'!I15","v":0},{"$f":"'3.Zones_desservies'!J15","v":0},{"$f":"'3.Zones_desservies'!K15","v":0},{"$f":"'3.Zones_desservies'!L15","v":0},{"$f":"'3.Zones_desservies'!M15","v":0},{"$f":"'3.Zones_desservies'!N15","v":0},{"$f":"'3.Zones_desservies'!O15","v":0},{"$f":"'3.Zones_desservies'!P15","v":0},{"$f":"'3.Zones_desservies'!Q15","v":0},{"$f":"'3.Zones_desservies'!R15","v":0},{"$f":"'3.Zones_desservies'!S15","v":0},{"$f":"'3.Zones_desservies'!T15","v":0},{"$f":"'3.Zones_desservies'!U15","v":0},{"$f":"'3.Zones_desservies'!V15","v":0},{"$f":"'3.Zones_desservies'!W15","v":0},{"$f":"'3.Zones_desservies'!X15","v":0},{"$f":"'3.Zones_desservies'!Y15","v":0},{"$f":"'3.Zones_desservies'!Z15","v":0},{"$f":"'3.Zones_desservies'!AA15","v":0},{"$f":"'3.Zones_desservies'!AB15","v":0},{"$f":"'3.Zones_desservies'!AC15","v":0},{"$f":"'3.Zones_desservies'!AD15","v":0},{"$f":"'3.Zones_desservies'!AE15","v":0},{"$f":"'3.Zones_desservies'!AF15","v":0},{"$f":"'3.Zones_desservies'!AG15","v":0},{"$f":"'3.Zones_desservies'!AH15","v":0},{"$f":"'3.Zones_desservies'!AI15","v":0},{"$f":"'3.Zones_desservies'!AJ15","v":0},{"$f":"'3.Zones_desservies'!AK15","v":0},{"$f":"'3.Zones_desservies'!AL15","v":0},{"$f":"'3.Zones_desservies'!AM15","v":0},{"$f":"'3.Zones_desservies'!AN15","v":0},{"$f":"'3.Zones_desservies'!AO15","v":0},{"$f":"'3.Zones_desservies'!AP15","v":0},{"$f":"'3.Zones_desservies'!AQ15","v":0},{"$f":"'3.Zones_desservies'!AR15","v":0},{"$f":"'3.Zones_desservies'!AS15","v":0},{"$f":"'3.Zones_desservies'!AT15","v":0},{"$f":"'3.Zones_desservies'!AU15","v":0},{"$f":"'3.Zones_desservies'!AV15","v":0},{"$f":"'3.Zones_desservies'!AW15","v":0},{"$f":"'3.Zones_desservies'!AX15","v":0},{"$f":"'3.Zones_desservies'!AY15","v":0},{"$f":"'3.Zones_desservies'!AZ15","v":0},{"$f":"'3.Zones_desservies'!BA15","v":0},{"$f":"'3.Zones_desservies'!BB15","v":0},{"$f":"'3.Zones_desservies'!BC15","v":0},{"$f":"'3.Zones_desservies'!BD15","v":0},{"$f":"'3.Zones_desservies'!BE15","v":0},{"$f":"'3.Zones_desservies'!BF15","v":0},{"$f":"'3.Zones_desservies'!BG15","v":0},{"$f":"'3.Zones_desservies'!BH15","v":0},{"$f":"'3.Zones_desservies'!BI15","v":0},{"$f":"'3.Zones_desservies'!BJ15","v":0},{"$f":"'3.Zones_desservies'!BK15","v":0},{"$f":"'3.Zones_desservies'!BL15","v":0},{"$f":"'3.Zones_desservies'!BM15","v":0},{"$f":"'3.Zones_desservies'!BN15","v":0},{"$f":"'3.Zones_desservies'!BO15","v":0},{"$f":"'3.Zones_desservies'!BP15","v":0},{"$f":"'3.Zones_desservies'!BQ15","v":0},{"$f":"'3.Zones_desservies'!BR15","v":0},{"$f":"'3.Zones_desservies'!BS15","v":0},{"$f":"'3.Zones_desservies'!BT15","v":0},{"$f":"'3.Zones_desservies'!BU15","v":0},{"$f":"'3.Zones_desservies'!BV15","v":0},{"$f":"'3.Zones_desservies'!BW15","v":0},{"$f":"'3.Zones_desservies'!BX15","v":0},{"$f":"'3.Zones_desservies'!BY15","v":0},{"$f":"'3.Zones_desservies'!BZ15","v":0},{"$f":"'3.Zones_desservies'!CA15","v":0},{"$f":"'3.Zones_desservies'!CB15","v":0},{"$f":"'3.Zones_desservies'!CC15","v":0},{"$f":"'3.Zones_desservies'!CD15","v":0},{"$f":"'3.Zones_desservies'!CE15","v":0},{"$f":"'3.Zones_desservies'!CF15","v":0},{"$f":"'3.Zones_desservies'!CG15","v":0},{"$f":"'3.Zones_desservies'!CH15","v":0},{"$f":"'3.Zones_desservies'!CI15","v":0},{"$f":"'3.Zones_desservies'!CJ15","v":0},{"$f":"'3.Zones_desservies'!CK15","v":0},{"$f":"'3.Zones_desservies'!CL15","v":0},{"$f":"'3.Zones_desservies'!CM15","v":0},{"$f":"'3.Zones_desservies'!CN15","v":0},{"$f":"'3.Zones_desservies'!CO15","v":0},{"$f":"'3.Zones_desservies'!CP15","v":0},{"$f":"'3.Zones_desservies'!CQ15","v":0},{"$f":"'3.Zones_desservies'!CR15","v":0},{"$f":"'3.Zones_desservies'!CS15","v":0},{"$f":"'3.Zones_desservies'!CT15","v":0},{"$f":"'3.Zones_desservies'!CU15","v":0},{"$f":"'3.Zones_desservies'!CV15","v":0},{"$f":"'3.Zones_desservies'!CW15","v":0},{"$f":"'3.Zones_desservies'!CX15","v":0},{"$f":"'3.Zones_desservies'!CY15","v":"_"},{"$f":"'3.Zones_desservies'!CZ15","v":0},{"$f":"'3.Zones_desservies'!DA15","v":0},{"$f":"'3.Zones_desservies'!DB15","v":0},{"$f":"'3.Zones_desservies'!DC15","v":0},{"$f":"'3.Zones_desservies'!DD15","v":0},{"$f":"'3.Zones_desservies'!DE15","v":0},{"$f":"'3.Zones_desservies'!DF15","v":0},{"$f":"'3.Zones_desservies'!DG15","v":0},{"$f":"'3.Zones_desservies'!DH15","v":0},{"$f":"'3.Zones_desservies'!DI15","v":0},{"$f":"'3.Zones_desservies'!DJ15","v":0},{"$f":"'3.Zones_desservies'!DK15","v":0},{"$f":"'3.Zones_desservies'!DL15","v":0},{"$f":"'3.Zones_desservies'!DM15","v":0},{"$f":"'3.Zones_desservies'!DN15","v":0},{"$f":"'3.Zones_desservies'!DO15","v":0},{"$f":"'3.Zones_desservies'!DP15","v":0},{"$f":"'3.Zones_desservies'!DQ15","v":0},{"$f":"'3.Zones_desservies'!DR15","v":0},{"$f":"'3.Zones_desservies'!DS15","v":0},{"$f":"'3.Zones_desservies'!DT15","v":0},{"$f":"'3.Zones_desservies'!DU15","v":0},{"$f":"'3.Zones_desservies'!DV15","v":0},{"$f":"'3.Zones_desservies'!DW15","v":0},{"$f":"'3.Zones_desservies'!DX15","v":0},{"$f":"'3.Zones_desservies'!DY15","v":0},{"$f":"'3.Zones_desservies'!DZ15","v":0},{"$f":"'3.Zones_desservies'!EA15","v":0},{"$f":"'3.Zones_desservies'!EB15","v":0},{"$f":"'3.Zones_desservies'!EC15","v":0},{"$f":"'3.Zones_desservies'!ED15","v":0},{"$f":"'3.Zones_desservies'!EE15","v":0},{"$f":"'3.Zones_desservies'!EF15","v":0},{"$f":"'3.Zones_desservies'!EG15","v":0},{"$f":"'3.Zones_desservies'!EH15","v":0},{"$f":"'3.Zones_desservies'!EI15","v":0},{"$f":"'3.Zones_desservies'!EJ15","v":0},{"$f":"'3.Zones_desservies'!EK15","v":0},{"$f":"'3.Zones_desservies'!EL15","v":0},{"$f":"'3.Zones_desservies'!EM15","v":0},{"$f":"'3.Zones_desservies'!EN15","v":0},{"$f":"'3.Zones_desservies'!EO15","v":0},{"$f":"'3.Zones_desservies'!EP15","v":0},{"$f":"'3.Zones_desservies'!EQ15","v":0},{"$f":"'3.Zones_desservies'!ER15","v":0},{"$f":"'3.Zones_desservies'!ES15","v":0},{"$f":"'3.Zones_desservies'!ET15","v":0},{"$f":"'3.Zones_desservies'!EU15","v":0},{"$f":"'3.Zones_desservies'!EV15","v":0},{"$f":"'3.Zones_desservies'!EW15","v":0},{"$f":"'3.Zones_desservies'!EX15","v":0},{"$f":"'3.Zones_desservies'!EY15","v":0},{"$f":"'3.Zones_desservies'!EZ15","v":0},{"$f":"'3.Zones_desservies'!FA15","v":0},{"$f":"'3.Zones_desservies'!FB15","v":0},{"$f":"'3.Zones_desservies'!FC15","v":0},{"$f":"'3.Zones_desservies'!FD15","v":0},{"$f":"'3.Zones_desservies'!FE15","v":0},{"$f":"'3.Zones_desservies'!FF15","v":0},{"$f":"'3.Zones_desservies'!FG15","v":0},{"$f":"'3.Zones_desservies'!FH15","v":0},{"$f":"'3.Zones_desservies'!FI15","v":0},{"$f":"'3.Zones_desservies'!FJ15","v":0},{"$f":"'3.Zones_desservies'!FK15","v":0},{"$f":"'3.Zones_desservies'!FL15","v":0},{"$f":"'3.Zones_desservies'!FM15","v":0},{"$f":"'3.Zones_desservies'!FN15","v":0},{"$f":"'3.Zones_desservies'!FO15","v":0},{"$f":"'3.Zones_desservies'!FP15","v":0},{"$f":"'3.Zones_desservies'!FQ15","v":0},{"$f":"'3.Zones_desservies'!FR15","v":0},{"$f":"'3.Zones_desservies'!FS15","v":0},{"$f":"'3.Zones_desservies'!FT15","v":0},{"$f":"'3.Zones_desservies'!FU15","v":0},{"$f":"'3.Zones_desservies'!FV15","v":0},{"$f":"'3.Zones_desservies'!FW15","v":0},{"$f":"'3.Zones_desservies'!FX15","v":0},{"$f":"'3.Zones_desservies'!FY15","v":0},{"$f":"'3.Zones_desservies'!FZ15","v":0},{"$f":"'3.Zones_desservies'!GA15","v":0},{"$f":"'3.Zones_desservies'!GB15","v":0},{"$f":"'3.Zones_desservies'!GC15","v":0},{"$f":"'3.Zones_desservies'!GD15","v":0},{"$f":"'3.Zones_desservies'!GE15","v":0},{"$f":"'3.Zones_desservies'!GF15","v":0},{"$f":"'3.Zones_desservies'!GG15","v":0},{"$f":"'3.Zones_desservies'!GH15","v":0},{"$f":"'3.Zones_desservies'!GI15","v":0},{"$f":"'3.Zones_desservies'!GJ15","v":0},{"$f":"'3.Zones_desservies'!GK15","v":0},{"$f":"'3.Zones_desservies'!GL15","v":0},{"$f":"'3.Zones_desservies'!GM15","v":0},{"$f":"'3.Zones_desservies'!GN15","v":0},{"$f":"'3.Zones_desservies'!GO15","v":0},{"$f":"'3.Zones_desservies'!GP15","v":0},{"$f":"'3.Zones_desservies'!GQ15","v":0},{"$f":"'3.Zones_desservies'!GR15","v":0},{"$f":"'3.Zones_desservies'!GS15","v":0},{"$f":"'3.Zones_desservies'!GT15","v":0},{"$f":"'3.Zones_desservies'!GU15","v":0},{"$f":"'3.Zones_desservies'!GV15","v":0},{"$f":"'3.Zones_desservies'!GW15","v":0},{"$f":"'3.Zones_desservies'!GX15","v":0},{"$f":"'3.Zones_desservies'!GY15","v":0},{"$f":"'3.Zones_desservies'!GZ15","v":0},{"$f":"'3.Zones_desservies'!HA15","v":0},{"$f":"'3.Zones_desservies'!HB15","v":0},{"$f":"'3.Zones_desservies'!HC15","v":0},{"$f":"'3.Zones_desservies'!HD15","v":0},{"$f":"'3.Zones_desservies'!HE15","v":0},{"$f":"'3.Zones_desservies'!HF15","v":0},{"$f":"'3.Zones_desservies'!HG15","v":0},{"$f":"'3.Zones_desservies'!HH15","v":0},{"$f":"'3.Zones_desservies'!HI15","v":0},{"$f":"'3.Zones_desservies'!HJ15","v":0},{"$f":"'3.Zones_desservies'!HK15","v":0},{"$f":"'3.Zones_desservies'!HL15","v":0},{"$f":"'3.Zones_desservies'!HM15","v":0},{"$f":"'3.Zones_desservies'!HN15","v":0},{"$f":"'3.Zones_desservies'!HO15","v":0},{"$f":"'3.Zones_desservies'!HP15","v":0},{"$f":"'3.Zones_desservies'!HQ15","v":0},{"$f":"'3.Zones_desservies'!HR15","v":0},{"$f":"'3.Zones_desservies'!HS15","v":0},{"$f":"'3.Zones_desservies'!HT15","v":0},{"$f":"'3.Zones_desservies'!HU15","v":0},{"$f":"'3.Zones_desservies'!HV15","v":0},{"$f":"'3.Zones_desservies'!HW15","v":0},{"$f":"'3.Zones_desservies'!HX15","v":0},{"$f":"'3.Zones_desservies'!HY15","v":0},{"$f":"'3.Zones_desservies'!HZ15","v":0},{"$f":"'3.Zones_desservies'!IA15","v":0},{"$f":"'3.Zones_desservies'!IB15","v":0},{"$f":"'3.Zones_desservies'!IC15","v":0},{"$f":"'3.Zones_desservies'!ID15","v":0},{"$f":"'3.Zones_desservies'!IE15","v":0},{"$f":"'3.Zones_desservies'!IF15","v":0},{"$f":"'3.Zones_desservies'!IG15","v":0},{"$f":"'3.Zones_desservies'!IH15","v":0},{"$f":"'3.Zones_desservies'!II15","v":0},{"$f":"'3.Zones_desservies'!IJ15","v":0},{"$f":"'3.Zones_desservies'!IK15","v":0},{"$f":"'3.Zones_desservies'!IL15","v":0},{"$f":"'3.Zones_desservies'!IM15","v":0},{"$f":"'3.Zones_desservies'!IN15","v":0},{"$f":"'3.Zones_desservies'!IO15","v":0},{"$f":"'3.Zones_desservies'!IP15","v":0},{"$f":"'3.Zones_desservies'!IQ15","v":0},{"$f":"'3.Zones_desservies'!IR15","v":0},{"$f":"'3.Zones_desservies'!IS15","v":0},{"$f":"'3.Zones_desservies'!IT15","v":0},{"$f":"'3.Zones_desservies'!IU15","v":0},{"$f":"'3.Zones_desservies'!IV15","v":0},{"$f":"'3.Zones_desservies'!IW15","v":0},{"$f":"'3.Zones_desservies'!IX15","v":0},{"$f":"'3.Zones_desservies'!IY15","v":0},{"$f":"'3.Zones_desservies'!IZ15","v":0},{"$f":"'3.Zones_desservies'!JA15","v":0},{"$f":"'3.Zones_desservies'!JB15","v":0},{"$f":"'3.Zones_desservies'!JC15","v":0},{"$f":"'3.Zones_desservies'!JD15","v":0},{"$f":"'3.Zones_desservies'!JE15","v":0},{"$f":"'3.Zones_desservies'!JF15","v":0},{"$f":"'3.Zones_desservies'!JG15","v":0},{"$f":"'3.Zones_desservies'!JH15","v":0},{"$f":"'3.Zones_desservies'!JI15","v":0},{"$f":"'3.Zones_desservies'!JJ15","v":0},{"$f":"'3.Zones_desservies'!JK15","v":0},{"$f":"'3.Zones_desservies'!JL15","v":0},{"$f":"'3.Zones_desservies'!JM15","v":0},{"$f":"'3.Zones_desservies'!JN15","v":0},{"$f":"'3.Zones_desservies'!JO15","v":0},{"$f":"'3.Zones_desservies'!JP15","v":0},{"$f":"'3.Zones_desservies'!JQ15","v":0},{"$f":"'3.Zones_desservies'!JR15","v":0},{"$f":"'3.Zones_desservies'!JS15","v":0},{"$f":"'3.Zones_desservies'!JT15","v":0},{"$f":"'3.Zones_desservies'!JU15","v":0},{"$f":"'3.Zones_desservies'!JV15","v":0},{"$f":"'3.Zones_desservies'!JW15","v":0},{"$f":"'3.Zones_desservies'!JX15","v":0},{"$f":"'3.Zones_desservies'!JY15","v":0},{"$f":"'3.Zones_desservies'!JZ15","v":0},{"$f":"'3.Zones_desservies'!KA15","v":0},{"$f":"'3.Zones_desservies'!KB15","v":0},{"$f":"'3.Zones_desservies'!KC15","v":0},{"$f":"'3.Zones_desservies'!KD15","v":0},{"$f":"'3.Zones_desservies'!KE15","v":0},{"$f":"'3.Zones_desservies'!KF15","v":0},{"$f":"'3.Zones_desservies'!KG15","v":0},{"$f":"'3.Zones_desservies'!KH15","v":0},{"$f":"'3.Zones_desservies'!KI15","v":0},{"$f":"'3.Zones_desservies'!KJ15","v":0},{"$f":"'3.Zones_desservies'!KK15","v":0},{"$f":"'3.Zones_desservies'!KL15","v":0},{"$f":"'3.Zones_desservies'!KM15","v":0},{"$f":"'3.Zones_desservies'!KN15","v":0},{"$f":"'3.Zones_desservies'!KO15","v":0},{"$f":"'3.Zones_desservies'!KP15","v":0},{"$f":"'3.Zones_desservies'!KQ15","v":0},{"$f":"'3.Zones_desservies'!KR15","v":0},{"$f":"'3.Zones_desservies'!KS15","v":0},{"$f":"'3.Zones_desservies'!KT15","v":0},{"$f":"'3.Zones_desservies'!KU15","v":0},{"$f":"'3.Zones_desservies'!KV15","v":0},{"$f":"'3.Zones_desservies'!KW15","v":0},{"$f":"'3.Zones_desservies'!KX15","v":0},{"$f":"'3.Zones_desservies'!KY15","v":0},{"$f":"'3.Zones_desservies'!KZ15","v":0},{"$f":"'3.Zones_desservies'!LA15","v":0},{"$f":"'3.Zones_desservies'!LB15","v":0},{"$f":"'3.Zones_desservies'!LC15","v":0},{"$f":"'3.Zones_desservies'!LD15","v":0},{"$f":"'3.Zones_desservies'!LE15","v":0},{"$f":"'3.Zones_desservies'!LF15","v":0},{"$f":"'3.Zones_desservies'!LG15","v":0},{"$f":"'3.Zones_desservies'!LH15","v":0},{"$f":"'3.Zones_desservies'!LI15","v":0},{"$f":"'3.Zones_desservies'!LJ15","v":0},{"$f":"'3.Zones_desservies'!LK15","v":0},{"$f":"'3.Zones_desservies'!LL15","v":0},{"$f":"'3.Zones_desservies'!LM15","v":0},{"$f":"'3.Zones_desservies'!LN15","v":0},{"$f":"'3.Zones_desservies'!LO15","v":0},{"$f":"'3.Zones_desservies'!LP15","v":0},{"$f":"'3.Zones_desservies'!LQ15","v":0},{"$f":"'3.Zones_desservies'!LR15","v":0},{"$f":"'3.Zones_desservies'!LS15","v":0},{"$f":"'3.Zones_desservies'!LT15","v":0},{"$f":"'3.Zones_desservies'!LU15","v":0},{"$f":"'3.Zones_desservies'!LV15","v":0},{"$f":"'3.Zones_desservies'!LW15","v":0},{"$f":"'3.Zones_desservies'!LX15","v":0},{"$f":"'3.Zones_desservies'!LY15","v":0},{"$f":"'3.Zones_desservies'!LZ15","v":0},{"$f":"'3.Zones_desservies'!MA15","v":0},{"$f":"'3.Zones_desservies'!MB15","v":0},{"$f":"'3.Zones_desservies'!MC15","v":0},{"$f":"'3.Zones_desservies'!MD15","v":0},{"$f":"'3.Zones_desservies'!ME15","v":0},{"$f":"'3.Zones_desservies'!MF15","v":0},{"$f":"'3.Zones_desservies'!MG15","v":0},{"$f":"'3.Zones_desservies'!MH15","v":0},{"$f":"'3.Zones_desservies'!MI15","v":0},{"$f":"'3.Zones_desservies'!MJ15","v":0},{"$f":"'3.Zones_desservies'!MK15","v":0},{"$f":"'3.Zones_desservies'!ML15","v":0},{"$f":"'3.Zones_desservies'!MM15","v":0},{"$f":"'3.Zones_desservies'!MN15","v":0},{"$f":"'3.Zones_desservies'!MO15","v":0},{"$f":"'3.Zones_desservies'!MP15","v":0},{"$f":"'3.Zones_desservies'!MQ15","v":0},{"$f":"'3.Zones_desservies'!MR15","v":0},{"$f":"'3.Zones_desservies'!MS15","v":0},{"$f":"'3.Zones_desservies'!MT15","v":0},{"$f":"'3.Zones_desservies'!MU15","v":0},{"$f":"'3.Zones_desservies'!MV15","v":0},{"$f":"'3.Zones_desservies'!MW15","v":0},{"$f":"'3.Zones_desservies'!MX15","v":0},{"$f":"'3.Zones_desservies'!MY15","v":0},{"$f":"'3.Zones_desservies'!MZ15","v":0},{"$f":"'3.Zones_desservies'!NA15","v":0},{"$f":"'3.Zones_desservies'!NB15","v":0},{"$f":"'3.Zones_desservies'!NC15","v":0},{"$f":"'3.Zones_desservies'!ND15","v":0},{"$f":"'3.Zones_desservies'!NE15","v":0},{"$f":"'3.Zones_desservies'!NF15","v":0},{"$f":"'3.Zones_desservies'!NG15","v":0},{"$f":"'3.Zones_desservies'!NH15","v":0},{"$f":"'3.Zones_desservies'!NI15","v":0},{"$f":"'3.Zones_desservies'!NJ15","v":0},{"$f":"'3.Zones_desservies'!NK15","v":0},{"$f":"'3.Zones_desservies'!NL15","v":0},{"$f":"'3.Zones_desservies'!NM15","v":0},{"$f":"'3.Zones_desservies'!NN15","v":0},{"$f":"'3.Zones_desservies'!NO15","v":0},{"$f":"'3.Zones_desservies'!NP15","v":0},{"$f":"'3.Zones_desservies'!NQ15","v":0},{"$f":"'3.Zones_desservies'!NR15","v":0},{"$f":"'3.Zones_desservies'!NS15","v":0},{"$f":"'3.Zones_desservies'!NT15","v":0},{"$f":"'3.Zones_desservies'!NU15","v":0},{"$f":"'3.Zones_desservies'!NV15","v":0},{"$f":"'3.Zones_desservies'!NW15","v":0},{"$f":"'3.Zones_desservies'!NX15","v":0},{"$f":"'3.Zones_desservies'!NY15","v":0},{"$f":"'3.Zones_desservies'!NZ15","v":0},{"$f":"'3.Zones_desservies'!OA15","v":0},{"$f":"'3.Zones_desservies'!OB15","v":0},{"$f":"'3.Zones_desservies'!OC15","v":0},{"$f":"'3.Zones_desservies'!OD15","v":0},{"$f":"'3.Zones_desservies'!OE15","v":0},{"$f":"'3.Zones_desservies'!OF15","v":0},{"$f":"'3.Zones_desservies'!OG15","v":0},{"$f":"'3.Zones_desservies'!OH15","v":0},{"$f":"'3.Zones_desservies'!OI15","v":0},{"$f":"'3.Zones_desservies'!OJ15","v":0},{"$f":"'3.Zones_desservies'!OK15","v":0},{"$f":"'3.Zones_desservies'!OL15","v":0},{"$f":"'3.Zones_desservies'!OM15","v":0},{"$f":"'3.Zones_desservies'!ON15","v":0},{"$f":"'3.Zones_desservies'!OO15","v":0},{"$f":"'3.Zones_desservies'!OP15","v":0},{"$f":"'3.Zones_desservies'!OQ15","v":0},{"$f":"'3.Zones_desservies'!OR15","v":0},{"$f":"'3.Zones_desservies'!OS15","v":0},{"$f":"'3.Zones_desservies'!OT15","v":0},{"$f":"'3.Zones_desservies'!OU15","v":0},{"$f":"'3.Zones_desservies'!OV15","v":0},{"$f":"'3.Zones_desservies'!OW15","v":0},{"$f":"'3.Zones_desservies'!OX15","v":0},{"$f":"'3.Zones_desservies'!OY15","v":0},{"$f":"'3.Zones_desservies'!OZ15","v":0},{"$f":"'3.Zones_desservies'!PA15","v":0},{"$f":"'3.Zones_desservies'!PB15","v":0},{"$f":"'3.Zones_desservies'!PC15","v":0},{"$f":"'3.Zones_desservies'!PD15","v":0},{"$f":"'3.Zones_desservies'!PE15","v":0},{"$f":"'3.Zones_desservies'!PF15","v":0},{"$f":"'3.Zones_desservies'!PG15","v":0},{"$f":"'3.Zones_desservies'!PH15","v":0},{"$f":"'3.Zones_desservies'!PI15","v":0},{"$f":"'3.Zones_desservies'!PJ15","v":0},{"$f":"'3.Zones_desservies'!PK15","v":0},{"$f":"'3.Zones_desservies'!PL15","v":0},{"$f":"'3.Zones_desservies'!PM15","v":0},{"$f":"'3.Zones_desservies'!PN15","v":0},{"$f":"'3.Zones_desservies'!PO15","v":0},{"$f":"'3.Zones_desservies'!PP15","v":0},{"$f":"'3.Zones_desservies'!PQ15","v":0},{"$f":"'3.Zones_desservies'!PR15","v":0},{"$f":"'3.Zones_desservies'!PS15","v":0},{"$f":"'3.Zones_desservies'!PT15","v":0},{"$f":"'3.Zones_desservies'!PU15","v":0},{"$f":"'3.Zones_desservies'!PV15","v":0},{"$f":"'3.Zones_desservies'!PW15","v":0},{"$f":"'3.Zones_desservies'!PX15","v":0},{"$f":"'3.Zones_desservies'!PY15","v":0},{"$f":"'3.Zones_desservies'!PZ15","v":0},{"$f":"'3.Zones_desservies'!QA15","v":0},{"$f":"'3.Zones_desservies'!QB15","v":0},{"$f":"'3.Zones_desservies'!QC15","v":0},{"$f":"'3.Zones_desservies'!QD15","v":0},{"$f":"'3.Zones_desservies'!QE15","v":0},{"$f":"'3.Zones_desservies'!QF15","v":0},{"$f":"'3.Zones_desservies'!QG15","v":0},{"$f":"'3.Zones_desservies'!QH15","v":0},{"$f":"'3.Zones_desservies'!QI15","v":0},{"$f":"'3.Zones_desservies'!QJ15","v":0},{"$f":"'3.Zones_desservies'!QK15","v":0},{"$f":"'3.Zones_desservies'!QL15","v":0},{"$f":"'3.Zones_desservies'!QM15","v":0},{"$f":"'3.Zones_desservies'!QN15","v":0},{"$f":"'3.Zones_desservies'!QO15","v":0},{"$f":"'3.Zones_desservies'!QP15","v":0},{"$f":"'3.Zones_desservies'!QQ15","v":0},{"$f":"'3.Zones_desservies'!QR15","v":0},{"$f":"'3.Zones_desservies'!QS15","v":0},{"$f":"'3.Zones_desservies'!QT15","v":0},{"$f":"'3.Zones_desservies'!QU15","v":0},{"$f":"'3.Zones_desservies'!QV15","v":0},{"$f":"'3.Zones_desservies'!QW15","v":0},{"$f":"'3.Zones_desservies'!QX15","v":0},{"$f":"'3.Zones_desservies'!QY15","v":0},{"$f":"'3.Zones_desservies'!QZ15","v":0},{"$f":"'3.Zones_desservies'!RA15","v":0},{"$f":"'3.Zones_desservies'!RB15","v":0},{"$f":"'3.Zones_desservies'!RC15","v":0},{"$f":"'3.Zones_desservies'!RD15","v":0},{"$f":"'3.Zones_desservies'!RE15","v":0},{"$f":"'3.Zones_desservies'!RF15","v":0},{"$f":"'3.Zones_desservies'!RG15","v":0},{"$f":"'3.Zones_desservies'!RH15","v":0},{"$f":"'3.Zones_desservies'!RI15","v":0},{"$f":"'3.Zones_desservies'!RJ15","v":0},{"$f":"'3.Zones_desservies'!RK15","v":0},{"$f":"'3.Zones_desservies'!RL15","v":0},{"$f":"'3.Zones_desservies'!RM15","v":0},{"$f":"'3.Zones_desservies'!RN15","v":0},{"$f":"'3.Zones_desservies'!RO15","v":0},{"$f":"'3.Zones_desservies'!RP15","v":0},{"$f":"'3.Zones_desservies'!RQ15","v":0},{"$f":"'3.Zones_desservies'!RR15","v":0},{"$f":"'3.Zones_desservies'!RS15","v":0},{"$f":"'3.Zones_desservies'!RT15","v":0},{"$f":"'3.Zones_desservies'!RU15","v":0},{"$f":"'3.Zones_desservies'!RV15","v":0},{"$f":"'3.Zones_desservies'!RW15","v":0},{"$f":"'3.Zones_desservies'!RX15","v":0},{"$f":"'3.Zones_desservies'!RY15","v":0},{"$f":"'3.Zones_desservies'!RZ15","v":0},{"$f":"'3.Zones_desservies'!SA15","v":0},{"$f":"'3.Zones_desservies'!SB15","v":0},{"$f":"'3.Zones_desservies'!SC15","v":0},{"$f":"'3.Zones_desservies'!SD15","v":0},{"$f":"'3.Zones_desservies'!SE15","v":0},{"$f":"'3.Zones_desservies'!SF15","v":0},{"$f":"'3.Zones_desservies'!SG15","v":0},{"$f":"'3.Zones_desservies'!SH15","v":0}]
[null,{"$f":"'3.Zones_desservies'!B16","v":2},{"$f":"'3.Zones_desservies'!C16","v":"Ville 2"},{"$f":"'3.Zones_desservies'!D16","v":"Ville 2"},{"$f":"'3.Zones_desservies'!E16","v":"Ville 2"},{"$f":"'3.Zones_desservies'!F16","v":0},{"$f":"'3.Zones_desservies'!G16","v":0},{"$f":"'3.Zones_desservies'!H16","v":0},{"$f":"'3.Zones_desservies'!I16","v":0},{"$f":"'3.Zones_desservies'!J16","v":0},{"$f":"'3.Zones_desservies'!K16","v":0},{"$f":"'3.Zones_desservies'!L16","v":0},{"$f":"'3.Zones_desservies'!M16","v":0},{"$f":"'3.Zones_desservies'!N16","v":0},{"$f":"'3.Zones_desservies'!O16","v":0},{"$f":"'3.Zones_desservies'!P16","v":0},{"$f":"'3.Zones_desservies'!Q16","v":0},{"$f":"'3.Zones_desservies'!R16","v":0},{"$f":"'3.Zones_desservies'!S16","v":0},{"$f":"'3.Zones_desservies'!T16","v":0},{"$f":"'3.Zones_desservies'!U16","v":0},{"$f":"'3.Zones_desservies'!V16","v":0},{"$f":"'3.Zones_desservies'!W16","v":0},{"$f":"'3.Zones_desservies'!X16","v":0},{"$f":"'3.Zones_desservies'!Y16","v":0},{"$f":"'3.Zones_desservies'!Z16","v":0},{"$f":"'3.Zones_desservies'!AA16","v":0},{"$f":"'3.Zones_desservies'!AB16","v":0},{"$f":"'3.Zones_desservies'!AC16","v":0},{"$f":"'3.Zones_desservies'!AD16","v":0},{"$f":"'3.Zones_desservies'!AE16","v":0},{"$f":"'3.Zones_desservies'!AF16","v":0},{"$f":"'3.Zones_desservies'!AG16","v":0},{"$f":"'3.Zones_desservies'!AH16","v":0},{"$f":"'3.Zones_desservies'!AI16","v":0},{"$f":"'3.Zones_desservies'!AJ16","v":0},{"$f":"'3.Zones_desservies'!AK16","v":0},{"$f":"'3.Zones_desservies'!AL16","v":0},{"$f":"'3.Zones_desservies'!AM16","v":0},{"$f":"'3.Zones_desservies'!AN16","v":0},{"$f":"'3.Zones_desservies'!AO16","v":0},{"$f":"'3.Zones_desservies'!AP16","v":0},{"$f":"'3.Zones_desservies'!AQ16","v":0},{"$f":"'3.Zones_desservies'!AR16","v":0},{"$f":"'3.Zones_desservies'!AS16","v":0},{"$f":"'3.Zones_desservies'!AT16","v":0},{"$f":"'3.Zones_desservies'!AU16","v":0},{"$f":"'3.Zones_desservies'!AV16","v":0},{"$f":"'3.Zones_desservies'!AW16","v":0},{"$f":"'3.Zones_desservies'!AX16","v":0},{"$f":"'3.Zones_desservies'!AY16","v":0},{"$f":"'3.Zones_desservies'!AZ16","v":0},{"$f":"'3.Zones_desservies'!BA16","v":0},{"$f":"'3.Zones_desservies'!BB16","v":0},{"$f":"'3.Zones_desservies'!BC16","v":0},{"$f":"'3.Zones_desservies'!BD16","v":0},{"$f":"'3.Zones_desservies'!BE16","v":0},{"$f":"'3.Zones_desservies'!BF16","v":0},{"$f":"'3.Zones_desservies'!BG16","v":0},{"$f":"'3.Zones_desservies'!BH16","v":0},{"$f":"'3.Zones_desservies'!BI16","v":0},{"$f":"'3.Zones_desservies'!BJ16","v":0},{"$f":"'3.Zones_desservies'!BK16","v":0},{"$f":"'3.Zones_desservies'!BL16","v":0},{"$f":"'3.Zones_desservies'!BM16","v":0},{"$f":"'3.Zones_desservies'!BN16","v":0},{"$f":"'3.Zones_desservies'!BO16","v":0},{"$f":"'3.Zones_desservies'!BP16","v":0},{"$f":"'3.Zones_desservies'!BQ16","v":0},{"$f":"'3.Zones_desservies'!BR16","v":0},{"$f":"'3.Zones_desservies'!BS16","v":0},{"$f":"'3.Zones_desservies'!BT16","v":0},{"$f":"'3.Zones_desservies'!BU16","v":0},{"$f":"'3.Zones_desservies'!BV16","v":0},{"$f":"'3.Zones_desservies'!BW16","v":0},{"$f":"'3.Zones_desservies'!BX16","v":0},{"$f":"'3.Zones_desservies'!BY16","v":0},{"$f":"'3.Zones_desservies'!BZ16","v":0},{"$f":"'3.Zones_desservies'!CA16","v":0},{"$f":"'3.Zones_desservies'!CB16","v":0},{"$f":"'3.Zones_desservies'!CC16","v":0},{"$f":"'3.Zones_desservies'!CD16","v":0},{"$f":"'3.Zones_desservies'!CE16","v":0},{"$f":"'3.Zones_desservies'!CF16","v":0},{"$f":"'3.Zones_desservies'!CG16","v":0},{"$f":"'3.Zones_desservies'!CH16","v":0},{"$f":"'3.Zones_desservies'!CI16","v":0},{"$f":"'3.Zones_desservies'!CJ16","v":0},{"$f":"'3.Zones_desservies'!CK16","v":0},{"$f":"'3.Zones_desservies'!CL16","v":0},{"$f":"'3.Zones_desservies'!CM16","v":0},{"$f":"'3.Zones_desservies'!CN16","v":0},{"$f":"'3.Zones_desservies'!CO16","v":0},{"$f":"'3.Zones_desservies'!CP16","v":0},{"$f":"'3.Zones_desservies'!CQ16","v":0},{"$f":"'3.Zones_desservies'!CR16","v":0},{"$f":"'3.Zones_desservies'!CS16","v":0},{"$f":"'3.Zones_desservies'!CT16","v":0},{"$f":"'3.Zones_desservies'!CU16","v":0},{"$f":"'3.Zones_desservies'!CV16","v":0},{"$f":"'3.Zones_desservies'!CW16","v":0},{"$f":"'3.Zones_desservies'!CX16","v":0},{"$f":"'3.Zones_desservies'!CY16","v":"_"},{"$f":"'3.Zones_desservies'!CZ16","v":0},{"$f":"'3.Zones_desservies'!DA16","v":0},{"$f":"'3.Zones_desservies'!DB16","v":0},{"$f":"'3.Zones_desservies'!DC16","v":0},{"$f":"'3.Zones_desservies'!DD16","v":0},{"$f":"'3.Zones_desservies'!DE16","v":0},{"$f":"'3.Zones_desservies'!DF16","v":0},{"$f":"'3.Zones_desservies'!DG16","v":0},{"$f":"'3.Zones_desservies'!DH16","v":0},{"$f":"'3.Zones_desservies'!DI16","v":0},{"$f":"'3.Zones_desservies'!DJ16","v":0},{"$f":"'3.Zones_desservies'!DK16","v":0},{"$f":"'3.Zones_desservies'!DL16","v":0},{"$f":"'3.Zones_desservies'!DM16","v":0},{"$f":"'3.Zones_desservies'!DN16","v":0},{"$f":"'3.Zones_desservies'!DO16","v":0},{"$f":"'3.Zones_desservies'!DP16","v":0},{"$f":"'3.Zones_desservies'!DQ16","v":0},{"$f":"'3.Zones_desservies'!DR16","v":0},{"$f":"'3.Zones_desservies'!DS16","v":0},{"$f":"'3.Zones_desservies'!DT16","v":0},{"$f":"'3.Zones_desservies'!DU16","v":0},{"$f":"'3.Zones_desservies'!DV16","v":0},{"$f":"'3.Zones_desservies'!DW16","v":0},{"$f":"'3.Zones_desservies'!DX16","v":0},{"$f":"'3.Zones_desservies'!DY16","v":0},{"$f":"'3.Zones_desservies'!DZ16","v":0},{"$f":"'3.Zones_desservies'!EA16","v":0},{"$f":"'3.Zones_desservies'!EB16","v":0},{"$f":"'3.Zones_desservies'!EC16","v":0},{"$f":"'3.Zones_desservies'!ED16","v":0},{"$f":"'3.Zones_desservies'!EE16","v":0},{"$f":"'3.Zones_desservies'!EF16","v":0},{"$f":"'3.Zones_desservies'!EG16","v":0},{"$f":"'3.Zones_desservies'!EH16","v":0},{"$f":"'3.Zones_desservies'!EI16","v":0},{"$f":"'3.Zones_desservies'!EJ16","v":0},{"$f":"'3.Zones_desservies'!EK16","v":0},{"$f":"'3.Zones_desservies'!EL16","v":0},{"$f":"'3.Zones_desservies'!EM16","v":0},{"$f":"'3.Zones_desservies'!EN16","v":0},{"$f":"'3.Zones_desservies'!EO16","v":0},{"$f":"'3.Zones_desservies'!EP16","v":0},{"$f":"'3.Zones_desservies'!EQ16","v":0},{"$f":"'3.Zones_desservies'!ER16","v":0},{"$f":"'3.Zones_desservies'!ES16","v":0},{"$f":"'3.Zones_desservies'!ET16","v":0},{"$f":"'3.Zones_desservies'!EU16","v":0},{"$f":"'3.Zones_desservies'!EV16","v":0},{"$f":"'3.Zones_desservies'!EW16","v":0},{"$f":"'3.Zones_desservies'!EX16","v":0},{"$f":"'3.Zones_desservies'!EY16","v":0},{"$f":"'3.Zones_desservies'!EZ16","v":0},{"$f":"'3.Zones_desservies'!FA16","v":0},{"$f":"'3.Zones_desservies'!FB16","v":0},{"$f":"'3.Zones_desservies'!FC16","v":0},{"$f":"'3.Zones_desservies'!FD16","v":0},{"$f":"'3.Zones_desservies'!FE16","v":0},{"$f":"'3.Zones_desservies'!FF16","v":0},{"$f":"'3.Zones_desservies'!FG16","v":0},{"$f":"'3.Zones_desservies'!FH16","v":0},{"$f":"'3.Zones_desservies'!FI16","v":0},{"$f":"'3.Zones_desservies'!FJ16","v":0},{"$f":"'3.Zones_desservies'!FK16","v":0},{"$f":"'3.Zones_desservies'!FL16","v":0},{"$f":"'3.Zones_desservies'!FM16","v":0},{"$f":"'3.Zones_desservies'!FN16","v":0},{"$f":"'3.Zones_desservies'!FO16","v":0},{"$f":"'3.Zones_desservies'!FP16","v":0},{"$f":"'3.Zones_desservies'!FQ16","v":0},{"$f":"'3.Zones_desservies'!FR16","v":0},{"$f":"'3.Zones_desservies'!FS16","v":0},{"$f":"'3.Zones_desservies'!FT16","v":0},{"$f":"'3.Zones_desservies'!FU16","v":0},{"$f":"'3.Zones_desservies'!FV16","v":0},{"$f":"'3.Zones_desservies'!FW16","v":0},{"$f":"'3.Zones_desservies'!FX16","v":0},{"$f":"'3.Zones_desservies'!FY16","v":0},{"$f":"'3.Zones_desservies'!FZ16","v":0},{"$f":"'3.Zones_desservies'!GA16","v":0},{"$f":"'3.Zones_desservies'!GB16","v":0},{"$f":"'3.Zones_desservies'!GC16","v":0},{"$f":"'3.Zones_desservies'!GD16","v":0},{"$f":"'3.Zones_desservies'!GE16","v":0},{"$f":"'3.Zones_desservies'!GF16","v":0},{"$f":"'3.Zones_desservies'!GG16","v":0},{"$f":"'3.Zones_desservies'!GH16","v":0},{"$f":"'3.Zones_desservies'!GI16","v":0},{"$f":"'3.Zones_desservies'!GJ16","v":0},{"$f":"'3.Zones_desservies'!GK16","v":0},{"$f":"'3.Zones_desservies'!GL16","v":0},{"$f":"'3.Zones_desservies'!GM16","v":0},{"$f":"'3.Zones_desservies'!GN16","v":0},{"$f":"'3.Zones_desservies'!GO16","v":0},{"$f":"'3.Zones_desservies'!GP16","v":0},{"$f":"'3.Zones_desservies'!GQ16","v":0},{"$f":"'3.Zones_desservies'!GR16","v":0},{"$f":"'3.Zones_desservies'!GS16","v":0},{"$f":"'3.Zones_desservies'!GT16","v":0},{"$f":"'3.Zones_desservies'!GU16","v":0},{"$f":"'3.Zones_desservies'!GV16","v":0},{"$f":"'3.Zones_desservies'!GW16","v":0},{"$f":"'3.Zones_desservies'!GX16","v":0},{"$f":"'3.Zones_desservies'!GY16","v":0},{"$f":"'3.Zones_desservies'!GZ16","v":0},{"$f":"'3.Zones_desservies'!HA16","v":0},{"$f":"'3.Zones_desservies'!HB16","v":0},{"$f":"'3.Zones_desservies'!HC16","v":0},{"$f":"'3.Zones_desservies'!HD16","v":0},{"$f":"'3.Zones_desservies'!HE16","v":0},{"$f":"'3.Zones_desservies'!HF16","v":0},{"$f":"'3.Zones_desservies'!HG16","v":0},{"$f":"'3.Zones_desservies'!HH16","v":0},{"$f":"'3.Zones_desservies'!HI16","v":0},{"$f":"'3.Zones_desservies'!HJ16","v":0},{"$f":"'3.Zones_desservies'!HK16","v":0},{"$f":"'3.Zones_desservies'!HL16","v":0},{"$f":"'3.Zones_desservies'!HM16","v":0},{"$f":"'3.Zones_desservies'!HN16","v":0},{"$f":"'3.Zones_desservies'!HO16","v":0},{"$f":"'3.Zones_desservies'!HP16","v":0},{"$f":"'3.Zones_desservies'!HQ16","v":0},{"$f":"'3.Zones_desservies'!HR16","v":0},{"$f":"'3.Zones_desservies'!HS16","v":0},{"$f":"'3.Zones_desservies'!HT16","v":0},{"$f":"'3.Zones_desservies'!HU16","v":0},{"$f":"'3.Zones_desservies'!HV16","v":0},{"$f":"'3.Zones_desservies'!HW16","v":0},{"$f":"'3.Zones_desservies'!HX16","v":0},{"$f":"'3.Zones_desservies'!HY16","v":0},{"$f":"'3.Zones_desservies'!HZ16","v":0},{"$f":"'3.Zones_desservies'!IA16","v":0},{"$f":"'3.Zones_desservies'!IB16","v":0},{"$f":"'3.Zones_desservies'!IC16","v":0},{"$f":"'3.Zones_desservies'!ID16","v":0},{"$f":"'3.Zones_desservies'!IE16","v":0},{"$f":"'3.Zones_desservies'!IF16","v":0},{"$f":"'3.Zones_desservies'!IG16","v":0},{"$f":"'3.Zones_desservies'!IH16","v":0},{"$f":"'3.Zones_desservies'!II16","v":0},{"$f":"'3.Zones_desservies'!IJ16","v":0},{"$f":"'3.Zones_desservies'!IK16","v":0},{"$f":"'3.Zones_desservies'!IL16","v":0},{"$f":"'3.Zones_desservies'!IM16","v":0},{"$f":"'3.Zones_desservies'!IN16","v":0},{"$f":"'3.Zones_desservies'!IO16","v":0},{"$f":"'3.Zones_desservies'!IP16","v":0},{"$f":"'3.Zones_desservies'!IQ16","v":0},{"$f":"'3.Zones_desservies'!IR16","v":0},{"$f":"'3.Zones_desservies'!IS16","v":0},{"$f":"'3.Zones_desservies'!IT16","v":0},{"$f":"'3.Zones_desservies'!IU16","v":0},{"$f":"'3.Zones_desservies'!IV16","v":0},{"$f":"'3.Zones_desservies'!IW16","v":0},{"$f":"'3.Zones_desservies'!IX16","v":0},{"$f":"'3.Zones_desservies'!IY16","v":0},{"$f":"'3.Zones_desservies'!IZ16","v":0},{"$f":"'3.Zones_desservies'!JA16","v":0},{"$f":"'3.Zones_desservies'!JB16","v":0},{"$f":"'3.Zones_desservies'!JC16","v":0},{"$f":"'3.Zones_desservies'!JD16","v":0},{"$f":"'3.Zones_desservies'!JE16","v":0},{"$f":"'3.Zones_desservies'!JF16","v":0},{"$f":"'3.Zones_desservies'!JG16","v":0},{"$f":"'3.Zones_desservies'!JH16","v":0},{"$f":"'3.Zones_desservies'!JI16","v":0},{"$f":"'3.Zones_desservies'!JJ16","v":0},{"$f":"'3.Zones_desservies'!JK16","v":0},{"$f":"'3.Zones_desservies'!JL16","v":0},{"$f":"'3.Zones_desservies'!JM16","v":0},{"$f":"'3.Zones_desservies'!JN16","v":0},{"$f":"'3.Zones_desservies'!JO16","v":0},{"$f":"'3.Zones_desservies'!JP16","v":0},{"$f":"'3.Zones_desservies'!JQ16","v":0},{"$f":"'3.Zones_desservies'!JR16","v":0},{"$f":"'3.Zones_desservies'!JS16","v":0},{"$f":"'3.Zones_desservies'!JT16","v":0},{"$f":"'3.Zones_desservies'!JU16","v":0},{"$f":"'3.Zones_desservies'!JV16","v":0},{"$f":"'3.Zones_desservies'!JW16","v":0},{"$f":"'3.Zones_desservies'!JX16","v":0},{"$f":"'3.Zones_desservies'!JY16","v":0},{"$f":"'3.Zones_desservies'!JZ16","v":0},{"$f":"'3.Zones_desservies'!KA16","v":0},{"$f":"'3.Zones_desservies'!KB16","v":0},{"$f":"'3.Zones_desservies'!KC16","v":0},{"$f":"'3.Zones_desservies'!KD16","v":0},{"$f":"'3.Zones_desservies'!KE16","v":0},{"$f":"'3.Zones_desservies'!KF16","v":0},{"$f":"'3.Zones_desservies'!KG16","v":0},{"$f":"'3.Zones_desservies'!KH16","v":0},{"$f":"'3.Zones_desservies'!KI16","v":0},{"$f":"'3.Zones_desservies'!KJ16","v":0},{"$f":"'3.Zones_desservies'!KK16","v":0},{"$f":"'3.Zones_desservies'!KL16","v":0},{"$f":"'3.Zones_desservies'!KM16","v":0},{"$f":"'3.Zones_desservies'!KN16","v":0},{"$f":"'3.Zones_desservies'!KO16","v":0},{"$f":"'3.Zones_desservies'!KP16","v":0},{"$f":"'3.Zones_desservies'!KQ16","v":0},{"$f":"'3.Zones_desservies'!KR16","v":0},{"$f":"'3.Zones_desservies'!KS16","v":0},{"$f":"'3.Zones_desservies'!KT16","v":0},{"$f":"'3.Zones_desservies'!KU16","v":0},{"$f":"'3.Zones_desservies'!KV16","v":0},{"$f":"'3.Zones_desservies'!KW16","v":0},{"$f":"'3.Zones_desservies'!KX16","v":0},{"$f":"'3.Zones_desservies'!KY16","v":0},{"$f":"'3.Zones_desservies'!KZ16","v":0},{"$f":"'3.Zones_desservies'!LA16","v":0},{"$f":"'3.Zones_desservies'!LB16","v":0},{"$f":"'3.Zones_desservies'!LC16","v":0},{"$f":"'3.Zones_desservies'!LD16","v":0},{"$f":"'3.Zones_desservies'!LE16","v":0},{"$f":"'3.Zones_desservies'!LF16","v":0},{"$f":"'3.Zones_desservies'!LG16","v":0},{"$f":"'3.Zones_desservies'!LH16","v":0},{"$f":"'3.Zones_desservies'!LI16","v":0},{"$f":"'3.Zones_desservies'!LJ16","v":0},{"$f":"'3.Zones_desservies'!LK16","v":0},{"$f":"'3.Zones_desservies'!LL16","v":0},{"$f":"'3.Zones_desservies'!LM16","v":0},{"$f":"'3.Zones_desservies'!LN16","v":0},{"$f":"'3.Zones_desservies'!LO16","v":0},{"$f":"'3.Zones_desservies'!LP16","v":0},{"$f":"'3.Zones_desservies'!LQ16","v":0},{"$f":"'3.Zones_desservies'!LR16","v":0},{"$f":"'3.Zones_desservies'!LS16","v":0},{"$f":"'3.Zones_desservies'!LT16","v":0},{"$f":"'3.Zones_desservies'!LU16","v":0},{"$f":"'3.Zones_desservies'!LV16","v":0},{"$f":"'3.Zones_desservies'!LW16","v":0},{"$f":"'3.Zones_desservies'!LX16","v":0},{"$f":"'3.Zones_desservies'!LY16","v":0},{"$f":"'3.Zones_desservies'!LZ16","v":0},{"$f":"'3.Zones_desservies'!MA16","v":0},{"$f":"'3.Zones_desservies'!MB16","v":0},{"$f":"'3.Zones_desservies'!MC16","v":0},{"$f":"'3.Zones_desservies'!MD16","v":0},{"$f":"'3.Zones_desservies'!ME16","v":0},{"$f":"'3.Zones_desservies'!MF16","v":0},{"$f":"'3.Zones_desservies'!MG16","v":0},{"$f":"'3.Zones_desservies'!MH16","v":0},{"$f":"'3.Zones_desservies'!MI16","v":0},{"$f":"'3.Zones_desservies'!MJ16","v":0},{"$f":"'3.Zones_desservies'!MK16","v":0},{"$f":"'3.Zones_desservies'!ML16","v":0},{"$f":"'3.Zones_desservies'!MM16","v":0},{"$f":"'3.Zones_desservies'!MN16","v":0},{"$f":"'3.Zones_desservies'!MO16","v":0},{"$f":"'3.Zones_desservies'!MP16","v":0},{"$f":"'3.Zones_desservies'!MQ16","v":0},{"$f":"'3.Zones_desservies'!MR16","v":0},{"$f":"'3.Zones_desservies'!MS16","v":0},{"$f":"'3.Zones_desservies'!MT16","v":0},{"$f":"'3.Zones_desservies'!MU16","v":0},{"$f":"'3.Zones_desservies'!MV16","v":0},{"$f":"'3.Zones_desservies'!MW16","v":0},{"$f":"'3.Zones_desservies'!MX16","v":0},{"$f":"'3.Zones_desservies'!MY16","v":0},{"$f":"'3.Zones_desservies'!MZ16","v":0},{"$f":"'3.Zones_desservies'!NA16","v":0},{"$f":"'3.Zones_desservies'!NB16","v":0},{"$f":"'3.Zones_desservies'!NC16","v":0},{"$f":"'3.Zones_desservies'!ND16","v":0},{"$f":"'3.Zones_desservies'!NE16","v":0},{"$f":"'3.Zones_desservies'!NF16","v":0},{"$f":"'3.Zones_desservies'!NG16","v":0},{"$f":"'3.Zones_desservies'!NH16","v":0},{"$f":"'3.Zones_desservies'!NI16","v":0},{"$f":"'3.Zones_desservies'!NJ16","v":0},{"$f":"'3.Zones_desservies'!NK16","v":0},{"$f":"'3.Zones_desservies'!NL16","v":0},{"$f":"'3.Zones_desservies'!NM16","v":0},{"$f":"'3.Zones_desservies'!NN16","v":0},{"$f":"'3.Zones_desservies'!NO16","v":0},{"$f":"'3.Zones_desservies'!NP16","v":0},{"$f":"'3.Zones_desservies'!NQ16","v":0},{"$f":"'3.Zones_desservies'!NR16","v":0},{"$f":"'3.Zones_desservies'!NS16","v":0},{"$f":"'3.Zones_desservies'!NT16","v":0},{"$f":"'3.Zones_desservies'!NU16","v":0},{"$f":"'3.Zones_desservies'!NV16","v":0},{"$f":"'3.Zones_desservies'!NW16","v":0},{"$f":"'3.Zones_desservies'!NX16","v":0},{"$f":"'3.Zones_desservies'!NY16","v":0},{"$f":"'3.Zones_desservies'!NZ16","v":0},{"$f":"'3.Zones_desservies'!OA16","v":0},{"$f":"'3.Zones_desservies'!OB16","v":0},{"$f":"'3.Zones_desservies'!OC16","v":0},{"$f":"'3.Zones_desservies'!OD16","v":0},{"$f":"'3.Zones_desservies'!OE16","v":0},{"$f":"'3.Zones_desservies'!OF16","v":0},{"$f":"'3.Zones_desservies'!OG16","v":0},{"$f":"'3.Zones_desservies'!OH16","v":0},{"$f":"'3.Zones_desservies'!OI16","v":0},{"$f":"'3.Zones_desservies'!OJ16","v":0},{"$f":"'3.Zones_desservies'!OK16","v":0},{"$f":"'3.Zones_desservies'!OL16","v":0},{"$f":"'3.Zones_desservies'!OM16","v":0},{"$f":"'3.Zones_desservies'!ON16","v":0},{"$f":"'3.Zones_desservies'!OO16","v":0},{"$f":"'3.Zones_desservies'!OP16","v":0},{"$f":"'3.Zones_desservies'!OQ16","v":0},{"$f":"'3.Zones_desservies'!OR16","v":0},{"$f":"'3.Zones_desservies'!OS16","v":0},{"$f":"'3.Zones_desservies'!OT16","v":0},{"$f":"'3.Zones_desservies'!OU16","v":0},{"$f":"'3.Zones_desservies'!OV16","v":0},{"$f":"'3.Zones_desservies'!OW16","v":0},{"$f":"'3.Zones_desservies'!OX16","v":0},{"$f":"'3.Zones_desservies'!OY16","v":0},{"$f":"'3.Zones_desservies'!OZ16","v":0},{"$f":"'3.Zones_desservies'!PA16","v":0},{"$f":"'3.Zones_desservies'!PB16","v":0},{"$f":"'3.Zones_desservies'!PC16","v":0},{"$f":"'3.Zones_desservies'!PD16","v":0},{"$f":"'3.Zones_desservies'!PE16","v":0},{"$f":"'3.Zones_desservies'!PF16","v":0},{"$f":"'3.Zones_desservies'!PG16","v":0},{"$f":"'3.Zones_desservies'!PH16","v":0},{"$f":"'3.Zones_desservies'!PI16","v":0},{"$f":"'3.Zones_desservies'!PJ16","v":0},{"$f":"'3.Zones_desservies'!PK16","v":0},{"$f":"'3.Zones_desservies'!PL16","v":0},{"$f":"'3.Zones_desservies'!PM16","v":0},{"$f":"'3.Zones_desservies'!PN16","v":0},{"$f":"'3.Zones_desservies'!PO16","v":0},{"$f":"'3.Zones_desservies'!PP16","v":0},{"$f":"'3.Zones_desservies'!PQ16","v":0},{"$f":"'3.Zones_desservies'!PR16","v":0},{"$f":"'3.Zones_desservies'!PS16","v":0},{"$f":"'3.Zones_desservies'!PT16","v":0},{"$f":"'3.Zones_desservies'!PU16","v":0},{"$f":"'3.Zones_desservies'!PV16","v":0},{"$f":"'3.Zones_desservies'!PW16","v":0},{"$f":"'3.Zones_desservies'!PX16","v":0},{"$f":"'3.Zones_desservies'!PY16","v":0},{"$f":"'3.Zones_desservies'!PZ16","v":0},{"$f":"'3.Zones_desservies'!QA16","v":0},{"$f":"'3.Zones_desservies'!QB16","v":0},{"$f":"'3.Zones_desservies'!QC16","v":0},{"$f":"'3.Zones_desservies'!QD16","v":0},{"$f":"'3.Zones_desservies'!QE16","v":0},{"$f":"'3.Zones_desservies'!QF16","v":0},{"$f":"'3.Zones_desservies'!QG16","v":0},{"$f":"'3.Zones_desservies'!QH16","v":0},{"$f":"'3.Zones_desservies'!QI16","v":0},{"$f":"'3.Zones_desservies'!QJ16","v":0},{"$f":"'3.Zones_desservies'!QK16","v":0},{"$f":"'3.Zones_desservies'!QL16","v":0},{"$f":"'3.Zones_desservies'!QM16","v":0},{"$f":"'3.Zones_desservies'!QN16","v":0},{"$f":"'3.Zones_desservies'!QO16","v":0},{"$f":"'3.Zones_desservies'!QP16","v":0},{"$f":"'3.Zones_desservies'!QQ16","v":0},{"$f":"'3.Zones_desservies'!QR16","v":0},{"$f":"'3.Zones_desservies'!QS16","v":0},{"$f":"'3.Zones_desservies'!QT16","v":0},{"$f":"'3.Zones_desservies'!QU16","v":0},{"$f":"'3.Zones_desservies'!QV16","v":0},{"$f":"'3.Zones_desservies'!QW16","v":0},{"$f":"'3.Zones_desservies'!QX16","v":0},{"$f":"'3.Zones_desservies'!QY16","v":0},{"$f":"'3.Zones_desservies'!QZ16","v":0},{"$f":"'3.Zones_desservies'!RA16","v":0},{"$f":"'3.Zones_desservies'!RB16","v":0},{"$f":"'3.Zones_desservies'!RC16","v":0},{"$f":"'3.Zones_desservies'!RD16","v":0},{"$f":"'3.Zones_desservies'!RE16","v":0},{"$f":"'3.Zones_desservies'!RF16","v":0},{"$f":"'3.Zones_desservies'!RG16","v":0},{"$f":"'3.Zones_desservies'!RH16","v":0},{"$f":"'3.Zones_desservies'!RI16","v":0},{"$f":"'3.Zones_desservies'!RJ16","v":0},{"$f":"'3.Zones_desservies'!RK16","v":0},{"$f":"'3.Zones_desservies'!RL16","v":0},{"$f":"'3.Zones_desservies'!RM16","v":0},{"$f":"'3.Zones_desservies'!RN16","v":0},{"$f":"'3.Zones_desservies'!RO16","v":0},{"$f":"'3.Zones_desservies'!RP16","v":0},{"$f":"'3.Zones_desservies'!RQ16","v":0},{"$f":"'3.Zones_desservies'!RR16","v":0},{"$f":"'3.Zones_desservies'!RS16","v":0},{"$f":"'3.Zones_desservies'!RT16","v":0},{"$f":"'3.Zones_desservies'!RU16","v":0},{"$f":"'3.Zones_desservies'!RV16","v":0},{"$f":"'3.Zones_desservies'!RW16","v":0},{"$f":"'3.Zones_desservies'!RX16","v":0},{"$f":"'3.Zones_desservies'!RY16","v":0},{"$f":"'3.Zones_desservies'!RZ16","v":0},{"$f":"'3.Zones_desservies'!SA16","v":0},{"$f":"'3.Zones_desservies'!SB16","v":0},{"$f":"'3.Zones_desservies'!SC16","v":0},{"$f":"'3.Zones_desservies'!SD16","v":0},{"$f":"'3.Zones_desservies'!SE16","v":0},{"$f":"'3.Zones_desservies'!SF16","v":0},{"$f":"'3.Zones_desservies'!SG16","v":0},{"$f":"'3.Zones_desservies'!SH16","v":0}]
[null,{"$f":"'3.Zones_desservies'!B17","v":3},{"$f":"'3.Zones_desservies'!C17","v":"Ville 3"},{"$f":"'3.Zones_desservies'!D17","v":"Ville 3"},{"$f":"'3.Zones_desservies'!E17","v":0},{"$f":"'3.Zones_desservies'!F17","v":0},{"$f":"'3.Zones_desservies'!G17","v":0},{"$f":"'3.Zones_desservies'!H17","v":0},{"$f":"'3.Zones_desservies'!I17","v":0},{"$f":"'3.Zones_desservies'!J17","v":0},{"$f":"'3.Zones_desservies'!K17","v":0},{"$f":"'3.Zones_desservies'!L17","v":0},{"$f":"'3.Zones_desservies'!M17","v":0},{"$f":"'3.Zones_desservies'!N17","v":0},{"$f":"'3.Zones_desservies'!O17","v":0},{"$f":"'3.Zones_desservies'!P17","v":0},{"$f":"'3.Zones_desservies'!Q17","v":0},{"$f":"'3.Zones_desservies'!R17","v":0},{"$f":"'3.Zones_desservies'!S17","v":0},{"$f":"'3.Zones_desservies'!T17","v":0},{"$f":"'3.Zones_desservies'!U17","v":0},{"$f":"'3.Zones_desservies'!V17","v":0},{"$f":"'3.Zones_desservies'!W17","v":0},{"$f":"'3.Zones_desservies'!X17","v":0},{"$f":"'3.Zones_desservies'!Y17","v":0},{"$f":"'3.Zones_desservies'!Z17","v":0},{"$f":"'3.Zones_desservies'!AA17","v":0},{"$f":"'3.Zones_desservies'!AB17","v":0},{"$f":"'3.Zones_desservies'!AC17","v":0},{"$f":"'3.Zones_desservies'!AD17","v":0},{"$f":"'3.Zones_desservies'!AE17","v":0},{"$f":"'3.Zones_desservies'!AF17","v":0},{"$f":"'3.Zones_desservies'!AG17","v":0},{"$f":"'3.Zones_desservies'!AH17","v":0},{"$f":"'3.Zones_desservies'!AI17","v":0},{"$f":"'3.Zones_desservies'!AJ17","v":0},{"$f":"'3.Zones_desservies'!AK17","v":0},{"$f":"'3.Zones_desservies'!AL17","v":0},{"$f":"'3.Zones_desservies'!AM17","v":0},{"$f":"'3.Zones_desservies'!AN17","v":0},{"$f":"'3.Zones_desservies'!AO17","v":0},{"$f":"'3.Zones_desservies'!AP17","v":0},{"$f":"'3.Zones_desservies'!AQ17","v":0},{"$f":"'3.Zones_desservies'!AR17","v":0},{"$f":"'3.Zones_desservies'!AS17","v":0},{"$f":"'3.Zones_desservies'!AT17","v":0},{"$f":"'3.Zones_desservies'!AU17","v":0},{"$f":"'3.Zones_desservies'!AV17","v":0},{"$f":"'3.Zones_desservies'!AW17","v":0},{"$f":"'3.Zones_desservies'!AX17","v":0},{"$f":"'3.Zones_desservies'!AY17","v":0},{"$f":"'3.Zones_desservies'!AZ17","v":0},{"$f":"'3.Zones_desservies'!BA17","v":0},{"$f":"'3.Zones_desservies'!BB17","v":0},{"$f":"'3.Zones_desservies'!BC17","v":0},{"$f":"'3.Zones_desservies'!BD17","v":0},{"$f":"'3.Zones_desservies'!BE17","v":0},{"$f":"'3.Zones_desservies'!BF17","v":0},{"$f":"'3.Zones_desservies'!BG17","v":0},{"$f":"'3.Zones_desservies'!BH17","v":0},{"$f":"'3.Zones_desservies'!BI17","v":0},{"$f":"'3.Zones_desservies'!BJ17","v":0},{"$f":"'3.Zones_desservies'!BK17","v":0},{"$f":"'3.Zones_desservies'!BL17","v":0},{"$f":"'3.Zones_desservies'!BM17","v":0},{"$f":"'3.Zones_desservies'!BN17","v":0},{"$f":"'3.Zones_desservies'!BO17","v":0},{"$f":"'3.Zones_desservies'!BP17","v":0},{"$f":"'3.Zones_desservies'!BQ17","v":0},{"$f":"'3.Zones_desservies'!BR17","v":0},{"$f":"'3.Zones_desservies'!BS17","v":0},{"$f":"'3.Zones_desservies'!BT17","v":0},{"$f":"'3.Zones_desservies'!BU17","v":0},{"$f":"'3.Zones_desservies'!BV17","v":0},{"$f":"'3.Zones_desservies'!BW17","v":0},{"$f":"'3.Zones_desservies'!BX17","v":0},{"$f":"'3.Zones_desservies'!BY17","v":0},{"$f":"'3.Zones_desservies'!BZ17","v":0},{"$f":"'3.Zones_desservies'!CA17","v":0},{"$f":"'3.Zones_desservies'!CB17","v":0},{"$f":"'3.Zones_desservies'!CC17","v":0},{"$f":"'3.Zones_desservies'!CD17","v":0},{"$f":"'3.Zones_desservies'!CE17","v":0},{"$f":"'3.Zones_desservies'!CF17","v":0},{"$f":"'3.Zones_desservies'!CG17","v":0},{"$f":"'3.Zones_desservies'!CH17","v":0},{"$f":"'3.Zones_desservies'!CI17","v":0},{"$f":"'3.Zones_desservies'!CJ17","v":0},{"$f":"'3.Zones_desservies'!CK17","v":0},{"$f":"'3.Zones_desservies'!CL17","v":0},{"$f":"'3.Zones_desservies'!CM17","v":0},{"$f":"'3.Zones_desservies'!CN17","v":0},{"$f":"'3.Zones_desservies'!CO17","v":0},{"$f":"'3.Zones_desservies'!CP17","v":0},{"$f":"'3.Zones_desservies'!CQ17","v":0},{"$f":"'3.Zones_desservies'!CR17","v":0},{"$f":"'3.Zones_desservies'!CS17","v":0},{"$f":"'3.Zones_desservies'!CT17","v":0},{"$f":"'3.Zones_desservies'!CU17","v":0},{"$f":"'3.Zones_desservies'!CV17","v":0},{"$f":"'3.Zones_desservies'!CW17","v":0},{"$f":"'3.Zones_desservies'!CX17","v":0},{"$f":"'3.Zones_desservies'!CY17","v":"_"},{"$f":"'3.Zones_desservies'!CZ17","v":0},{"$f":"'3.Zones_desservies'!DA17","v":0},{"$f":"'3.Zones_desservies'!DB17","v":0},{"$f":"'3.Zones_desservies'!DC17","v":0},{"$f":"'3.Zones_desservies'!DD17","v":0},{"$f":"'3.Zones_desservies'!DE17","v":0},{"$f":"'3.Zones_desservies'!DF17","v":0},{"$f":"'3.Zones_desservies'!DG17","v":0},{"$f":"'3.Zones_desservies'!DH17","v":0},{"$f":"'3.Zones_desservies'!DI17","v":0},{"$f":"'3.Zones_desservies'!DJ17","v":0},{"$f":"'3.Zones_desservies'!DK17","v":0},{"$f":"'3.Zones_desservies'!DL17","v":0},{"$f":"'3.Zones_desservies'!DM17","v":0},{"$f":"'3.Zones_desservies'!DN17","v":0},{"$f":"'3.Zones_desservies'!DO17","v":0},{"$f":"'3.Zones_desservies'!DP17","v":0},{"$f":"'3.Zones_desservies'!DQ17","v":0},{"$f":"'3.Zones_desservies'!DR17","v":0},{"$f":"'3.Zones_desservies'!DS17","v":0},{"$f":"'3.Zones_desservies'!DT17","v":0},{"$f":"'3.Zones_desservies'!DU17","v":0},{"$f":"'3.Zones_desservies'!DV17","v":0},{"$f":"'3.Zones_desservies'!DW17","v":0},{"$f":"'3.Zones_desservies'!DX17","v":0},{"$f":"'3.Zones_desservies'!DY17","v":0},{"$f":"'3.Zones_desservies'!DZ17","v":0},{"$f":"'3.Zones_desservies'!EA17","v":0},{"$f":"'3.Zones_desservies'!EB17","v":0},{"$f":"'3.Zones_desservies'!EC17","v":0},{"$f":"'3.Zones_desservies'!ED17","v":0},{"$f":"'3.Zones_desservies'!EE17","v":0},{"$f":"'3.Zones_desservies'!EF17","v":0},{"$f":"'3.Zones_desservies'!EG17","v":0},{"$f":"'3.Zones_desservies'!EH17","v":0},{"$f":"'3.Zones_desservies'!EI17","v":0},{"$f":"'3.Zones_desservies'!EJ17","v":0},{"$f":"'3.Zones_desservies'!EK17","v":0},{"$f":"'3.Zones_desservies'!EL17","v":0},{"$f":"'3.Zones_desservies'!EM17","v":0},{"$f":"'3.Zones_desservies'!EN17","v":0},{"$f":"'3.Zones_desservies'!EO17","v":0},{"$f":"'3.Zones_desservies'!EP17","v":0},{"$f":"'3.Zones_desservies'!EQ17","v":0},{"$f":"'3.Zones_desservies'!ER17","v":0},{"$f":"'3.Zones_desservies'!ES17","v":0},{"$f":"'3.Zones_desservies'!ET17","v":0},{"$f":"'3.Zones_desservies'!EU17","v":0},{"$f":"'3.Zones_desservies'!EV17","v":0},{"$f":"'3.Zones_desservies'!EW17","v":0},{"$f":"'3.Zones_desservies'!EX17","v":0},{"$f":"'3.Zones_desservies'!EY17","v":0},{"$f":"'3.Zones_desservies'!EZ17","v":0},{"$f":"'3.Zones_desservies'!FA17","v":0},{"$f":"'3.Zones_desservies'!FB17","v":0},{"$f":"'3.Zones_desservies'!FC17","v":0},{"$f":"'3.Zones_desservies'!FD17","v":0},{"$f":"'3.Zones_desservies'!FE17","v":0},{"$f":"'3.Zones_desservies'!FF17","v":0},{"$f":"'3.Zones_desservies'!FG17","v":0},{"$f":"'3.Zones_desservies'!FH17","v":0},{"$f":"'3.Zones_desservies'!FI17","v":0},{"$f":"'3.Zones_desservies'!FJ17","v":0},{"$f":"'3.Zones_desservies'!FK17","v":0},{"$f":"'3.Zones_desservies'!FL17","v":0},{"$f":"'3.Zones_desservies'!FM17","v":0},{"$f":"'3.Zones_desservies'!FN17","v":0},{"$f":"'3.Zones_desservies'!FO17","v":0},{"$f":"'3.Zones_desservies'!FP17","v":0},{"$f":"'3.Zones_desservies'!FQ17","v":0},{"$f":"'3.Zones_desservies'!FR17","v":0},{"$f":"'3.Zones_desservies'!FS17","v":0},{"$f":"'3.Zones_desservies'!FT17","v":0},{"$f":"'3.Zones_desservies'!FU17","v":0},{"$f":"'3.Zones_desservies'!FV17","v":0},{"$f":"'3.Zones_desservies'!FW17","v":0},{"$f":"'3.Zones_desservies'!FX17","v":0},{"$f":"'3.Zones_desservies'!FY17","v":0},{"$f":"'3.Zones_desservies'!FZ17","v":0},{"$f":"'3.Zones_desservies'!GA17","v":0},{"$f":"'3.Zones_desservies'!GB17","v":0},{"$f":"'3.Zones_desservies'!GC17","v":0},{"$f":"'3.Zones_desservies'!GD17","v":0},{"$f":"'3.Zones_desservies'!GE17","v":0},{"$f":"'3.Zones_desservies'!GF17","v":0},{"$f":"'3.Zones_desservies'!GG17","v":0},{"$f":"'3.Zones_desservies'!GH17","v":0},{"$f":"'3.Zones_desservies'!GI17","v":0},{"$f":"'3.Zones_desservies'!GJ17","v":0},{"$f":"'3.Zones_desservies'!GK17","v":0},{"$f":"'3.Zones_desservies'!GL17","v":0},{"$f":"'3.Zones_desservies'!GM17","v":0},{"$f":"'3.Zones_desservies'!GN17","v":0},{"$f":"'3.Zones_desservies'!GO17","v":0},{"$f":"'3.Zones_desservies'!GP17","v":0},{"$f":"'3.Zones_desservies'!GQ17","v":0},{"$f":"'3.Zones_desservies'!GR17","v":0},{"$f":"'3.Zones_desservies'!GS17","v":0},{"$f":"'3.Zones_desservies'!GT17","v":0},{"$f":"'3.Zones_desservies'!GU17","v":0},{"$f":"'3.Zones_desservies'!GV17","v":0},{"$f":"'3.Zones_desservies'!GW17","v":0},{"$f":"'3.Zones_desservies'!GX17","v":0},{"$f":"'3.Zones_desservies'!GY17","v":0},{"$f":"'3.Zones_desservies'!GZ17","v":0},{"$f":"'3.Zones_desservies'!HA17","v":0},{"$f":"'3.Zones_desservies'!HB17","v":0},{"$f":"'3.Zones_desservies'!HC17","v":0},{"$f":"'3.Zones_desservies'!HD17","v":0},{"$f":"'3.Zones_desservies'!HE17","v":0},{"$f":"'3.Zones_desservies'!HF17","v":0},{"$f":"'3.Zones_desservies'!HG17","v":0},{"$f":"'3.Zones_desservies'!HH17","v":0},{"$f":"'3.Zones_desservies'!HI17","v":0},{"$f":"'3.Zones_desservies'!HJ17","v":0},{"$f":"'3.Zones_desservies'!HK17","v":0},{"$f":"'3.Zones_desservies'!HL17","v":0},{"$f":"'3.Zones_desservies'!HM17","v":0},{"$f":"'3.Zones_desservies'!HN17","v":0},{"$f":"'3.Zones_desservies'!HO17","v":0},{"$f":"'3.Zones_desservies'!HP17","v":0},{"$f":"'3.Zones_desservies'!HQ17","v":0},{"$f":"'3.Zones_desservies'!HR17","v":0},{"$f":"'3.Zones_desservies'!HS17","v":0},{"$f":"'3.Zones_desservies'!HT17","v":0},{"$f":"'3.Zones_desservies'!HU17","v":0},{"$f":"'3.Zones_desservies'!HV17","v":0},{"$f":"'3.Zones_desservies'!HW17","v":0},{"$f":"'3.Zones_desservies'!HX17","v":0},{"$f":"'3.Zones_desservies'!HY17","v":0},{"$f":"'3.Zones_desservies'!HZ17","v":0},{"$f":"'3.Zones_desservies'!IA17","v":0},{"$f":"'3.Zones_desservies'!IB17","v":0},{"$f":"'3.Zones_desservies'!IC17","v":0},{"$f":"'3.Zones_desservies'!ID17","v":0},{"$f":"'3.Zones_desservies'!IE17","v":0},{"$f":"'3.Zones_desservies'!IF17","v":0},{"$f":"'3.Zones_desservies'!IG17","v":0},{"$f":"'3.Zones_desservies'!IH17","v":0},{"$f":"'3.Zones_desservies'!II17","v":0},{"$f":"'3.Zones_desservies'!IJ17","v":0},{"$f":"'3.Zones_desservies'!IK17","v":0},{"$f":"'3.Zones_desservies'!IL17","v":0},{"$f":"'3.Zones_desservies'!IM17","v":0},{"$f":"'3.Zones_desservies'!IN17","v":0},{"$f":"'3.Zones_desservies'!IO17","v":0},{"$f":"'3.Zones_desservies'!IP17","v":0},{"$f":"'3.Zones_desservies'!IQ17","v":0},{"$f":"'3.Zones_desservies'!IR17","v":0},{"$f":"'3.Zones_desservies'!IS17","v":0},{"$f":"'3.Zones_desservies'!IT17","v":0},{"$f":"'3.Zones_desservies'!IU17","v":0},{"$f":"'3.Zones_desservies'!IV17","v":0},{"$f":"'3.Zones_desservies'!IW17","v":0},{"$f":"'3.Zones_desservies'!IX17","v":0},{"$f":"'3.Zones_desservies'!IY17","v":0},{"$f":"'3.Zones_desservies'!IZ17","v":0},{"$f":"'3.Zones_desservies'!JA17","v":0},{"$f":"'3.Zones_desservies'!JB17","v":0},{"$f":"'3.Zones_desservies'!JC17","v":0},{"$f":"'3.Zones_desservies'!JD17","v":0},{"$f":"'3.Zones_desservies'!JE17","v":0},{"$f":"'3.Zones_desservies'!JF17","v":0},{"$f":"'3.Zones_desservies'!JG17","v":0},{"$f":"'3.Zones_desservies'!JH17","v":0},{"$f":"'3.Zones_desservies'!JI17","v":0},{"$f":"'3.Zones_desservies'!JJ17","v":0},{"$f":"'3.Zones_desservies'!JK17","v":0},{"$f":"'3.Zones_desservies'!JL17","v":0},{"$f":"'3.Zones_desservies'!JM17","v":0},{"$f":"'3.Zones_desservies'!JN17","v":0},{"$f":"'3.Zones_desservies'!JO17","v":0},{"$f":"'3.Zones_desservies'!JP17","v":0},{"$f":"'3.Zones_desservies'!JQ17","v":0},{"$f":"'3.Zones_desservies'!JR17","v":0},{"$f":"'3.Zones_desservies'!JS17","v":0},{"$f":"'3.Zones_desservies'!JT17","v":0},{"$f":"'3.Zones_desservies'!JU17","v":0},{"$f":"'3.Zones_desservies'!JV17","v":0},{"$f":"'3.Zones_desservies'!JW17","v":0},{"$f":"'3.Zones_desservies'!JX17","v":0},{"$f":"'3.Zones_desservies'!JY17","v":0},{"$f":"'3.Zones_desservies'!JZ17","v":0},{"$f":"'3.Zones_desservies'!KA17","v":0},{"$f":"'3.Zones_desservies'!KB17","v":0},{"$f":"'3.Zones_desservies'!KC17","v":0},{"$f":"'3.Zones_desservies'!KD17","v":0},{"$f":"'3.Zones_desservies'!KE17","v":0},{"$f":"'3.Zones_desservies'!KF17","v":0},{"$f":"'3.Zones_desservies'!KG17","v":0},{"$f":"'3.Zones_desservies'!KH17","v":0},{"$f":"'3.Zones_desservies'!KI17","v":0},{"$f":"'3.Zones_desservies'!KJ17","v":0},{"$f":"'3.Zones_desservies'!KK17","v":0},{"$f":"'3.Zones_desservies'!KL17","v":0},{"$f":"'3.Zones_desservies'!KM17","v":0},{"$f":"'3.Zones_desservies'!KN17","v":0},{"$f":"'3.Zones_desservies'!KO17","v":0},{"$f":"'3.Zones_desservies'!KP17","v":0},{"$f":"'3.Zones_desservies'!KQ17","v":0},{"$f":"'3.Zones_desservies'!KR17","v":0},{"$f":"'3.Zones_desservies'!KS17","v":0},{"$f":"'3.Zones_desservies'!KT17","v":0},{"$f":"'3.Zones_desservies'!KU17","v":0},{"$f":"'3.Zones_desservies'!KV17","v":0},{"$f":"'3.Zones_desservies'!KW17","v":0},{"$f":"'3.Zones_desservies'!KX17","v":0},{"$f":"'3.Zones_desservies'!KY17","v":0},{"$f":"'3.Zones_desservies'!KZ17","v":0},{"$f":"'3.Zones_desservies'!LA17","v":0},{"$f":"'3.Zones_desservies'!LB17","v":0},{"$f":"'3.Zones_desservies'!LC17","v":0},{"$f":"'3.Zones_desservies'!LD17","v":0},{"$f":"'3.Zones_desservies'!LE17","v":0},{"$f":"'3.Zones_desservies'!LF17","v":0},{"$f":"'3.Zones_desservies'!LG17","v":0},{"$f":"'3.Zones_desservies'!LH17","v":0},{"$f":"'3.Zones_desservies'!LI17","v":0},{"$f":"'3.Zones_desservies'!LJ17","v":0},{"$f":"'3.Zones_desservies'!LK17","v":0},{"$f":"'3.Zones_desservies'!LL17","v":0},{"$f":"'3.Zones_desservies'!LM17","v":0},{"$f":"'3.Zones_desservies'!LN17","v":0},{"$f":"'3.Zones_desservies'!LO17","v":0},{"$f":"'3.Zones_desservies'!LP17","v":0},{"$f":"'3.Zones_desservies'!LQ17","v":0},{"$f":"'3.Zones_desservies'!LR17","v":0},{"$f":"'3.Zones_desservies'!LS17","v":0},{"$f":"'3.Zones_desservies'!LT17","v":0},{"$f":"'3.Zones_desservies'!LU17","v":0},{"$f":"'3.Zones_desservies'!LV17","v":0},{"$f":"'3.Zones_desservies'!LW17","v":0},{"$f":"'3.Zones_desservies'!LX17","v":0},{"$f":"'3.Zones_desservies'!LY17","v":0},{"$f":"'3.Zones_desservies'!LZ17","v":0},{"$f":"'3.Zones_desservies'!MA17","v":0},{"$f":"'3.Zones_desservies'!MB17","v":0},{"$f":"'3.Zones_desservies'!MC17","v":0},{"$f":"'3.Zones_desservies'!MD17","v":0},{"$f":"'3.Zones_desservies'!ME17","v":0},{"$f":"'3.Zones_desservies'!MF17","v":0},{"$f":"'3.Zones_desservies'!MG17","v":0},{"$f":"'3.Zones_desservies'!MH17","v":0},{"$f":"'3.Zones_desservies'!MI17","v":0},{"$f":"'3.Zones_desservies'!MJ17","v":0},{"$f":"'3.Zones_desservies'!MK17","v":0},{"$f":"'3.Zones_desservies'!ML17","v":0},{"$f":"'3.Zones_desservies'!MM17","v":0},{"$f":"'3.Zones_desservies'!MN17","v":0},{"$f":"'3.Zones_desservies'!MO17","v":0},{"$f":"'3.Zones_desservies'!MP17","v":0},{"$f":"'3.Zones_desservies'!MQ17","v":0},{"$f":"'3.Zones_desservies'!MR17","v":0},{"$f":"'3.Zones_desservies'!MS17","v":0},{"$f":"'3.Zones_desservies'!MT17","v":0},{"$f":"'3.Zones_desservies'!MU17","v":0},{"$f":"'3.Zones_desservies'!MV17","v":0},{"$f":"'3.Zones_desservies'!MW17","v":0},{"$f":"'3.Zones_desservies'!MX17","v":0},{"$f":"'3.Zones_desservies'!MY17","v":0},{"$f":"'3.Zones_desservies'!MZ17","v":0},{"$f":"'3.Zones_desservies'!NA17","v":0},{"$f":"'3.Zones_desservies'!NB17","v":0},{"$f":"'3.Zones_desservies'!NC17","v":0},{"$f":"'3.Zones_desservies'!ND17","v":0},{"$f":"'3.Zones_desservies'!NE17","v":0},{"$f":"'3.Zones_desservies'!NF17","v":0},{"$f":"'3.Zones_desservies'!NG17","v":0},{"$f":"'3.Zones_desservies'!NH17","v":0},{"$f":"'3.Zones_desservies'!NI17","v":0},{"$f":"'3.Zones_desservies'!NJ17","v":0},{"$f":"'3.Zones_desservies'!NK17","v":0},{"$f":"'3.Zones_desservies'!NL17","v":0},{"$f":"'3.Zones_desservies'!NM17","v":0},{"$f":"'3.Zones_desservies'!NN17","v":0},{"$f":"'3.Zones_desservies'!NO17","v":0},{"$f":"'3.Zones_desservies'!NP17","v":0},{"$f":"'3.Zones_desservies'!NQ17","v":0},{"$f":"'3.Zones_desservies'!NR17","v":0},{"$f":"'3.Zones_desservies'!NS17","v":0},{"$f":"'3.Zones_desservies'!NT17","v":0},{"$f":"'3.Zones_desservies'!NU17","v":0},{"$f":"'3.Zones_desservies'!NV17","v":0},{"$f":"'3.Zones_desservies'!NW17","v":0},{"$f":"'3.Zones_desservies'!NX17","v":0},{"$f":"'3.Zones_desservies'!NY17","v":0},{"$f":"'3.Zones_desservies'!NZ17","v":0},{"$f":"'3.Zones_desservies'!OA17","v":0},{"$f":"'3.Zones_desservies'!OB17","v":0},{"$f":"'3.Zones_desservies'!OC17","v":0},{"$f":"'3.Zones_desservies'!OD17","v":0},{"$f":"'3.Zones_desservies'!OE17","v":0},{"$f":"'3.Zones_desservies'!OF17","v":0},{"$f":"'3.Zones_desservies'!OG17","v":0},{"$f":"'3.Zones_desservies'!OH17","v":0},{"$f":"'3.Zones_desservies'!OI17","v":0},{"$f":"'3.Zones_desservies'!OJ17","v":0},{"$f":"'3.Zones_desservies'!OK17","v":0},{"$f":"'3.Zones_desservies'!OL17","v":0},{"$f":"'3.Zones_desservies'!OM17","v":0},{"$f":"'3.Zones_desservies'!ON17","v":0},{"$f":"'3.Zones_desservies'!OO17","v":0},{"$f":"'3.Zones_desservies'!OP17","v":0},{"$f":"'3.Zones_desservies'!OQ17","v":0},{"$f":"'3.Zones_desservies'!OR17","v":0},{"$f":"'3.Zones_desservies'!OS17","v":0},{"$f":"'3.Zones_desservies'!OT17","v":0},{"$f":"'3.Zones_desservies'!OU17","v":0},{"$f":"'3.Zones_desservies'!OV17","v":0},{"$f":"'3.Zones_desservies'!OW17","v":0},{"$f":"'3.Zones_desservies'!OX17","v":0},{"$f":"'3.Zones_desservies'!OY17","v":0},{"$f":"'3.Zones_desservies'!OZ17","v":0},{"$f":"'3.Zones_desservies'!PA17","v":0},{"$f":"'3.Zones_desservies'!PB17","v":0},{"$f":"'3.Zones_desservies'!PC17","v":0},{"$f":"'3.Zones_desservies'!PD17","v":0},{"$f":"'3.Zones_desservies'!PE17","v":0},{"$f":"'3.Zones_desservies'!PF17","v":0},{"$f":"'3.Zones_desservies'!PG17","v":0},{"$f":"'3.Zones_desservies'!PH17","v":0},{"$f":"'3.Zones_desservies'!PI17","v":0},{"$f":"'3.Zones_desservies'!PJ17","v":0},{"$f":"'3.Zones_desservies'!PK17","v":0},{"$f":"'3.Zones_desservies'!PL17","v":0},{"$f":"'3.Zones_desservies'!PM17","v":0},{"$f":"'3.Zones_desservies'!PN17","v":0},{"$f":"'3.Zones_desservies'!PO17","v":0},{"$f":"'3.Zones_desservies'!PP17","v":0},{"$f":"'3.Zones_desservies'!PQ17","v":0},{"$f":"'3.Zones_desservies'!PR17","v":0},{"$f":"'3.Zones_desservies'!PS17","v":0},{"$f":"'3.Zones_desservies'!PT17","v":0},{"$f":"'3.Zones_desservies'!PU17","v":0},{"$f":"'3.Zones_desservies'!PV17","v":0},{"$f":"'3.Zones_desservies'!PW17","v":0},{"$f":"'3.Zones_desservies'!PX17","v":0},{"$f":"'3.Zones_desservies'!PY17","v":0},{"$f":"'3.Zones_desservies'!PZ17","v":0},{"$f":"'3.Zones_desservies'!QA17","v":0},{"$f":"'3.Zones_desservies'!QB17","v":0},{"$f":"'3.Zones_desservies'!QC17","v":0},{"$f":"'3.Zones_desservies'!QD17","v":0},{"$f":"'3.Zones_desservies'!QE17","v":0},{"$f":"'3.Zones_desservies'!QF17","v":0},{"$f":"'3.Zones_desservies'!QG17","v":0},{"$f":"'3.Zones_desservies'!QH17","v":0},{"$f":"'3.Zones_desservies'!QI17","v":0},{"$f":"'3.Zones_desservies'!QJ17","v":0},{"$f":"'3.Zones_desservies'!QK17","v":0},{"$f":"'3.Zones_desservies'!QL17","v":0},{"$f":"'3.Zones_desservies'!QM17","v":0},{"$f":"'3.Zones_desservies'!QN17","v":0},{"$f":"'3.Zones_desservies'!QO17","v":0},{"$f":"'3.Zones_desservies'!QP17","v":0},{"$f":"'3.Zones_desservies'!QQ17","v":0},{"$f":"'3.Zones_desservies'!QR17","v":0},{"$f":"'3.Zones_desservies'!QS17","v":0},{"$f":"'3.Zones_desservies'!QT17","v":0},{"$f":"'3.Zones_desservies'!QU17","v":0},{"$f":"'3.Zones_desservies'!QV17","v":0},{"$f":"'3.Zones_desservies'!QW17","v":0},{"$f":"'3.Zones_desservies'!QX17","v":0},{"$f":"'3.Zones_desservies'!QY17","v":0},{"$f":"'3.Zones_desservies'!QZ17","v":0},{"$f":"'3.Zones_desservies'!RA17","v":0},{"$f":"'3.Zones_desservies'!RB17","v":0},{"$f":"'3.Zones_desservies'!RC17","v":0},{"$f":"'3.Zones_desservies'!RD17","v":0},{"$f":"'3.Zones_desservies'!RE17","v":0},{"$f":"'3.Zones_desservies'!RF17","v":0},{"$f":"'3.Zones_desservies'!RG17","v":0},{"$f":"'3.Zones_desservies'!RH17","v":0},{"$f":"'3.Zones_desservies'!RI17","v":0},{"$f":"'3.Zones_desservies'!RJ17","v":0},{"$f":"'3.Zones_desservies'!RK17","v":0},{"$f":"'3.Zones_desservies'!RL17","v":0},{"$f":"'3.Zones_desservies'!RM17","v":0},{"$f":"'3.Zones_desservies'!RN17","v":0},{"$f":"'3.Zones_desservies'!RO17","v":0},{"$f":"'3.Zones_desservies'!RP17","v":0},{"$f":"'3.Zones_desservies'!RQ17","v":0},{"$f":"'3.Zones_desservies'!RR17","v":0},{"$f":"'3.Zones_desservies'!RS17","v":0},{"$f":"'3.Zones_desservies'!RT17","v":0},{"$f":"'3.Zones_desservies'!RU17","v":0},{"$f":"'3.Zones_desservies'!RV17","v":0},{"$f":"'3.Zones_desservies'!RW17","v":0},{"$f":"'3.Zones_desservies'!RX17","v":0},{"$f":"'3.Zones_desservies'!RY17","v":0},{"$f":"'3.Zones_desservies'!RZ17","v":0},{"$f":"'3.Zones_desservies'!SA17","v":0},{"$f":"'3.Zones_desservies'!SB17","v":0},{"$f":"'3.Zones_desservies'!SC17","v":0},{"$f":"'3.Zones_desservies'!SD17","v":0},{"$f":"'3.Zones_desservies'!SE17","v":0},{"$f":"'3.Zones_desservies'!SF17","v":0},{"$f":"'3.Zones_desservies'!SG17","v":0},{"$f":"'3.Zones_desservies'!SH17","v":0}]
[null,{"$f":"'3.Zones_desservies'!B18","v":4},{"$f":"'3.Zones_desservies'!C18","v":"Ville 4"},{"$f":"'3.Zones_desservies'!D18","v":"Ville 4"},{"$f":"'3.Zones_desservies'!E18","v":0},{"$f":"'3.Zones_desservies'!F18","v":0},{"$f":"'3.Zones_desservies'!G18","v":0},{"$f":"'3.Zones_desservies'!H18","v":0},{"$f":"'3.Zones_desservies'!I18","v":0},{"$f":"'3.Zones_desservies'!J18","v":0},{"$f":"'3.Zones_desservies'!K18","v":0},{"$f":"'3.Zones_desservies'!L18","v":0},{"$f":"'3.Zones_desservies'!M18","v":0},{"$f":"'3.Zones_desservies'!N18","v":0},{"$f":"'3.Zones_desservies'!O18","v":0},{"$f":"'3.Zones_desservies'!P18","v":0},{"$f":"'3.Zones_desservies'!Q18","v":0},{"$f":"'3.Zones_desservies'!R18","v":0},{"$f":"'3.Zones_desservies'!S18","v":0},{"$f":"'3.Zones_desservies'!T18","v":0},{"$f":"'3.Zones_desservies'!U18","v":0},{"$f":"'3.Zones_desservies'!V18","v":0},{"$f":"'3.Zones_desservies'!W18","v":0},{"$f":"'3.Zones_desservies'!X18","v":0},{"$f":"'3.Zones_desservies'!Y18","v":0},{"$f":"'3.Zones_desservies'!Z18","v":0},{"$f":"'3.Zones_desservies'!AA18","v":0},{"$f":"'3.Zones_desservies'!AB18","v":0},{"$f":"'3.Zones_desservies'!AC18","v":0},{"$f":"'3.Zones_desservies'!AD18","v":0},{"$f":"'3.Zones_desservies'!AE18","v":0},{"$f":"'3.Zones_desservies'!AF18","v":0},{"$f":"'3.Zones_desservies'!AG18","v":0},{"$f":"'3.Zones_desservies'!AH18","v":0},{"$f":"'3.Zones_desservies'!AI18","v":0},{"$f":"'3.Zones_desservies'!AJ18","v":0},{"$f":"'3.Zones_desservies'!AK18","v":0},{"$f":"'3.Zones_desservies'!AL18","v":0},{"$f":"'3.Zones_desservies'!AM18","v":0},{"$f":"'3.Zones_desservies'!AN18","v":0},{"$f":"'3.Zones_desservies'!AO18","v":0},{"$f":"'3.Zones_desservies'!AP18","v":0},{"$f":"'3.Zones_desservies'!AQ18","v":0},{"$f":"'3.Zones_desservies'!AR18","v":0},{"$f":"'3.Zones_desservies'!AS18","v":0},{"$f":"'3.Zones_desservies'!AT18","v":0},{"$f":"'3.Zones_desservies'!AU18","v":0},{"$f":"'3.Zones_desservies'!AV18","v":0},{"$f":"'3.Zones_desservies'!AW18","v":0},{"$f":"'3.Zones_desservies'!AX18","v":0},{"$f":"'3.Zones_desservies'!AY18","v":0},{"$f":"'3.Zones_desservies'!AZ18","v":0},{"$f":"'3.Zones_desservies'!BA18","v":0},{"$f":"'3.Zones_desservies'!BB18","v":0},{"$f":"'3.Zones_desservies'!BC18","v":0},{"$f":"'3.Zones_desservies'!BD18","v":0},{"$f":"'3.Zones_desservies'!BE18","v":0},{"$f":"'3.Zones_desservies'!BF18","v":0},{"$f":"'3.Zones_desservies'!BG18","v":0},{"$f":"'3.Zones_desservies'!BH18","v":0},{"$f":"'3.Zones_desservies'!BI18","v":0},{"$f":"'3.Zones_desservies'!BJ18","v":0},{"$f":"'3.Zones_desservies'!BK18","v":0},{"$f":"'3.Zones_desservies'!BL18","v":0},{"$f":"'3.Zones_desservies'!BM18","v":0},{"$f":"'3.Zones_desservies'!BN18","v":0},{"$f":"'3.Zones_desservies'!BO18","v":0},{"$f":"'3.Zones_desservies'!BP18","v":0},{"$f":"'3.Zones_desservies'!BQ18","v":0},{"$f":"'3.Zones_desservies'!BR18","v":0},{"$f":"'3.Zones_desservies'!BS18","v":0},{"$f":"'3.Zones_desservies'!BT18","v":0},{"$f":"'3.Zones_desservies'!BU18","v":0},{"$f":"'3.Zones_desservies'!BV18","v":0},{"$f":"'3.Zones_desservies'!BW18","v":0},{"$f":"'3.Zones_desservies'!BX18","v":0},{"$f":"'3.Zones_desservies'!BY18","v":0},{"$f":"'3.Zones_desservies'!BZ18","v":0},{"$f":"'3.Zones_desservies'!CA18","v":0},{"$f":"'3.Zones_desservies'!CB18","v":0},{"$f":"'3.Zones_desservies'!CC18","v":0},{"$f":"'3.Zones_desservies'!CD18","v":0},{"$f":"'3.Zones_desservies'!CE18","v":0},{"$f":"'3.Zones_desservies'!CF18","v":0},{"$f":"'3.Zones_desservies'!CG18","v":0},{"$f":"'3.Zones_desservies'!CH18","v":0},{"$f":"'3.Zones_desservies'!CI18","v":0},{"$f":"'3.Zones_desservies'!CJ18","v":0},{"$f":"'3.Zones_desservies'!CK18","v":0},{"$f":"'3.Zones_desservies'!CL18","v":0},{"$f":"'3.Zones_desservies'!CM18","v":0},{"$f":"'3.Zones_desservies'!CN18","v":0},{"$f":"'3.Zones_desservies'!CO18","v":0},{"$f":"'3.Zones_desservies'!CP18","v":0},{"$f":"'3.Zones_desservies'!CQ18","v":0},{"$f":"'3.Zones_desservies'!CR18","v":0},{"$f":"'3.Zones_desservies'!CS18","v":0},{"$f":"'3.Zones_desservies'!CT18","v":0},{"$f":"'3.Zones_desservies'!CU18","v":0},{"$f":"'3.Zones_desservies'!CV18","v":0},{"$f":"'3.Zones_desservies'!CW18","v":0},{"$f":"'3.Zones_desservies'!CX18","v":0},{"$f":"'3.Zones_desservies'!CY18","v":"_"},{"$f":"'3.Zones_desservies'!CZ18","v":0},{"$f":"'3.Zones_desservies'!DA18","v":0},{"$f":"'3.Zones_desservies'!DB18","v":0},{"$f":"'3.Zones_desservies'!DC18","v":0},{"$f":"'3.Zones_desservies'!DD18","v":0},{"$f":"'3.Zones_desservies'!DE18","v":0},{"$f":"'3.Zones_desservies'!DF18","v":0},{"$f":"'3.Zones_desservies'!DG18","v":0},{"$f":"'3.Zones_desservies'!DH18","v":0},{"$f":"'3.Zones_desservies'!DI18","v":0},{"$f":"'3.Zones_desservies'!DJ18","v":0},{"$f":"'3.Zones_desservies'!DK18","v":0},{"$f":"'3.Zones_desservies'!DL18","v":0},{"$f":"'3.Zones_desservies'!DM18","v":0},{"$f":"'3.Zones_desservies'!DN18","v":0},{"$f":"'3.Zones_desservies'!DO18","v":0},{"$f":"'3.Zones_desservies'!DP18","v":0},{"$f":"'3.Zones_desservies'!DQ18","v":0},{"$f":"'3.Zones_desservies'!DR18","v":0},{"$f":"'3.Zones_desservies'!DS18","v":0},{"$f":"'3.Zones_desservies'!DT18","v":0},{"$f":"'3.Zones_desservies'!DU18","v":0},{"$f":"'3.Zones_desservies'!DV18","v":0},{"$f":"'3.Zones_desservies'!DW18","v":0},{"$f":"'3.Zones_desservies'!DX18","v":0},{"$f":"'3.Zones_desservies'!DY18","v":0},{"$f":"'3.Zones_desservies'!DZ18","v":0},{"$f":"'3.Zones_desservies'!EA18","v":0},{"$f":"'3.Zones_desservies'!EB18","v":0},{"$f":"'3.Zones_desservies'!EC18","v":0},{"$f":"'3.Zones_desservies'!ED18","v":0},{"$f":"'3.Zones_desservies'!EE18","v":0},{"$f":"'3.Zones_desservies'!EF18","v":0},{"$f":"'3.Zones_desservies'!EG18","v":0},{"$f":"'3.Zones_desservies'!EH18","v":0},{"$f":"'3.Zones_desservies'!EI18","v":0},{"$f":"'3.Zones_desservies'!EJ18","v":0},{"$f":"'3.Zones_desservies'!EK18","v":0},{"$f":"'3.Zones_desservies'!EL18","v":0},{"$f":"'3.Zones_desservies'!EM18","v":0},{"$f":"'3.Zones_desservies'!EN18","v":0},{"$f":"'3.Zones_desservies'!EO18","v":0},{"$f":"'3.Zones_desservies'!EP18","v":0},{"$f":"'3.Zones_desservies'!EQ18","v":0},{"$f":"'3.Zones_desservies'!ER18","v":0},{"$f":"'3.Zones_desservies'!ES18","v":0},{"$f":"'3.Zones_desservies'!ET18","v":0},{"$f":"'3.Zones_desservies'!EU18","v":0},{"$f":"'3.Zones_desservies'!EV18","v":0},{"$f":"'3.Zones_desservies'!EW18","v":0},{"$f":"'3.Zones_desservies'!EX18","v":0},{"$f":"'3.Zones_desservies'!EY18","v":0},{"$f":"'3.Zones_desservies'!EZ18","v":0},{"$f":"'3.Zones_desservies'!FA18","v":0},{"$f":"'3.Zones_desservies'!FB18","v":0},{"$f":"'3.Zones_desservies'!FC18","v":0},{"$f":"'3.Zones_desservies'!FD18","v":0},{"$f":"'3.Zones_desservies'!FE18","v":0},{"$f":"'3.Zones_desservies'!FF18","v":0},{"$f":"'3.Zones_desservies'!FG18","v":0},{"$f":"'3.Zones_desservies'!FH18","v":0},{"$f":"'3.Zones_desservies'!FI18","v":0},{"$f":"'3.Zones_desservies'!FJ18","v":0},{"$f":"'3.Zones_desservies'!FK18","v":0},{"$f":"'3.Zones_desservies'!FL18","v":0},{"$f":"'3.Zones_desservies'!FM18","v":0},{"$f":"'3.Zones_desservies'!FN18","v":0},{"$f":"'3.Zones_desservies'!FO18","v":0},{"$f":"'3.Zones_desservies'!FP18","v":0},{"$f":"'3.Zones_desservies'!FQ18","v":0},{"$f":"'3.Zones_desservies'!FR18","v":0},{"$f":"'3.Zones_desservies'!FS18","v":0},{"$f":"'3.Zones_desservies'!FT18","v":0},{"$f":"'3.Zones_desservies'!FU18","v":0},{"$f":"'3.Zones_desservies'!FV18","v":0},{"$f":"'3.Zones_desservies'!FW18","v":0},{"$f":"'3.Zones_desservies'!FX18","v":0},{"$f":"'3.Zones_desservies'!FY18","v":0},{"$f":"'3.Zones_desservies'!FZ18","v":0},{"$f":"'3.Zones_desservies'!GA18","v":0},{"$f":"'3.Zones_desservies'!GB18","v":0},{"$f":"'3.Zones_desservies'!GC18","v":0},{"$f":"'3.Zones_desservies'!GD18","v":0},{"$f":"'3.Zones_desservies'!GE18","v":0},{"$f":"'3.Zones_desservies'!GF18","v":0},{"$f":"'3.Zones_desservies'!GG18","v":0},{"$f":"'3.Zones_desservies'!GH18","v":0},{"$f":"'3.Zones_desservies'!GI18","v":0},{"$f":"'3.Zones_desservies'!GJ18","v":0},{"$f":"'3.Zones_desservies'!GK18","v":0},{"$f":"'3.Zones_desservies'!GL18","v":0},{"$f":"'3.Zones_desservies'!GM18","v":0},{"$f":"'3.Zones_desservies'!GN18","v":0},{"$f":"'3.Zones_desservies'!GO18","v":0},{"$f":"'3.Zones_desservies'!GP18","v":0},{"$f":"'3.Zones_desservies'!GQ18","v":0},{"$f":"'3.Zones_desservies'!GR18","v":0},{"$f":"'3.Zones_desservies'!GS18","v":0},{"$f":"'3.Zones_desservies'!GT18","v":0},{"$f":"'3.Zones_desservies'!GU18","v":0},{"$f":"'3.Zones_desservies'!GV18","v":0},{"$f":"'3.Zones_desservies'!GW18","v":0},{"$f":"'3.Zones_desservies'!GX18","v":0},{"$f":"'3.Zones_desservies'!GY18","v":0},{"$f":"'3.Zones_desservies'!GZ18","v":0},{"$f":"'3.Zones_desservies'!HA18","v":0},{"$f":"'3.Zones_desservies'!HB18","v":0},{"$f":"'3.Zones_desservies'!HC18","v":0},{"$f":"'3.Zones_desservies'!HD18","v":0},{"$f":"'3.Zones_desservies'!HE18","v":0},{"$f":"'3.Zones_desservies'!HF18","v":0},{"$f":"'3.Zones_desservies'!HG18","v":0},{"$f":"'3.Zones_desservies'!HH18","v":0},{"$f":"'3.Zones_desservies'!HI18","v":0},{"$f":"'3.Zones_desservies'!HJ18","v":0},{"$f":"'3.Zones_desservies'!HK18","v":0},{"$f":"'3.Zones_desservies'!HL18","v":0},{"$f":"'3.Zones_desservies'!HM18","v":0},{"$f":"'3.Zones_desservies'!HN18","v":0},{"$f":"'3.Zones_desservies'!HO18","v":0},{"$f":"'3.Zones_desservies'!HP18","v":0},{"$f":"'3.Zones_desservies'!HQ18","v":0},{"$f":"'3.Zones_desservies'!HR18","v":0},{"$f":"'3.Zones_desservies'!HS18","v":0},{"$f":"'3.Zones_desservies'!HT18","v":0},{"$f":"'3.Zones_desservies'!HU18","v":0},{"$f":"'3.Zones_desservies'!HV18","v":0},{"$f":"'3.Zones_desservies'!HW18","v":0},{"$f":"'3.Zones_desservies'!HX18","v":0},{"$f":"'3.Zones_desservies'!HY18","v":0},{"$f":"'3.Zones_desservies'!HZ18","v":0},{"$f":"'3.Zones_desservies'!IA18","v":0},{"$f":"'3.Zones_desservies'!IB18","v":0},{"$f":"'3.Zones_desservies'!IC18","v":0},{"$f":"'3.Zones_desservies'!ID18","v":0},{"$f":"'3.Zones_desservies'!IE18","v":0},{"$f":"'3.Zones_desservies'!IF18","v":0},{"$f":"'3.Zones_desservies'!IG18","v":0},{"$f":"'3.Zones_desservies'!IH18","v":0},{"$f":"'3.Zones_desservies'!II18","v":0},{"$f":"'3.Zones_desservies'!IJ18","v":0},{"$f":"'3.Zones_desservies'!IK18","v":0},{"$f":"'3.Zones_desservies'!IL18","v":0},{"$f":"'3.Zones_desservies'!IM18","v":0},{"$f":"'3.Zones_desservies'!IN18","v":0},{"$f":"'3.Zones_desservies'!IO18","v":0},{"$f":"'3.Zones_desservies'!IP18","v":0},{"$f":"'3.Zones_desservies'!IQ18","v":0},{"$f":"'3.Zones_desservies'!IR18","v":0},{"$f":"'3.Zones_desservies'!IS18","v":0},{"$f":"'3.Zones_desservies'!IT18","v":0},{"$f":"'3.Zones_desservies'!IU18","v":0},{"$f":"'3.Zones_desservies'!IV18","v":0},{"$f":"'3.Zones_desservies'!IW18","v":0},{"$f":"'3.Zones_desservies'!IX18","v":0},{"$f":"'3.Zones_desservies'!IY18","v":0},{"$f":"'3.Zones_desservies'!IZ18","v":0},{"$f":"'3.Zones_desservies'!JA18","v":0},{"$f":"'3.Zones_desservies'!JB18","v":0},{"$f":"'3.Zones_desservies'!JC18","v":0},{"$f":"'3.Zones_desservies'!JD18","v":0},{"$f":"'3.Zones_desservies'!JE18","v":0},{"$f":"'3.Zones_desservies'!JF18","v":0},{"$f":"'3.Zones_desservies'!JG18","v":0},{"$f":"'3.Zones_desservies'!JH18","v":0},{"$f":"'3.Zones_desservies'!JI18","v":0},{"$f":"'3.Zones_desservies'!JJ18","v":0},{"$f":"'3.Zones_desservies'!JK18","v":0},{"$f":"'3.Zones_desservies'!JL18","v":0},{"$f":"'3.Zones_desservies'!JM18","v":0},{"$f":"'3.Zones_desservies'!JN18","v":0},{"$f":"'3.Zones_desservies'!JO18","v":0},{"$f":"'3.Zones_desservies'!JP18","v":0},{"$f":"'3.Zones_desservies'!JQ18","v":0},{"$f":"'3.Zones_desservies'!JR18","v":0},{"$f":"'3.Zones_desservies'!JS18","v":0},{"$f":"'3.Zones_desservies'!JT18","v":0},{"$f":"'3.Zones_desservies'!JU18","v":0},{"$f":"'3.Zones_desservies'!JV18","v":0},{"$f":"'3.Zones_desservies'!JW18","v":0},{"$f":"'3.Zones_desservies'!JX18","v":0},{"$f":"'3.Zones_desservies'!JY18","v":0},{"$f":"'3.Zones_desservies'!JZ18","v":0},{"$f":"'3.Zones_desservies'!KA18","v":0},{"$f":"'3.Zones_desservies'!KB18","v":0},{"$f":"'3.Zones_desservies'!KC18","v":0},{"$f":"'3.Zones_desservies'!KD18","v":0},{"$f":"'3.Zones_desservies'!KE18","v":0},{"$f":"'3.Zones_desservies'!KF18","v":0},{"$f":"'3.Zones_desservies'!KG18","v":0},{"$f":"'3.Zones_desservies'!KH18","v":0},{"$f":"'3.Zones_desservies'!KI18","v":0},{"$f":"'3.Zones_desservies'!KJ18","v":0},{"$f":"'3.Zones_desservies'!KK18","v":0},{"$f":"'3.Zones_desservies'!KL18","v":0},{"$f":"'3.Zones_desservies'!KM18","v":0},{"$f":"'3.Zones_desservies'!KN18","v":0},{"$f":"'3.Zones_desservies'!KO18","v":0},{"$f":"'3.Zones_desservies'!KP18","v":0},{"$f":"'3.Zones_desservies'!KQ18","v":0},{"$f":"'3.Zones_desservies'!KR18","v":0},{"$f":"'3.Zones_desservies'!KS18","v":0},{"$f":"'3.Zones_desservies'!KT18","v":0},{"$f":"'3.Zones_desservies'!KU18","v":0},{"$f":"'3.Zones_desservies'!KV18","v":0},{"$f":"'3.Zones_desservies'!KW18","v":0},{"$f":"'3.Zones_desservies'!KX18","v":0},{"$f":"'3.Zones_desservies'!KY18","v":0},{"$f":"'3.Zones_desservies'!KZ18","v":0},{"$f":"'3.Zones_desservies'!LA18","v":0},{"$f":"'3.Zones_desservies'!LB18","v":0},{"$f":"'3.Zones_desservies'!LC18","v":0},{"$f":"'3.Zones_desservies'!LD18","v":0},{"$f":"'3.Zones_desservies'!LE18","v":0},{"$f":"'3.Zones_desservies'!LF18","v":0},{"$f":"'3.Zones_desservies'!LG18","v":0},{"$f":"'3.Zones_desservies'!LH18","v":0},{"$f":"'3.Zones_desservies'!LI18","v":0},{"$f":"'3.Zones_desservies'!LJ18","v":0},{"$f":"'3.Zones_desservies'!LK18","v":0},{"$f":"'3.Zones_desservies'!LL18","v":0},{"$f":"'3.Zones_desservies'!LM18","v":0},{"$f":"'3.Zones_desservies'!LN18","v":0},{"$f":"'3.Zones_desservies'!LO18","v":0},{"$f":"'3.Zones_desservies'!LP18","v":0},{"$f":"'3.Zones_desservies'!LQ18","v":0},{"$f":"'3.Zones_desservies'!LR18","v":0},{"$f":"'3.Zones_desservies'!LS18","v":0},{"$f":"'3.Zones_desservies'!LT18","v":0},{"$f":"'3.Zones_desservies'!LU18","v":0},{"$f":"'3.Zones_desservies'!LV18","v":0},{"$f":"'3.Zones_desservies'!LW18","v":0},{"$f":"'3.Zones_desservies'!LX18","v":0},{"$f":"'3.Zones_desservies'!LY18","v":0},{"$f":"'3.Zones_desservies'!LZ18","v":0},{"$f":"'3.Zones_desservies'!MA18","v":0},{"$f":"'3.Zones_desservies'!MB18","v":0},{"$f":"'3.Zones_desservies'!MC18","v":0},{"$f":"'3.Zones_desservies'!MD18","v":0},{"$f":"'3.Zones_desservies'!ME18","v":0},{"$f":"'3.Zones_desservies'!MF18","v":0},{"$f":"'3.Zones_desservies'!MG18","v":0},{"$f":"'3.Zones_desservies'!MH18","v":0},{"$f":"'3.Zones_desservies'!MI18","v":0},{"$f":"'3.Zones_desservies'!MJ18","v":0},{"$f":"'3.Zones_desservies'!MK18","v":0},{"$f":"'3.Zones_desservies'!ML18","v":0},{"$f":"'3.Zones_desservies'!MM18","v":0},{"$f":"'3.Zones_desservies'!MN18","v":0},{"$f":"'3.Zones_desservies'!MO18","v":0},{"$f":"'3.Zones_desservies'!MP18","v":0},{"$f":"'3.Zones_desservies'!MQ18","v":0},{"$f":"'3.Zones_desservies'!MR18","v":0},{"$f":"'3.Zones_desservies'!MS18","v":0},{"$f":"'3.Zones_desservies'!MT18","v":0},{"$f":"'3.Zones_desservies'!MU18","v":0},{"$f":"'3.Zones_desservies'!MV18","v":0},{"$f":"'3.Zones_desservies'!MW18","v":0},{"$f":"'3.Zones_desservies'!MX18","v":0},{"$f":"'3.Zones_desservies'!MY18","v":0},{"$f":"'3.Zones_desservies'!MZ18","v":0},{"$f":"'3.Zones_desservies'!NA18","v":0},{"$f":"'3.Zones_desservies'!NB18","v":0},{"$f":"'3.Zones_desservies'!NC18","v":0},{"$f":"'3.Zones_desservies'!ND18","v":0},{"$f":"'3.Zones_desservies'!NE18","v":0},{"$f":"'3.Zones_desservies'!NF18","v":0},{"$f":"'3.Zones_desservies'!NG18","v":0},{"$f":"'3.Zones_desservies'!NH18","v":0},{"$f":"'3.Zones_desservies'!NI18","v":0},{"$f":"'3.Zones_desservies'!NJ18","v":0},{"$f":"'3.Zones_desservies'!NK18","v":0},{"$f":"'3.Zones_desservies'!NL18","v":0},{"$f":"'3.Zones_desservies'!NM18","v":0},{"$f":"'3.Zones_desservies'!NN18","v":0},{"$f":"'3.Zones_desservies'!NO18","v":0},{"$f":"'3.Zones_desservies'!NP18","v":0},{"$f":"'3.Zones_desservies'!NQ18","v":0},{"$f":"'3.Zones_desservies'!NR18","v":0},{"$f":"'3.Zones_desservies'!NS18","v":0},{"$f":"'3.Zones_desservies'!NT18","v":0},{"$f":"'3.Zones_desservies'!NU18","v":0},{"$f":"'3.Zones_desservies'!NV18","v":0},{"$f":"'3.Zones_desservies'!NW18","v":0},{"$f":"'3.Zones_desservies'!NX18","v":0},{"$f":"'3.Zones_desservies'!NY18","v":0},{"$f":"'3.Zones_desservies'!NZ18","v":0},{"$f":"'3.Zones_desservies'!OA18","v":0},{"$f":"'3.Zones_desservies'!OB18","v":0},{"$f":"'3.Zones_desservies'!OC18","v":0},{"$f":"'3.Zones_desservies'!OD18","v":0},{"$f":"'3.Zones_desservies'!OE18","v":0},{"$f":"'3.Zones_desservies'!OF18","v":0},{"$f":"'3.Zones_desservies'!OG18","v":0},{"$f":"'3.Zones_desservies'!OH18","v":0},{"$f":"'3.Zones_desservies'!OI18","v":0},{"$f":"'3.Zones_desservies'!OJ18","v":0},{"$f":"'3.Zones_desservies'!OK18","v":0},{"$f":"'3.Zones_desservies'!OL18","v":0},{"$f":"'3.Zones_desservies'!OM18","v":0},{"$f":"'3.Zones_desservies'!ON18","v":0},{"$f":"'3.Zones_desservies'!OO18","v":0},{"$f":"'3.Zones_desservies'!OP18","v":0},{"$f":"'3.Zones_desservies'!OQ18","v":0},{"$f":"'3.Zones_desservies'!OR18","v":0},{"$f":"'3.Zones_desservies'!OS18","v":0},{"$f":"'3.Zones_desservies'!OT18","v":0},{"$f":"'3.Zones_desservies'!OU18","v":0},{"$f":"'3.Zones_desservies'!OV18","v":0},{"$f":"'3.Zones_desservies'!OW18","v":0},{"$f":"'3.Zones_desservies'!OX18","v":0},{"$f":"'3.Zones_desservies'!OY18","v":0},{"$f":"'3.Zones_desservies'!OZ18","v":0},{"$f":"'3.Zones_desservies'!PA18","v":0},{"$f":"'3.Zones_desservies'!PB18","v":0},{"$f":"'3.Zones_desservies'!PC18","v":0},{"$f":"'3.Zones_desservies'!PD18","v":0},{"$f":"'3.Zones_desservies'!PE18","v":0},{"$f":"'3.Zones_desservies'!PF18","v":0},{"$f":"'3.Zones_desservies'!PG18","v":0},{"$f":"'3.Zones_desservies'!PH18","v":0},{"$f":"'3.Zones_desservies'!PI18","v":0},{"$f":"'3.Zones_desservies'!PJ18","v":0},{"$f":"'3.Zones_desservies'!PK18","v":0},{"$f":"'3.Zones_desservies'!PL18","v":0},{"$f":"'3.Zones_desservies'!PM18","v":0},{"$f":"'3.Zones_desservies'!PN18","v":0},{"$f":"'3.Zones_desservies'!PO18","v":0},{"$f":"'3.Zones_desservies'!PP18","v":0},{"$f":"'3.Zones_desservies'!PQ18","v":0},{"$f":"'3.Zones_desservies'!PR18","v":0},{"$f":"'3.Zones_desservies'!PS18","v":0},{"$f":"'3.Zones_desservies'!PT18","v":0},{"$f":"'3.Zones_desservies'!PU18","v":0},{"$f":"'3.Zones_desservies'!PV18","v":0},{"$f":"'3.Zones_desservies'!PW18","v":0},{"$f":"'3.Zones_desservies'!PX18","v":0},{"$f":"'3.Zones_desservies'!PY18","v":0},{"$f":"'3.Zones_desservies'!PZ18","v":0},{"$f":"'3.Zones_desservies'!QA18","v":0},{"$f":"'3.Zones_desservies'!QB18","v":0},{"$f":"'3.Zones_desservies'!QC18","v":0},{"$f":"'3.Zones_desservies'!QD18","v":0},{"$f":"'3.Zones_desservies'!QE18","v":0},{"$f":"'3.Zones_desservies'!QF18","v":0},{"$f":"'3.Zones_desservies'!QG18","v":0},{"$f":"'3.Zones_desservies'!QH18","v":0},{"$f":"'3.Zones_desservies'!QI18","v":0},{"$f":"'3.Zones_desservies'!QJ18","v":0},{"$f":"'3.Zones_desservies'!QK18","v":0},{"$f":"'3.Zones_desservies'!QL18","v":0},{"$f":"'3.Zones_desservies'!QM18","v":0},{"$f":"'3.Zones_desservies'!QN18","v":0},{"$f":"'3.Zones_desservies'!QO18","v":0},{"$f":"'3.Zones_desservies'!QP18","v":0},{"$f":"'3.Zones_desservies'!QQ18","v":0},{"$f":"'3.Zones_desservies'!QR18","v":0},{"$f":"'3.Zones_desservies'!QS18","v":0},{"$f":"'3.Zones_desservies'!QT18","v":0},{"$f":"'3.Zones_desservies'!QU18","v":0},{"$f":"'3.Zones_desservies'!QV18","v":0},{"$f":"'3.Zones_desservies'!QW18","v":0},{"$f":"'3.Zones_desservies'!QX18","v":0},{"$f":"'3.Zones_desservies'!QY18","v":0},{"$f":"'3.Zones_desservies'!QZ18","v":0},{"$f":"'3.Zones_desservies'!RA18","v":0},{"$f":"'3.Zones_desservies'!RB18","v":0},{"$f":"'3.Zones_desservies'!RC18","v":0},{"$f":"'3.Zones_desservies'!RD18","v":0},{"$f":"'3.Zones_desservies'!RE18","v":0},{"$f":"'3.Zones_desservies'!RF18","v":0},{"$f":"'3.Zones_desservies'!RG18","v":0},{"$f":"'3.Zones_desservies'!RH18","v":0},{"$f":"'3.Zones_desservies'!RI18","v":0},{"$f":"'3.Zones_desservies'!RJ18","v":0},{"$f":"'3.Zones_desservies'!RK18","v":0},{"$f":"'3.Zones_desservies'!RL18","v":0},{"$f":"'3.Zones_desservies'!RM18","v":0},{"$f":"'3.Zones_desservies'!RN18","v":0},{"$f":"'3.Zones_desservies'!RO18","v":0},{"$f":"'3.Zones_desservies'!RP18","v":0},{"$f":"'3.Zones_desservies'!RQ18","v":0},{"$f":"'3.Zones_desservies'!RR18","v":0},{"$f":"'3.Zones_desservies'!RS18","v":0},{"$f":"'3.Zones_desservies'!RT18","v":0},{"$f":"'3.Zones_desservies'!RU18","v":0},{"$f":"'3.Zones_desservies'!RV18","v":0},{"$f":"'3.Zones_desservies'!RW18","v":0},{"$f":"'3.Zones_desservies'!RX18","v":0},{"$f":"'3.Zones_desservies'!RY18","v":0},{"$f":"'3.Zones_desservies'!RZ18","v":0},{"$f":"'3.Zones_desservies'!SA18","v":0},{"$f":"'3.Zones_desservies'!SB18","v":0},{"$f":"'3.Zones_desservies'!SC18","v":0},{"$f":"'3.Zones_desservies'!SD18","v":0},{"$f":"'3.Zones_desservies'!SE18","v":0},{"$f":"'3.Zones_desservies'!SF18","v":0},{"$f":"'3.Zones_desservies'!SG18","v":0},{"$f":"'3.Zones_desservies'!SH18","v":0}]
[null,{"$f":"'3.Zones_desservies'!B19","v":5},{"$f":"'3.Zones_desservies'!C19","v":"Ville 5"},{"$f":"'3.Zones_desservies'!D19","v":"Ville 5"},{"$f":"'3.Zones_desservies'!E19","v":0},{"$f":"'3.Zones_desservies'!F19","v":0},{"$f":"'3.Zones_desservies'!G19","v":0},{"$f":"'3.Zones_desservies'!H19","v":0},{"$f":"'3.Zones_desservies'!I19","v":0},{"$f":"'3.Zones_desservies'!J19","v":0},{"$f":"'3.Zones_desservies'!K19","v":0},{"$f":"'3.Zones_desservies'!L19","v":0},{"$f":"'3.Zones_desservies'!M19","v":0},{"$f":"'3.Zones_desservies'!N19","v":0},{"$f":"'3.Zones_desservies'!O19","v":0},{"$f":"'3.Zones_desservies'!P19","v":0},{"$f":"'3.Zones_desservies'!Q19","v":0},{"$f":"'3.Zones_desservies'!R19","v":0},{"$f":"'3.Zones_desservies'!S19","v":0},{"$f":"'3.Zones_desservies'!T19","v":0},{"$f":"'3.Zones_desservies'!U19","v":0},{"$f":"'3.Zones_desservies'!V19","v":0},{"$f":"'3.Zones_desservies'!W19","v":0},{"$f":"'3.Zones_desservies'!X19","v":0},{"$f":"'3.Zones_desservies'!Y19","v":0},{"$f":"'3.Zones_desservies'!Z19","v":0},{"$f":"'3.Zones_desservies'!AA19","v":0},{"$f":"'3.Zones_desservies'!AB19","v":0},{"$f":"'3.Zones_desservies'!AC19","v":0},{"$f":"'3.Zones_desservies'!AD19","v":0},{"$f":"'3.Zones_desservies'!AE19","v":0},{"$f":"'3.Zones_desservies'!AF19","v":0},{"$f":"'3.Zones_desservies'!AG19","v":0},{"$f":"'3.Zones_desservies'!AH19","v":0},{"$f":"'3.Zones_desservies'!AI19","v":0},{"$f":"'3.Zones_desservies'!AJ19","v":0},{"$f":"'3.Zones_desservies'!AK19","v":0},{"$f":"'3.Zones_desservies'!AL19","v":0},{"$f":"'3.Zones_desservies'!AM19","v":0},{"$f":"'3.Zones_desservies'!AN19","v":0},{"$f":"'3.Zones_desservies'!AO19","v":0},{"$f":"'3.Zones_desservies'!AP19","v":0},{"$f":"'3.Zones_desservies'!AQ19","v":0},{"$f":"'3.Zones_desservies'!AR19","v":0},{"$f":"'3.Zones_desservies'!AS19","v":0},{"$f":"'3.Zones_desservies'!AT19","v":0},{"$f":"'3.Zones_desservies'!AU19","v":0},{"$f":"'3.Zones_desservies'!AV19","v":0},{"$f":"'3.Zones_desservies'!AW19","v":0},{"$f":"'3.Zones_desservies'!AX19","v":0},{"$f":"'3.Zones_desservies'!AY19","v":0},{"$f":"'3.Zones_desservies'!AZ19","v":0},{"$f":"'3.Zones_desservies'!BA19","v":0},{"$f":"'3.Zones_desservies'!BB19","v":0},{"$f":"'3.Zones_desservies'!BC19","v":0},{"$f":"'3.Zones_desservies'!BD19","v":0},{"$f":"'3.Zones_desservies'!BE19","v":0},{"$f":"'3.Zones_desservies'!BF19","v":0},{"$f":"'3.Zones_desservies'!BG19","v":0},{"$f":"'3.Zones_desservies'!BH19","v":0},{"$f":"'3.Zones_desservies'!BI19","v":0},{"$f":"'3.Zones_desservies'!BJ19","v":0},{"$f":"'3.Zones_desservies'!BK19","v":0},{"$f":"'3.Zones_desservies'!BL19","v":0},{"$f":"'3.Zones_desservies'!BM19","v":0},{"$f":"'3.Zones_desservies'!BN19","v":0},{"$f":"'3.Zones_desservies'!BO19","v":0},{"$f":"'3.Zones_desservies'!BP19","v":0},{"$f":"'3.Zones_desservies'!BQ19","v":0},{"$f":"'3.Zones_desservies'!BR19","v":0},{"$f":"'3.Zones_desservies'!BS19","v":0},{"$f":"'3.Zones_desservies'!BT19","v":0},{"$f":"'3.Zones_desservies'!BU19","v":0},{"$f":"'3.Zones_desservies'!BV19","v":0},{"$f":"'3.Zones_desservies'!BW19","v":0},{"$f":"'3.Zones_desservies'!BX19","v":0},{"$f":"'3.Zones_desservies'!BY19","v":0},{"$f":"'3.Zones_desservies'!BZ19","v":0},{"$f":"'3.Zones_desservies'!CA19","v":0},{"$f":"'3.Zones_desservies'!CB19","v":0},{"$f":"'3.Zones_desservies'!CC19","v":0},{"$f":"'3.Zones_desservies'!CD19","v":0},{"$f":"'3.Zones_desservies'!CE19","v":0},{"$f":"'3.Zones_desservies'!CF19","v":0},{"$f":"'3.Zones_desservies'!CG19","v":0},{"$f":"'3.Zones_desservies'!CH19","v":0},{"$f":"'3.Zones_desservies'!CI19","v":0},{"$f":"'3.Zones_desservies'!CJ19","v":0},{"$f":"'3.Zones_desservies'!CK19","v":0},{"$f":"'3.Zones_desservies'!CL19","v":0},{"$f":"'3.Zones_desservies'!CM19","v":0},{"$f":"'3.Zones_desservies'!CN19","v":0},{"$f":"'3.Zones_desservies'!CO19","v":0},{"$f":"'3.Zones_desservies'!CP19","v":0},{"$f":"'3.Zones_desservies'!CQ19","v":0},{"$f":"'3.Zones_desservies'!CR19","v":0},{"$f":"'3.Zones_desservies'!CS19","v":0},{"$f":"'3.Zones_desservies'!CT19","v":0},{"$f":"'3.Zones_desservies'!CU19","v":0},{"$f":"'3.Zones_desservies'!CV19","v":0},{"$f":"'3.Zones_desservies'!CW19","v":0},{"$f":"'3.Zones_desservies'!CX19","v":0},{"$f":"'3.Zones_desservies'!CY19","v":"_"},{"$f":"'3.Zones_desservies'!CZ19","v":0},{"$f":"'3.Zones_desservies'!DA19","v":0},{"$f":"'3.Zones_desservies'!DB19","v":0},{"$f":"'3.Zones_desservies'!DC19","v":0},{"$f":"'3.Zones_desservies'!DD19","v":0},{"$f":"'3.Zones_desservies'!DE19","v":0},{"$f":"'3.Zones_desservies'!DF19","v":0},{"$f":"'3.Zones_desservies'!DG19","v":0},{"$f":"'3.Zones_desservies'!DH19","v":0},{"$f":"'3.Zones_desservies'!DI19","v":0},{"$f":"'3.Zones_desservies'!DJ19","v":0},{"$f":"'3.Zones_desservies'!DK19","v":0},{"$f":"'3.Zones_desservies'!DL19","v":0},{"$f":"'3.Zones_desservies'!DM19","v":0},{"$f":"'3.Zones_desservies'!DN19","v":0},{"$f":"'3.Zones_desservies'!DO19","v":0},{"$f":"'3.Zones_desservies'!DP19","v":0},{"$f":"'3.Zones_desservies'!DQ19","v":0},{"$f":"'3.Zones_desservies'!DR19","v":0},{"$f":"'3.Zones_desservies'!DS19","v":0},{"$f":"'3.Zones_desservies'!DT19","v":0},{"$f":"'3.Zones_desservies'!DU19","v":0},{"$f":"'3.Zones_desservies'!DV19","v":0},{"$f":"'3.Zones_desservies'!DW19","v":0},{"$f":"'3.Zones_desservies'!DX19","v":0},{"$f":"'3.Zones_desservies'!DY19","v":0},{"$f":"'3.Zones_desservies'!DZ19","v":0},{"$f":"'3.Zones_desservies'!EA19","v":0},{"$f":"'3.Zones_desservies'!EB19","v":0},{"$f":"'3.Zones_desservies'!EC19","v":0},{"$f":"'3.Zones_desservies'!ED19","v":0},{"$f":"'3.Zones_desservies'!EE19","v":0},{"$f":"'3.Zones_desservies'!EF19","v":0},{"$f":"'3.Zones_desservies'!EG19","v":0},{"$f":"'3.Zones_desservies'!EH19","v":0},{"$f":"'3.Zones_desservies'!EI19","v":0},{"$f":"'3.Zones_desservies'!EJ19","v":0},{"$f":"'3.Zones_desservies'!EK19","v":0},{"$f":"'3.Zones_desservies'!EL19","v":0},{"$f":"'3.Zones_desservies'!EM19","v":0},{"$f":"'3.Zones_desservies'!EN19","v":0},{"$f":"'3.Zones_desservies'!EO19","v":0},{"$f":"'3.Zones_desservies'!EP19","v":0},{"$f":"'3.Zones_desservies'!EQ19","v":0},{"$f":"'3.Zones_desservies'!ER19","v":0},{"$f":"'3.Zones_desservies'!ES19","v":0},{"$f":"'3.Zones_desservies'!ET19","v":0},{"$f":"'3.Zones_desservies'!EU19","v":0},{"$f":"'3.Zones_desservies'!EV19","v":0},{"$f":"'3.Zones_desservies'!EW19","v":0},{"$f":"'3.Zones_desservies'!EX19","v":0},{"$f":"'3.Zones_desservies'!EY19","v":0},{"$f":"'3.Zones_desservies'!EZ19","v":0},{"$f":"'3.Zones_desservies'!FA19","v":0},{"$f":"'3.Zones_desservies'!FB19","v":0},{"$f":"'3.Zones_desservies'!FC19","v":0},{"$f":"'3.Zones_desservies'!FD19","v":0},{"$f":"'3.Zones_desservies'!FE19","v":0},{"$f":"'3.Zones_desservies'!FF19","v":0},{"$f":"'3.Zones_desservies'!FG19","v":0},{"$f":"'3.Zones_desservies'!FH19","v":0},{"$f":"'3.Zones_desservies'!FI19","v":0},{"$f":"'3.Zones_desservies'!FJ19","v":0},{"$f":"'3.Zones_desservies'!FK19","v":0},{"$f":"'3.Zones_desservies'!FL19","v":0},{"$f":"'3.Zones_desservies'!FM19","v":0},{"$f":"'3.Zones_desservies'!FN19","v":0},{"$f":"'3.Zones_desservies'!FO19","v":0},{"$f":"'3.Zones_desservies'!FP19","v":0},{"$f":"'3.Zones_desservies'!FQ19","v":0},{"$f":"'3.Zones_desservies'!FR19","v":0},{"$f":"'3.Zones_desservies'!FS19","v":0},{"$f":"'3.Zones_desservies'!FT19","v":0},{"$f":"'3.Zones_desservies'!FU19","v":0},{"$f":"'3.Zones_desservies'!FV19","v":0},{"$f":"'3.Zones_desservies'!FW19","v":0},{"$f":"'3.Zones_desservies'!FX19","v":0},{"$f":"'3.Zones_desservies'!FY19","v":0},{"$f":"'3.Zones_desservies'!FZ19","v":0},{"$f":"'3.Zones_desservies'!GA19","v":0},{"$f":"'3.Zones_desservies'!GB19","v":0},{"$f":"'3.Zones_desservies'!GC19","v":0},{"$f":"'3.Zones_desservies'!GD19","v":0},{"$f":"'3.Zones_desservies'!GE19","v":0},{"$f":"'3.Zones_desservies'!GF19","v":0},{"$f":"'3.Zones_desservies'!GG19","v":0},{"$f":"'3.Zones_desservies'!GH19","v":0},{"$f":"'3.Zones_desservies'!GI19","v":0},{"$f":"'3.Zones_desservies'!GJ19","v":0},{"$f":"'3.Zones_desservies'!GK19","v":0},{"$f":"'3.Zones_desservies'!GL19","v":0},{"$f":"'3.Zones_desservies'!GM19","v":0},{"$f":"'3.Zones_desservies'!GN19","v":0},{"$f":"'3.Zones_desservies'!GO19","v":0},{"$f":"'3.Zones_desservies'!GP19","v":0},{"$f":"'3.Zones_desservies'!GQ19","v":0},{"$f":"'3.Zones_desservies'!GR19","v":0},{"$f":"'3.Zones_desservies'!GS19","v":0},{"$f":"'3.Zones_desservies'!GT19","v":0},{"$f":"'3.Zones_desservies'!GU19","v":0},{"$f":"'3.Zones_desservies'!GV19","v":0},{"$f":"'3.Zones_desservies'!GW19","v":0},{"$f":"'3.Zones_desservies'!GX19","v":0},{"$f":"'3.Zones_desservies'!GY19","v":0},{"$f":"'3.Zones_desservies'!GZ19","v":0},{"$f":"'3.Zones_desservies'!HA19","v":0},{"$f":"'3.Zones_desservies'!HB19","v":0},{"$f":"'3.Zones_desservies'!HC19","v":0},{"$f":"'3.Zones_desservies'!HD19","v":0},{"$f":"'3.Zones_desservies'!HE19","v":0},{"$f":"'3.Zones_desservies'!HF19","v":0},{"$f":"'3.Zones_desservies'!HG19","v":0},{"$f":"'3.Zones_desservies'!HH19","v":0},{"$f":"'3.Zones_desservies'!HI19","v":0},{"$f":"'3.Zones_desservies'!HJ19","v":0},{"$f":"'3.Zones_desservies'!HK19","v":0},{"$f":"'3.Zones_desservies'!HL19","v":0},{"$f":"'3.Zones_desservies'!HM19","v":0},{"$f":"'3.Zones_desservies'!HN19","v":0},{"$f":"'3.Zones_desservies'!HO19","v":0},{"$f":"'3.Zones_desservies'!HP19","v":0},{"$f":"'3.Zones_desservies'!HQ19","v":0},{"$f":"'3.Zones_desservies'!HR19","v":0},{"$f":"'3.Zones_desservies'!HS19","v":0},{"$f":"'3.Zones_desservies'!HT19","v":0},{"$f":"'3.Zones_desservies'!HU19","v":0},{"$f":"'3.Zones_desservies'!HV19","v":0},{"$f":"'3.Zones_desservies'!HW19","v":0},{"$f":"'3.Zones_desservies'!HX19","v":0},{"$f":"'3.Zones_desservies'!HY19","v":0},{"$f":"'3.Zones_desservies'!HZ19","v":0},{"$f":"'3.Zones_desservies'!IA19","v":0},{"$f":"'3.Zones_desservies'!IB19","v":0},{"$f":"'3.Zones_desservies'!IC19","v":0},{"$f":"'3.Zones_desservies'!ID19","v":0},{"$f":"'3.Zones_desservies'!IE19","v":0},{"$f":"'3.Zones_desservies'!IF19","v":0},{"$f":"'3.Zones_desservies'!IG19","v":0},{"$f":"'3.Zones_desservies'!IH19","v":0},{"$f":"'3.Zones_desservies'!II19","v":0},{"$f":"'3.Zones_desservies'!IJ19","v":0},{"$f":"'3.Zones_desservies'!IK19","v":0},{"$f":"'3.Zones_desservies'!IL19","v":0},{"$f":"'3.Zones_desservies'!IM19","v":0},{"$f":"'3.Zones_desservies'!IN19","v":0},{"$f":"'3.Zones_desservies'!IO19","v":0},{"$f":"'3.Zones_desservies'!IP19","v":0},{"$f":"'3.Zones_desservies'!IQ19","v":0},{"$f":"'3.Zones_desservies'!IR19","v":0},{"$f":"'3.Zones_desservies'!IS19","v":0},{"$f":"'3.Zones_desservies'!IT19","v":0},{"$f":"'3.Zones_desservies'!IU19","v":0},{"$f":"'3.Zones_desservies'!IV19","v":0},{"$f":"'3.Zones_desservies'!IW19","v":0},{"$f":"'3.Zones_desservies'!IX19","v":0},{"$f":"'3.Zones_desservies'!IY19","v":0},{"$f":"'3.Zones_desservies'!IZ19","v":0},{"$f":"'3.Zones_desservies'!JA19","v":0},{"$f":"'3.Zones_desservies'!JB19","v":0},{"$f":"'3.Zones_desservies'!JC19","v":0},{"$f":"'3.Zones_desservies'!JD19","v":0},{"$f":"'3.Zones_desservies'!JE19","v":0},{"$f":"'3.Zones_desservies'!JF19","v":0},{"$f":"'3.Zones_desservies'!JG19","v":0},{"$f":"'3.Zones_desservies'!JH19","v":0},{"$f":"'3.Zones_desservies'!JI19","v":0},{"$f":"'3.Zones_desservies'!JJ19","v":0},{"$f":"'3.Zones_desservies'!JK19","v":0},{"$f":"'3.Zones_desservies'!JL19","v":0},{"$f":"'3.Zones_desservies'!JM19","v":0},{"$f":"'3.Zones_desservies'!JN19","v":0},{"$f":"'3.Zones_desservies'!JO19","v":0},{"$f":"'3.Zones_desservies'!JP19","v":0},{"$f":"'3.Zones_desservies'!JQ19","v":0},{"$f":"'3.Zones_desservies'!JR19","v":0},{"$f":"'3.Zones_desservies'!JS19","v":0},{"$f":"'3.Zones_desservies'!JT19","v":0},{"$f":"'3.Zones_desservies'!JU19","v":0},{"$f":"'3.Zones_desservies'!JV19","v":0},{"$f":"'3.Zones_desservies'!JW19","v":0},{"$f":"'3.Zones_desservies'!JX19","v":0},{"$f":"'3.Zones_desservies'!JY19","v":0},{"$f":"'3.Zones_desservies'!JZ19","v":0},{"$f":"'3.Zones_desservies'!KA19","v":0},{"$f":"'3.Zones_desservies'!KB19","v":0},{"$f":"'3.Zones_desservies'!KC19","v":0},{"$f":"'3.Zones_desservies'!KD19","v":0},{"$f":"'3.Zones_desservies'!KE19","v":0},{"$f":"'3.Zones_desservies'!KF19","v":0},{"$f":"'3.Zones_desservies'!KG19","v":0},{"$f":"'3.Zones_desservies'!KH19","v":0},{"$f":"'3.Zones_desservies'!KI19","v":0},{"$f":"'3.Zones_desservies'!KJ19","v":0},{"$f":"'3.Zones_desservies'!KK19","v":0},{"$f":"'3.Zones_desservies'!KL19","v":0},{"$f":"'3.Zones_desservies'!KM19","v":0},{"$f":"'3.Zones_desservies'!KN19","v":0},{"$f":"'3.Zones_desservies'!KO19","v":0},{"$f":"'3.Zones_desservies'!KP19","v":0},{"$f":"'3.Zones_desservies'!KQ19","v":0},{"$f":"'3.Zones_desservies'!KR19","v":0},{"$f":"'3.Zones_desservies'!KS19","v":0},{"$f":"'3.Zones_desservies'!KT19","v":0},{"$f":"'3.Zones_desservies'!KU19","v":0},{"$f":"'3.Zones_desservies'!KV19","v":0},{"$f":"'3.Zones_desservies'!KW19","v":0},{"$f":"'3.Zones_desservies'!KX19","v":0},{"$f":"'3.Zones_desservies'!KY19","v":0},{"$f":"'3.Zones_desservies'!KZ19","v":0},{"$f":"'3.Zones_desservies'!LA19","v":0},{"$f":"'3.Zones_desservies'!LB19","v":0},{"$f":"'3.Zones_desservies'!LC19","v":0},{"$f":"'3.Zones_desservies'!LD19","v":0},{"$f":"'3.Zones_desservies'!LE19","v":0},{"$f":"'3.Zones_desservies'!LF19","v":0},{"$f":"'3.Zones_desservies'!LG19","v":0},{"$f":"'3.Zones_desservies'!LH19","v":0},{"$f":"'3.Zones_desservies'!LI19","v":0},{"$f":"'3.Zones_desservies'!LJ19","v":0},{"$f":"'3.Zones_desservies'!LK19","v":0},{"$f":"'3.Zones_desservies'!LL19","v":0},{"$f":"'3.Zones_desservies'!LM19","v":0},{"$f":"'3.Zones_desservies'!LN19","v":0},{"$f":"'3.Zones_desservies'!LO19","v":0},{"$f":"'3.Zones_desservies'!LP19","v":0},{"$f":"'3.Zones_desservies'!LQ19","v":0},{"$f":"'3.Zones_desservies'!LR19","v":0},{"$f":"'3.Zones_desservies'!LS19","v":0},{"$f":"'3.Zones_desservies'!LT19","v":0},{"$f":"'3.Zones_desservies'!LU19","v":0},{"$f":"'3.Zones_desservies'!LV19","v":0},{"$f":"'3.Zones_desservies'!LW19","v":0},{"$f":"'3.Zones_desservies'!LX19","v":0},{"$f":"'3.Zones_desservies'!LY19","v":0},{"$f":"'3.Zones_desservies'!LZ19","v":0},{"$f":"'3.Zones_desservies'!MA19","v":0},{"$f":"'3.Zones_desservies'!MB19","v":0},{"$f":"'3.Zones_desservies'!MC19","v":0},{"$f":"'3.Zones_desservies'!MD19","v":0},{"$f":"'3.Zones_desservies'!ME19","v":0},{"$f":"'3.Zones_desservies'!MF19","v":0},{"$f":"'3.Zones_desservies'!MG19","v":0},{"$f":"'3.Zones_desservies'!MH19","v":0},{"$f":"'3.Zones_desservies'!MI19","v":0},{"$f":"'3.Zones_desservies'!MJ19","v":0},{"$f":"'3.Zones_desservies'!MK19","v":0},{"$f":"'3.Zones_desservies'!ML19","v":0},{"$f":"'3.Zones_desservies'!MM19","v":0},{"$f":"'3.Zones_desservies'!MN19","v":0},{"$f":"'3.Zones_desservies'!MO19","v":0},{"$f":"'3.Zones_desservies'!MP19","v":0},{"$f":"'3.Zones_desservies'!MQ19","v":0},{"$f":"'3.Zones_desservies'!MR19","v":0},{"$f":"'3.Zones_desservies'!MS19","v":0},{"$f":"'3.Zones_desservies'!MT19","v":0},{"$f":"'3.Zones_desservies'!MU19","v":0},{"$f":"'3.Zones_desservies'!MV19","v":0},{"$f":"'3.Zones_desservies'!MW19","v":0},{"$f":"'3.Zones_desservies'!MX19","v":0},{"$f":"'3.Zones_desservies'!MY19","v":0},{"$f":"'3.Zones_desservies'!MZ19","v":0},{"$f":"'3.Zones_desservies'!NA19","v":0},{"$f":"'3.Zones_desservies'!NB19","v":0},{"$f":"'3.Zones_desservies'!NC19","v":0},{"$f":"'3.Zones_desservies'!ND19","v":0},{"$f":"'3.Zones_desservies'!NE19","v":0},{"$f":"'3.Zones_desservies'!NF19","v":0},{"$f":"'3.Zones_desservies'!NG19","v":0},{"$f":"'3.Zones_desservies'!NH19","v":0},{"$f":"'3.Zones_desservies'!NI19","v":0},{"$f":"'3.Zones_desservies'!NJ19","v":0},{"$f":"'3.Zones_desservies'!NK19","v":0},{"$f":"'3.Zones_desservies'!NL19","v":0},{"$f":"'3.Zones_desservies'!NM19","v":0},{"$f":"'3.Zones_desservies'!NN19","v":0},{"$f":"'3.Zones_desservies'!NO19","v":0},{"$f":"'3.Zones_desservies'!NP19","v":0},{"$f":"'3.Zones_desservies'!NQ19","v":0},{"$f":"'3.Zones_desservies'!NR19","v":0},{"$f":"'3.Zones_desservies'!NS19","v":0},{"$f":"'3.Zones_desservies'!NT19","v":0},{"$f":"'3.Zones_desservies'!NU19","v":0},{"$f":"'3.Zones_desservies'!NV19","v":0},{"$f":"'3.Zones_desservies'!NW19","v":0},{"$f":"'3.Zones_desservies'!NX19","v":0},{"$f":"'3.Zones_desservies'!NY19","v":0},{"$f":"'3.Zones_desservies'!NZ19","v":0},{"$f":"'3.Zones_desservies'!OA19","v":0},{"$f":"'3.Zones_desservies'!OB19","v":0},{"$f":"'3.Zones_desservies'!OC19","v":0},{"$f":"'3.Zones_desservies'!OD19","v":0},{"$f":"'3.Zones_desservies'!OE19","v":0},{"$f":"'3.Zones_desservies'!OF19","v":0},{"$f":"'3.Zones_desservies'!OG19","v":0},{"$f":"'3.Zones_desservies'!OH19","v":0},{"$f":"'3.Zones_desservies'!OI19","v":0},{"$f":"'3.Zones_desservies'!OJ19","v":0},{"$f":"'3.Zones_desservies'!OK19","v":0},{"$f":"'3.Zones_desservies'!OL19","v":0},{"$f":"'3.Zones_desservies'!OM19","v":0},{"$f":"'3.Zones_desservies'!ON19","v":0},{"$f":"'3.Zones_desservies'!OO19","v":0},{"$f":"'3.Zones_desservies'!OP19","v":0},{"$f":"'3.Zones_desservies'!OQ19","v":0},{"$f":"'3.Zones_desservies'!OR19","v":0},{"$f":"'3.Zones_desservies'!OS19","v":0},{"$f":"'3.Zones_desservies'!OT19","v":0},{"$f":"'3.Zones_desservies'!OU19","v":0},{"$f":"'3.Zones_desservies'!OV19","v":0},{"$f":"'3.Zones_desservies'!OW19","v":0},{"$f":"'3.Zones_desservies'!OX19","v":0},{"$f":"'3.Zones_desservies'!OY19","v":0},{"$f":"'3.Zones_desservies'!OZ19","v":0},{"$f":"'3.Zones_desservies'!PA19","v":0},{"$f":"'3.Zones_desservies'!PB19","v":0},{"$f":"'3.Zones_desservies'!PC19","v":0},{"$f":"'3.Zones_desservies'!PD19","v":0},{"$f":"'3.Zones_desservies'!PE19","v":0},{"$f":"'3.Zones_desservies'!PF19","v":0},{"$f":"'3.Zones_desservies'!PG19","v":0},{"$f":"'3.Zones_desservies'!PH19","v":0},{"$f":"'3.Zones_desservies'!PI19","v":0},{"$f":"'3.Zones_desservies'!PJ19","v":0},{"$f":"'3.Zones_desservies'!PK19","v":0},{"$f":"'3.Zones_desservies'!PL19","v":0},{"$f":"'3.Zones_desservies'!PM19","v":0},{"$f":"'3.Zones_desservies'!PN19","v":0},{"$f":"'3.Zones_desservies'!PO19","v":0},{"$f":"'3.Zones_desservies'!PP19","v":0},{"$f":"'3.Zones_desservies'!PQ19","v":0},{"$f":"'3.Zones_desservies'!PR19","v":0},{"$f":"'3.Zones_desservies'!PS19","v":0},{"$f":"'3.Zones_desservies'!PT19","v":0},{"$f":"'3.Zones_desservies'!PU19","v":0},{"$f":"'3.Zones_desservies'!PV19","v":0},{"$f":"'3.Zones_desservies'!PW19","v":0},{"$f":"'3.Zones_desservies'!PX19","v":0},{"$f":"'3.Zones_desservies'!PY19","v":0},{"$f":"'3.Zones_desservies'!PZ19","v":0},{"$f":"'3.Zones_desservies'!QA19","v":0},{"$f":"'3.Zones_desservies'!QB19","v":0},{"$f":"'3.Zones_desservies'!QC19","v":0},{"$f":"'3.Zones_desservies'!QD19","v":0},{"$f":"'3.Zones_desservies'!QE19","v":0},{"$f":"'3.Zones_desservies'!QF19","v":0},{"$f":"'3.Zones_desservies'!QG19","v":0},{"$f":"'3.Zones_desservies'!QH19","v":0},{"$f":"'3.Zones_desservies'!QI19","v":0},{"$f":"'3.Zones_desservies'!QJ19","v":0},{"$f":"'3.Zones_desservies'!QK19","v":0},{"$f":"'3.Zones_desservies'!QL19","v":0},{"$f":"'3.Zones_desservies'!QM19","v":0},{"$f":"'3.Zones_desservies'!QN19","v":0},{"$f":"'3.Zones_desservies'!QO19","v":0},{"$f":"'3.Zones_desservies'!QP19","v":0},{"$f":"'3.Zones_desservies'!QQ19","v":0},{"$f":"'3.Zones_desservies'!QR19","v":0},{"$f":"'3.Zones_desservies'!QS19","v":0},{"$f":"'3.Zones_desservies'!QT19","v":0},{"$f":"'3.Zones_desservies'!QU19","v":0},{"$f":"'3.Zones_desservies'!QV19","v":0},{"$f":"'3.Zones_desservies'!QW19","v":0},{"$f":"'3.Zones_desservies'!QX19","v":0},{"$f":"'3.Zones_desservies'!QY19","v":0},{"$f":"'3.Zones_desservies'!QZ19","v":0},{"$f":"'3.Zones_desservies'!RA19","v":0},{"$f":"'3.Zones_desservies'!RB19","v":0},{"$f":"'3.Zones_desservies'!RC19","v":0},{"$f":"'3.Zones_desservies'!RD19","v":0},{"$f":"'3.Zones_desservies'!RE19","v":0},{"$f":"'3.Zones_desservies'!RF19","v":0},{"$f":"'3.Zones_desservies'!RG19","v":0},{"$f":"'3.Zones_desservies'!RH19","v":0},{"$f":"'3.Zones_desservies'!RI19","v":0},{"$f":"'3.Zones_desservies'!RJ19","v":0},{"$f":"'3.Zones_desservies'!RK19","v":0},{"$f":"'3.Zones_desservies'!RL19","v":0},{"$f":"'3.Zones_desservies'!RM19","v":0},{"$f":"'3.Zones_desservies'!RN19","v":0},{"$f":"'3.Zones_desservies'!RO19","v":0},{"$f":"'3.Zones_desservies'!RP19","v":0},{"$f":"'3.Zones_desservies'!RQ19","v":0},{"$f":"'3.Zones_desservies'!RR19","v":0},{"$f":"'3.Zones_desservies'!RS19","v":0},{"$f":"'3.Zones_desservies'!RT19","v":0},{"$f":"'3.Zones_desservies'!RU19","v":0},{"$f":"'3.Zones_desservies'!RV19","v":0},{"$f":"'3.Zones_desservies'!RW19","v":0},{"$f":"'3.Zones_desservies'!RX19","v":0},{"$f":"'3.Zones_desservies'!RY19","v":0},{"$f":"'3.Zones_desservies'!RZ19","v":0},{"$f":"'3.Zones_desservies'!SA19","v":0},{"$f":"'3.Zones_desservies'!SB19","v":0},{"$f":"'3.Zones_desservies'!SC19","v":0},{"$f":"'3.Zones_desservies'!SD19","v":0},{"$f":"'3.Zones_desservies'!SE19","v":0},{"$f":"'3.Zones_desservies'!SF19","v":0},{"$f":"'3.Zones_desservies'!SG19","v":0},{"$f":"'3.Zones_desservies'!SH19","v":0}]
[null,{"$f":"'3.Zones_desservies'!B20","v":6},{"$f":"'3.Zones_desservies'!C20","v":"Ville 6"},{"$f":"'3.Zones_desservies'!D20","v":"Ville 6"},{"$f":"'3.Zones_desservies'!E20","v":0},{"$f":"'3.Zones_desservies'!F20","v":0},{"$f":"'3.Zones_desservies'!G20","v":0},{"$f":"'3.Zones_desservies'!H20","v":0},{"$f":"'3.Zones_desservies'!I20","v":0},{"$f":"'3.Zones_desservies'!J20","v":0},{"$f":"'3.Zones_desservies'!K20","v":0},{"$f":"'3.Zones_desservies'!L20","v":0},{"$f":"'3.Zones_desservies'!M20","v":0},{"$f":"'3.Zones_desservies'!N20","v":0},{"$f":"'3.Zones_desservies'!O20","v":0},{"$f":"'3.Zones_desservies'!P20","v":0},{"$f":"'3.Zones_desservies'!Q20","v":0},{"$f":"'3.Zones_desservies'!R20","v":0},{"$f":"'3.Zones_desservies'!S20","v":0},{"$f":"'3.Zones_desservies'!T20","v":0},{"$f":"'3.Zones_desservies'!U20","v":0},{"$f":"'3.Zones_desservies'!V20","v":0},{"$f":"'3.Zones_desservies'!W20","v":0},{"$f":"'3.Zones_desservies'!X20","v":0},{"$f":"'3.Zones_desservies'!Y20","v":0},{"$f":"'3.Zones_desservies'!Z20","v":0},{"$f":"'3.Zones_desservies'!AA20","v":0},{"$f":"'3.Zones_desservies'!AB20","v":0},{"$f":"'3.Zones_desservies'!AC20","v":0},{"$f":"'3.Zones_desservies'!AD20","v":0},{"$f":"'3.Zones_desservies'!AE20","v":0},{"$f":"'3.Zones_desservies'!AF20","v":0},{"$f":"'3.Zones_desservies'!AG20","v":0},{"$f":"'3.Zones_desservies'!AH20","v":0},{"$f":"'3.Zones_desservies'!AI20","v":0},{"$f":"'3.Zones_desservies'!AJ20","v":0},{"$f":"'3.Zones_desservies'!AK20","v":0},{"$f":"'3.Zones_desservies'!AL20","v":0},{"$f":"'3.Zones_desservies'!AM20","v":0},{"$f":"'3.Zones_desservies'!AN20","v":0},{"$f":"'3.Zones_desservies'!AO20","v":0},{"$f":"'3.Zones_desservies'!AP20","v":0},{"$f":"'3.Zones_desservies'!AQ20","v":0},{"$f":"'3.Zones_desservies'!AR20","v":0},{"$f":"'3.Zones_desservies'!AS20","v":0},{"$f":"'3.Zones_desservies'!AT20","v":0},{"$f":"'3.Zones_desservies'!AU20","v":0},{"$f":"'3.Zones_desservies'!AV20","v":0},{"$f":"'3.Zones_desservies'!AW20","v":0},{"$f":"'3.Zones_desservies'!AX20","v":0},{"$f":"'3.Zones_desservies'!AY20","v":0},{"$f":"'3.Zones_desservies'!AZ20","v":0},{"$f":"'3.Zones_desservies'!BA20","v":0},{"$f":"'3.Zones_desservies'!BB20","v":0},{"$f":"'3.Zones_desservies'!BC20","v":0},{"$f":"'3.Zones_desservies'!BD20","v":0},{"$f":"'3.Zones_desservies'!BE20","v":0},{"$f":"'3.Zones_desservies'!BF20","v":0},{"$f":"'3.Zones_desservies'!BG20","v":0},{"$f":"'3.Zones_desservies'!BH20","v":0},{"$f":"'3.Zones_desservies'!BI20","v":0},{"$f":"'3.Zones_desservies'!BJ20","v":0},{"$f":"'3.Zones_desservies'!BK20","v":0},{"$f":"'3.Zones_desservies'!BL20","v":0},{"$f":"'3.Zones_desservies'!BM20","v":0},{"$f":"'3.Zones_desservies'!BN20","v":0},{"$f":"'3.Zones_desservies'!BO20","v":0},{"$f":"'3.Zones_desservies'!BP20","v":0},{"$f":"'3.Zones_desservies'!BQ20","v":0},{"$f":"'3.Zones_desservies'!BR20","v":0},{"$f":"'3.Zones_desservies'!BS20","v":0},{"$f":"'3.Zones_desservies'!BT20","v":0},{"$f":"'3.Zones_desservies'!BU20","v":0},{"$f":"'3.Zones_desservies'!BV20","v":0},{"$f":"'3.Zones_desservies'!BW20","v":0},{"$f":"'3.Zones_desservies'!BX20","v":0},{"$f":"'3.Zones_desservies'!BY20","v":0},{"$f":"'3.Zones_desservies'!BZ20","v":0},{"$f":"'3.Zones_desservies'!CA20","v":0},{"$f":"'3.Zones_desservies'!CB20","v":0},{"$f":"'3.Zones_desservies'!CC20","v":0},{"$f":"'3.Zones_desservies'!CD20","v":0},{"$f":"'3.Zones_desservies'!CE20","v":0},{"$f":"'3.Zones_desservies'!CF20","v":0},{"$f":"'3.Zones_desservies'!CG20","v":0},{"$f":"'3.Zones_desservies'!CH20","v":0},{"$f":"'3.Zones_desservies'!CI20","v":0},{"$f":"'3.Zones_desservies'!CJ20","v":0},{"$f":"'3.Zones_desservies'!CK20","v":0},{"$f":"'3.Zones_desservies'!CL20","v":0},{"$f":"'3.Zones_desservies'!CM20","v":0},{"$f":"'3.Zones_desservies'!CN20","v":0},{"$f":"'3.Zones_desservies'!CO20","v":0},{"$f":"'3.Zones_desservies'!CP20","v":0},{"$f":"'3.Zones_desservies'!CQ20","v":0},{"$f":"'3.Zones_desservies'!CR20","v":0},{"$f":"'3.Zones_desservies'!CS20","v":0},{"$f":"'3.Zones_desservies'!CT20","v":0},{"$f":"'3.Zones_desservies'!CU20","v":0},{"$f":"'3.Zones_desservies'!CV20","v":0},{"$f":"'3.Zones_desservies'!CW20","v":0},{"$f":"'3.Zones_desservies'!CX20","v":0},{"$f":"'3.Zones_desservies'!CY20","v":"_"},{"$f":"'3.Zones_desservies'!CZ20","v":0},{"$f":"'3.Zones_desservies'!DA20","v":0},{"$f":"'3.Zones_desservies'!DB20","v":0},{"$f":"'3.Zones_desservies'!DC20","v":0},{"$f":"'3.Zones_desservies'!DD20","v":0},{"$f":"'3.Zones_desservies'!DE20","v":0},{"$f":"'3.Zones_desservies'!DF20","v":0},{"$f":"'3.Zones_desservies'!DG20","v":0},{"$f":"'3.Zones_desservies'!DH20","v":0},{"$f":"'3.Zones_desservies'!DI20","v":0},{"$f":"'3.Zones_desservies'!DJ20","v":0},{"$f":"'3.Zones_desservies'!DK20","v":0},{"$f":"'3.Zones_desservies'!DL20","v":0},{"$f":"'3.Zones_desservies'!DM20","v":0},{"$f":"'3.Zones_desservies'!DN20","v":0},{"$f":"'3.Zones_desservies'!DO20","v":0},{"$f":"'3.Zones_desservies'!DP20","v":0},{"$f":"'3.Zones_desservies'!DQ20","v":0},{"$f":"'3.Zones_desservies'!DR20","v":0},{"$f":"'3.Zones_desservies'!DS20","v":0},{"$f":"'3.Zones_desservies'!DT20","v":0},{"$f":"'3.Zones_desservies'!DU20","v":0},{"$f":"'3.Zones_desservies'!DV20","v":0},{"$f":"'3.Zones_desservies'!DW20","v":0},{"$f":"'3.Zones_desservies'!DX20","v":0},{"$f":"'3.Zones_desservies'!DY20","v":0},{"$f":"'3.Zones_desservies'!DZ20","v":0},{"$f":"'3.Zones_desservies'!EA20","v":0},{"$f":"'3.Zones_desservies'!EB20","v":0},{"$f":"'3.Zones_desservies'!EC20","v":0},{"$f":"'3.Zones_desservies'!ED20","v":0},{"$f":"'3.Zones_desservies'!EE20","v":0},{"$f":"'3.Zones_desservies'!EF20","v":0},{"$f":"'3.Zones_desservies'!EG20","v":0},{"$f":"'3.Zones_desservies'!EH20","v":0},{"$f":"'3.Zones_desservies'!EI20","v":0},{"$f":"'3.Zones_desservies'!EJ20","v":0},{"$f":"'3.Zones_desservies'!EK20","v":0},{"$f":"'3.Zones_desservies'!EL20","v":0},{"$f":"'3.Zones_desservies'!EM20","v":0},{"$f":"'3.Zones_desservies'!EN20","v":0},{"$f":"'3.Zones_desservies'!EO20","v":0},{"$f":"'3.Zones_desservies'!EP20","v":0},{"$f":"'3.Zones_desservies'!EQ20","v":0},{"$f":"'3.Zones_desservies'!ER20","v":0},{"$f":"'3.Zones_desservies'!ES20","v":0},{"$f":"'3.Zones_desservies'!ET20","v":0},{"$f":"'3.Zones_desservies'!EU20","v":0},{"$f":"'3.Zones_desservies'!EV20","v":0},{"$f":"'3.Zones_desservies'!EW20","v":0},{"$f":"'3.Zones_desservies'!EX20","v":0},{"$f":"'3.Zones_desservies'!EY20","v":0},{"$f":"'3.Zones_desservies'!EZ20","v":0},{"$f":"'3.Zones_desservies'!FA20","v":0},{"$f":"'3.Zones_desservies'!FB20","v":0},{"$f":"'3.Zones_desservies'!FC20","v":0},{"$f":"'3.Zones_desservies'!FD20","v":0},{"$f":"'3.Zones_desservies'!FE20","v":0},{"$f":"'3.Zones_desservies'!FF20","v":0},{"$f":"'3.Zones_desservies'!FG20","v":0},{"$f":"'3.Zones_desservies'!FH20","v":0},{"$f":"'3.Zones_desservies'!FI20","v":0},{"$f":"'3.Zones_desservies'!FJ20","v":0},{"$f":"'3.Zones_desservies'!FK20","v":0},{"$f":"'3.Zones_desservies'!FL20","v":0},{"$f":"'3.Zones_desservies'!FM20","v":0},{"$f":"'3.Zones_desservies'!FN20","v":0},{"$f":"'3.Zones_desservies'!FO20","v":0},{"$f":"'3.Zones_desservies'!FP20","v":0},{"$f":"'3.Zones_desservies'!FQ20","v":0},{"$f":"'3.Zones_desservies'!FR20","v":0},{"$f":"'3.Zones_desservies'!FS20","v":0},{"$f":"'3.Zones_desservies'!FT20","v":0},{"$f":"'3.Zones_desservies'!FU20","v":0},{"$f":"'3.Zones_desservies'!FV20","v":0},{"$f":"'3.Zones_desservies'!FW20","v":0},{"$f":"'3.Zones_desservies'!FX20","v":0},{"$f":"'3.Zones_desservies'!FY20","v":0},{"$f":"'3.Zones_desservies'!FZ20","v":0},{"$f":"'3.Zones_desservies'!GA20","v":0},{"$f":"'3.Zones_desservies'!GB20","v":0},{"$f":"'3.Zones_desservies'!GC20","v":0},{"$f":"'3.Zones_desservies'!GD20","v":0},{"$f":"'3.Zones_desservies'!GE20","v":0},{"$f":"'3.Zones_desservies'!GF20","v":0},{"$f":"'3.Zones_desservies'!GG20","v":0},{"$f":"'3.Zones_desservies'!GH20","v":0},{"$f":"'3.Zones_desservies'!GI20","v":0},{"$f":"'3.Zones_desservies'!GJ20","v":0},{"$f":"'3.Zones_desservies'!GK20","v":0},{"$f":"'3.Zones_desservies'!GL20","v":0},{"$f":"'3.Zones_desservies'!GM20","v":0},{"$f":"'3.Zones_desservies'!GN20","v":0},{"$f":"'3.Zones_desservies'!GO20","v":0},{"$f":"'3.Zones_desservies'!GP20","v":0},{"$f":"'3.Zones_desservies'!GQ20","v":0},{"$f":"'3.Zones_desservies'!GR20","v":0},{"$f":"'3.Zones_desservies'!GS20","v":0},{"$f":"'3.Zones_desservies'!GT20","v":0},{"$f":"'3.Zones_desservies'!GU20","v":0},{"$f":"'3.Zones_desservies'!GV20","v":0},{"$f":"'3.Zones_desservies'!GW20","v":0},{"$f":"'3.Zones_desservies'!GX20","v":0},{"$f":"'3.Zones_desservies'!GY20","v":0},{"$f":"'3.Zones_desservies'!GZ20","v":0},{"$f":"'3.Zones_desservies'!HA20","v":0},{"$f":"'3.Zones_desservies'!HB20","v":0},{"$f":"'3.Zones_desservies'!HC20","v":0},{"$f":"'3.Zones_desservies'!HD20","v":0},{"$f":"'3.Zones_desservies'!HE20","v":0},{"$f":"'3.Zones_desservies'!HF20","v":0},{"$f":"'3.Zones_desservies'!HG20","v":0},{"$f":"'3.Zones_desservies'!HH20","v":0},{"$f":"'3.Zones_desservies'!HI20","v":0},{"$f":"'3.Zones_desservies'!HJ20","v":0},{"$f":"'3.Zones_desservies'!HK20","v":0},{"$f":"'3.Zones_desservies'!HL20","v":0},{"$f":"'3.Zones_desservies'!HM20","v":0},{"$f":"'3.Zones_desservies'!HN20","v":0},{"$f":"'3.Zones_desservies'!HO20","v":0},{"$f":"'3.Zones_desservies'!HP20","v":0},{"$f":"'3.Zones_desservies'!HQ20","v":0},{"$f":"'3.Zones_desservies'!HR20","v":0},{"$f":"'3.Zones_desservies'!HS20","v":0},{"$f":"'3.Zones_desservies'!HT20","v":0},{"$f":"'3.Zones_desservies'!HU20","v":0},{"$f":"'3.Zones_desservies'!HV20","v":0},{"$f":"'3.Zones_desservies'!HW20","v":0},{"$f":"'3.Zones_desservies'!HX20","v":0},{"$f":"'3.Zones_desservies'!HY20","v":0},{"$f":"'3.Zones_desservies'!HZ20","v":0},{"$f":"'3.Zones_desservies'!IA20","v":0},{"$f":"'3.Zones_desservies'!IB20","v":0},{"$f":"'3.Zones_desservies'!IC20","v":0},{"$f":"'3.Zones_desservies'!ID20","v":0},{"$f":"'3.Zones_desservies'!IE20","v":0},{"$f":"'3.Zones_desservies'!IF20","v":0},{"$f":"'3.Zones_desservies'!IG20","v":0},{"$f":"'3.Zones_desservies'!IH20","v":0},{"$f":"'3.Zones_desservies'!II20","v":0},{"$f":"'3.Zones_desservies'!IJ20","v":0},{"$f":"'3.Zones_desservies'!IK20","v":0},{"$f":"'3.Zones_desservies'!IL20","v":0},{"$f":"'3.Zones_desservies'!IM20","v":0},{"$f":"'3.Zones_desservies'!IN20","v":0},{"$f":"'3.Zones_desservies'!IO20","v":0},{"$f":"'3.Zones_desservies'!IP20","v":0},{"$f":"'3.Zones_desservies'!IQ20","v":0},{"$f":"'3.Zones_desservies'!IR20","v":0},{"$f":"'3.Zones_desservies'!IS20","v":0},{"$f":"'3.Zones_desservies'!IT20","v":0},{"$f":"'3.Zones_desservies'!IU20","v":0},{"$f":"'3.Zones_desservies'!IV20","v":0},{"$f":"'3.Zones_desservies'!IW20","v":0},{"$f":"'3.Zones_desservies'!IX20","v":0},{"$f":"'3.Zones_desservies'!IY20","v":0},{"$f":"'3.Zones_desservies'!IZ20","v":0},{"$f":"'3.Zones_desservies'!JA20","v":0},{"$f":"'3.Zones_desservies'!JB20","v":0},{"$f":"'3.Zones_desservies'!JC20","v":0},{"$f":"'3.Zones_desservies'!JD20","v":0},{"$f":"'3.Zones_desservies'!JE20","v":0},{"$f":"'3.Zones_desservies'!JF20","v":0},{"$f":"'3.Zones_desservies'!JG20","v":0},{"$f":"'3.Zones_desservies'!JH20","v":0},{"$f":"'3.Zones_desservies'!JI20","v":0},{"$f":"'3.Zones_desservies'!JJ20","v":0},{"$f":"'3.Zones_desservies'!JK20","v":0},{"$f":"'3.Zones_desservies'!JL20","v":0},{"$f":"'3.Zones_desservies'!JM20","v":0},{"$f":"'3.Zones_desservies'!JN20","v":0},{"$f":"'3.Zones_desservies'!JO20","v":0},{"$f":"'3.Zones_desservies'!JP20","v":0},{"$f":"'3.Zones_desservies'!JQ20","v":0},{"$f":"'3.Zones_desservies'!JR20","v":0},{"$f":"'3.Zones_desservies'!JS20","v":0},{"$f":"'3.Zones_desservies'!JT20","v":0},{"$f":"'3.Zones_desservies'!JU20","v":0},{"$f":"'3.Zones_desservies'!JV20","v":0},{"$f":"'3.Zones_desservies'!JW20","v":0},{"$f":"'3.Zones_desservies'!JX20","v":0},{"$f":"'3.Zones_desservies'!JY20","v":0},{"$f":"'3.Zones_desservies'!JZ20","v":0},{"$f":"'3.Zones_desservies'!KA20","v":0},{"$f":"'3.Zones_desservies'!KB20","v":0},{"$f":"'3.Zones_desservies'!KC20","v":0},{"$f":"'3.Zones_desservies'!KD20","v":0},{"$f":"'3.Zones_desservies'!KE20","v":0},{"$f":"'3.Zones_desservies'!KF20","v":0},{"$f":"'3.Zones_desservies'!KG20","v":0},{"$f":"'3.Zones_desservies'!KH20","v":0},{"$f":"'3.Zones_desservies'!KI20","v":0},{"$f":"'3.Zones_desservies'!KJ20","v":0},{"$f":"'3.Zones_desservies'!KK20","v":0},{"$f":"'3.Zones_desservies'!KL20","v":0},{"$f":"'3.Zones_desservies'!KM20","v":0},{"$f":"'3.Zones_desservies'!KN20","v":0},{"$f":"'3.Zones_desservies'!KO20","v":0},{"$f":"'3.Zones_desservies'!KP20","v":0},{"$f":"'3.Zones_desservies'!KQ20","v":0},{"$f":"'3.Zones_desservies'!KR20","v":0},{"$f":"'3.Zones_desservies'!KS20","v":0},{"$f":"'3.Zones_desservies'!KT20","v":0},{"$f":"'3.Zones_desservies'!KU20","v":0},{"$f":"'3.Zones_desservies'!KV20","v":0},{"$f":"'3.Zones_desservies'!KW20","v":0},{"$f":"'3.Zones_desservies'!KX20","v":0},{"$f":"'3.Zones_desservies'!KY20","v":0},{"$f":"'3.Zones_desservies'!KZ20","v":0},{"$f":"'3.Zones_desservies'!LA20","v":0},{"$f":"'3.Zones_desservies'!LB20","v":0},{"$f":"'3.Zones_desservies'!LC20","v":0},{"$f":"'3.Zones_desservies'!LD20","v":0},{"$f":"'3.Zones_desservies'!LE20","v":0},{"$f":"'3.Zones_desservies'!LF20","v":0},{"$f":"'3.Zones_desservies'!LG20","v":0},{"$f":"'3.Zones_desservies'!LH20","v":0},{"$f":"'3.Zones_desservies'!LI20","v":0},{"$f":"'3.Zones_desservies'!LJ20","v":0},{"$f":"'3.Zones_desservies'!LK20","v":0},{"$f":"'3.Zones_desservies'!LL20","v":0},{"$f":"'3.Zones_desservies'!LM20","v":0},{"$f":"'3.Zones_desservies'!LN20","v":0},{"$f":"'3.Zones_desservies'!LO20","v":0},{"$f":"'3.Zones_desservies'!LP20","v":0},{"$f":"'3.Zones_desservies'!LQ20","v":0},{"$f":"'3.Zones_desservies'!LR20","v":0},{"$f":"'3.Zones_desservies'!LS20","v":0},{"$f":"'3.Zones_desservies'!LT20","v":0},{"$f":"'3.Zones_desservies'!LU20","v":0},{"$f":"'3.Zones_desservies'!LV20","v":0},{"$f":"'3.Zones_desservies'!LW20","v":0},{"$f":"'3.Zones_desservies'!LX20","v":0},{"$f":"'3.Zones_desservies'!LY20","v":0},{"$f":"'3.Zones_desservies'!LZ20","v":0},{"$f":"'3.Zones_desservies'!MA20","v":0},{"$f":"'3.Zones_desservies'!MB20","v":0},{"$f":"'3.Zones_desservies'!MC20","v":0},{"$f":"'3.Zones_desservies'!MD20","v":0},{"$f":"'3.Zones_desservies'!ME20","v":0},{"$f":"'3.Zones_desservies'!MF20","v":0},{"$f":"'3.Zones_desservies'!MG20","v":0},{"$f":"'3.Zones_desservies'!MH20","v":0},{"$f":"'3.Zones_desservies'!MI20","v":0},{"$f":"'3.Zones_desservies'!MJ20","v":0},{"$f":"'3.Zones_desservies'!MK20","v":0},{"$f":"'3.Zones_desservies'!ML20","v":0},{"$f":"'3.Zones_desservies'!MM20","v":0},{"$f":"'3.Zones_desservies'!MN20","v":0},{"$f":"'3.Zones_desservies'!MO20","v":0},{"$f":"'3.Zones_desservies'!MP20","v":0},{"$f":"'3.Zones_desservies'!MQ20","v":0},{"$f":"'3.Zones_desservies'!MR20","v":0},{"$f":"'3.Zones_desservies'!MS20","v":0},{"$f":"'3.Zones_desservies'!MT20","v":0},{"$f":"'3.Zones_desservies'!MU20","v":0},{"$f":"'3.Zones_desservies'!MV20","v":0},{"$f":"'3.Zones_desservies'!MW20","v":0},{"$f":"'3.Zones_desservies'!MX20","v":0},{"$f":"'3.Zones_desservies'!MY20","v":0},{"$f":"'3.Zones_desservies'!MZ20","v":0},{"$f":"'3.Zones_desservies'!NA20","v":0},{"$f":"'3.Zones_desservies'!NB20","v":0},{"$f":"'3.Zones_desservies'!NC20","v":0},{"$f":"'3.Zones_desservies'!ND20","v":0},{"$f":"'3.Zones_desservies'!NE20","v":0},{"$f":"'3.Zones_desservies'!NF20","v":0},{"$f":"'3.Zones_desservies'!NG20","v":0},{"$f":"'3.Zones_desservies'!NH20","v":0},{"$f":"'3.Zones_desservies'!NI20","v":0},{"$f":"'3.Zones_desservies'!NJ20","v":0},{"$f":"'3.Zones_desservies'!NK20","v":0},{"$f":"'3.Zones_desservies'!NL20","v":0},{"$f":"'3.Zones_desservies'!NM20","v":0},{"$f":"'3.Zones_desservies'!NN20","v":0},{"$f":"'3.Zones_desservies'!NO20","v":0},{"$f":"'3.Zones_desservies'!NP20","v":0},{"$f":"'3.Zones_desservies'!NQ20","v":0},{"$f":"'3.Zones_desservies'!NR20","v":0},{"$f":"'3.Zones_desservies'!NS20","v":0},{"$f":"'3.Zones_desservies'!NT20","v":0},{"$f":"'3.Zones_desservies'!NU20","v":0},{"$f":"'3.Zones_desservies'!NV20","v":0},{"$f":"'3.Zones_desservies'!NW20","v":0},{"$f":"'3.Zones_desservies'!NX20","v":0},{"$f":"'3.Zones_desservies'!NY20","v":0},{"$f":"'3.Zones_desservies'!NZ20","v":0},{"$f":"'3.Zones_desservies'!OA20","v":0},{"$f":"'3.Zones_desservies'!OB20","v":0},{"$f":"'3.Zones_desservies'!OC20","v":0},{"$f":"'3.Zones_desservies'!OD20","v":0},{"$f":"'3.Zones_desservies'!OE20","v":0},{"$f":"'3.Zones_desservies'!OF20","v":0},{"$f":"'3.Zones_desservies'!OG20","v":0},{"$f":"'3.Zones_desservies'!OH20","v":0},{"$f":"'3.Zones_desservies'!OI20","v":0},{"$f":"'3.Zones_desservies'!OJ20","v":0},{"$f":"'3.Zones_desservies'!OK20","v":0},{"$f":"'3.Zones_desservies'!OL20","v":0},{"$f":"'3.Zones_desservies'!OM20","v":0},{"$f":"'3.Zones_desservies'!ON20","v":0},{"$f":"'3.Zones_desservies'!OO20","v":0},{"$f":"'3.Zones_desservies'!OP20","v":0},{"$f":"'3.Zones_desservies'!OQ20","v":0},{"$f":"'3.Zones_desservies'!OR20","v":0},{"$f":"'3.Zones_desservies'!OS20","v":0},{"$f":"'3.Zones_desservies'!OT20","v":0},{"$f":"'3.Zones_desservies'!OU20","v":0},{"$f":"'3.Zones_desservies'!OV20","v":0},{"$f":"'3.Zones_desservies'!OW20","v":0},{"$f":"'3.Zones_desservies'!OX20","v":0},{"$f":"'3.Zones_desservies'!OY20","v":0},{"$f":"'3.Zones_desservies'!OZ20","v":0},{"$f":"'3.Zones_desservies'!PA20","v":0},{"$f":"'3.Zones_desservies'!PB20","v":0},{"$f":"'3.Zones_desservies'!PC20","v":0},{"$f":"'3.Zones_desservies'!PD20","v":0},{"$f":"'3.Zones_desservies'!PE20","v":0},{"$f":"'3.Zones_desservies'!PF20","v":0},{"$f":"'3.Zones_desservies'!PG20","v":0},{"$f":"'3.Zones_desservies'!PH20","v":0},{"$f":"'3.Zones_desservies'!PI20","v":0},{"$f":"'3.Zones_desservies'!PJ20","v":0},{"$f":"'3.Zones_desservies'!PK20","v":0},{"$f":"'3.Zones_desservies'!PL20","v":0},{"$f":"'3.Zones_desservies'!PM20","v":0},{"$f":"'3.Zones_desservies'!PN20","v":0},{"$f":"'3.Zones_desservies'!PO20","v":0},{"$f":"'3.Zones_desservies'!PP20","v":0},{"$f":"'3.Zones_desservies'!PQ20","v":0},{"$f":"'3.Zones_desservies'!PR20","v":0},{"$f":"'3.Zones_desservies'!PS20","v":0},{"$f":"'3.Zones_desservies'!PT20","v":0},{"$f":"'3.Zones_desservies'!PU20","v":0},{"$f":"'3.Zones_desservies'!PV20","v":0},{"$f":"'3.Zones_desservies'!PW20","v":0},{"$f":"'3.Zones_desservies'!PX20","v":0},{"$f":"'3.Zones_desservies'!PY20","v":0},{"$f":"'3.Zones_desservies'!PZ20","v":0},{"$f":"'3.Zones_desservies'!QA20","v":0},{"$f":"'3.Zones_desservies'!QB20","v":0},{"$f":"'3.Zones_desservies'!QC20","v":0},{"$f":"'3.Zones_desservies'!QD20","v":0},{"$f":"'3.Zones_desservies'!QE20","v":0},{"$f":"'3.Zones_desservies'!QF20","v":0},{"$f":"'3.Zones_desservies'!QG20","v":0},{"$f":"'3.Zones_desservies'!QH20","v":0},{"$f":"'3.Zones_desservies'!QI20","v":0},{"$f":"'3.Zones_desservies'!QJ20","v":0},{"$f":"'3.Zones_desservies'!QK20","v":0},{"$f":"'3.Zones_desservies'!QL20","v":0},{"$f":"'3.Zones_desservies'!QM20","v":0},{"$f":"'3.Zones_desservies'!QN20","v":0},{"$f":"'3.Zones_desservies'!QO20","v":0},{"$f":"'3.Zones_desservies'!QP20","v":0},{"$f":"'3.Zones_desservies'!QQ20","v":0},{"$f":"'3.Zones_desservies'!QR20","v":0},{"$f":"'3.Zones_desservies'!QS20","v":0},{"$f":"'3.Zones_desservies'!QT20","v":0},{"$f":"'3.Zones_desservies'!QU20","v":0},{"$f":"'3.Zones_desservies'!QV20","v":0},{"$f":"'3.Zones_desservies'!QW20","v":0},{"$f":"'3.Zones_desservies'!QX20","v":0},{"$f":"'3.Zones_desservies'!QY20","v":0},{"$f":"'3.Zones_desservies'!QZ20","v":0},{"$f":"'3.Zones_desservies'!RA20","v":0},{"$f":"'3.Zones_desservies'!RB20","v":0},{"$f":"'3.Zones_desservies'!RC20","v":0},{"$f":"'3.Zones_desservies'!RD20","v":0},{"$f":"'3.Zones_desservies'!RE20","v":0},{"$f":"'3.Zones_desservies'!RF20","v":0},{"$f":"'3.Zones_desservies'!RG20","v":0},{"$f":"'3.Zones_desservies'!RH20","v":0},{"$f":"'3.Zones_desservies'!RI20","v":0},{"$f":"'3.Zones_desservies'!RJ20","v":0},{"$f":"'3.Zones_desservies'!RK20","v":0},{"$f":"'3.Zones_desservies'!RL20","v":0},{"$f":"'3.Zones_desservies'!RM20","v":0},{"$f":"'3.Zones_desservies'!RN20","v":0},{"$f":"'3.Zones_desservies'!RO20","v":0},{"$f":"'3.Zones_desservies'!RP20","v":0},{"$f":"'3.Zones_desservies'!RQ20","v":0},{"$f":"'3.Zones_desservies'!RR20","v":0},{"$f":"'3.Zones_desservies'!RS20","v":0},{"$f":"'3.Zones_desservies'!RT20","v":0},{"$f":"'3.Zones_desservies'!RU20","v":0},{"$f":"'3.Zones_desservies'!RV20","v":0},{"$f":"'3.Zones_desservies'!RW20","v":0},{"$f":"'3.Zones_desservies'!RX20","v":0},{"$f":"'3.Zones_desservies'!RY20","v":0},{"$f":"'3.Zones_desservies'!RZ20","v":0},{"$f":"'3.Zones_desservies'!SA20","v":0},{"$f":"'3.Zones_desservies'!SB20","v":0},{"$f":"'3.Zones_desservies'!SC20","v":0},{"$f":"'3.Zones_desservies'!SD20","v":0},{"$f":"'3.Zones_desservies'!SE20","v":0},{"$f":"'3.Zones_desservies'!SF20","v":0},{"$f":"'3.Zones_desservies'!SG20","v":0},{"$f":"'3.Zones_desservies'!SH20","v":0}]
[null,{"$f":"'3.Zones_desservies'!B21","v":7},{"$f":"'3.Zones_desservies'!C21","v":"Ville 7"},{"$f":"'3.Zones_desservies'!D21","v":0},{"$f":"'3.Zones_desservies'!E21","v":0},{"$f":"'3.Zones_desservies'!F21","v":0},{"$f":"'3.Zones_desservies'!G21","v":0},{"$f":"'3.Zones_desservies'!H21","v":0},{"$f":"'3.Zones_desservies'!I21","v":0},{"$f":"'3.Zones_desservies'!J21","v":0},{"$f":"'3.Zones_desservies'!K21","v":0},{"$f":"'3.Zones_desservies'!L21","v":0},{"$f":"'3.Zones_desservies'!M21","v":0},{"$f":"'3.Zones_desservies'!N21","v":0},{"$f":"'3.Zones_desservies'!O21","v":0},{"$f":"'3.Zones_desservies'!P21","v":0},{"$f":"'3.Zones_desservies'!Q21","v":0},{"$f":"'3.Zones_desservies'!R21","v":0},{"$f":"'3.Zones_desservies'!S21","v":0},{"$f":"'3.Zones_desservies'!T21","v":0},{"$f":"'3.Zones_desservies'!U21","v":0},{"$f":"'3.Zones_desservies'!V21","v":0},{"$f":"'3.Zones_desservies'!W21","v":0},{"$f":"'3.Zones_desservies'!X21","v":0},{"$f":"'3.Zones_desservies'!Y21","v":0},{"$f":"'3.Zones_desservies'!Z21","v":0},{"$f":"'3.Zones_desservies'!AA21","v":0},{"$f":"'3.Zones_desservies'!AB21","v":0},{"$f":"'3.Zones_desservies'!AC21","v":0},{"$f":"'3.Zones_desservies'!AD21","v":0},{"$f":"'3.Zones_desservies'!AE21","v":0},{"$f":"'3.Zones_desservies'!AF21","v":0},{"$f":"'3.Zones_desservies'!AG21","v":0},{"$f":"'3.Zones_desservies'!AH21","v":0},{"$f":"'3.Zones_desservies'!AI21","v":0},{"$f":"'3.Zones_desservies'!AJ21","v":0},{"$f":"'3.Zones_desservies'!AK21","v":0},{"$f":"'3.Zones_desservies'!AL21","v":0},{"$f":"'3.Zones_desservies'!AM21","v":0},{"$f":"'3.Zones_desservies'!AN21","v":0},{"$f":"'3.Zones_desservies'!AO21","v":0},{"$f":"'3.Zones_desservies'!AP21","v":0},{"$f":"'3.Zones_desservies'!AQ21","v":0},{"$f":"'3.Zones_desservies'!AR21","v":0},{"$f":"'3.Zones_desservies'!AS21","v":0},{"$f":"'3.Zones_desservies'!AT21","v":0},{"$f":"'3.Zones_desservies'!AU21","v":0},{"$f":"'3.Zones_desservies'!AV21","v":0},{"$f":"'3.Zones_desservies'!AW21","v":0},{"$f":"'3.Zones_desservies'!AX21","v":0},{"$f":"'3.Zones_desservies'!AY21","v":0},{"$f":"'3.Zones_desservies'!AZ21","v":0},{"$f":"'3.Zones_desservies'!BA21","v":0},{"$f":"'3.Zones_desservies'!BB21","v":0},{"$f":"'3.Zones_desservies'!BC21","v":0},{"$f":"'3.Zones_desservies'!BD21","v":0},{"$f":"'3.Zones_desservies'!BE21","v":0},{"$f":"'3.Zones_desservies'!BF21","v":0},{"$f":"'3.Zones_desservies'!BG21","v":0},{"$f":"'3.Zones_desservies'!BH21","v":0},{"$f":"'3.Zones_desservies'!BI21","v":0},{"$f":"'3.Zones_desservies'!BJ21","v":0},{"$f":"'3.Zones_desservies'!BK21","v":0},{"$f":"'3.Zones_desservies'!BL21","v":0},{"$f":"'3.Zones_desservies'!BM21","v":0},{"$f":"'3.Zones_desservies'!BN21","v":0},{"$f":"'3.Zones_desservies'!BO21","v":0},{"$f":"'3.Zones_desservies'!BP21","v":0},{"$f":"'3.Zones_desservies'!BQ21","v":0},{"$f":"'3.Zones_desservies'!BR21","v":0},{"$f":"'3.Zones_desservies'!BS21","v":0},{"$f":"'3.Zones_desservies'!BT21","v":0},{"$f":"'3.Zones_desservies'!BU21","v":0},{"$f":"'3.Zones_desservies'!BV21","v":0},{"$f":"'3.Zones_desservies'!BW21","v":0},{"$f":"'3.Zones_desservies'!BX21","v":0},{"$f":"'3.Zones_desservies'!BY21","v":0},{"$f":"'3.Zones_desservies'!BZ21","v":0},{"$f":"'3.Zones_desservies'!CA21","v":0},{"$f":"'3.Zones_desservies'!CB21","v":0},{"$f":"'3.Zones_desservies'!CC21","v":0},{"$f":"'3.Zones_desservies'!CD21","v":0},{"$f":"'3.Zones_desservies'!CE21","v":0},{"$f":"'3.Zones_desservies'!CF21","v":0},{"$f":"'3.Zones_desservies'!CG21","v":0},{"$f":"'3.Zones_desservies'!CH21","v":0},{"$f":"'3.Zones_desservies'!CI21","v":0},{"$f":"'3.Zones_desservies'!CJ21","v":0},{"$f":"'3.Zones_desservies'!CK21","v":0},{"$f":"'3.Zones_desservies'!CL21","v":0},{"$f":"'3.Zones_desservies'!CM21","v":0},{"$f":"'3.Zones_desservies'!CN21","v":0},{"$f":"'3.Zones_desservies'!CO21","v":0},{"$f":"'3.Zones_desservies'!CP21","v":0},{"$f":"'3.Zones_desservies'!CQ21","v":0},{"$f":"'3.Zones_desservies'!CR21","v":0},{"$f":"'3.Zones_desservies'!CS21","v":0},{"$f":"'3.Zones_desservies'!CT21","v":0},{"$f":"'3.Zones_desservies'!CU21","v":0},{"$f":"'3.Zones_desservies'!CV21","v":0},{"$f":"'3.Zones_desservies'!CW21","v":0},{"$f":"'3.Zones_desservies'!CX21","v":0},{"$f":"'3.Zones_desservies'!CY21","v":"_"},{"$f":"'3.Zones_desservies'!CZ21","v":0},{"$f":"'3.Zones_desservies'!DA21","v":0},{"$f":"'3.Zones_desservies'!DB21","v":0},{"$f":"'3.Zones_desservies'!DC21","v":0},{"$f":"'3.Zones_desservies'!DD21","v":0},{"$f":"'3.Zones_desservies'!DE21","v":0},{"$f":"'3.Zones_desservies'!DF21","v":0},{"$f":"'3.Zones_desservies'!DG21","v":0},{"$f":"'3.Zones_desservies'!DH21","v":0},{"$f":"'3.Zones_desservies'!DI21","v":0},{"$f":"'3.Zones_desservies'!DJ21","v":0},{"$f":"'3.Zones_desservies'!DK21","v":0},{"$f":"'3.Zones_desservies'!DL21","v":0},{"$f":"'3.Zones_desservies'!DM21","v":0},{"$f":"'3.Zones_desservies'!DN21","v":0},{"$f":"'3.Zones_desservies'!DO21","v":0},{"$f":"'3.Zones_desservies'!DP21","v":0},{"$f":"'3.Zones_desservies'!DQ21","v":0},{"$f":"'3.Zones_desservies'!DR21","v":0},{"$f":"'3.Zones_desservies'!DS21","v":0},{"$f":"'3.Zones_desservies'!DT21","v":0},{"$f":"'3.Zones_desservies'!DU21","v":0},{"$f":"'3.Zones_desservies'!DV21","v":0},{"$f":"'3.Zones_desservies'!DW21","v":0},{"$f":"'3.Zones_desservies'!DX21","v":0},{"$f":"'3.Zones_desservies'!DY21","v":0},{"$f":"'3.Zones_desservies'!DZ21","v":0},{"$f":"'3.Zones_desservies'!EA21","v":0},{"$f":"'3.Zones_desservies'!EB21","v":0},{"$f":"'3.Zones_desservies'!EC21","v":0},{"$f":"'3.Zones_desservies'!ED21","v":0},{"$f":"'3.Zones_desservies'!EE21","v":0},{"$f":"'3.Zones_desservies'!EF21","v":0},{"$f":"'3.Zones_desservies'!EG21","v":0},{"$f":"'3.Zones_desservies'!EH21","v":0},{"$f":"'3.Zones_desservies'!EI21","v":0},{"$f":"'3.Zones_desservies'!EJ21","v":0},{"$f":"'3.Zones_desservies'!EK21","v":0},{"$f":"'3.Zones_desservies'!EL21","v":0},{"$f":"'3.Zones_desservies'!EM21","v":0},{"$f":"'3.Zones_desservies'!EN21","v":0},{"$f":"'3.Zones_desservies'!EO21","v":0},{"$f":"'3.Zones_desservies'!EP21","v":0},{"$f":"'3.Zones_desservies'!EQ21","v":0},{"$f":"'3.Zones_desservies'!ER21","v":0},{"$f":"'3.Zones_desservies'!ES21","v":0},{"$f":"'3.Zones_desservies'!ET21","v":0},{"$f":"'3.Zones_desservies'!EU21","v":0},{"$f":"'3.Zones_desservies'!EV21","v":0},{"$f":"'3.Zones_desservies'!EW21","v":0},{"$f":"'3.Zones_desservies'!EX21","v":0},{"$f":"'3.Zones_desservies'!EY21","v":0},{"$f":"'3.Zones_desservies'!EZ21","v":0},{"$f":"'3.Zones_desservies'!FA21","v":0},{"$f":"'3.Zones_desservies'!FB21","v":0},{"$f":"'3.Zones_desservies'!FC21","v":0},{"$f":"'3.Zones_desservies'!FD21","v":0},{"$f":"'3.Zones_desservies'!FE21","v":0},{"$f":"'3.Zones_desservies'!FF21","v":0},{"$f":"'3.Zones_desservies'!FG21","v":0},{"$f":"'3.Zones_desservies'!FH21","v":0},{"$f":"'3.Zones_desservies'!FI21","v":0},{"$f":"'3.Zones_desservies'!FJ21","v":0},{"$f":"'3.Zones_desservies'!FK21","v":0},{"$f":"'3.Zones_desservies'!FL21","v":0},{"$f":"'3.Zones_desservies'!FM21","v":0},{"$f":"'3.Zones_desservies'!FN21","v":0},{"$f":"'3.Zones_desservies'!FO21","v":0},{"$f":"'3.Zones_desservies'!FP21","v":0},{"$f":"'3.Zones_desservies'!FQ21","v":0},{"$f":"'3.Zones_desservies'!FR21","v":0},{"$f":"'3.Zones_desservies'!FS21","v":0},{"$f":"'3.Zones_desservies'!FT21","v":0},{"$f":"'3.Zones_desservies'!FU21","v":0},{"$f":"'3.Zones_desservies'!FV21","v":0},{"$f":"'3.Zones_desservies'!FW21","v":0},{"$f":"'3.Zones_desservies'!FX21","v":0},{"$f":"'3.Zones_desservies'!FY21","v":0},{"$f":"'3.Zones_desservies'!FZ21","v":0},{"$f":"'3.Zones_desservies'!GA21","v":0},{"$f":"'3.Zones_desservies'!GB21","v":0},{"$f":"'3.Zones_desservies'!GC21","v":0},{"$f":"'3.Zones_desservies'!GD21","v":0},{"$f":"'3.Zones_desservies'!GE21","v":0},{"$f":"'3.Zones_desservies'!GF21","v":0},{"$f":"'3.Zones_desservies'!GG21","v":0},{"$f":"'3.Zones_desservies'!GH21","v":0},{"$f":"'3.Zones_desservies'!GI21","v":0},{"$f":"'3.Zones_desservies'!GJ21","v":0},{"$f":"'3.Zones_desservies'!GK21","v":0},{"$f":"'3.Zones_desservies'!GL21","v":0},{"$f":"'3.Zones_desservies'!GM21","v":0},{"$f":"'3.Zones_desservies'!GN21","v":0},{"$f":"'3.Zones_desservies'!GO21","v":0},{"$f":"'3.Zones_desservies'!GP21","v":0},{"$f":"'3.Zones_desservies'!GQ21","v":0},{"$f":"'3.Zones_desservies'!GR21","v":0},{"$f":"'3.Zones_desservies'!GS21","v":0},{"$f":"'3.Zones_desservies'!GT21","v":0},{"$f":"'3.Zones_desservies'!GU21","v":0},{"$f":"'3.Zones_desservies'!GV21","v":0},{"$f":"'3.Zones_desservies'!GW21","v":0},{"$f":"'3.Zones_desservies'!GX21","v":0},{"$f":"'3.Zones_desservies'!GY21","v":0},{"$f":"'3.Zones_desservies'!GZ21","v":0},{"$f":"'3.Zones_desservies'!HA21","v":0},{"$f":"'3.Zones_desservies'!HB21","v":0},{"$f":"'3.Zones_desservies'!HC21","v":0},{"$f":"'3.Zones_desservies'!HD21","v":0},{"$f":"'3.Zones_desservies'!HE21","v":0},{"$f":"'3.Zones_desservies'!HF21","v":0},{"$f":"'3.Zones_desservies'!HG21","v":0},{"$f":"'3.Zones_desservies'!HH21","v":0},{"$f":"'3.Zones_desservies'!HI21","v":0},{"$f":"'3.Zones_desservies'!HJ21","v":0},{"$f":"'3.Zones_desservies'!HK21","v":0},{"$f":"'3.Zones_desservies'!HL21","v":0},{"$f":"'3.Zones_desservies'!HM21","v":0},{"$f":"'3.Zones_desservies'!HN21","v":0},{"$f":"'3.Zones_desservies'!HO21","v":0},{"$f":"'3.Zones_desservies'!HP21","v":0},{"$f":"'3.Zones_desservies'!HQ21","v":0},{"$f":"'3.Zones_desservies'!HR21","v":0},{"$f":"'3.Zones_desservies'!HS21","v":0},{"$f":"'3.Zones_desservies'!HT21","v":0},{"$f":"'3.Zones_desservies'!HU21","v":0},{"$f":"'3.Zones_desservies'!HV21","v":0},{"$f":"'3.Zones_desservies'!HW21","v":0},{"$f":"'3.Zones_desservies'!HX21","v":0},{"$f":"'3.Zones_desservies'!HY21","v":0},{"$f":"'3.Zones_desservies'!HZ21","v":0},{"$f":"'3.Zones_desservies'!IA21","v":0},{"$f":"'3.Zones_desservies'!IB21","v":0},{"$f":"'3.Zones_desservies'!IC21","v":0},{"$f":"'3.Zones_desservies'!ID21","v":0},{"$f":"'3.Zones_desservies'!IE21","v":0},{"$f":"'3.Zones_desservies'!IF21","v":0},{"$f":"'3.Zones_desservies'!IG21","v":0},{"$f":"'3.Zones_desservies'!IH21","v":0},{"$f":"'3.Zones_desservies'!II21","v":0},{"$f":"'3.Zones_desservies'!IJ21","v":0},{"$f":"'3.Zones_desservies'!IK21","v":0},{"$f":"'3.Zones_desservies'!IL21","v":0},{"$f":"'3.Zones_desservies'!IM21","v":0},{"$f":"'3.Zones_desservies'!IN21","v":0},{"$f":"'3.Zones_desservies'!IO21","v":0},{"$f":"'3.Zones_desservies'!IP21","v":0},{"$f":"'3.Zones_desservies'!IQ21","v":0},{"$f":"'3.Zones_desservies'!IR21","v":0},{"$f":"'3.Zones_desservies'!IS21","v":0},{"$f":"'3.Zones_desservies'!IT21","v":0},{"$f":"'3.Zones_desservies'!IU21","v":0},{"$f":"'3.Zones_desservies'!IV21","v":0},{"$f":"'3.Zones_desservies'!IW21","v":0},{"$f":"'3.Zones_desservies'!IX21","v":0},{"$f":"'3.Zones_desservies'!IY21","v":0},{"$f":"'3.Zones_desservies'!IZ21","v":0},{"$f":"'3.Zones_desservies'!JA21","v":0},{"$f":"'3.Zones_desservies'!JB21","v":0},{"$f":"'3.Zones_desservies'!JC21","v":0},{"$f":"'3.Zones_desservies'!JD21","v":0},{"$f":"'3.Zones_desservies'!JE21","v":0},{"$f":"'3.Zones_desservies'!JF21","v":0},{"$f":"'3.Zones_desservies'!JG21","v":0},{"$f":"'3.Zones_desservies'!JH21","v":0},{"$f":"'3.Zones_desservies'!JI21","v":0},{"$f":"'3.Zones_desservies'!JJ21","v":0},{"$f":"'3.Zones_desservies'!JK21","v":0},{"$f":"'3.Zones_desservies'!JL21","v":0},{"$f":"'3.Zones_desservies'!JM21","v":0},{"$f":"'3.Zones_desservies'!JN21","v":0},{"$f":"'3.Zones_desservies'!JO21","v":0},{"$f":"'3.Zones_desservies'!JP21","v":0},{"$f":"'3.Zones_desservies'!JQ21","v":0},{"$f":"'3.Zones_desservies'!JR21","v":0},{"$f":"'3.Zones_desservies'!JS21","v":0},{"$f":"'3.Zones_desservies'!JT21","v":0},{"$f":"'3.Zones_desservies'!JU21","v":0},{"$f":"'3.Zones_desservies'!JV21","v":0},{"$f":"'3.Zones_desservies'!JW21","v":0},{"$f":"'3.Zones_desservies'!JX21","v":0},{"$f":"'3.Zones_desservies'!JY21","v":0},{"$f":"'3.Zones_desservies'!JZ21","v":0},{"$f":"'3.Zones_desservies'!KA21","v":0},{"$f":"'3.Zones_desservies'!KB21","v":0},{"$f":"'3.Zones_desservies'!KC21","v":0},{"$f":"'3.Zones_desservies'!KD21","v":0},{"$f":"'3.Zones_desservies'!KE21","v":0},{"$f":"'3.Zones_desservies'!KF21","v":0},{"$f":"'3.Zones_desservies'!KG21","v":0},{"$f":"'3.Zones_desservies'!KH21","v":0},{"$f":"'3.Zones_desservies'!KI21","v":0},{"$f":"'3.Zones_desservies'!KJ21","v":0},{"$f":"'3.Zones_desservies'!KK21","v":0},{"$f":"'3.Zones_desservies'!KL21","v":0},{"$f":"'3.Zones_desservies'!KM21","v":0},{"$f":"'3.Zones_desservies'!KN21","v":0},{"$f":"'3.Zones_desservies'!KO21","v":0},{"$f":"'3.Zones_desservies'!KP21","v":0},{"$f":"'3.Zones_desservies'!KQ21","v":0},{"$f":"'3.Zones_desservies'!KR21","v":0},{"$f":"'3.Zones_desservies'!KS21","v":0},{"$f":"'3.Zones_desservies'!KT21","v":0},{"$f":"'3.Zones_desservies'!KU21","v":0},{"$f":"'3.Zones_desservies'!KV21","v":0},{"$f":"'3.Zones_desservies'!KW21","v":0},{"$f":"'3.Zones_desservies'!KX21","v":0},{"$f":"'3.Zones_desservies'!KY21","v":0},{"$f":"'3.Zones_desservies'!KZ21","v":0},{"$f":"'3.Zones_desservies'!LA21","v":0},{"$f":"'3.Zones_desservies'!LB21","v":0},{"$f":"'3.Zones_desservies'!LC21","v":0},{"$f":"'3.Zones_desservies'!LD21","v":0},{"$f":"'3.Zones_desservies'!LE21","v":0},{"$f":"'3.Zones_desservies'!LF21","v":0},{"$f":"'3.Zones_desservies'!LG21","v":0},{"$f":"'3.Zones_desservies'!LH21","v":0},{"$f":"'3.Zones_desservies'!LI21","v":0},{"$f":"'3.Zones_desservies'!LJ21","v":0},{"$f":"'3.Zones_desservies'!LK21","v":0},{"$f":"'3.Zones_desservies'!LL21","v":0},{"$f":"'3.Zones_desservies'!LM21","v":0},{"$f":"'3.Zones_desservies'!LN21","v":0},{"$f":"'3.Zones_desservies'!LO21","v":0},{"$f":"'3.Zones_desservies'!LP21","v":0},{"$f":"'3.Zones_desservies'!LQ21","v":0},{"$f":"'3.Zones_desservies'!LR21","v":0},{"$f":"'3.Zones_desservies'!LS21","v":0},{"$f":"'3.Zones_desservies'!LT21","v":0},{"$f":"'3.Zones_desservies'!LU21","v":0},{"$f":"'3.Zones_desservies'!LV21","v":0},{"$f":"'3.Zones_desservies'!LW21","v":0},{"$f":"'3.Zones_desservies'!LX21","v":0},{"$f":"'3.Zones_desservies'!LY21","v":0},{"$f":"'3.Zones_desservies'!LZ21","v":0},{"$f":"'3.Zones_desservies'!MA21","v":0},{"$f":"'3.Zones_desservies'!MB21","v":0},{"$f":"'3.Zones_desservies'!MC21","v":0},{"$f":"'3.Zones_desservies'!MD21","v":0},{"$f":"'3.Zones_desservies'!ME21","v":0},{"$f":"'3.Zones_desservies'!MF21","v":0},{"$f":"'3.Zones_desservies'!MG21","v":0},{"$f":"'3.Zones_desservies'!MH21","v":0},{"$f":"'3.Zones_desservies'!MI21","v":0},{"$f":"'3.Zones_desservies'!MJ21","v":0},{"$f":"'3.Zones_desservies'!MK21","v":0},{"$f":"'3.Zones_desservies'!ML21","v":0},{"$f":"'3.Zones_desservies'!MM21","v":0},{"$f":"'3.Zones_desservies'!MN21","v":0},{"$f":"'3.Zones_desservies'!MO21","v":0},{"$f":"'3.Zones_desservies'!MP21","v":0},{"$f":"'3.Zones_desservies'!MQ21","v":0},{"$f":"'3.Zones_desservies'!MR21","v":0},{"$f":"'3.Zones_desservies'!MS21","v":0},{"$f":"'3.Zones_desservies'!MT21","v":0},{"$f":"'3.Zones_desservies'!MU21","v":0},{"$f":"'3.Zones_desservies'!MV21","v":0},{"$f":"'3.Zones_desservies'!MW21","v":0},{"$f":"'3.Zones_desservies'!MX21","v":0},{"$f":"'3.Zones_desservies'!MY21","v":0},{"$f":"'3.Zones_desservies'!MZ21","v":0},{"$f":"'3.Zones_desservies'!NA21","v":0},{"$f":"'3.Zones_desservies'!NB21","v":0},{"$f":"'3.Zones_desservies'!NC21","v":0},{"$f":"'3.Zones_desservies'!ND21","v":0},{"$f":"'3.Zones_desservies'!NE21","v":0},{"$f":"'3.Zones_desservies'!NF21","v":0},{"$f":"'3.Zones_desservies'!NG21","v":0},{"$f":"'3.Zones_desservies'!NH21","v":0},{"$f":"'3.Zones_desservies'!NI21","v":0},{"$f":"'3.Zones_desservies'!NJ21","v":0},{"$f":"'3.Zones_desservies'!NK21","v":0},{"$f":"'3.Zones_desservies'!NL21","v":0},{"$f":"'3.Zones_desservies'!NM21","v":0},{"$f":"'3.Zones_desservies'!NN21","v":0},{"$f":"'3.Zones_desservies'!NO21","v":0},{"$f":"'3.Zones_desservies'!NP21","v":0},{"$f":"'3.Zones_desservies'!NQ21","v":0},{"$f":"'3.Zones_desservies'!NR21","v":0},{"$f":"'3.Zones_desservies'!NS21","v":0},{"$f":"'3.Zones_desservies'!NT21","v":0},{"$f":"'3.Zones_desservies'!NU21","v":0},{"$f":"'3.Zones_desservies'!NV21","v":0},{"$f":"'3.Zones_desservies'!NW21","v":0},{"$f":"'3.Zones_desservies'!NX21","v":0},{"$f":"'3.Zones_desservies'!NY21","v":0},{"$f":"'3.Zones_desservies'!NZ21","v":0},{"$f":"'3.Zones_desservies'!OA21","v":0},{"$f":"'3.Zones_desservies'!OB21","v":0},{"$f":"'3.Zones_desservies'!OC21","v":0},{"$f":"'3.Zones_desservies'!OD21","v":0},{"$f":"'3.Zones_desservies'!OE21","v":0},{"$f":"'3.Zones_desservies'!OF21","v":0},{"$f":"'3.Zones_desservies'!OG21","v":0},{"$f":"'3.Zones_desservies'!OH21","v":0},{"$f":"'3.Zones_desservies'!OI21","v":0},{"$f":"'3.Zones_desservies'!OJ21","v":0},{"$f":"'3.Zones_desservies'!OK21","v":0},{"$f":"'3.Zones_desservies'!OL21","v":0},{"$f":"'3.Zones_desservies'!OM21","v":0},{"$f":"'3.Zones_desservies'!ON21","v":0},{"$f":"'3.Zones_desservies'!OO21","v":0},{"$f":"'3.Zones_desservies'!OP21","v":0},{"$f":"'3.Zones_desservies'!OQ21","v":0},{"$f":"'3.Zones_desservies'!OR21","v":0},{"$f":"'3.Zones_desservies'!OS21","v":0},{"$f":"'3.Zones_desservies'!OT21","v":0},{"$f":"'3.Zones_desservies'!OU21","v":0},{"$f":"'3.Zones_desservies'!OV21","v":0},{"$f":"'3.Zones_desservies'!OW21","v":0},{"$f":"'3.Zones_desservies'!OX21","v":0},{"$f":"'3.Zones_desservies'!OY21","v":0},{"$f":"'3.Zones_desservies'!OZ21","v":0},{"$f":"'3.Zones_desservies'!PA21","v":0},{"$f":"'3.Zones_desservies'!PB21","v":0},{"$f":"'3.Zones_desservies'!PC21","v":0},{"$f":"'3.Zones_desservies'!PD21","v":0},{"$f":"'3.Zones_desservies'!PE21","v":0},{"$f":"'3.Zones_desservies'!PF21","v":0},{"$f":"'3.Zones_desservies'!PG21","v":0},{"$f":"'3.Zones_desservies'!PH21","v":0},{"$f":"'3.Zones_desservies'!PI21","v":0},{"$f":"'3.Zones_desservies'!PJ21","v":0},{"$f":"'3.Zones_desservies'!PK21","v":0},{"$f":"'3.Zones_desservies'!PL21","v":0},{"$f":"'3.Zones_desservies'!PM21","v":0},{"$f":"'3.Zones_desservies'!PN21","v":0},{"$f":"'3.Zones_desservies'!PO21","v":0},{"$f":"'3.Zones_desservies'!PP21","v":0},{"$f":"'3.Zones_desservies'!PQ21","v":0},{"$f":"'3.Zones_desservies'!PR21","v":0},{"$f":"'3.Zones_desservies'!PS21","v":0},{"$f":"'3.Zones_desservies'!PT21","v":0},{"$f":"'3.Zones_desservies'!PU21","v":0},{"$f":"'3.Zones_desservies'!PV21","v":0},{"$f":"'3.Zones_desservies'!PW21","v":0},{"$f":"'3.Zones_desservies'!PX21","v":0},{"$f":"'3.Zones_desservies'!PY21","v":0},{"$f":"'3.Zones_desservies'!PZ21","v":0},{"$f":"'3.Zones_desservies'!QA21","v":0},{"$f":"'3.Zones_desservies'!QB21","v":0},{"$f":"'3.Zones_desservies'!QC21","v":0},{"$f":"'3.Zones_desservies'!QD21","v":0},{"$f":"'3.Zones_desservies'!QE21","v":0},{"$f":"'3.Zones_desservies'!QF21","v":0},{"$f":"'3.Zones_desservies'!QG21","v":0},{"$f":"'3.Zones_desservies'!QH21","v":0},{"$f":"'3.Zones_desservies'!QI21","v":0},{"$f":"'3.Zones_desservies'!QJ21","v":0},{"$f":"'3.Zones_desservies'!QK21","v":0},{"$f":"'3.Zones_desservies'!QL21","v":0},{"$f":"'3.Zones_desservies'!QM21","v":0},{"$f":"'3.Zones_desservies'!QN21","v":0},{"$f":"'3.Zones_desservies'!QO21","v":0},{"$f":"'3.Zones_desservies'!QP21","v":0},{"$f":"'3.Zones_desservies'!QQ21","v":0},{"$f":"'3.Zones_desservies'!QR21","v":0},{"$f":"'3.Zones_desservies'!QS21","v":0},{"$f":"'3.Zones_desservies'!QT21","v":0},{"$f":"'3.Zones_desservies'!QU21","v":0},{"$f":"'3.Zones_desservies'!QV21","v":0},{"$f":"'3.Zones_desservies'!QW21","v":0},{"$f":"'3.Zones_desservies'!QX21","v":0},{"$f":"'3.Zones_desservies'!QY21","v":0},{"$f":"'3.Zones_desservies'!QZ21","v":0},{"$f":"'3.Zones_desservies'!RA21","v":0},{"$f":"'3.Zones_desservies'!RB21","v":0},{"$f":"'3.Zones_desservies'!RC21","v":0},{"$f":"'3.Zones_desservies'!RD21","v":0},{"$f":"'3.Zones_desservies'!RE21","v":0},{"$f":"'3.Zones_desservies'!RF21","v":0},{"$f":"'3.Zones_desservies'!RG21","v":0},{"$f":"'3.Zones_desservies'!RH21","v":0},{"$f":"'3.Zones_desservies'!RI21","v":0},{"$f":"'3.Zones_desservies'!RJ21","v":0},{"$f":"'3.Zones_desservies'!RK21","v":0},{"$f":"'3.Zones_desservies'!RL21","v":0},{"$f":"'3.Zones_desservies'!RM21","v":0},{"$f":"'3.Zones_desservies'!RN21","v":0},{"$f":"'3.Zones_desservies'!RO21","v":0},{"$f":"'3.Zones_desservies'!RP21","v":0},{"$f":"'3.Zones_desservies'!RQ21","v":0},{"$f":"'3.Zones_desservies'!RR21","v":0},{"$f":"'3.Zones_desservies'!RS21","v":0},{"$f":"'3.Zones_desservies'!RT21","v":0},{"$f":"'3.Zones_desservies'!RU21","v":0},{"$f":"'3.Zones_desservies'!RV21","v":0},{"$f":"'3.Zones_desservies'!RW21","v":0},{"$f":"'3.Zones_desservies'!RX21","v":0},{"$f":"'3.Zones_desservies'!RY21","v":0},{"$f":"'3.Zones_desservies'!RZ21","v":0},{"$f":"'3.Zones_desservies'!SA21","v":0},{"$f":"'3.Zones_desservies'!SB21","v":0},{"$f":"'3.Zones_desservies'!SC21","v":0},{"$f":"'3.Zones_desservies'!SD21","v":0},{"$f":"'3.Zones_desservies'!SE21","v":0},{"$f":"'3.Zones_desservies'!SF21","v":0},{"$f":"'3.Zones_desservies'!SG21","v":0},{"$f":"'3.Zones_desservies'!SH21","v":0}]
[null,{"$f":"'3.Zones_desservies'!B22","v":8},{"$f":"'3.Zones_desservies'!C22","v":"Ville 8"},{"$f":"'3.Zones_desservies'!D22","v":0},{"$f":"'3.Zones_desservies'!E22","v":0},{"$f":"'3.Zones_desservies'!F22","v":0},{"$f":"'3.Zones_desservies'!G22","v":0},{"$f":"'3.Zones_desservies'!H22","v":0},{"$f":"'3.Zones_desservies'!I22","v":0},{"$f":"'3.Zones_desservies'!J22","v":0},{"$f":"'3.Zones_desservies'!K22","v":0},{"$f":"'3.Zones_desservies'!L22","v":0},{"$f":"'3.Zones_desservies'!M22","v":0},{"$f":"'3.Zones_desservies'!N22","v":0},{"$f":"'3.Zones_desservies'!O22","v":0},{"$f":"'3.Zones_desservies'!P22","v":0},{"$f":"'3.Zones_desservies'!Q22","v":0},{"$f":"'3.Zones_desservies'!R22","v":0},{"$f":"'3.Zones_desservies'!S22","v":0},{"$f":"'3.Zones_desservies'!T22","v":0},{"$f":"'3.Zones_desservies'!U22","v":0},{"$f":"'3.Zones_desservies'!V22","v":0},{"$f":"'3.Zones_desservies'!W22","v":0},{"$f":"'3.Zones_desservies'!X22","v":0},{"$f":"'3.Zones_desservies'!Y22","v":0},{"$f":"'3.Zones_desservies'!Z22","v":0},{"$f":"'3.Zones_desservies'!AA22","v":0},{"$f":"'3.Zones_desservies'!AB22","v":0},{"$f":"'3.Zones_desservies'!AC22","v":0},{"$f":"'3.Zones_desservies'!AD22","v":0},{"$f":"'3.Zones_desservies'!AE22","v":0},{"$f":"'3.Zones_desservies'!AF22","v":0},{"$f":"'3.Zones_desservies'!AG22","v":0},{"$f":"'3.Zones_desservies'!AH22","v":0},{"$f":"'3.Zones_desservies'!AI22","v":0},{"$f":"'3.Zones_desservies'!AJ22","v":0},{"$f":"'3.Zones_desservies'!AK22","v":0},{"$f":"'3.Zones_desservies'!AL22","v":0},{"$f":"'3.Zones_desservies'!AM22","v":0},{"$f":"'3.Zones_desservies'!AN22","v":0},{"$f":"'3.Zones_desservies'!AO22","v":0},{"$f":"'3.Zones_desservies'!AP22","v":0},{"$f":"'3.Zones_desservies'!AQ22","v":0},{"$f":"'3.Zones_desservies'!AR22","v":0},{"$f":"'3.Zones_desservies'!AS22","v":0},{"$f":"'3.Zones_desservies'!AT22","v":0},{"$f":"'3.Zones_desservies'!AU22","v":0},{"$f":"'3.Zones_desservies'!AV22","v":0},{"$f":"'3.Zones_desservies'!AW22","v":0},{"$f":"'3.Zones_desservies'!AX22","v":0},{"$f":"'3.Zones_desservies'!AY22","v":0},{"$f":"'3.Zones_desservies'!AZ22","v":0},{"$f":"'3.Zones_desservies'!BA22","v":0},{"$f":"'3.Zones_desservies'!BB22","v":0},{"$f":"'3.Zones_desservies'!BC22","v":0},{"$f":"'3.Zones_desservies'!BD22","v":0},{"$f":"'3.Zones_desservies'!BE22","v":0},{"$f":"'3.Zones_desservies'!BF22","v":0},{"$f":"'3.Zones_desservies'!BG22","v":0},{"$f":"'3.Zones_desservies'!BH22","v":0},{"$f":"'3.Zones_desservies'!BI22","v":0},{"$f":"'3.Zones_desservies'!BJ22","v":0},{"$f":"'3.Zones_desservies'!BK22","v":0},{"$f":"'3.Zones_desservies'!BL22","v":0},{"$f":"'3.Zones_desservies'!BM22","v":0},{"$f":"'3.Zones_desservies'!BN22","v":0},{"$f":"'3.Zones_desservies'!BO22","v":0},{"$f":"'3.Zones_desservies'!BP22","v":0},{"$f":"'3.Zones_desservies'!BQ22","v":0},{"$f":"'3.Zones_desservies'!BR22","v":0},{"$f":"'3.Zones_desservies'!BS22","v":0},{"$f":"'3.Zones_desservies'!BT22","v":0},{"$f":"'3.Zones_desservies'!BU22","v":0},{"$f":"'3.Zones_desservies'!BV22","v":0},{"$f":"'3.Zones_desservies'!BW22","v":0},{"$f":"'3.Zones_desservies'!BX22","v":0},{"$f":"'3.Zones_desservies'!BY22","v":0},{"$f":"'3.Zones_desservies'!BZ22","v":0},{"$f":"'3.Zones_desservies'!CA22","v":0},{"$f":"'3.Zones_desservies'!CB22","v":0},{"$f":"'3.Zones_desservies'!CC22","v":0},{"$f":"'3.Zones_desservies'!CD22","v":0},{"$f":"'3.Zones_desservies'!CE22","v":0},{"$f":"'3.Zones_desservies'!CF22","v":0},{"$f":"'3.Zones_desservies'!CG22","v":0},{"$f":"'3.Zones_desservies'!CH22","v":0},{"$f":"'3.Zones_desservies'!CI22","v":0},{"$f":"'3.Zones_desservies'!CJ22","v":0},{"$f":"'3.Zones_desservies'!CK22","v":0},{"$f":"'3.Zones_desservies'!CL22","v":0},{"$f":"'3.Zones_desservies'!CM22","v":0},{"$f":"'3.Zones_desservies'!CN22","v":0},{"$f":"'3.Zones_desservies'!CO22","v":0},{"$f":"'3.Zones_desservies'!CP22","v":0},{"$f":"'3.Zones_desservies'!CQ22","v":0},{"$f":"'3.Zones_desservies'!CR22","v":0},{"$f":"'3.Zones_desservies'!CS22","v":0},{"$f":"'3.Zones_desservies'!CT22","v":0},{"$f":"'3.Zones_desservies'!CU22","v":0},{"$f":"'3.Zones_desservies'!CV22","v":0},{"$f":"'3.Zones_desservies'!CW22","v":0},{"$f":"'3.Zones_desservies'!CX22","v":0},{"$f":"'3.Zones_desservies'!CY22","v":"_"},{"$f":"'3.Zones_desservies'!CZ22","v":0},{"$f":"'3.Zones_desservies'!DA22","v":0},{"$f":"'3.Zones_desservies'!DB22","v":0},{"$f":"'3.Zones_desservies'!DC22","v":0},{"$f":"'3.Zones_desservies'!DD22","v":0},{"$f":"'3.Zones_desservies'!DE22","v":0},{"$f":"'3.Zones_desservies'!DF22","v":0},{"$f":"'3.Zones_desservies'!DG22","v":0},{"$f":"'3.Zones_desservies'!DH22","v":0},{"$f":"'3.Zones_desservies'!DI22","v":0},{"$f":"'3.Zones_desservies'!DJ22","v":0},{"$f":"'3.Zones_desservies'!DK22","v":0},{"$f":"'3.Zones_desservies'!DL22","v":0},{"$f":"'3.Zones_desservies'!DM22","v":0},{"$f":"'3.Zones_desservies'!DN22","v":0},{"$f":"'3.Zones_desservies'!DO22","v":0},{"$f":"'3.Zones_desservies'!DP22","v":0},{"$f":"'3.Zones_desservies'!DQ22","v":0},{"$f":"'3.Zones_desservies'!DR22","v":0},{"$f":"'3.Zones_desservies'!DS22","v":0},{"$f":"'3.Zones_desservies'!DT22","v":0},{"$f":"'3.Zones_desservies'!DU22","v":0},{"$f":"'3.Zones_desservies'!DV22","v":0},{"$f":"'3.Zones_desservies'!DW22","v":0},{"$f":"'3.Zones_desservies'!DX22","v":0},{"$f":"'3.Zones_desservies'!DY22","v":0},{"$f":"'3.Zones_desservies'!DZ22","v":0},{"$f":"'3.Zones_desservies'!EA22","v":0},{"$f":"'3.Zones_desservies'!EB22","v":0},{"$f":"'3.Zones_desservies'!EC22","v":0},{"$f":"'3.Zones_desservies'!ED22","v":0},{"$f":"'3.Zones_desservies'!EE22","v":0},{"$f":"'3.Zones_desservies'!EF22","v":0},{"$f":"'3.Zones_desservies'!EG22","v":0},{"$f":"'3.Zones_desservies'!EH22","v":0},{"$f":"'3.Zones_desservies'!EI22","v":0},{"$f":"'3.Zones_desservies'!EJ22","v":0},{"$f":"'3.Zones_desservies'!EK22","v":0},{"$f":"'3.Zones_desservies'!EL22","v":0},{"$f":"'3.Zones_desservies'!EM22","v":0},{"$f":"'3.Zones_desservies'!EN22","v":0},{"$f":"'3.Zones_desservies'!EO22","v":0},{"$f":"'3.Zones_desservies'!EP22","v":0},{"$f":"'3.Zones_desservies'!EQ22","v":0},{"$f":"'3.Zones_desservies'!ER22","v":0},{"$f":"'3.Zones_desservies'!ES22","v":0},{"$f":"'3.Zones_desservies'!ET22","v":0},{"$f":"'3.Zones_desservies'!EU22","v":0},{"$f":"'3.Zones_desservies'!EV22","v":0},{"$f":"'3.Zones_desservies'!EW22","v":0},{"$f":"'3.Zones_desservies'!EX22","v":0},{"$f":"'3.Zones_desservies'!EY22","v":0},{"$f":"'3.Zones_desservies'!EZ22","v":0},{"$f":"'3.Zones_desservies'!FA22","v":0},{"$f":"'3.Zones_desservies'!FB22","v":0},{"$f":"'3.Zones_desservies'!FC22","v":0},{"$f":"'3.Zones_desservies'!FD22","v":0},{"$f":"'3.Zones_desservies'!FE22","v":0},{"$f":"'3.Zones_desservies'!FF22","v":0},{"$f":"'3.Zones_desservies'!FG22","v":0},{"$f":"'3.Zones_desservies'!FH22","v":0},{"$f":"'3.Zones_desservies'!FI22","v":0},{"$f":"'3.Zones_desservies'!FJ22","v":0},{"$f":"'3.Zones_desservies'!FK22","v":0},{"$f":"'3.Zones_desservies'!FL22","v":0},{"$f":"'3.Zones_desservies'!FM22","v":0},{"$f":"'3.Zones_desservies'!FN22","v":0},{"$f":"'3.Zones_desservies'!FO22","v":0},{"$f":"'3.Zones_desservies'!FP22","v":0},{"$f":"'3.Zones_desservies'!FQ22","v":0},{"$f":"'3.Zones_desservies'!FR22","v":0},{"$f":"'3.Zones_desservies'!FS22","v":0},{"$f":"'3.Zones_desservies'!FT22","v":0},{"$f":"'3.Zones_desservies'!FU22","v":0},{"$f":"'3.Zones_desservies'!FV22","v":0},{"$f":"'3.Zones_desservies'!FW22","v":0},{"$f":"'3.Zones_desservies'!FX22","v":0},{"$f":"'3.Zones_desservies'!FY22","v":0},{"$f":"'3.Zones_desservies'!FZ22","v":0},{"$f":"'3.Zones_desservies'!GA22","v":0},{"$f":"'3.Zones_desservies'!GB22","v":0},{"$f":"'3.Zones_desservies'!GC22","v":0},{"$f":"'3.Zones_desservies'!GD22","v":0},{"$f":"'3.Zones_desservies'!GE22","v":0},{"$f":"'3.Zones_desservies'!GF22","v":0},{"$f":"'3.Zones_desservies'!GG22","v":0},{"$f":"'3.Zones_desservies'!GH22","v":0},{"$f":"'3.Zones_desservies'!GI22","v":0},{"$f":"'3.Zones_desservies'!GJ22","v":0},{"$f":"'3.Zones_desservies'!GK22","v":0},{"$f":"'3.Zones_desservies'!GL22","v":0},{"$f":"'3.Zones_desservies'!GM22","v":0},{"$f":"'3.Zones_desservies'!GN22","v":0},{"$f":"'3.Zones_desservies'!GO22","v":0},{"$f":"'3.Zones_desservies'!GP22","v":0},{"$f":"'3.Zones_desservies'!GQ22","v":0},{"$f":"'3.Zones_desservies'!GR22","v":0},{"$f":"'3.Zones_desservies'!GS22","v":0},{"$f":"'3.Zones_desservies'!GT22","v":0},{"$f":"'3.Zones_desservies'!GU22","v":0},{"$f":"'3.Zones_desservies'!GV22","v":0},{"$f":"'3.Zones_desservies'!GW22","v":0},{"$f":"'3.Zones_desservies'!GX22","v":0},{"$f":"'3.Zones_desservies'!GY22","v":0},{"$f":"'3.Zones_desservies'!GZ22","v":0},{"$f":"'3.Zones_desservies'!HA22","v":0},{"$f":"'3.Zones_desservies'!HB22","v":0},{"$f":"'3.Zones_desservies'!HC22","v":0},{"$f":"'3.Zones_desservies'!HD22","v":0},{"$f":"'3.Zones_desservies'!HE22","v":0},{"$f":"'3.Zones_desservies'!HF22","v":0},{"$f":"'3.Zones_desservies'!HG22","v":0},{"$f":"'3.Zones_desservies'!HH22","v":0},{"$f":"'3.Zones_desservies'!HI22","v":0},{"$f":"'3.Zones_desservies'!HJ22","v":0},{"$f":"'3.Zones_desservies'!HK22","v":0},{"$f":"'3.Zones_desservies'!HL22","v":0},{"$f":"'3.Zones_desservies'!HM22","v":0},{"$f":"'3.Zones_desservies'!HN22","v":0},{"$f":"'3.Zones_desservies'!HO22","v":0},{"$f":"'3.Zones_desservies'!HP22","v":0},{"$f":"'3.Zones_desservies'!HQ22","v":0},{"$f":"'3.Zones_desservies'!HR22","v":0},{"$f":"'3.Zones_desservies'!HS22","v":0},{"$f":"'3.Zones_desservies'!HT22","v":0},{"$f":"'3.Zones_desservies'!HU22","v":0},{"$f":"'3.Zones_desservies'!HV22","v":0},{"$f":"'3.Zones_desservies'!HW22","v":0},{"$f":"'3.Zones_desservies'!HX22","v":0},{"$f":"'3.Zones_desservies'!HY22","v":0},{"$f":"'3.Zones_desservies'!HZ22","v":0},{"$f":"'3.Zones_desservies'!IA22","v":0},{"$f":"'3.Zones_desservies'!IB22","v":0},{"$f":"'3.Zones_desservies'!IC22","v":0},{"$f":"'3.Zones_desservies'!ID22","v":0},{"$f":"'3.Zones_desservies'!IE22","v":0},{"$f":"'3.Zones_desservies'!IF22","v":0},{"$f":"'3.Zones_desservies'!IG22","v":0},{"$f":"'3.Zones_desservies'!IH22","v":0},{"$f":"'3.Zones_desservies'!II22","v":0},{"$f":"'3.Zones_desservies'!IJ22","v":0},{"$f":"'3.Zones_desservies'!IK22","v":0},{"$f":"'3.Zones_desservies'!IL22","v":0},{"$f":"'3.Zones_desservies'!IM22","v":0},{"$f":"'3.Zones_desservies'!IN22","v":0},{"$f":"'3.Zones_desservies'!IO22","v":0},{"$f":"'3.Zones_desservies'!IP22","v":0},{"$f":"'3.Zones_desservies'!IQ22","v":0},{"$f":"'3.Zones_desservies'!IR22","v":0},{"$f":"'3.Zones_desservies'!IS22","v":0},{"$f":"'3.Zones_desservies'!IT22","v":0},{"$f":"'3.Zones_desservies'!IU22","v":0},{"$f":"'3.Zones_desservies'!IV22","v":0},{"$f":"'3.Zones_desservies'!IW22","v":0},{"$f":"'3.Zones_desservies'!IX22","v":0},{"$f":"'3.Zones_desservies'!IY22","v":0},{"$f":"'3.Zones_desservies'!IZ22","v":0},{"$f":"'3.Zones_desservies'!JA22","v":0},{"$f":"'3.Zones_desservies'!JB22","v":0},{"$f":"'3.Zones_desservies'!JC22","v":0},{"$f":"'3.Zones_desservies'!JD22","v":0},{"$f":"'3.Zones_desservies'!JE22","v":0},{"$f":"'3.Zones_desservies'!JF22","v":0},{"$f":"'3.Zones_desservies'!JG22","v":0},{"$f":"'3.Zones_desservies'!JH22","v":0},{"$f":"'3.Zones_desservies'!JI22","v":0},{"$f":"'3.Zones_desservies'!JJ22","v":0},{"$f":"'3.Zones_desservies'!JK22","v":0},{"$f":"'3.Zones_desservies'!JL22","v":0},{"$f":"'3.Zones_desservies'!JM22","v":0},{"$f":"'3.Zones_desservies'!JN22","v":0},{"$f":"'3.Zones_desservies'!JO22","v":0},{"$f":"'3.Zones_desservies'!JP22","v":0},{"$f":"'3.Zones_desservies'!JQ22","v":0},{"$f":"'3.Zones_desservies'!JR22","v":0},{"$f":"'3.Zones_desservies'!JS22","v":0},{"$f":"'3.Zones_desservies'!JT22","v":0},{"$f":"'3.Zones_desservies'!JU22","v":0},{"$f":"'3.Zones_desservies'!JV22","v":0},{"$f":"'3.Zones_desservies'!JW22","v":0},{"$f":"'3.Zones_desservies'!JX22","v":0},{"$f":"'3.Zones_desservies'!JY22","v":0},{"$f":"'3.Zones_desservies'!JZ22","v":0},{"$f":"'3.Zones_desservies'!KA22","v":0},{"$f":"'3.Zones_desservies'!KB22","v":0},{"$f":"'3.Zones_desservies'!KC22","v":0},{"$f":"'3.Zones_desservies'!KD22","v":0},{"$f":"'3.Zones_desservies'!KE22","v":0},{"$f":"'3.Zones_desservies'!KF22","v":0},{"$f":"'3.Zones_desservies'!KG22","v":0},{"$f":"'3.Zones_desservies'!KH22","v":0},{"$f":"'3.Zones_desservies'!KI22","v":0},{"$f":"'3.Zones_desservies'!KJ22","v":0},{"$f":"'3.Zones_desservies'!KK22","v":0},{"$f":"'3.Zones_desservies'!KL22","v":0},{"$f":"'3.Zones_desservies'!KM22","v":0},{"$f":"'3.Zones_desservies'!KN22","v":0},{"$f":"'3.Zones_desservies'!KO22","v":0},{"$f":"'3.Zones_desservies'!KP22","v":0},{"$f":"'3.Zones_desservies'!KQ22","v":0},{"$f":"'3.Zones_desservies'!KR22","v":0},{"$f":"'3.Zones_desservies'!KS22","v":0},{"$f":"'3.Zones_desservies'!KT22","v":0},{"$f":"'3.Zones_desservies'!KU22","v":0},{"$f":"'3.Zones_desservies'!KV22","v":0},{"$f":"'3.Zones_desservies'!KW22","v":0},{"$f":"'3.Zones_desservies'!KX22","v":0},{"$f":"'3.Zones_desservies'!KY22","v":0},{"$f":"'3.Zones_desservies'!KZ22","v":0},{"$f":"'3.Zones_desservies'!LA22","v":0},{"$f":"'3.Zones_desservies'!LB22","v":0},{"$f":"'3.Zones_desservies'!LC22","v":0},{"$f":"'3.Zones_desservies'!LD22","v":0},{"$f":"'3.Zones_desservies'!LE22","v":0},{"$f":"'3.Zones_desservies'!LF22","v":0},{"$f":"'3.Zones_desservies'!LG22","v":0},{"$f":"'3.Zones_desservies'!LH22","v":0},{"$f":"'3.Zones_desservies'!LI22","v":0},{"$f":"'3.Zones_desservies'!LJ22","v":0},{"$f":"'3.Zones_desservies'!LK22","v":0},{"$f":"'3.Zones_desservies'!LL22","v":0},{"$f":"'3.Zones_desservies'!LM22","v":0},{"$f":"'3.Zones_desservies'!LN22","v":0},{"$f":"'3.Zones_desservies'!LO22","v":0},{"$f":"'3.Zones_desservies'!LP22","v":0},{"$f":"'3.Zones_desservies'!LQ22","v":0},{"$f":"'3.Zones_desservies'!LR22","v":0},{"$f":"'3.Zones_desservies'!LS22","v":0},{"$f":"'3.Zones_desservies'!LT22","v":0},{"$f":"'3.Zones_desservies'!LU22","v":0},{"$f":"'3.Zones_desservies'!LV22","v":0},{"$f":"'3.Zones_desservies'!LW22","v":0},{"$f":"'3.Zones_desservies'!LX22","v":0},{"$f":"'3.Zones_desservies'!LY22","v":0},{"$f":"'3.Zones_desservies'!LZ22","v":0},{"$f":"'3.Zones_desservies'!MA22","v":0},{"$f":"'3.Zones_desservies'!MB22","v":0},{"$f":"'3.Zones_desservies'!MC22","v":0},{"$f":"'3.Zones_desservies'!MD22","v":0},{"$f":"'3.Zones_desservies'!ME22","v":0},{"$f":"'3.Zones_desservies'!MF22","v":0},{"$f":"'3.Zones_desservies'!MG22","v":0},{"$f":"'3.Zones_desservies'!MH22","v":0},{"$f":"'3.Zones_desservies'!MI22","v":0},{"$f":"'3.Zones_desservies'!MJ22","v":0},{"$f":"'3.Zones_desservies'!MK22","v":0},{"$f":"'3.Zones_desservies'!ML22","v":0},{"$f":"'3.Zones_desservies'!MM22","v":0},{"$f":"'3.Zones_desservies'!MN22","v":0},{"$f":"'3.Zones_desservies'!MO22","v":0},{"$f":"'3.Zones_desservies'!MP22","v":0},{"$f":"'3.Zones_desservies'!MQ22","v":0},{"$f":"'3.Zones_desservies'!MR22","v":0},{"$f":"'3.Zones_desservies'!MS22","v":0},{"$f":"'3.Zones_desservies'!MT22","v":0},{"$f":"'3.Zones_desservies'!MU22","v":0},{"$f":"'3.Zones_desservies'!MV22","v":0},{"$f":"'3.Zones_desservies'!MW22","v":0},{"$f":"'3.Zones_desservies'!MX22","v":0},{"$f":"'3.Zones_desservies'!MY22","v":0},{"$f":"'3.Zones_desservies'!MZ22","v":0},{"$f":"'3.Zones_desservies'!NA22","v":0},{"$f":"'3.Zones_desservies'!NB22","v":0},{"$f":"'3.Zones_desservies'!NC22","v":0},{"$f":"'3.Zones_desservies'!ND22","v":0},{"$f":"'3.Zones_desservies'!NE22","v":0},{"$f":"'3.Zones_desservies'!NF22","v":0},{"$f":"'3.Zones_desservies'!NG22","v":0},{"$f":"'3.Zones_desservies'!NH22","v":0},{"$f":"'3.Zones_desservies'!NI22","v":0},{"$f":"'3.Zones_desservies'!NJ22","v":0},{"$f":"'3.Zones_desservies'!NK22","v":0},{"$f":"'3.Zones_desservies'!NL22","v":0},{"$f":"'3.Zones_desservies'!NM22","v":0},{"$f":"'3.Zones_desservies'!NN22","v":0},{"$f":"'3.Zones_desservies'!NO22","v":0},{"$f":"'3.Zones_desservies'!NP22","v":0},{"$f":"'3.Zones_desservies'!NQ22","v":0},{"$f":"'3.Zones_desservies'!NR22","v":0},{"$f":"'3.Zones_desservies'!NS22","v":0},{"$f":"'3.Zones_desservies'!NT22","v":0},{"$f":"'3.Zones_desservies'!NU22","v":0},{"$f":"'3.Zones_desservies'!NV22","v":0},{"$f":"'3.Zones_desservies'!NW22","v":0},{"$f":"'3.Zones_desservies'!NX22","v":0},{"$f":"'3.Zones_desservies'!NY22","v":0},{"$f":"'3.Zones_desservies'!NZ22","v":0},{"$f":"'3.Zones_desservies'!OA22","v":0},{"$f":"'3.Zones_desservies'!OB22","v":0},{"$f":"'3.Zones_desservies'!OC22","v":0},{"$f":"'3.Zones_desservies'!OD22","v":0},{"$f":"'3.Zones_desservies'!OE22","v":0},{"$f":"'3.Zones_desservies'!OF22","v":0},{"$f":"'3.Zones_desservies'!OG22","v":0},{"$f":"'3.Zones_desservies'!OH22","v":0},{"$f":"'3.Zones_desservies'!OI22","v":0},{"$f":"'3.Zones_desservies'!OJ22","v":0},{"$f":"'3.Zones_desservies'!OK22","v":0},{"$f":"'3.Zones_desservies'!OL22","v":0},{"$f":"'3.Zones_desservies'!OM22","v":0},{"$f":"'3.Zones_desservies'!ON22","v":0},{"$f":"'3.Zones_desservies'!OO22","v":0},{"$f":"'3.Zones_desservies'!OP22","v":0},{"$f":"'3.Zones_desservies'!OQ22","v":0},{"$f":"'3.Zones_desservies'!OR22","v":0},{"$f":"'3.Zones_desservies'!OS22","v":0},{"$f":"'3.Zones_desservies'!OT22","v":0},{"$f":"'3.Zones_desservies'!OU22","v":0},{"$f":"'3.Zones_desservies'!OV22","v":0},{"$f":"'3.Zones_desservies'!OW22","v":0},{"$f":"'3.Zones_desservies'!OX22","v":0},{"$f":"'3.Zones_desservies'!OY22","v":0},{"$f":"'3.Zones_desservies'!OZ22","v":0},{"$f":"'3.Zones_desservies'!PA22","v":0},{"$f":"'3.Zones_desservies'!PB22","v":0},{"$f":"'3.Zones_desservies'!PC22","v":0},{"$f":"'3.Zones_desservies'!PD22","v":0},{"$f":"'3.Zones_desservies'!PE22","v":0},{"$f":"'3.Zones_desservies'!PF22","v":0},{"$f":"'3.Zones_desservies'!PG22","v":0},{"$f":"'3.Zones_desservies'!PH22","v":0},{"$f":"'3.Zones_desservies'!PI22","v":0},{"$f":"'3.Zones_desservies'!PJ22","v":0},{"$f":"'3.Zones_desservies'!PK22","v":0},{"$f":"'3.Zones_desservies'!PL22","v":0},{"$f":"'3.Zones_desservies'!PM22","v":0},{"$f":"'3.Zones_desservies'!PN22","v":0},{"$f":"'3.Zones_desservies'!PO22","v":0},{"$f":"'3.Zones_desservies'!PP22","v":0},{"$f":"'3.Zones_desservies'!PQ22","v":0},{"$f":"'3.Zones_desservies'!PR22","v":0},{"$f":"'3.Zones_desservies'!PS22","v":0},{"$f":"'3.Zones_desservies'!PT22","v":0},{"$f":"'3.Zones_desservies'!PU22","v":0},{"$f":"'3.Zones_desservies'!PV22","v":0},{"$f":"'3.Zones_desservies'!PW22","v":0},{"$f":"'3.Zones_desservies'!PX22","v":0},{"$f":"'3.Zones_desservies'!PY22","v":0},{"$f":"'3.Zones_desservies'!PZ22","v":0},{"$f":"'3.Zones_desservies'!QA22","v":0},{"$f":"'3.Zones_desservies'!QB22","v":0},{"$f":"'3.Zones_desservies'!QC22","v":0},{"$f":"'3.Zones_desservies'!QD22","v":0},{"$f":"'3.Zones_desservies'!QE22","v":0},{"$f":"'3.Zones_desservies'!QF22","v":0},{"$f":"'3.Zones_desservies'!QG22","v":0},{"$f":"'3.Zones_desservies'!QH22","v":0},{"$f":"'3.Zones_desservies'!QI22","v":0},{"$f":"'3.Zones_desservies'!QJ22","v":0},{"$f":"'3.Zones_desservies'!QK22","v":0},{"$f":"'3.Zones_desservies'!QL22","v":0},{"$f":"'3.Zones_desservies'!QM22","v":0},{"$f":"'3.Zones_desservies'!QN22","v":0},{"$f":"'3.Zones_desservies'!QO22","v":0},{"$f":"'3.Zones_desservies'!QP22","v":0},{"$f":"'3.Zones_desservies'!QQ22","v":0},{"$f":"'3.Zones_desservies'!QR22","v":0},{"$f":"'3.Zones_desservies'!QS22","v":0},{"$f":"'3.Zones_desservies'!QT22","v":0},{"$f":"'3.Zones_desservies'!QU22","v":0},{"$f":"'3.Zones_desservies'!QV22","v":0},{"$f":"'3.Zones_desservies'!QW22","v":0},{"$f":"'3.Zones_desservies'!QX22","v":0},{"$f":"'3.Zones_desservies'!QY22","v":0},{"$f":"'3.Zones_desservies'!QZ22","v":0},{"$f":"'3.Zones_desservies'!RA22","v":0},{"$f":"'3.Zones_desservies'!RB22","v":0},{"$f":"'3.Zones_desservies'!RC22","v":0},{"$f":"'3.Zones_desservies'!RD22","v":0},{"$f":"'3.Zones_desservies'!RE22","v":0},{"$f":"'3.Zones_desservies'!RF22","v":0},{"$f":"'3.Zones_desservies'!RG22","v":0},{"$f":"'3.Zones_desservies'!RH22","v":0},{"$f":"'3.Zones_desservies'!RI22","v":0},{"$f":"'3.Zones_desservies'!RJ22","v":0},{"$f":"'3.Zones_desservies'!RK22","v":0},{"$f":"'3.Zones_desservies'!RL22","v":0},{"$f":"'3.Zones_desservies'!RM22","v":0},{"$f":"'3.Zones_desservies'!RN22","v":0},{"$f":"'3.Zones_desservies'!RO22","v":0},{"$f":"'3.Zones_desservies'!RP22","v":0},{"$f":"'3.Zones_desservies'!RQ22","v":0},{"$f":"'3.Zones_desservies'!RR22","v":0},{"$f":"'3.Zones_desservies'!RS22","v":0},{"$f":"'3.Zones_desservies'!RT22","v":0},{"$f":"'3.Zones_desservies'!RU22","v":0},{"$f":"'3.Zones_desservies'!RV22","v":0},{"$f":"'3.Zones_desservies'!RW22","v":0},{"$f":"'3.Zones_desservies'!RX22","v":0},{"$f":"'3.Zones_desservies'!RY22","v":0},{"$f":"'3.Zones_desservies'!RZ22","v":0},{"$f":"'3.Zones_desservies'!SA22","v":0},{"$f":"'3.Zones_desservies'!SB22","v":0},{"$f":"'3.Zones_desservies'!SC22","v":0},{"$f":"'3.Zones_desservies'!SD22","v":0},{"$f":"'3.Zones_desservies'!SE22","v":0},{"$f":"'3.Zones_desservies'!SF22","v":0},{"$f":"'3.Zones_desservies'!SG22","v":0},{"$f":"'3.Zones_desservies'!SH22","v":0}]
[null,{"$f":"'3.Zones_desservies'!B23","v":9},{"$f":"'3.Zones_desservies'!C23","v":"Ville 9"},{"$f":"'3.Zones_desservies'!D23","v":0},{"$f":"'3.Zones_desservies'!E23","v":0},{"$f":"'3.Zones_desservies'!F23","v":0},{"$f":"'3.Zones_desservies'!G23","v":0},{"$f":"'3.Zones_desservies'!H23","v":0},{"$f":"'3.Zones_desservies'!I23","v":0},{"$f":"'3.Zones_desservies'!J23","v":0},{"$f":"'3.Zones_desservies'!K23","v":0},{"$f":"'3.Zones_desservies'!L23","v":0},{"$f":"'3.Zones_desservies'!M23","v":0},{"$f":"'3.Zones_desservies'!N23","v":0},{"$f":"'3.Zones_desservies'!O23","v":0},{"$f":"'3.Zones_desservies'!P23","v":0},{"$f":"'3.Zones_desservies'!Q23","v":0},{"$f":"'3.Zones_desservies'!R23","v":0},{"$f":"'3.Zones_desservies'!S23","v":0},{"$f":"'3.Zones_desservies'!T23","v":0},{"$f":"'3.Zones_desservies'!U23","v":0},{"$f":"'3.Zones_desservies'!V23","v":0},{"$f":"'3.Zones_desservies'!W23","v":0},{"$f":"'3.Zones_desservies'!X23","v":0},{"$f":"'3.Zones_desservies'!Y23","v":0},{"$f":"'3.Zones_desservies'!Z23","v":0},{"$f":"'3.Zones_desservies'!AA23","v":0},{"$f":"'3.Zones_desservies'!AB23","v":0},{"$f":"'3.Zones_desservies'!AC23","v":0},{"$f":"'3.Zones_desservies'!AD23","v":0},{"$f":"'3.Zones_desservies'!AE23","v":0},{"$f":"'3.Zones_desservies'!AF23","v":0},{"$f":"'3.Zones_desservies'!AG23","v":0},{"$f":"'3.Zones_desservies'!AH23","v":0},{"$f":"'3.Zones_desservies'!AI23","v":0},{"$f":"'3.Zones_desservies'!AJ23","v":0},{"$f":"'3.Zones_desservies'!AK23","v":0},{"$f":"'3.Zones_desservies'!AL23","v":0},{"$f":"'3.Zones_desservies'!AM23","v":0},{"$f":"'3.Zones_desservies'!AN23","v":0},{"$f":"'3.Zones_desservies'!AO23","v":0},{"$f":"'3.Zones_desservies'!AP23","v":0},{"$f":"'3.Zones_desservies'!AQ23","v":0},{"$f":"'3.Zones_desservies'!AR23","v":0},{"$f":"'3.Zones_desservies'!AS23","v":0},{"$f":"'3.Zones_desservies'!AT23","v":0},{"$f":"'3.Zones_desservies'!AU23","v":0},{"$f":"'3.Zones_desservies'!AV23","v":0},{"$f":"'3.Zones_desservies'!AW23","v":0},{"$f":"'3.Zones_desservies'!AX23","v":0},{"$f":"'3.Zones_desservies'!AY23","v":0},{"$f":"'3.Zones_desservies'!AZ23","v":0},{"$f":"'3.Zones_desservies'!BA23","v":0},{"$f":"'3.Zones_desservies'!BB23","v":0},{"$f":"'3.Zones_desservies'!BC23","v":0},{"$f":"'3.Zones_desservies'!BD23","v":0},{"$f":"'3.Zones_desservies'!BE23","v":0},{"$f":"'3.Zones_desservies'!BF23","v":0},{"$f":"'3.Zones_desservies'!BG23","v":0},{"$f":"'3.Zones_desservies'!BH23","v":0},{"$f":"'3.Zones_desservies'!BI23","v":0},{"$f":"'3.Zones_desservies'!BJ23","v":0},{"$f":"'3.Zones_desservies'!BK23","v":0},{"$f":"'3.Zones_desservies'!BL23","v":0},{"$f":"'3.Zones_desservies'!BM23","v":0},{"$f":"'3.Zones_desservies'!BN23","v":0},{"$f":"'3.Zones_desservies'!BO23","v":0},{"$f":"'3.Zones_desservies'!BP23","v":0},{"$f":"'3.Zones_desservies'!BQ23","v":0},{"$f":"'3.Zones_desservies'!BR23","v":0},{"$f":"'3.Zones_desservies'!BS23","v":0},{"$f":"'3.Zones_desservies'!BT23","v":0},{"$f":"'3.Zones_desservies'!BU23","v":0},{"$f":"'3.Zones_desservies'!BV23","v":0},{"$f":"'3.Zones_desservies'!BW23","v":0},{"$f":"'3.Zones_desservies'!BX23","v":0},{"$f":"'3.Zones_desservies'!BY23","v":0},{"$f":"'3.Zones_desservies'!BZ23","v":0},{"$f":"'3.Zones_desservies'!CA23","v":0},{"$f":"'3.Zones_desservies'!CB23","v":0},{"$f":"'3.Zones_desservies'!CC23","v":0},{"$f":"'3.Zones_desservies'!CD23","v":0},{"$f":"'3.Zones_desservies'!CE23","v":0},{"$f":"'3.Zones_desservies'!CF23","v":0},{"$f":"'3.Zones_desservies'!CG23","v":0},{"$f":"'3.Zones_desservies'!CH23","v":0},{"$f":"'3.Zones_desservies'!CI23","v":0},{"$f":"'3.Zones_desservies'!CJ23","v":0},{"$f":"'3.Zones_desservies'!CK23","v":0},{"$f":"'3.Zones_desservies'!CL23","v":0},{"$f":"'3.Zones_desservies'!CM23","v":0},{"$f":"'3.Zones_desservies'!CN23","v":0},{"$f":"'3.Zones_desservies'!CO23","v":0},{"$f":"'3.Zones_desservies'!CP23","v":0},{"$f":"'3.Zones_desservies'!CQ23","v":0},{"$f":"'3.Zones_desservies'!CR23","v":0},{"$f":"'3.Zones_desservies'!CS23","v":0},{"$f":"'3.Zones_desservies'!CT23","v":0},{"$f":"'3.Zones_desservies'!CU23","v":0},{"$f":"'3.Zones_desservies'!CV23","v":0},{"$f":"'3.Zones_desservies'!CW23","v":0},{"$f":"'3.Zones_desservies'!CX23","v":0},{"$f":"'3.Zones_desservies'!CY23","v":"_"},{"$f":"'3.Zones_desservies'!CZ23","v":0},{"$f":"'3.Zones_desservies'!DA23","v":0},{"$f":"'3.Zones_desservies'!DB23","v":0},{"$f":"'3.Zones_desservies'!DC23","v":0},{"$f":"'3.Zones_desservies'!DD23","v":0},{"$f":"'3.Zones_desservies'!DE23","v":0},{"$f":"'3.Zones_desservies'!DF23","v":0},{"$f":"'3.Zones_desservies'!DG23","v":0},{"$f":"'3.Zones_desservies'!DH23","v":0},{"$f":"'3.Zones_desservies'!DI23","v":0},{"$f":"'3.Zones_desservies'!DJ23","v":0},{"$f":"'3.Zones_desservies'!DK23","v":0},{"$f":"'3.Zones_desservies'!DL23","v":0},{"$f":"'3.Zones_desservies'!DM23","v":0},{"$f":"'3.Zones_desservies'!DN23","v":0},{"$f":"'3.Zones_desservies'!DO23","v":0},{"$f":"'3.Zones_desservies'!DP23","v":0},{"$f":"'3.Zones_desservies'!DQ23","v":0},{"$f":"'3.Zones_desservies'!DR23","v":0},{"$f":"'3.Zones_desservies'!DS23","v":0},{"$f":"'3.Zones_desservies'!DT23","v":0},{"$f":"'3.Zones_desservies'!DU23","v":0},{"$f":"'3.Zones_desservies'!DV23","v":0},{"$f":"'3.Zones_desservies'!DW23","v":0},{"$f":"'3.Zones_desservies'!DX23","v":0},{"$f":"'3.Zones_desservies'!DY23","v":0},{"$f":"'3.Zones_desservies'!DZ23","v":0},{"$f":"'3.Zones_desservies'!EA23","v":0},{"$f":"'3.Zones_desservies'!EB23","v":0},{"$f":"'3.Zones_desservies'!EC23","v":0},{"$f":"'3.Zones_desservies'!ED23","v":0},{"$f":"'3.Zones_desservies'!EE23","v":0},{"$f":"'3.Zones_desservies'!EF23","v":0},{"$f":"'3.Zones_desservies'!EG23","v":0},{"$f":"'3.Zones_desservies'!EH23","v":0},{"$f":"'3.Zones_desservies'!EI23","v":0},{"$f":"'3.Zones_desservies'!EJ23","v":0},{"$f":"'3.Zones_desservies'!EK23","v":0},{"$f":"'3.Zones_desservies'!EL23","v":0},{"$f":"'3.Zones_desservies'!EM23","v":0},{"$f":"'3.Zones_desservies'!EN23","v":0},{"$f":"'3.Zones_desservies'!EO23","v":0},{"$f":"'3.Zones_desservies'!EP23","v":0},{"$f":"'3.Zones_desservies'!EQ23","v":0},{"$f":"'3.Zones_desservies'!ER23","v":0},{"$f":"'3.Zones_desservies'!ES23","v":0},{"$f":"'3.Zones_desservies'!ET23","v":0},{"$f":"'3.Zones_desservies'!EU23","v":0},{"$f":"'3.Zones_desservies'!EV23","v":0},{"$f":"'3.Zones_desservies'!EW23","v":0},{"$f":"'3.Zones_desservies'!EX23","v":0},{"$f":"'3.Zones_desservies'!EY23","v":0},{"$f":"'3.Zones_desservies'!EZ23","v":0},{"$f":"'3.Zones_desservies'!FA23","v":0},{"$f":"'3.Zones_desservies'!FB23","v":0},{"$f":"'3.Zones_desservies'!FC23","v":0},{"$f":"'3.Zones_desservies'!FD23","v":0},{"$f":"'3.Zones_desservies'!FE23","v":0},{"$f":"'3.Zones_desservies'!FF23","v":0},{"$f":"'3.Zones_desservies'!FG23","v":0},{"$f":"'3.Zones_desservies'!FH23","v":0},{"$f":"'3.Zones_desservies'!FI23","v":0},{"$f":"'3.Zones_desservies'!FJ23","v":0},{"$f":"'3.Zones_desservies'!FK23","v":0},{"$f":"'3.Zones_desservies'!FL23","v":0},{"$f":"'3.Zones_desservies'!FM23","v":0},{"$f":"'3.Zones_desservies'!FN23","v":0},{"$f":"'3.Zones_desservies'!FO23","v":0},{"$f":"'3.Zones_desservies'!FP23","v":0},{"$f":"'3.Zones_desservies'!FQ23","v":0},{"$f":"'3.Zones_desservies'!FR23","v":0},{"$f":"'3.Zones_desservies'!FS23","v":0},{"$f":"'3.Zones_desservies'!FT23","v":0},{"$f":"'3.Zones_desservies'!FU23","v":0},{"$f":"'3.Zones_desservies'!FV23","v":0},{"$f":"'3.Zones_desservies'!FW23","v":0},{"$f":"'3.Zones_desservies'!FX23","v":0},{"$f":"'3.Zones_desservies'!FY23","v":0},{"$f":"'3.Zones_desservies'!FZ23","v":0},{"$f":"'3.Zones_desservies'!GA23","v":0},{"$f":"'3.Zones_desservies'!GB23","v":0},{"$f":"'3.Zones_desservies'!GC23","v":0},{"$f":"'3.Zones_desservies'!GD23","v":0},{"$f":"'3.Zones_desservies'!GE23","v":0},{"$f":"'3.Zones_desservies'!GF23","v":0},{"$f":"'3.Zones_desservies'!GG23","v":0},{"$f":"'3.Zones_desservies'!GH23","v":0},{"$f":"'3.Zones_desservies'!GI23","v":0},{"$f":"'3.Zones_desservies'!GJ23","v":0},{"$f":"'3.Zones_desservies'!GK23","v":0},{"$f":"'3.Zones_desservies'!GL23","v":0},{"$f":"'3.Zones_desservies'!GM23","v":0},{"$f":"'3.Zones_desservies'!GN23","v":0},{"$f":"'3.Zones_desservies'!GO23","v":0},{"$f":"'3.Zones_desservies'!GP23","v":0},{"$f":"'3.Zones_desservies'!GQ23","v":0},{"$f":"'3.Zones_desservies'!GR23","v":0},{"$f":"'3.Zones_desservies'!GS23","v":0},{"$f":"'3.Zones_desservies'!GT23","v":0},{"$f":"'3.Zones_desservies'!GU23","v":0},{"$f":"'3.Zones_desservies'!GV23","v":0},{"$f":"'3.Zones_desservies'!GW23","v":0},{"$f":"'3.Zones_desservies'!GX23","v":0},{"$f":"'3.Zones_desservies'!GY23","v":0},{"$f":"'3.Zones_desservies'!GZ23","v":0},{"$f":"'3.Zones_desservies'!HA23","v":0},{"$f":"'3.Zones_desservies'!HB23","v":0},{"$f":"'3.Zones_desservies'!HC23","v":0},{"$f":"'3.Zones_desservies'!HD23","v":0},{"$f":"'3.Zones_desservies'!HE23","v":0},{"$f":"'3.Zones_desservies'!HF23","v":0},{"$f":"'3.Zones_desservies'!HG23","v":0},{"$f":"'3.Zones_desservies'!HH23","v":0},{"$f":"'3.Zones_desservies'!HI23","v":0},{"$f":"'3.Zones_desservies'!HJ23","v":0},{"$f":"'3.Zones_desservies'!HK23","v":0},{"$f":"'3.Zones_desservies'!HL23","v":0},{"$f":"'3.Zones_desservies'!HM23","v":0},{"$f":"'3.Zones_desservies'!HN23","v":0},{"$f":"'3.Zones_desservies'!HO23","v":0},{"$f":"'3.Zones_desservies'!HP23","v":0},{"$f":"'3.Zones_desservies'!HQ23","v":0},{"$f":"'3.Zones_desservies'!HR23","v":0},{"$f":"'3.Zones_desservies'!HS23","v":0},{"$f":"'3.Zones_desservies'!HT23","v":0},{"$f":"'3.Zones_desservies'!HU23","v":0},{"$f":"'3.Zones_desservies'!HV23","v":0},{"$f":"'3.Zones_desservies'!HW23","v":0},{"$f":"'3.Zones_desservies'!HX23","v":0},{"$f":"'3.Zones_desservies'!HY23","v":0},{"$f":"'3.Zones_desservies'!HZ23","v":0},{"$f":"'3.Zones_desservies'!IA23","v":0},{"$f":"'3.Zones_desservies'!IB23","v":0},{"$f":"'3.Zones_desservies'!IC23","v":0},{"$f":"'3.Zones_desservies'!ID23","v":0},{"$f":"'3.Zones_desservies'!IE23","v":0},{"$f":"'3.Zones_desservies'!IF23","v":0},{"$f":"'3.Zones_desservies'!IG23","v":0},{"$f":"'3.Zones_desservies'!IH23","v":0},{"$f":"'3.Zones_desservies'!II23","v":0},{"$f":"'3.Zones_desservies'!IJ23","v":0},{"$f":"'3.Zones_desservies'!IK23","v":0},{"$f":"'3.Zones_desservies'!IL23","v":0},{"$f":"'3.Zones_desservies'!IM23","v":0},{"$f":"'3.Zones_desservies'!IN23","v":0},{"$f":"'3.Zones_desservies'!IO23","v":0},{"$f":"'3.Zones_desservies'!IP23","v":0},{"$f":"'3.Zones_desservies'!IQ23","v":0},{"$f":"'3.Zones_desservies'!IR23","v":0},{"$f":"'3.Zones_desservies'!IS23","v":0},{"$f":"'3.Zones_desservies'!IT23","v":0},{"$f":"'3.Zones_desservies'!IU23","v":0},{"$f":"'3.Zones_desservies'!IV23","v":0},{"$f":"'3.Zones_desservies'!IW23","v":0},{"$f":"'3.Zones_desservies'!IX23","v":0},{"$f":"'3.Zones_desservies'!IY23","v":0},{"$f":"'3.Zones_desservies'!IZ23","v":0},{"$f":"'3.Zones_desservies'!JA23","v":0},{"$f":"'3.Zones_desservies'!JB23","v":0},{"$f":"'3.Zones_desservies'!JC23","v":0},{"$f":"'3.Zones_desservies'!JD23","v":0},{"$f":"'3.Zones_desservies'!JE23","v":0},{"$f":"'3.Zones_desservies'!JF23","v":0},{"$f":"'3.Zones_desservies'!JG23","v":0},{"$f":"'3.Zones_desservies'!JH23","v":0},{"$f":"'3.Zones_desservies'!JI23","v":0},{"$f":"'3.Zones_desservies'!JJ23","v":0},{"$f":"'3.Zones_desservies'!JK23","v":0},{"$f":"'3.Zones_desservies'!JL23","v":0},{"$f":"'3.Zones_desservies'!JM23","v":0},{"$f":"'3.Zones_desservies'!JN23","v":0},{"$f":"'3.Zones_desservies'!JO23","v":0},{"$f":"'3.Zones_desservies'!JP23","v":0},{"$f":"'3.Zones_desservies'!JQ23","v":0},{"$f":"'3.Zones_desservies'!JR23","v":0},{"$f":"'3.Zones_desservies'!JS23","v":0},{"$f":"'3.Zones_desservies'!JT23","v":0},{"$f":"'3.Zones_desservies'!JU23","v":0},{"$f":"'3.Zones_desservies'!JV23","v":0},{"$f":"'3.Zones_desservies'!JW23","v":0},{"$f":"'3.Zones_desservies'!JX23","v":0},{"$f":"'3.Zones_desservies'!JY23","v":0},{"$f":"'3.Zones_desservies'!JZ23","v":0},{"$f":"'3.Zones_desservies'!KA23","v":0},{"$f":"'3.Zones_desservies'!KB23","v":0},{"$f":"'3.Zones_desservies'!KC23","v":0},{"$f":"'3.Zones_desservies'!KD23","v":0},{"$f":"'3.Zones_desservies'!KE23","v":0},{"$f":"'3.Zones_desservies'!KF23","v":0},{"$f":"'3.Zones_desservies'!KG23","v":0},{"$f":"'3.Zones_desservies'!KH23","v":0},{"$f":"'3.Zones_desservies'!KI23","v":0},{"$f":"'3.Zones_desservies'!KJ23","v":0},{"$f":"'3.Zones_desservies'!KK23","v":0},{"$f":"'3.Zones_desservies'!KL23","v":0},{"$f":"'3.Zones_desservies'!KM23","v":0},{"$f":"'3.Zones_desservies'!KN23","v":0},{"$f":"'3.Zones_desservies'!KO23","v":0},{"$f":"'3.Zones_desservies'!KP23","v":0},{"$f":"'3.Zones_desservies'!KQ23","v":0},{"$f":"'3.Zones_desservies'!KR23","v":0},{"$f":"'3.Zones_desservies'!KS23","v":0},{"$f":"'3.Zones_desservies'!KT23","v":0},{"$f":"'3.Zones_desservies'!KU23","v":0},{"$f":"'3.Zones_desservies'!KV23","v":0},{"$f":"'3.Zones_desservies'!KW23","v":0},{"$f":"'3.Zones_desservies'!KX23","v":0},{"$f":"'3.Zones_desservies'!KY23","v":0},{"$f":"'3.Zones_desservies'!KZ23","v":0},{"$f":"'3.Zones_desservies'!LA23","v":0},{"$f":"'3.Zones_desservies'!LB23","v":0},{"$f":"'3.Zones_desservies'!LC23","v":0},{"$f":"'3.Zones_desservies'!LD23","v":0},{"$f":"'3.Zones_desservies'!LE23","v":0},{"$f":"'3.Zones_desservies'!LF23","v":0},{"$f":"'3.Zones_desservies'!LG23","v":0},{"$f":"'3.Zones_desservies'!LH23","v":0},{"$f":"'3.Zones_desservies'!LI23","v":0},{"$f":"'3.Zones_desservies'!LJ23","v":0},{"$f":"'3.Zones_desservies'!LK23","v":0},{"$f":"'3.Zones_desservies'!LL23","v":0},{"$f":"'3.Zones_desservies'!LM23","v":0},{"$f":"'3.Zones_desservies'!LN23","v":0},{"$f":"'3.Zones_desservies'!LO23","v":0},{"$f":"'3.Zones_desservies'!LP23","v":0},{"$f":"'3.Zones_desservies'!LQ23","v":0},{"$f":"'3.Zones_desservies'!LR23","v":0},{"$f":"'3.Zones_desservies'!LS23","v":0},{"$f":"'3.Zones_desservies'!LT23","v":0},{"$f":"'3.Zones_desservies'!LU23","v":0},{"$f":"'3.Zones_desservies'!LV23","v":0},{"$f":"'3.Zones_desservies'!LW23","v":0},{"$f":"'3.Zones_desservies'!LX23","v":0},{"$f":"'3.Zones_desservies'!LY23","v":0},{"$f":"'3.Zones_desservies'!LZ23","v":0},{"$f":"'3.Zones_desservies'!MA23","v":0},{"$f":"'3.Zones_desservies'!MB23","v":0},{"$f":"'3.Zones_desservies'!MC23","v":0},{"$f":"'3.Zones_desservies'!MD23","v":0},{"$f":"'3.Zones_desservies'!ME23","v":0},{"$f":"'3.Zones_desservies'!MF23","v":0},{"$f":"'3.Zones_desservies'!MG23","v":0},{"$f":"'3.Zones_desservies'!MH23","v":0},{"$f":"'3.Zones_desservies'!MI23","v":0},{"$f":"'3.Zones_desservies'!MJ23","v":0},{"$f":"'3.Zones_desservies'!MK23","v":0},{"$f":"'3.Zones_desservies'!ML23","v":0},{"$f":"'3.Zones_desservies'!MM23","v":0},{"$f":"'3.Zones_desservies'!MN23","v":0},{"$f":"'3.Zones_desservies'!MO23","v":0},{"$f":"'3.Zones_desservies'!MP23","v":0},{"$f":"'3.Zones_desservies'!MQ23","v":0},{"$f":"'3.Zones_desservies'!MR23","v":0},{"$f":"'3.Zones_desservies'!MS23","v":0},{"$f":"'3.Zones_desservies'!MT23","v":0},{"$f":"'3.Zones_desservies'!MU23","v":0},{"$f":"'3.Zones_desservies'!MV23","v":0},{"$f":"'3.Zones_desservies'!MW23","v":0},{"$f":"'3.Zones_desservies'!MX23","v":0},{"$f":"'3.Zones_desservies'!MY23","v":0},{"$f":"'3.Zones_desservies'!MZ23","v":0},{"$f":"'3.Zones_desservies'!NA23","v":0},{"$f":"'3.Zones_desservies'!NB23","v":0},{"$f":"'3.Zones_desservies'!NC23","v":0},{"$f":"'3.Zones_desservies'!ND23","v":0},{"$f":"'3.Zones_desservies'!NE23","v":0},{"$f":"'3.Zones_desservies'!NF23","v":0},{"$f":"'3.Zones_desservies'!NG23","v":0},{"$f":"'3.Zones_desservies'!NH23","v":0},{"$f":"'3.Zones_desservies'!NI23","v":0},{"$f":"'3.Zones_desservies'!NJ23","v":0},{"$f":"'3.Zones_desservies'!NK23","v":0},{"$f":"'3.Zones_desservies'!NL23","v":0},{"$f":"'3.Zones_desservies'!NM23","v":0},{"$f":"'3.Zones_desservies'!NN23","v":0},{"$f":"'3.Zones_desservies'!NO23","v":0},{"$f":"'3.Zones_desservies'!NP23","v":0},{"$f":"'3.Zones_desservies'!NQ23","v":0},{"$f":"'3.Zones_desservies'!NR23","v":0},{"$f":"'3.Zones_desservies'!NS23","v":0},{"$f":"'3.Zones_desservies'!NT23","v":0},{"$f":"'3.Zones_desservies'!NU23","v":0},{"$f":"'3.Zones_desservies'!NV23","v":0},{"$f":"'3.Zones_desservies'!NW23","v":0},{"$f":"'3.Zones_desservies'!NX23","v":0},{"$f":"'3.Zones_desservies'!NY23","v":0},{"$f":"'3.Zones_desservies'!NZ23","v":0},{"$f":"'3.Zones_desservies'!OA23","v":0},{"$f":"'3.Zones_desservies'!OB23","v":0},{"$f":"'3.Zones_desservies'!OC23","v":0},{"$f":"'3.Zones_desservies'!OD23","v":0},{"$f":"'3.Zones_desservies'!OE23","v":0},{"$f":"'3.Zones_desservies'!OF23","v":0},{"$f":"'3.Zones_desservies'!OG23","v":0},{"$f":"'3.Zones_desservies'!OH23","v":0},{"$f":"'3.Zones_desservies'!OI23","v":0},{"$f":"'3.Zones_desservies'!OJ23","v":0},{"$f":"'3.Zones_desservies'!OK23","v":0},{"$f":"'3.Zones_desservies'!OL23","v":0},{"$f":"'3.Zones_desservies'!OM23","v":0},{"$f":"'3.Zones_desservies'!ON23","v":0},{"$f":"'3.Zones_desservies'!OO23","v":0},{"$f":"'3.Zones_desservies'!OP23","v":0},{"$f":"'3.Zones_desservies'!OQ23","v":0},{"$f":"'3.Zones_desservies'!OR23","v":0},{"$f":"'3.Zones_desservies'!OS23","v":0},{"$f":"'3.Zones_desservies'!OT23","v":0},{"$f":"'3.Zones_desservies'!OU23","v":0},{"$f":"'3.Zones_desservies'!OV23","v":0},{"$f":"'3.Zones_desservies'!OW23","v":0},{"$f":"'3.Zones_desservies'!OX23","v":0},{"$f":"'3.Zones_desservies'!OY23","v":0},{"$f":"'3.Zones_desservies'!OZ23","v":0},{"$f":"'3.Zones_desservies'!PA23","v":0},{"$f":"'3.Zones_desservies'!PB23","v":0},{"$f":"'3.Zones_desservies'!PC23","v":0},{"$f":"'3.Zones_desservies'!PD23","v":0},{"$f":"'3.Zones_desservies'!PE23","v":0},{"$f":"'3.Zones_desservies'!PF23","v":0},{"$f":"'3.Zones_desservies'!PG23","v":0},{"$f":"'3.Zones_desservies'!PH23","v":0},{"$f":"'3.Zones_desservies'!PI23","v":0},{"$f":"'3.Zones_desservies'!PJ23","v":0},{"$f":"'3.Zones_desservies'!PK23","v":0},{"$f":"'3.Zones_desservies'!PL23","v":0},{"$f":"'3.Zones_desservies'!PM23","v":0},{"$f":"'3.Zones_desservies'!PN23","v":0},{"$f":"'3.Zones_desservies'!PO23","v":0},{"$f":"'3.Zones_desservies'!PP23","v":0},{"$f":"'3.Zones_desservies'!PQ23","v":0},{"$f":"'3.Zones_desservies'!PR23","v":0},{"$f":"'3.Zones_desservies'!PS23","v":0},{"$f":"'3.Zones_desservies'!PT23","v":0},{"$f":"'3.Zones_desservies'!PU23","v":0},{"$f":"'3.Zones_desservies'!PV23","v":0},{"$f":"'3.Zones_desservies'!PW23","v":0},{"$f":"'3.Zones_desservies'!PX23","v":0},{"$f":"'3.Zones_desservies'!PY23","v":0},{"$f":"'3.Zones_desservies'!PZ23","v":0},{"$f":"'3.Zones_desservies'!QA23","v":0},{"$f":"'3.Zones_desservies'!QB23","v":0},{"$f":"'3.Zones_desservies'!QC23","v":0},{"$f":"'3.Zones_desservies'!QD23","v":0},{"$f":"'3.Zones_desservies'!QE23","v":0},{"$f":"'3.Zones_desservies'!QF23","v":0},{"$f":"'3.Zones_desservies'!QG23","v":0},{"$f":"'3.Zones_desservies'!QH23","v":0},{"$f":"'3.Zones_desservies'!QI23","v":0},{"$f":"'3.Zones_desservies'!QJ23","v":0},{"$f":"'3.Zones_desservies'!QK23","v":0},{"$f":"'3.Zones_desservies'!QL23","v":0},{"$f":"'3.Zones_desservies'!QM23","v":0},{"$f":"'3.Zones_desservies'!QN23","v":0},{"$f":"'3.Zones_desservies'!QO23","v":0},{"$f":"'3.Zones_desservies'!QP23","v":0},{"$f":"'3.Zones_desservies'!QQ23","v":0},{"$f":"'3.Zones_desservies'!QR23","v":0},{"$f":"'3.Zones_desservies'!QS23","v":0},{"$f":"'3.Zones_desservies'!QT23","v":0},{"$f":"'3.Zones_desservies'!QU23","v":0},{"$f":"'3.Zones_desservies'!QV23","v":0},{"$f":"'3.Zones_desservies'!QW23","v":0},{"$f":"'3.Zones_desservies'!QX23","v":0},{"$f":"'3.Zones_desservies'!QY23","v":0},{"$f":"'3.Zones_desservies'!QZ23","v":0},{"$f":"'3.Zones_desservies'!RA23","v":0},{"$f":"'3.Zones_desservies'!RB23","v":0},{"$f":"'3.Zones_desservies'!RC23","v":0},{"$f":"'3.Zones_desservies'!RD23","v":0},{"$f":"'3.Zones_desservies'!RE23","v":0},{"$f":"'3.Zones_desservies'!RF23","v":0},{"$f":"'3.Zones_desservies'!RG23","v":0},{"$f":"'3.Zones_desservies'!RH23","v":0},{"$f":"'3.Zones_desservies'!RI23","v":0},{"$f":"'3.Zones_desservies'!RJ23","v":0},{"$f":"'3.Zones_desservies'!RK23","v":0},{"$f":"'3.Zones_desservies'!RL23","v":0},{"$f":"'3.Zones_desservies'!RM23","v":0},{"$f":"'3.Zones_desservies'!RN23","v":0},{"$f":"'3.Zones_desservies'!RO23","v":0},{"$f":"'3.Zones_desservies'!RP23","v":0},{"$f":"'3.Zones_desservies'!RQ23","v":0},{"$f":"'3.Zones_desservies'!RR23","v":0},{"$f":"'3.Zones_desservies'!RS23","v":0},{"$f":"'3.Zones_desservies'!RT23","v":0},{"$f":"'3.Zones_desservies'!RU23","v":0},{"$f":"'3.Zones_desservies'!RV23","v":0},{"$f":"'3.Zones_desservies'!RW23","v":0},{"$f":"'3.Zones_desservies'!RX23","v":0},{"$f":"'3.Zones_desservies'!RY23","v":0},{"$f":"'3.Zones_desservies'!RZ23","v":0},{"$f":"'3.Zones_desservies'!SA23","v":0},{"$f":"'3.Zones_desservies'!SB23","v":0},{"$f":"'3.Zones_desservies'!SC23","v":0},{"$f":"'3.Zones_desservies'!SD23","v":0},{"$f":"'3.Zones_desservies'!SE23","v":0},{"$f":"'3.Zones_desservies'!SF23","v":0},{"$f":"'3.Zones_desservies'!SG23","v":0},{"$f":"'3.Zones_desservies'!SH23","v":0}]
[null,{"$f":"'3.Zones_desservies'!B24","v":10},{"$f":"'3.Zones_desservies'!C24","v":"Ville 10"},{"$f":"'3.Zones_desservies'!D24","v":0},{"$f":"'3.Zones_desservies'!E24","v":0},{"$f":"'3.Zones_desservies'!F24","v":0},{"$f":"'3.Zones_desservies'!G24","v":0},{"$f":"'3.Zones_desservies'!H24","v":0},{"$f":"'3.Zones_desservies'!I24","v":0},{"$f":"'3.Zones_desservies'!J24","v":0},{"$f":"'3.Zones_desservies'!K24","v":0},{"$f":"'3.Zones_desservies'!L24","v":0},{"$f":"'3.Zones_desservies'!M24","v":0},{"$f":"'3.Zones_desservies'!N24","v":0},{"$f":"'3.Zones_desservies'!O24","v":0},{"$f":"'3.Zones_desservies'!P24","v":0},{"$f":"'3.Zones_desservies'!Q24","v":0},{"$f":"'3.Zones_desservies'!R24","v":0},{"$f":"'3.Zones_desservies'!S24","v":0},{"$f":"'3.Zones_desservies'!T24","v":0},{"$f":"'3.Zones_desservies'!U24","v":0},{"$f":"'3.Zones_desservies'!V24","v":0},{"$f":"'3.Zones_desservies'!W24","v":0},{"$f":"'3.Zones_desservies'!X24","v":0},{"$f":"'3.Zones_desservies'!Y24","v":0},{"$f":"'3.Zones_desservies'!Z24","v":0},{"$f":"'3.Zones_desservies'!AA24","v":0},{"$f":"'3.Zones_desservies'!AB24","v":0},{"$f":"'3.Zones_desservies'!AC24","v":0},{"$f":"'3.Zones_desservies'!AD24","v":0},{"$f":"'3.Zones_desservies'!AE24","v":0},{"$f":"'3.Zones_desservies'!AF24","v":0},{"$f":"'3.Zones_desservies'!AG24","v":0},{"$f":"'3.Zones_desservies'!AH24","v":0},{"$f":"'3.Zones_desservies'!AI24","v":0},{"$f":"'3.Zones_desservies'!AJ24","v":0},{"$f":"'3.Zones_desservies'!AK24","v":0},{"$f":"'3.Zones_desservies'!AL24","v":0},{"$f":"'3.Zones_desservies'!AM24","v":0},{"$f":"'3.Zones_desservies'!AN24","v":0},{"$f":"'3.Zones_desservies'!AO24","v":0},{"$f":"'3.Zones_desservies'!AP24","v":0},{"$f":"'3.Zones_desservies'!AQ24","v":0},{"$f":"'3.Zones_desservies'!AR24","v":0},{"$f":"'3.Zones_desservies'!AS24","v":0},{"$f":"'3.Zones_desservies'!AT24","v":0},{"$f":"'3.Zones_desservies'!AU24","v":0},{"$f":"'3.Zones_desservies'!AV24","v":0},{"$f":"'3.Zones_desservies'!AW24","v":0},{"$f":"'3.Zones_desservies'!AX24","v":0},{"$f":"'3.Zones_desservies'!AY24","v":0},{"$f":"'3.Zones_desservies'!AZ24","v":0},{"$f":"'3.Zones_desservies'!BA24","v":0},{"$f":"'3.Zones_desservies'!BB24","v":0},{"$f":"'3.Zones_desservies'!BC24","v":0},{"$f":"'3.Zones_desservies'!BD24","v":0},{"$f":"'3.Zones_desservies'!BE24","v":0},{"$f":"'3.Zones_desservies'!BF24","v":0},{"$f":"'3.Zones_desservies'!BG24","v":0},{"$f":"'3.Zones_desservies'!BH24","v":0},{"$f":"'3.Zones_desservies'!BI24","v":0},{"$f":"'3.Zones_desservies'!BJ24","v":0},{"$f":"'3.Zones_desservies'!BK24","v":0},{"$f":"'3.Zones_desservies'!BL24","v":0},{"$f":"'3.Zones_desservies'!BM24","v":0},{"$f":"'3.Zones_desservies'!BN24","v":0},{"$f":"'3.Zones_desservies'!BO24","v":0},{"$f":"'3.Zones_desservies'!BP24","v":0},{"$f":"'3.Zones_desservies'!BQ24","v":0},{"$f":"'3.Zones_desservies'!BR24","v":0},{"$f":"'3.Zones_desservies'!BS24","v":0},{"$f":"'3.Zones_desservies'!BT24","v":0},{"$f":"'3.Zones_desservies'!BU24","v":0},{"$f":"'3.Zones_desservies'!BV24","v":0},{"$f":"'3.Zones_desservies'!BW24","v":0},{"$f":"'3.Zones_desservies'!BX24","v":0},{"$f":"'3.Zones_desservies'!BY24","v":0},{"$f":"'3.Zones_desservies'!BZ24","v":0},{"$f":"'3.Zones_desservies'!CA24","v":0},{"$f":"'3.Zones_desservies'!CB24","v":0},{"$f":"'3.Zones_desservies'!CC24","v":0},{"$f":"'3.Zones_desservies'!CD24","v":0},{"$f":"'3.Zones_desservies'!CE24","v":0},{"$f":"'3.Zones_desservies'!CF24","v":0},{"$f":"'3.Zones_desservies'!CG24","v":0},{"$f":"'3.Zones_desservies'!CH24","v":0},{"$f":"'3.Zones_desservies'!CI24","v":0},{"$f":"'3.Zones_desservies'!CJ24","v":0},{"$f":"'3.Zones_desservies'!CK24","v":0},{"$f":"'3.Zones_desservies'!CL24","v":0},{"$f":"'3.Zones_desservies'!CM24","v":0},{"$f":"'3.Zones_desservies'!CN24","v":0},{"$f":"'3.Zones_desservies'!CO24","v":0},{"$f":"'3.Zones_desservies'!CP24","v":0},{"$f":"'3.Zones_desservies'!CQ24","v":0},{"$f":"'3.Zones_desservies'!CR24","v":0},{"$f":"'3.Zones_desservies'!CS24","v":0},{"$f":"'3.Zones_desservies'!CT24","v":0},{"$f":"'3.Zones_desservies'!CU24","v":0},{"$f":"'3.Zones_desservies'!CV24","v":0},{"$f":"'3.Zones_desservies'!CW24","v":0},{"$f":"'3.Zones_desservies'!CX24","v":0},{"$f":"'3.Zones_desservies'!CY24","v":"_"},{"$f":"'3.Zones_desservies'!CZ24","v":0},{"$f":"'3.Zones_desservies'!DA24","v":0},{"$f":"'3.Zones_desservies'!DB24","v":0},{"$f":"'3.Zones_desservies'!DC24","v":0},{"$f":"'3.Zones_desservies'!DD24","v":0},{"$f":"'3.Zones_desservies'!DE24","v":0},{"$f":"'3.Zones_desservies'!DF24","v":0},{"$f":"'3.Zones_desservies'!DG24","v":0},{"$f":"'3.Zones_desservies'!DH24","v":0},{"$f":"'3.Zones_desservies'!DI24","v":0},{"$f":"'3.Zones_desservies'!DJ24","v":0},{"$f":"'3.Zones_desservies'!DK24","v":0},{"$f":"'3.Zones_desservies'!DL24","v":0},{"$f":"'3.Zones_desservies'!DM24","v":0},{"$f":"'3.Zones_desservies'!DN24","v":0},{"$f":"'3.Zones_desservies'!DO24","v":0},{"$f":"'3.Zones_desservies'!DP24","v":0},{"$f":"'3.Zones_desservies'!DQ24","v":0},{"$f":"'3.Zones_desservies'!DR24","v":0},{"$f":"'3.Zones_desservies'!DS24","v":0},{"$f":"'3.Zones_desservies'!DT24","v":0},{"$f":"'3.Zones_desservies'!DU24","v":0},{"$f":"'3.Zones_desservies'!DV24","v":0},{"$f":"'3.Zones_desservies'!DW24","v":0},{"$f":"'3.Zones_desservies'!DX24","v":0},{"$f":"'3.Zones_desservies'!DY24","v":0},{"$f":"'3.Zones_desservies'!DZ24","v":0},{"$f":"'3.Zones_desservies'!EA24","v":0},{"$f":"'3.Zones_desservies'!EB24","v":0},{"$f":"'3.Zones_desservies'!EC24","v":0},{"$f":"'3.Zones_desservies'!ED24","v":0},{"$f":"'3.Zones_desservies'!EE24","v":0},{"$f":"'3.Zones_desservies'!EF24","v":0},{"$f":"'3.Zones_desservies'!EG24","v":0},{"$f":"'3.Zones_desservies'!EH24","v":0},{"$f":"'3.Zones_desservies'!EI24","v":0},{"$f":"'3.Zones_desservies'!EJ24","v":0},{"$f":"'3.Zones_desservies'!EK24","v":0},{"$f":"'3.Zones_desservies'!EL24","v":0},{"$f":"'3.Zones_desservies'!EM24","v":0},{"$f":"'3.Zones_desservies'!EN24","v":0},{"$f":"'3.Zones_desservies'!EO24","v":0},{"$f":"'3.Zones_desservies'!EP24","v":0},{"$f":"'3.Zones_desservies'!EQ24","v":0},{"$f":"'3.Zones_desservies'!ER24","v":0},{"$f":"'3.Zones_desservies'!ES24","v":0},{"$f":"'3.Zones_desservies'!ET24","v":0},{"$f":"'3.Zones_desservies'!EU24","v":0},{"$f":"'3.Zones_desservies'!EV24","v":0},{"$f":"'3.Zones_desservies'!EW24","v":0},{"$f":"'3.Zones_desservies'!EX24","v":0},{"$f":"'3.Zones_desservies'!EY24","v":0},{"$f":"'3.Zones_desservies'!EZ24","v":0},{"$f":"'3.Zones_desservies'!FA24","v":0},{"$f":"'3.Zones_desservies'!FB24","v":0},{"$f":"'3.Zones_desservies'!FC24","v":0},{"$f":"'3.Zones_desservies'!FD24","v":0},{"$f":"'3.Zones_desservies'!FE24","v":0},{"$f":"'3.Zones_desservies'!FF24","v":0},{"$f":"'3.Zones_desservies'!FG24","v":0},{"$f":"'3.Zones_desservies'!FH24","v":0},{"$f":"'3.Zones_desservies'!FI24","v":0},{"$f":"'3.Zones_desservies'!FJ24","v":0},{"$f":"'3.Zones_desservies'!FK24","v":0},{"$f":"'3.Zones_desservies'!FL24","v":0},{"$f":"'3.Zones_desservies'!FM24","v":0},{"$f":"'3.Zones_desservies'!FN24","v":0},{"$f":"'3.Zones_desservies'!FO24","v":0},{"$f":"'3.Zones_desservies'!FP24","v":0},{"$f":"'3.Zones_desservies'!FQ24","v":0},{"$f":"'3.Zones_desservies'!FR24","v":0},{"$f":"'3.Zones_desservies'!FS24","v":0},{"$f":"'3.Zones_desservies'!FT24","v":0},{"$f":"'3.Zones_desservies'!FU24","v":0},{"$f":"'3.Zones_desservies'!FV24","v":0},{"$f":"'3.Zones_desservies'!FW24","v":0},{"$f":"'3.Zones_desservies'!FX24","v":0},{"$f":"'3.Zones_desservies'!FY24","v":0},{"$f":"'3.Zones_desservies'!FZ24","v":0},{"$f":"'3.Zones_desservies'!GA24","v":0},{"$f":"'3.Zones_desservies'!GB24","v":0},{"$f":"'3.Zones_desservies'!GC24","v":0},{"$f":"'3.Zones_desservies'!GD24","v":0},{"$f":"'3.Zones_desservies'!GE24","v":0},{"$f":"'3.Zones_desservies'!GF24","v":0},{"$f":"'3.Zones_desservies'!GG24","v":0},{"$f":"'3.Zones_desservies'!GH24","v":0},{"$f":"'3.Zones_desservies'!GI24","v":0},{"$f":"'3.Zones_desservies'!GJ24","v":0},{"$f":"'3.Zones_desservies'!GK24","v":0},{"$f":"'3.Zones_desservies'!GL24","v":0},{"$f":"'3.Zones_desservies'!GM24","v":0},{"$f":"'3.Zones_desservies'!GN24","v":0},{"$f":"'3.Zones_desservies'!GO24","v":0},{"$f":"'3.Zones_desservies'!GP24","v":0},{"$f":"'3.Zones_desservies'!GQ24","v":0},{"$f":"'3.Zones_desservies'!GR24","v":0},{"$f":"'3.Zones_desservies'!GS24","v":0},{"$f":"'3.Zones_desservies'!GT24","v":0},{"$f":"'3.Zones_desservies'!GU24","v":0},{"$f":"'3.Zones_desservies'!GV24","v":0},{"$f":"'3.Zones_desservies'!GW24","v":0},{"$f":"'3.Zones_desservies'!GX24","v":0},{"$f":"'3.Zones_desservies'!GY24","v":0},{"$f":"'3.Zones_desservies'!GZ24","v":0},{"$f":"'3.Zones_desservies'!HA24","v":0},{"$f":"'3.Zones_desservies'!HB24","v":0},{"$f":"'3.Zones_desservies'!HC24","v":0},{"$f":"'3.Zones_desservies'!HD24","v":0},{"$f":"'3.Zones_desservies'!HE24","v":0},{"$f":"'3.Zones_desservies'!HF24","v":0},{"$f":"'3.Zones_desservies'!HG24","v":0},{"$f":"'3.Zones_desservies'!HH24","v":0},{"$f":"'3.Zones_desservies'!HI24","v":0},{"$f":"'3.Zones_desservies'!HJ24","v":0},{"$f":"'3.Zones_desservies'!HK24","v":0},{"$f":"'3.Zones_desservies'!HL24","v":0},{"$f":"'3.Zones_desservies'!HM24","v":0},{"$f":"'3.Zones_desservies'!HN24","v":0},{"$f":"'3.Zones_desservies'!HO24","v":0},{"$f":"'3.Zones_desservies'!HP24","v":0},{"$f":"'3.Zones_desservies'!HQ24","v":0},{"$f":"'3.Zones_desservies'!HR24","v":0},{"$f":"'3.Zones_desservies'!HS24","v":0},{"$f":"'3.Zones_desservies'!HT24","v":0},{"$f":"'3.Zones_desservies'!HU24","v":0},{"$f":"'3.Zones_desservies'!HV24","v":0},{"$f":"'3.Zones_desservies'!HW24","v":0},{"$f":"'3.Zones_desservies'!HX24","v":0},{"$f":"'3.Zones_desservies'!HY24","v":0},{"$f":"'3.Zones_desservies'!HZ24","v":0},{"$f":"'3.Zones_desservies'!IA24","v":0},{"$f":"'3.Zones_desservies'!IB24","v":0},{"$f":"'3.Zones_desservies'!IC24","v":0},{"$f":"'3.Zones_desservies'!ID24","v":0},{"$f":"'3.Zones_desservies'!IE24","v":0},{"$f":"'3.Zones_desservies'!IF24","v":0},{"$f":"'3.Zones_desservies'!IG24","v":0},{"$f":"'3.Zones_desservies'!IH24","v":0},{"$f":"'3.Zones_desservies'!II24","v":0},{"$f":"'3.Zones_desservies'!IJ24","v":0},{"$f":"'3.Zones_desservies'!IK24","v":0},{"$f":"'3.Zones_desservies'!IL24","v":0},{"$f":"'3.Zones_desservies'!IM24","v":0},{"$f":"'3.Zones_desservies'!IN24","v":0},{"$f":"'3.Zones_desservies'!IO24","v":0},{"$f":"'3.Zones_desservies'!IP24","v":0},{"$f":"'3.Zones_desservies'!IQ24","v":0},{"$f":"'3.Zones_desservies'!IR24","v":0},{"$f":"'3.Zones_desservies'!IS24","v":0},{"$f":"'3.Zones_desservies'!IT24","v":0},{"$f":"'3.Zones_desservies'!IU24","v":0},{"$f":"'3.Zones_desservies'!IV24","v":0},{"$f":"'3.Zones_desservies'!IW24","v":0},{"$f":"'3.Zones_desservies'!IX24","v":0},{"$f":"'3.Zones_desservies'!IY24","v":0},{"$f":"'3.Zones_desservies'!IZ24","v":0},{"$f":"'3.Zones_desservies'!JA24","v":0},{"$f":"'3.Zones_desservies'!JB24","v":0},{"$f":"'3.Zones_desservies'!JC24","v":0},{"$f":"'3.Zones_desservies'!JD24","v":0},{"$f":"'3.Zones_desservies'!JE24","v":0},{"$f":"'3.Zones_desservies'!JF24","v":0},{"$f":"'3.Zones_desservies'!JG24","v":0},{"$f":"'3.Zones_desservies'!JH24","v":0},{"$f":"'3.Zones_desservies'!JI24","v":0},{"$f":"'3.Zones_desservies'!JJ24","v":0},{"$f":"'3.Zones_desservies'!JK24","v":0},{"$f":"'3.Zones_desservies'!JL24","v":0},{"$f":"'3.Zones_desservies'!JM24","v":0},{"$f":"'3.Zones_desservies'!JN24","v":0},{"$f":"'3.Zones_desservies'!JO24","v":0},{"$f":"'3.Zones_desservies'!JP24","v":0},{"$f":"'3.Zones_desservies'!JQ24","v":0},{"$f":"'3.Zones_desservies'!JR24","v":0},{"$f":"'3.Zones_desservies'!JS24","v":0},{"$f":"'3.Zones_desservies'!JT24","v":0},{"$f":"'3.Zones_desservies'!JU24","v":0},{"$f":"'3.Zones_desservies'!JV24","v":0},{"$f":"'3.Zones_desservies'!JW24","v":0},{"$f":"'3.Zones_desservies'!JX24","v":0},{"$f":"'3.Zones_desservies'!JY24","v":0},{"$f":"'3.Zones_desservies'!JZ24","v":0},{"$f":"'3.Zones_desservies'!KA24","v":0},{"$f":"'3.Zones_desservies'!KB24","v":0},{"$f":"'3.Zones_desservies'!KC24","v":0},{"$f":"'3.Zones_desservies'!KD24","v":0},{"$f":"'3.Zones_desservies'!KE24","v":0},{"$f":"'3.Zones_desservies'!KF24","v":0},{"$f":"'3.Zones_desservies'!KG24","v":0},{"$f":"'3.Zones_desservies'!KH24","v":0},{"$f":"'3.Zones_desservies'!KI24","v":0},{"$f":"'3.Zones_desservies'!KJ24","v":0},{"$f":"'3.Zones_desservies'!KK24","v":0},{"$f":"'3.Zones_desservies'!KL24","v":0},{"$f":"'3.Zones_desservies'!KM24","v":0},{"$f":"'3.Zones_desservies'!KN24","v":0},{"$f":"'3.Zones_desservies'!KO24","v":0},{"$f":"'3.Zones_desservies'!KP24","v":0},{"$f":"'3.Zones_desservies'!KQ24","v":0},{"$f":"'3.Zones_desservies'!KR24","v":0},{"$f":"'3.Zones_desservies'!KS24","v":0},{"$f":"'3.Zones_desservies'!KT24","v":0},{"$f":"'3.Zones_desservies'!KU24","v":0},{"$f":"'3.Zones_desservies'!KV24","v":0},{"$f":"'3.Zones_desservies'!KW24","v":0},{"$f":"'3.Zones_desservies'!KX24","v":0},{"$f":"'3.Zones_desservies'!KY24","v":0},{"$f":"'3.Zones_desservies'!KZ24","v":0},{"$f":"'3.Zones_desservies'!LA24","v":0},{"$f":"'3.Zones_desservies'!LB24","v":0},{"$f":"'3.Zones_desservies'!LC24","v":0},{"$f":"'3.Zones_desservies'!LD24","v":0},{"$f":"'3.Zones_desservies'!LE24","v":0},{"$f":"'3.Zones_desservies'!LF24","v":0},{"$f":"'3.Zones_desservies'!LG24","v":0},{"$f":"'3.Zones_desservies'!LH24","v":0},{"$f":"'3.Zones_desservies'!LI24","v":0},{"$f":"'3.Zones_desservies'!LJ24","v":0},{"$f":"'3.Zones_desservies'!LK24","v":0},{"$f":"'3.Zones_desservies'!LL24","v":0},{"$f":"'3.Zones_desservies'!LM24","v":0},{"$f":"'3.Zones_desservies'!LN24","v":0},{"$f":"'3.Zones_desservies'!LO24","v":0},{"$f":"'3.Zones_desservies'!LP24","v":0},{"$f":"'3.Zones_desservies'!LQ24","v":0},{"$f":"'3.Zones_desservies'!LR24","v":0},{"$f":"'3.Zones_desservies'!LS24","v":0},{"$f":"'3.Zones_desservies'!LT24","v":0},{"$f":"'3.Zones_desservies'!LU24","v":0},{"$f":"'3.Zones_desservies'!LV24","v":0},{"$f":"'3.Zones_desservies'!LW24","v":0},{"$f":"'3.Zones_desservies'!LX24","v":0},{"$f":"'3.Zones_desservies'!LY24","v":0},{"$f":"'3.Zones_desservies'!LZ24","v":0},{"$f":"'3.Zones_desservies'!MA24","v":0},{"$f":"'3.Zones_desservies'!MB24","v":0},{"$f":"'3.Zones_desservies'!MC24","v":0},{"$f":"'3.Zones_desservies'!MD24","v":0},{"$f":"'3.Zones_desservies'!ME24","v":0},{"$f":"'3.Zones_desservies'!MF24","v":0},{"$f":"'3.Zones_desservies'!MG24","v":0},{"$f":"'3.Zones_desservies'!MH24","v":0},{"$f":"'3.Zones_desservies'!MI24","v":0},{"$f":"'3.Zones_desservies'!MJ24","v":0},{"$f":"'3.Zones_desservies'!MK24","v":0},{"$f":"'3.Zones_desservies'!ML24","v":0},{"$f":"'3.Zones_desservies'!MM24","v":0},{"$f":"'3.Zones_desservies'!MN24","v":0},{"$f":"'3.Zones_desservies'!MO24","v":0},{"$f":"'3.Zones_desservies'!MP24","v":0},{"$f":"'3.Zones_desservies'!MQ24","v":0},{"$f":"'3.Zones_desservies'!MR24","v":0},{"$f":"'3.Zones_desservies'!MS24","v":0},{"$f":"'3.Zones_desservies'!MT24","v":0},{"$f":"'3.Zones_desservies'!MU24","v":0},{"$f":"'3.Zones_desservies'!MV24","v":0},{"$f":"'3.Zones_desservies'!MW24","v":0},{"$f":"'3.Zones_desservies'!MX24","v":0},{"$f":"'3.Zones_desservies'!MY24","v":0},{"$f":"'3.Zones_desservies'!MZ24","v":0},{"$f":"'3.Zones_desservies'!NA24","v":0},{"$f":"'3.Zones_desservies'!NB24","v":0},{"$f":"'3.Zones_desservies'!NC24","v":0},{"$f":"'3.Zones_desservies'!ND24","v":0},{"$f":"'3.Zones_desservies'!NE24","v":0},{"$f":"'3.Zones_desservies'!NF24","v":0},{"$f":"'3.Zones_desservies'!NG24","v":0},{"$f":"'3.Zones_desservies'!NH24","v":0},{"$f":"'3.Zones_desservies'!NI24","v":0},{"$f":"'3.Zones_desservies'!NJ24","v":0},{"$f":"'3.Zones_desservies'!NK24","v":0},{"$f":"'3.Zones_desservies'!NL24","v":0},{"$f":"'3.Zones_desservies'!NM24","v":0},{"$f":"'3.Zones_desservies'!NN24","v":0},{"$f":"'3.Zones_desservies'!NO24","v":0},{"$f":"'3.Zones_desservies'!NP24","v":0},{"$f":"'3.Zones_desservies'!NQ24","v":0},{"$f":"'3.Zones_desservies'!NR24","v":0},{"$f":"'3.Zones_desservies'!NS24","v":0},{"$f":"'3.Zones_desservies'!NT24","v":0},{"$f":"'3.Zones_desservies'!NU24","v":0},{"$f":"'3.Zones_desservies'!NV24","v":0},{"$f":"'3.Zones_desservies'!NW24","v":0},{"$f":"'3.Zones_desservies'!NX24","v":0},{"$f":"'3.Zones_desservies'!NY24","v":0},{"$f":"'3.Zones_desservies'!NZ24","v":0},{"$f":"'3.Zones_desservies'!OA24","v":0},{"$f":"'3.Zones_desservies'!OB24","v":0},{"$f":"'3.Zones_desservies'!OC24","v":0},{"$f":"'3.Zones_desservies'!OD24","v":0},{"$f":"'3.Zones_desservies'!OE24","v":0},{"$f":"'3.Zones_desservies'!OF24","v":0},{"$f":"'3.Zones_desservies'!OG24","v":0},{"$f":"'3.Zones_desservies'!OH24","v":0},{"$f":"'3.Zones_desservies'!OI24","v":0},{"$f":"'3.Zones_desservies'!OJ24","v":0},{"$f":"'3.Zones_desservies'!OK24","v":0},{"$f":"'3.Zones_desservies'!OL24","v":0},{"$f":"'3.Zones_desservies'!OM24","v":0},{"$f":"'3.Zones_desservies'!ON24","v":0},{"$f":"'3.Zones_desservies'!OO24","v":0},{"$f":"'3.Zones_desservies'!OP24","v":0},{"$f":"'3.Zones_desservies'!OQ24","v":0},{"$f":"'3.Zones_desservies'!OR24","v":0},{"$f":"'3.Zones_desservies'!OS24","v":0},{"$f":"'3.Zones_desservies'!OT24","v":0},{"$f":"'3.Zones_desservies'!OU24","v":0},{"$f":"'3.Zones_desservies'!OV24","v":0},{"$f":"'3.Zones_desservies'!OW24","v":0},{"$f":"'3.Zones_desservies'!OX24","v":0},{"$f":"'3.Zones_desservies'!OY24","v":0},{"$f":"'3.Zones_desservies'!OZ24","v":0},{"$f":"'3.Zones_desservies'!PA24","v":0},{"$f":"'3.Zones_desservies'!PB24","v":0},{"$f":"'3.Zones_desservies'!PC24","v":0},{"$f":"'3.Zones_desservies'!PD24","v":0},{"$f":"'3.Zones_desservies'!PE24","v":0},{"$f":"'3.Zones_desservies'!PF24","v":0},{"$f":"'3.Zones_desservies'!PG24","v":0},{"$f":"'3.Zones_desservies'!PH24","v":0},{"$f":"'3.Zones_desservies'!PI24","v":0},{"$f":"'3.Zones_desservies'!PJ24","v":0},{"$f":"'3.Zones_desservies'!PK24","v":0},{"$f":"'3.Zones_desservies'!PL24","v":0},{"$f":"'3.Zones_desservies'!PM24","v":0},{"$f":"'3.Zones_desservies'!PN24","v":0},{"$f":"'3.Zones_desservies'!PO24","v":0},{"$f":"'3.Zones_desservies'!PP24","v":0},{"$f":"'3.Zones_desservies'!PQ24","v":0},{"$f":"'3.Zones_desservies'!PR24","v":0},{"$f":"'3.Zones_desservies'!PS24","v":0},{"$f":"'3.Zones_desservies'!PT24","v":0},{"$f":"'3.Zones_desservies'!PU24","v":0},{"$f":"'3.Zones_desservies'!PV24","v":0},{"$f":"'3.Zones_desservies'!PW24","v":0},{"$f":"'3.Zones_desservies'!PX24","v":0},{"$f":"'3.Zones_desservies'!PY24","v":0},{"$f":"'3.Zones_desservies'!PZ24","v":0},{"$f":"'3.Zones_desservies'!QA24","v":0},{"$f":"'3.Zones_desservies'!QB24","v":0},{"$f":"'3.Zones_desservies'!QC24","v":0},{"$f":"'3.Zones_desservies'!QD24","v":0},{"$f":"'3.Zones_desservies'!QE24","v":0},{"$f":"'3.Zones_desservies'!QF24","v":0},{"$f":"'3.Zones_desservies'!QG24","v":0},{"$f":"'3.Zones_desservies'!QH24","v":0},{"$f":"'3.Zones_desservies'!QI24","v":0},{"$f":"'3.Zones_desservies'!QJ24","v":0},{"$f":"'3.Zones_desservies'!QK24","v":0},{"$f":"'3.Zones_desservies'!QL24","v":0},{"$f":"'3.Zones_desservies'!QM24","v":0},{"$f":"'3.Zones_desservies'!QN24","v":0},{"$f":"'3.Zones_desservies'!QO24","v":0},{"$f":"'3.Zones_desservies'!QP24","v":0},{"$f":"'3.Zones_desservies'!QQ24","v":0},{"$f":"'3.Zones_desservies'!QR24","v":0},{"$f":"'3.Zones_desservies'!QS24","v":0},{"$f":"'3.Zones_desservies'!QT24","v":0},{"$f":"'3.Zones_desservies'!QU24","v":0},{"$f":"'3.Zones_desservies'!QV24","v":0},{"$f":"'3.Zones_desservies'!QW24","v":0},{"$f":"'3.Zones_desservies'!QX24","v":0},{"$f":"'3.Zones_desservies'!QY24","v":0},{"$f":"'3.Zones_desservies'!QZ24","v":0},{"$f":"'3.Zones_desservies'!RA24","v":0},{"$f":"'3.Zones_desservies'!RB24","v":0},{"$f":"'3.Zones_desservies'!RC24","v":0},{"$f":"'3.Zones_desservies'!RD24","v":0},{"$f":"'3.Zones_desservies'!RE24","v":0},{"$f":"'3.Zones_desservies'!RF24","v":0},{"$f":"'3.Zones_desservies'!RG24","v":0},{"$f":"'3.Zones_desservies'!RH24","v":0},{"$f":"'3.Zones_desservies'!RI24","v":0},{"$f":"'3.Zones_desservies'!RJ24","v":0},{"$f":"'3.Zones_desservies'!RK24","v":0},{"$f":"'3.Zones_desservies'!RL24","v":0},{"$f":"'3.Zones_desservies'!RM24","v":0},{"$f":"'3.Zones_desservies'!RN24","v":0},{"$f":"'3.Zones_desservies'!RO24","v":0},{"$f":"'3.Zones_desservies'!RP24","v":0},{"$f":"'3.Zones_desservies'!RQ24","v":0},{"$f":"'3.Zones_desservies'!RR24","v":0},{"$f":"'3.Zones_desservies'!RS24","v":0},{"$f":"'3.Zones_desservies'!RT24","v":0},{"$f":"'3.Zones_desservies'!RU24","v":0},{"$f":"'3.Zones_desservies'!RV24","v":0},{"$f":"'3.Zones_desservies'!RW24","v":0},{"$f":"'3.Zones_desservies'!RX24","v":0},{"$f":"'3.Zones_desservies'!RY24","v":0},{"$f":"'3.Zones_desservies'!RZ24","v":0},{"$f":"'3.Zones_desservies'!SA24","v":0},{"$f":"'3.Zones_desservies'!SB24","v":0},{"$f":"'3.Zones_desservies'!SC24","v":0},{"$f":"'3.Zones_desservies'!SD24","v":0},{"$f":"'3.Zones_desservies'!SE24","v":0},{"$f":"'3.Zones_desservies'!SF24","v":0},{"$f":"'3.Zones_desservies'!SG24","v":0},{"$f":"'3.Zones_desservies'!SH24","v":0}]
[null,{"$f":"'3.Zones_desservies'!B25","v":11},{"$f":"'3.Zones_desservies'!C25","v":0},{"$f":"'3.Zones_desservies'!D25","v":0},{"$f":"'3.Zones_desservies'!E25","v":0},{"$f":"'3.Zones_desservies'!F25","v":0},{"$f":"'3.Zones_desservies'!G25","v":0},{"$f":"'3.Zones_desservies'!H25","v":0},{"$f":"'3.Zones_desservies'!I25","v":0},{"$f":"'3.Zones_desservies'!J25","v":0},{"$f":"'3.Zones_desservies'!K25","v":0},{"$f":"'3.Zones_desservies'!L25","v":0},{"$f":"'3.Zones_desservies'!M25","v":0},{"$f":"'3.Zones_desservies'!N25","v":0},{"$f":"'3.Zones_desservies'!O25","v":0},{"$f":"'3.Zones_desservies'!P25","v":0},{"$f":"'3.Zones_desservies'!Q25","v":0},{"$f":"'3.Zones_desservies'!R25","v":0},{"$f":"'3.Zones_desservies'!S25","v":0},{"$f":"'3.Zones_desservies'!T25","v":0},{"$f":"'3.Zones_desservies'!U25","v":0},{"$f":"'3.Zones_desservies'!V25","v":0},{"$f":"'3.Zones_desservies'!W25","v":0},{"$f":"'3.Zones_desservies'!X25","v":0},{"$f":"'3.Zones_desservies'!Y25","v":0},{"$f":"'3.Zones_desservies'!Z25","v":0},{"$f":"'3.Zones_desservies'!AA25","v":0},{"$f":"'3.Zones_desservies'!AB25","v":0},{"$f":"'3.Zones_desservies'!AC25","v":0},{"$f":"'3.Zones_desservies'!AD25","v":0},{"$f":"'3.Zones_desservies'!AE25","v":0},{"$f":"'3.Zones_desservies'!AF25","v":0},{"$f":"'3.Zones_desservies'!AG25","v":0},{"$f":"'3.Zones_desservies'!AH25","v":0},{"$f":"'3.Zones_desservies'!AI25","v":0},{"$f":"'3.Zones_desservies'!AJ25","v":0},{"$f":"'3.Zones_desservies'!AK25","v":0},{"$f":"'3.Zones_desservies'!AL25","v":0},{"$f":"'3.Zones_desservies'!AM25","v":0},{"$f":"'3.Zones_desservies'!AN25","v":0},{"$f":"'3.Zones_desservies'!AO25","v":0},{"$f":"'3.Zones_desservies'!AP25","v":0},{"$f":"'3.Zones_desservies'!AQ25","v":0},{"$f":"'3.Zones_desservies'!AR25","v":0},{"$f":"'3.Zones_desservies'!AS25","v":0},{"$f":"'3.Zones_desservies'!AT25","v":0},{"$f":"'3.Zones_desservies'!AU25","v":0},{"$f":"'3.Zones_desservies'!AV25","v":0},{"$f":"'3.Zones_desservies'!AW25","v":0},{"$f":"'3.Zones_desservies'!AX25","v":0},{"$f":"'3.Zones_desservies'!AY25","v":0},{"$f":"'3.Zones_desservies'!AZ25","v":0},{"$f":"'3.Zones_desservies'!BA25","v":0},{"$f":"'3.Zones_desservies'!BB25","v":0},{"$f":"'3.Zones_desservies'!BC25","v":0},{"$f":"'3.Zones_desservies'!BD25","v":0},{"$f":"'3.Zones_desservies'!BE25","v":0},{"$f":"'3.Zones_desservies'!BF25","v":0},{"$f":"'3.Zones_desservies'!BG25","v":0},{"$f":"'3.Zones_desservies'!BH25","v":0},{"$f":"'3.Zones_desservies'!BI25","v":0},{"$f":"'3.Zones_desservies'!BJ25","v":0},{"$f":"'3.Zones_desservies'!BK25","v":0},{"$f":"'3.Zones_desservies'!BL25","v":0},{"$f":"'3.Zones_desservies'!BM25","v":0},{"$f":"'3.Zones_desservies'!BN25","v":0},{"$f":"'3.Zones_desservies'!BO25","v":0},{"$f":"'3.Zones_desservies'!BP25","v":0},{"$f":"'3.Zones_desservies'!BQ25","v":0},{"$f":"'3.Zones_desservies'!BR25","v":0},{"$f":"'3.Zones_desservies'!BS25","v":0},{"$f":"'3.Zones_desservies'!BT25","v":0},{"$f":"'3.Zones_desservies'!BU25","v":0},{"$f":"'3.Zones_desservies'!BV25","v":0},{"$f":"'3.Zones_desservies'!BW25","v":0},{"$f":"'3.Zones_desservies'!BX25","v":0},{"$f":"'3.Zones_desservies'!BY25","v":0},{"$f":"'3.Zones_desservies'!BZ25","v":0},{"$f":"'3.Zones_desservies'!CA25","v":0},{"$f":"'3.Zones_desservies'!CB25","v":0},{"$f":"'3.Zones_desservies'!CC25","v":0},{"$f":"'3.Zones_desservies'!CD25","v":0},{"$f":"'3.Zones_desservies'!CE25","v":0},{"$f":"'3.Zones_desservies'!CF25","v":0},{"$f":"'3.Zones_desservies'!CG25","v":0},{"$f":"'3.Zones_desservies'!CH25","v":0},{"$f":"'3.Zones_desservies'!CI25","v":0},{"$f":"'3.Zones_desservies'!CJ25","v":0},{"$f":"'3.Zones_desservies'!CK25","v":0},{"$f":"'3.Zones_desservies'!CL25","v":0},{"$f":"'3.Zones_desservies'!CM25","v":0},{"$f":"'3.Zones_desservies'!CN25","v":0},{"$f":"'3.Zones_desservies'!CO25","v":0},{"$f":"'3.Zones_desservies'!CP25","v":0},{"$f":"'3.Zones_desservies'!CQ25","v":0},{"$f":"'3.Zones_desservies'!CR25","v":0},{"$f":"'3.Zones_desservies'!CS25","v":0},{"$f":"'3.Zones_desservies'!CT25","v":0},{"$f":"'3.Zones_desservies'!CU25","v":0},{"$f":"'3.Zones_desservies'!CV25","v":0},{"$f":"'3.Zones_desservies'!CW25","v":0},{"$f":"'3.Zones_desservies'!CX25","v":0},{"$f":"'3.Zones_desservies'!CY25","v":"_"},{"$f":"'3.Zones_desservies'!CZ25","v":0},{"$f":"'3.Zones_desservies'!DA25","v":0},{"$f":"'3.Zones_desservies'!DB25","v":0},{"$f":"'3.Zones_desservies'!DC25","v":0},{"$f":"'3.Zones_desservies'!DD25","v":0},{"$f":"'3.Zones_desservies'!DE25","v":0},{"$f":"'3.Zones_desservies'!DF25","v":0},{"$f":"'3.Zones_desservies'!DG25","v":0},{"$f":"'3.Zones_desservies'!DH25","v":0},{"$f":"'3.Zones_desservies'!DI25","v":0},{"$f":"'3.Zones_desservies'!DJ25","v":0},{"$f":"'3.Zones_desservies'!DK25","v":0},{"$f":"'3.Zones_desservies'!DL25","v":0},{"$f":"'3.Zones_desservies'!DM25","v":0},{"$f":"'3.Zones_desservies'!DN25","v":0},{"$f":"'3.Zones_desservies'!DO25","v":0},{"$f":"'3.Zones_desservies'!DP25","v":0},{"$f":"'3.Zones_desservies'!DQ25","v":0},{"$f":"'3.Zones_desservies'!DR25","v":0},{"$f":"'3.Zones_desservies'!DS25","v":0},{"$f":"'3.Zones_desservies'!DT25","v":0},{"$f":"'3.Zones_desservies'!DU25","v":0},{"$f":"'3.Zones_desservies'!DV25","v":0},{"$f":"'3.Zones_desservies'!DW25","v":0},{"$f":"'3.Zones_desservies'!DX25","v":0},{"$f":"'3.Zones_desservies'!DY25","v":0},{"$f":"'3.Zones_desservies'!DZ25","v":0},{"$f":"'3.Zones_desservies'!EA25","v":0},{"$f":"'3.Zones_desservies'!EB25","v":0},{"$f":"'3.Zones_desservies'!EC25","v":0},{"$f":"'3.Zones_desservies'!ED25","v":0},{"$f":"'3.Zones_desservies'!EE25","v":0},{"$f":"'3.Zones_desservies'!EF25","v":0},{"$f":"'3.Zones_desservies'!EG25","v":0},{"$f":"'3.Zones_desservies'!EH25","v":0},{"$f":"'3.Zones_desservies'!EI25","v":0},{"$f":"'3.Zones_desservies'!EJ25","v":0},{"$f":"'3.Zones_desservies'!EK25","v":0},{"$f":"'3.Zones_desservies'!EL25","v":0},{"$f":"'3.Zones_desservies'!EM25","v":0},{"$f":"'3.Zones_desservies'!EN25","v":0},{"$f":"'3.Zones_desservies'!EO25","v":0},{"$f":"'3.Zones_desservies'!EP25","v":0},{"$f":"'3.Zones_desservies'!EQ25","v":0},{"$f":"'3.Zones_desservies'!ER25","v":0},{"$f":"'3.Zones_desservies'!ES25","v":0},{"$f":"'3.Zones_desservies'!ET25","v":0},{"$f":"'3.Zones_desservies'!EU25","v":0},{"$f":"'3.Zones_desservies'!EV25","v":0},{"$f":"'3.Zones_desservies'!EW25","v":0},{"$f":"'3.Zones_desservies'!EX25","v":0},{"$f":"'3.Zones_desservies'!EY25","v":0},{"$f":"'3.Zones_desservies'!EZ25","v":0},{"$f":"'3.Zones_desservies'!FA25","v":0},{"$f":"'3.Zones_desservies'!FB25","v":0},{"$f":"'3.Zones_desservies'!FC25","v":0},{"$f":"'3.Zones_desservies'!FD25","v":0},{"$f":"'3.Zones_desservies'!FE25","v":0},{"$f":"'3.Zones_desservies'!FF25","v":0},{"$f":"'3.Zones_desservies'!FG25","v":0},{"$f":"'3.Zones_desservies'!FH25","v":0},{"$f":"'3.Zones_desservies'!FI25","v":0},{"$f":"'3.Zones_desservies'!FJ25","v":0},{"$f":"'3.Zones_desservies'!FK25","v":0},{"$f":"'3.Zones_desservies'!FL25","v":0},{"$f":"'3.Zones_desservies'!FM25","v":0},{"$f":"'3.Zones_desservies'!FN25","v":0},{"$f":"'3.Zones_desservies'!FO25","v":0},{"$f":"'3.Zones_desservies'!FP25","v":0},{"$f":"'3.Zones_desservies'!FQ25","v":0},{"$f":"'3.Zones_desservies'!FR25","v":0},{"$f":"'3.Zones_desservies'!FS25","v":0},{"$f":"'3.Zones_desservies'!FT25","v":0},{"$f":"'3.Zones_desservies'!FU25","v":0},{"$f":"'3.Zones_desservies'!FV25","v":0},{"$f":"'3.Zones_desservies'!FW25","v":0},{"$f":"'3.Zones_desservies'!FX25","v":0},{"$f":"'3.Zones_desservies'!FY25","v":0},{"$f":"'3.Zones_desservies'!FZ25","v":0},{"$f":"'3.Zones_desservies'!GA25","v":0},{"$f":"'3.Zones_desservies'!GB25","v":0},{"$f":"'3.Zones_desservies'!GC25","v":0},{"$f":"'3.Zones_desservies'!GD25","v":0},{"$f":"'3.Zones_desservies'!GE25","v":0},{"$f":"'3.Zones_desservies'!GF25","v":0},{"$f":"'3.Zones_desservies'!GG25","v":0},{"$f":"'3.Zones_desservies'!GH25","v":0},{"$f":"'3.Zones_desservies'!GI25","v":0},{"$f":"'3.Zones_desservies'!GJ25","v":0},{"$f":"'3.Zones_desservies'!GK25","v":0},{"$f":"'3.Zones_desservies'!GL25","v":0},{"$f":"'3.Zones_desservies'!GM25","v":0},{"$f":"'3.Zones_desservies'!GN25","v":0},{"$f":"'3.Zones_desservies'!GO25","v":0},{"$f":"'3.Zones_desservies'!GP25","v":0},{"$f":"'3.Zones_desservies'!GQ25","v":0},{"$f":"'3.Zones_desservies'!GR25","v":0},{"$f":"'3.Zones_desservies'!GS25","v":0},{"$f":"'3.Zones_desservies'!GT25","v":0},{"$f":"'3.Zones_desservies'!GU25","v":0},{"$f":"'3.Zones_desservies'!GV25","v":0},{"$f":"'3.Zones_desservies'!GW25","v":0},{"$f":"'3.Zones_desservies'!GX25","v":0},{"$f":"'3.Zones_desservies'!GY25","v":0},{"$f":"'3.Zones_desservies'!GZ25","v":0},{"$f":"'3.Zones_desservies'!HA25","v":0},{"$f":"'3.Zones_desservies'!HB25","v":0},{"$f":"'3.Zones_desservies'!HC25","v":0},{"$f":"'3.Zones_desservies'!HD25","v":0},{"$f":"'3.Zones_desservies'!HE25","v":0},{"$f":"'3.Zones_desservies'!HF25","v":0},{"$f":"'3.Zones_desservies'!HG25","v":0},{"$f":"'3.Zones_desservies'!HH25","v":0},{"$f":"'3.Zones_desservies'!HI25","v":0},{"$f":"'3.Zones_desservies'!HJ25","v":0},{"$f":"'3.Zones_desservies'!HK25","v":0},{"$f":"'3.Zones_desservies'!HL25","v":0},{"$f":"'3.Zones_desservies'!HM25","v":0},{"$f":"'3.Zones_desservies'!HN25","v":0},{"$f":"'3.Zones_desservies'!HO25","v":0},{"$f":"'3.Zones_desservies'!HP25","v":0},{"$f":"'3.Zones_desservies'!HQ25","v":0},{"$f":"'3.Zones_desservies'!HR25","v":0},{"$f":"'3.Zones_desservies'!HS25","v":0},{"$f":"'3.Zones_desservies'!HT25","v":0},{"$f":"'3.Zones_desservies'!HU25","v":0},{"$f":"'3.Zones_desservies'!HV25","v":0},{"$f":"'3.Zones_desservies'!HW25","v":0},{"$f":"'3.Zones_desservies'!HX25","v":0},{"$f":"'3.Zones_desservies'!HY25","v":0},{"$f":"'3.Zones_desservies'!HZ25","v":0},{"$f":"'3.Zones_desservies'!IA25","v":0},{"$f":"'3.Zones_desservies'!IB25","v":0},{"$f":"'3.Zones_desservies'!IC25","v":0},{"$f":"'3.Zones_desservies'!ID25","v":0},{"$f":"'3.Zones_desservies'!IE25","v":0},{"$f":"'3.Zones_desservies'!IF25","v":0},{"$f":"'3.Zones_desservies'!IG25","v":0},{"$f":"'3.Zones_desservies'!IH25","v":0},{"$f":"'3.Zones_desservies'!II25","v":0},{"$f":"'3.Zones_desservies'!IJ25","v":0},{"$f":"'3.Zones_desservies'!IK25","v":0},{"$f":"'3.Zones_desservies'!IL25","v":0},{"$f":"'3.Zones_desservies'!IM25","v":0},{"$f":"'3.Zones_desservies'!IN25","v":0},{"$f":"'3.Zones_desservies'!IO25","v":0},{"$f":"'3.Zones_desservies'!IP25","v":0},{"$f":"'3.Zones_desservies'!IQ25","v":0},{"$f":"'3.Zones_desservies'!IR25","v":0},{"$f":"'3.Zones_desservies'!IS25","v":0},{"$f":"'3.Zones_desservies'!IT25","v":0},{"$f":"'3.Zones_desservies'!IU25","v":0},{"$f":"'3.Zones_desservies'!IV25","v":0},{"$f":"'3.Zones_desservies'!IW25","v":0},{"$f":"'3.Zones_desservies'!IX25","v":0},{"$f":"'3.Zones_desservies'!IY25","v":0},{"$f":"'3.Zones_desservies'!IZ25","v":0},{"$f":"'3.Zones_desservies'!JA25","v":0},{"$f":"'3.Zones_desservies'!JB25","v":0},{"$f":"'3.Zones_desservies'!JC25","v":0},{"$f":"'3.Zones_desservies'!JD25","v":0},{"$f":"'3.Zones_desservies'!JE25","v":0},{"$f":"'3.Zones_desservies'!JF25","v":0},{"$f":"'3.Zones_desservies'!JG25","v":0},{"$f":"'3.Zones_desservies'!JH25","v":0},{"$f":"'3.Zones_desservies'!JI25","v":0},{"$f":"'3.Zones_desservies'!JJ25","v":0},{"$f":"'3.Zones_desservies'!JK25","v":0},{"$f":"'3.Zones_desservies'!JL25","v":0},{"$f":"'3.Zones_desservies'!JM25","v":0},{"$f":"'3.Zones_desservies'!JN25","v":0},{"$f":"'3.Zones_desservies'!JO25","v":0},{"$f":"'3.Zones_desservies'!JP25","v":0},{"$f":"'3.Zones_desservies'!JQ25","v":0},{"$f":"'3.Zones_desservies'!JR25","v":0},{"$f":"'3.Zones_desservies'!JS25","v":0},{"$f":"'3.Zones_desservies'!JT25","v":0},{"$f":"'3.Zones_desservies'!JU25","v":0},{"$f":"'3.Zones_desservies'!JV25","v":0},{"$f":"'3.Zones_desservies'!JW25","v":0},{"$f":"'3.Zones_desservies'!JX25","v":0},{"$f":"'3.Zones_desservies'!JY25","v":0},{"$f":"'3.Zones_desservies'!JZ25","v":0},{"$f":"'3.Zones_desservies'!KA25","v":0},{"$f":"'3.Zones_desservies'!KB25","v":0},{"$f":"'3.Zones_desservies'!KC25","v":0},{"$f":"'3.Zones_desservies'!KD25","v":0},{"$f":"'3.Zones_desservies'!KE25","v":0},{"$f":"'3.Zones_desservies'!KF25","v":0},{"$f":"'3.Zones_desservies'!KG25","v":0},{"$f":"'3.Zones_desservies'!KH25","v":0},{"$f":"'3.Zones_desservies'!KI25","v":0},{"$f":"'3.Zones_desservies'!KJ25","v":0},{"$f":"'3.Zones_desservies'!KK25","v":0},{"$f":"'3.Zones_desservies'!KL25","v":0},{"$f":"'3.Zones_desservies'!KM25","v":0},{"$f":"'3.Zones_desservies'!KN25","v":0},{"$f":"'3.Zones_desservies'!KO25","v":0},{"$f":"'3.Zones_desservies'!KP25","v":0},{"$f":"'3.Zones_desservies'!KQ25","v":0},{"$f":"'3.Zones_desservies'!KR25","v":0},{"$f":"'3.Zones_desservies'!KS25","v":0},{"$f":"'3.Zones_desservies'!KT25","v":0},{"$f":"'3.Zones_desservies'!KU25","v":0},{"$f":"'3.Zones_desservies'!KV25","v":0},{"$f":"'3.Zones_desservies'!KW25","v":0},{"$f":"'3.Zones_desservies'!KX25","v":0},{"$f":"'3.Zones_desservies'!KY25","v":0},{"$f":"'3.Zones_desservies'!KZ25","v":0},{"$f":"'3.Zones_desservies'!LA25","v":0},{"$f":"'3.Zones_desservies'!LB25","v":0},{"$f":"'3.Zones_desservies'!LC25","v":0},{"$f":"'3.Zones_desservies'!LD25","v":0},{"$f":"'3.Zones_desservies'!LE25","v":0},{"$f":"'3.Zones_desservies'!LF25","v":0},{"$f":"'3.Zones_desservies'!LG25","v":0},{"$f":"'3.Zones_desservies'!LH25","v":0},{"$f":"'3.Zones_desservies'!LI25","v":0},{"$f":"'3.Zones_desservies'!LJ25","v":0},{"$f":"'3.Zones_desservies'!LK25","v":0},{"$f":"'3.Zones_desservies'!LL25","v":0},{"$f":"'3.Zones_desservies'!LM25","v":0},{"$f":"'3.Zones_desservies'!LN25","v":0},{"$f":"'3.Zones_desservies'!LO25","v":0},{"$f":"'3.Zones_desservies'!LP25","v":0},{"$f":"'3.Zones_desservies'!LQ25","v":0},{"$f":"'3.Zones_desservies'!LR25","v":0},{"$f":"'3.Zones_desservies'!LS25","v":0},{"$f":"'3.Zones_desservies'!LT25","v":0},{"$f":"'3.Zones_desservies'!LU25","v":0},{"$f":"'3.Zones_desservies'!LV25","v":0},{"$f":"'3.Zones_desservies'!LW25","v":0},{"$f":"'3.Zones_desservies'!LX25","v":0},{"$f":"'3.Zones_desservies'!LY25","v":0},{"$f":"'3.Zones_desservies'!LZ25","v":0},{"$f":"'3.Zones_desservies'!MA25","v":0},{"$f":"'3.Zones_desservies'!MB25","v":0},{"$f":"'3.Zones_desservies'!MC25","v":0},{"$f":"'3.Zones_desservies'!MD25","v":0},{"$f":"'3.Zones_desservies'!ME25","v":0},{"$f":"'3.Zones_desservies'!MF25","v":0},{"$f":"'3.Zones_desservies'!MG25","v":0},{"$f":"'3.Zones_desservies'!MH25","v":0},{"$f":"'3.Zones_desservies'!MI25","v":0},{"$f":"'3.Zones_desservies'!MJ25","v":0},{"$f":"'3.Zones_desservies'!MK25","v":0},{"$f":"'3.Zones_desservies'!ML25","v":0},{"$f":"'3.Zones_desservies'!MM25","v":0},{"$f":"'3.Zones_desservies'!MN25","v":0},{"$f":"'3.Zones_desservies'!MO25","v":0},{"$f":"'3.Zones_desservies'!MP25","v":0},{"$f":"'3.Zones_desservies'!MQ25","v":0},{"$f":"'3.Zones_desservies'!MR25","v":0},{"$f":"'3.Zones_desservies'!MS25","v":0},{"$f":"'3.Zones_desservies'!MT25","v":0},{"$f":"'3.Zones_desservies'!MU25","v":0},{"$f":"'3.Zones_desservies'!MV25","v":0},{"$f":"'3.Zones_desservies'!MW25","v":0},{"$f":"'3.Zones_desservies'!MX25","v":0},{"$f":"'3.Zones_desservies'!MY25","v":0},{"$f":"'3.Zones_desservies'!MZ25","v":0},{"$f":"'3.Zones_desservies'!NA25","v":0},{"$f":"'3.Zones_desservies'!NB25","v":0},{"$f":"'3.Zones_desservies'!NC25","v":0},{"$f":"'3.Zones_desservies'!ND25","v":0},{"$f":"'3.Zones_desservies'!NE25","v":0},{"$f":"'3.Zones_desservies'!NF25","v":0},{"$f":"'3.Zones_desservies'!NG25","v":0},{"$f":"'3.Zones_desservies'!NH25","v":0},{"$f":"'3.Zones_desservies'!NI25","v":0},{"$f":"'3.Zones_desservies'!NJ25","v":0},{"$f":"'3.Zones_desservies'!NK25","v":0},{"$f":"'3.Zones_desservies'!NL25","v":0},{"$f":"'3.Zones_desservies'!NM25","v":0},{"$f":"'3.Zones_desservies'!NN25","v":0},{"$f":"'3.Zones_desservies'!NO25","v":0},{"$f":"'3.Zones_desservies'!NP25","v":0},{"$f":"'3.Zones_desservies'!NQ25","v":0},{"$f":"'3.Zones_desservies'!NR25","v":0},{"$f":"'3.Zones_desservies'!NS25","v":0},{"$f":"'3.Zones_desservies'!NT25","v":0},{"$f":"'3.Zones_desservies'!NU25","v":0},{"$f":"'3.Zones_desservies'!NV25","v":0},{"$f":"'3.Zones_desservies'!NW25","v":0},{"$f":"'3.Zones_desservies'!NX25","v":0},{"$f":"'3.Zones_desservies'!NY25","v":0},{"$f":"'3.Zones_desservies'!NZ25","v":0},{"$f":"'3.Zones_desservies'!OA25","v":0},{"$f":"'3.Zones_desservies'!OB25","v":0},{"$f":"'3.Zones_desservies'!OC25","v":0},{"$f":"'3.Zones_desservies'!OD25","v":0},{"$f":"'3.Zones_desservies'!OE25","v":0},{"$f":"'3.Zones_desservies'!OF25","v":0},{"$f":"'3.Zones_desservies'!OG25","v":0},{"$f":"'3.Zones_desservies'!OH25","v":0},{"$f":"'3.Zones_desservies'!OI25","v":0},{"$f":"'3.Zones_desservies'!OJ25","v":0},{"$f":"'3.Zones_desservies'!OK25","v":0},{"$f":"'3.Zones_desservies'!OL25","v":0},{"$f":"'3.Zones_desservies'!OM25","v":0},{"$f":"'3.Zones_desservies'!ON25","v":0},{"$f":"'3.Zones_desservies'!OO25","v":0},{"$f":"'3.Zones_desservies'!OP25","v":0},{"$f":"'3.Zones_desservies'!OQ25","v":0},{"$f":"'3.Zones_desservies'!OR25","v":0},{"$f":"'3.Zones_desservies'!OS25","v":0},{"$f":"'3.Zones_desservies'!OT25","v":0},{"$f":"'3.Zones_desservies'!OU25","v":0},{"$f":"'3.Zones_desservies'!OV25","v":0},{"$f":"'3.Zones_desservies'!OW25","v":0},{"$f":"'3.Zones_desservies'!OX25","v":0},{"$f":"'3.Zones_desservies'!OY25","v":0},{"$f":"'3.Zones_desservies'!OZ25","v":0},{"$f":"'3.Zones_desservies'!PA25","v":0},{"$f":"'3.Zones_desservies'!PB25","v":0},{"$f":"'3.Zones_desservies'!PC25","v":0},{"$f":"'3.Zones_desservies'!PD25","v":0},{"$f":"'3.Zones_desservies'!PE25","v":0},{"$f":"'3.Zones_desservies'!PF25","v":0},{"$f":"'3.Zones_desservies'!PG25","v":0},{"$f":"'3.Zones_desservies'!PH25","v":0},{"$f":"'3.Zones_desservies'!PI25","v":0},{"$f":"'3.Zones_desservies'!PJ25","v":0},{"$f":"'3.Zones_desservies'!PK25","v":0},{"$f":"'3.Zones_desservies'!PL25","v":0},{"$f":"'3.Zones_desservies'!PM25","v":0},{"$f":"'3.Zones_desservies'!PN25","v":0},{"$f":"'3.Zones_desservies'!PO25","v":0},{"$f":"'3.Zones_desservies'!PP25","v":0},{"$f":"'3.Zones_desservies'!PQ25","v":0},{"$f":"'3.Zones_desservies'!PR25","v":0},{"$f":"'3.Zones_desservies'!PS25","v":0},{"$f":"'3.Zones_desservies'!PT25","v":0},{"$f":"'3.Zones_desservies'!PU25","v":0},{"$f":"'3.Zones_desservies'!PV25","v":0},{"$f":"'3.Zones_desservies'!PW25","v":0},{"$f":"'3.Zones_desservies'!PX25","v":0},{"$f":"'3.Zones_desservies'!PY25","v":0},{"$f":"'3.Zones_desservies'!PZ25","v":0},{"$f":"'3.Zones_desservies'!QA25","v":0},{"$f":"'3.Zones_desservies'!QB25","v":0},{"$f":"'3.Zones_desservies'!QC25","v":0},{"$f":"'3.Zones_desservies'!QD25","v":0},{"$f":"'3.Zones_desservies'!QE25","v":0},{"$f":"'3.Zones_desservies'!QF25","v":0},{"$f":"'3.Zones_desservies'!QG25","v":0},{"$f":"'3.Zones_desservies'!QH25","v":0},{"$f":"'3.Zones_desservies'!QI25","v":0},{"$f":"'3.Zones_desservies'!QJ25","v":0},{"$f":"'3.Zones_desservies'!QK25","v":0},{"$f":"'3.Zones_desservies'!QL25","v":0},{"$f":"'3.Zones_desservies'!QM25","v":0},{"$f":"'3.Zones_desservies'!QN25","v":0},{"$f":"'3.Zones_desservies'!QO25","v":0},{"$f":"'3.Zones_desservies'!QP25","v":0},{"$f":"'3.Zones_desservies'!QQ25","v":0},{"$f":"'3.Zones_desservies'!QR25","v":0},{"$f":"'3.Zones_desservies'!QS25","v":0},{"$f":"'3.Zones_desservies'!QT25","v":0},{"$f":"'3.Zones_desservies'!QU25","v":0},{"$f":"'3.Zones_desservies'!QV25","v":0},{"$f":"'3.Zones_desservies'!QW25","v":0},{"$f":"'3.Zones_desservies'!QX25","v":0},{"$f":"'3.Zones_desservies'!QY25","v":0},{"$f":"'3.Zones_desservies'!QZ25","v":0},{"$f":"'3.Zones_desservies'!RA25","v":0},{"$f":"'3.Zones_desservies'!RB25","v":0},{"$f":"'3.Zones_desservies'!RC25","v":0},{"$f":"'3.Zones_desservies'!RD25","v":0},{"$f":"'3.Zones_desservies'!RE25","v":0},{"$f":"'3.Zones_desservies'!RF25","v":0},{"$f":"'3.Zones_desservies'!RG25","v":0},{"$f":"'3.Zones_desservies'!RH25","v":0},{"$f":"'3.Zones_desservies'!RI25","v":0},{"$f":"'3.Zones_desservies'!RJ25","v":0},{"$f":"'3.Zones_desservies'!RK25","v":0},{"$f":"'3.Zones_desservies'!RL25","v":0},{"$f":"'3.Zones_desservies'!RM25","v":0},{"$f":"'3.Zones_desservies'!RN25","v":0},{"$f":"'3.Zones_desservies'!RO25","v":0},{"$f":"'3.Zones_desservies'!RP25","v":0},{"$f":"'3.Zones_desservies'!RQ25","v":0},{"$f":"'3.Zones_desservies'!RR25","v":0},{"$f":"'3.Zones_desservies'!RS25","v":0},{"$f":"'3.Zones_desservies'!RT25","v":0},{"$f":"'3.Zones_desservies'!RU25","v":0},{"$f":"'3.Zones_desservies'!RV25","v":0},{"$f":"'3.Zones_desservies'!RW25","v":0},{"$f":"'3.Zones_desservies'!RX25","v":0},{"$f":"'3.Zones_desservies'!RY25","v":0},{"$f":"'3.Zones_desservies'!RZ25","v":0},{"$f":"'3.Zones_desservies'!SA25","v":0},{"$f":"'3.Zones_desservies'!SB25","v":0},{"$f":"'3.Zones_desservies'!SC25","v":0},{"$f":"'3.Zones_desservies'!SD25","v":0},{"$f":"'3.Zones_desservies'!SE25","v":0},{"$f":"'3.Zones_desservies'!SF25","v":0},{"$f":"'3.Zones_desservies'!SG25","v":0},{"$f":"'3.Zones_desservies'!SH25","v":0}]
[null,{"$f":"'3.Zones_desservies'!B26","v":12},{"$f":"'3.Zones_desservies'!C26","v":0},{"$f":"'3.Zones_desservies'!D26","v":0},{"$f":"'3.Zones_desservies'!E26","v":0},{"$f":"'3.Zones_desservies'!F26","v":0},{"$f":"'3.Zones_desservies'!G26","v":0},{"$f":"'3.Zones_desservies'!H26","v":0},{"$f":"'3.Zones_desservies'!I26","v":0},{"$f":"'3.Zones_desservies'!J26","v":0},{"$f":"'3.Zones_desservies'!K26","v":0},{"$f":"'3.Zones_desservies'!L26","v":0},{"$f":"'3.Zones_desservies'!M26","v":0},{"$f":"'3.Zones_desservies'!N26","v":0},{"$f":"'3.Zones_desservies'!O26","v":0},{"$f":"'3.Zones_desservies'!P26","v":0},{"$f":"'3.Zones_desservies'!Q26","v":0},{"$f":"'3.Zones_desservies'!R26","v":0},{"$f":"'3.Zones_desservies'!S26","v":0},{"$f":"'3.Zones_desservies'!T26","v":0},{"$f":"'3.Zones_desservies'!U26","v":0},{"$f":"'3.Zones_desservies'!V26","v":0},{"$f":"'3.Zones_desservies'!W26","v":0},{"$f":"'3.Zones_desservies'!X26","v":0},{"$f":"'3.Zones_desservies'!Y26","v":0},{"$f":"'3.Zones_desservies'!Z26","v":0},{"$f":"'3.Zones_desservies'!AA26","v":0},{"$f":"'3.Zones_desservies'!AB26","v":0},{"$f":"'3.Zones_desservies'!AC26","v":0},{"$f":"'3.Zones_desservies'!AD26","v":0},{"$f":"'3.Zones_desservies'!AE26","v":0},{"$f":"'3.Zones_desservies'!AF26","v":0},{"$f":"'3.Zones_desservies'!AG26","v":0},{"$f":"'3.Zones_desservies'!AH26","v":0},{"$f":"'3.Zones_desservies'!AI26","v":0},{"$f":"'3.Zones_desservies'!AJ26","v":0},{"$f":"'3.Zones_desservies'!AK26","v":0},{"$f":"'3.Zones_desservies'!AL26","v":0},{"$f":"'3.Zones_desservies'!AM26","v":0},{"$f":"'3.Zones_desservies'!AN26","v":0},{"$f":"'3.Zones_desservies'!AO26","v":0},{"$f":"'3.Zones_desservies'!AP26","v":0},{"$f":"'3.Zones_desservies'!AQ26","v":0},{"$f":"'3.Zones_desservies'!AR26","v":0},{"$f":"'3.Zones_desservies'!AS26","v":0},{"$f":"'3.Zones_desservies'!AT26","v":0},{"$f":"'3.Zones_desservies'!AU26","v":0},{"$f":"'3.Zones_desservies'!AV26","v":0},{"$f":"'3.Zones_desservies'!AW26","v":0},{"$f":"'3.Zones_desservies'!AX26","v":0},{"$f":"'3.Zones_desservies'!AY26","v":0},{"$f":"'3.Zones_desservies'!AZ26","v":0},{"$f":"'3.Zones_desservies'!BA26","v":0},{"$f":"'3.Zones_desservies'!BB26","v":0},{"$f":"'3.Zones_desservies'!BC26","v":0},{"$f":"'3.Zones_desservies'!BD26","v":0},{"$f":"'3.Zones_desservies'!BE26","v":0},{"$f":"'3.Zones_desservies'!BF26","v":0},{"$f":"'3.Zones_desservies'!BG26","v":0},{"$f":"'3.Zones_desservies'!BH26","v":0},{"$f":"'3.Zones_desservies'!BI26","v":0},{"$f":"'3.Zones_desservies'!BJ26","v":0},{"$f":"'3.Zones_desservies'!BK26","v":0},{"$f":"'3.Zones_desservies'!BL26","v":0},{"$f":"'3.Zones_desservies'!BM26","v":0},{"$f":"'3.Zones_desservies'!BN26","v":0},{"$f":"'3.Zones_desservies'!BO26","v":0},{"$f":"'3.Zones_desservies'!BP26","v":0},{"$f":"'3.Zones_desservies'!BQ26","v":0},{"$f":"'3.Zones_desservies'!BR26","v":0},{"$f":"'3.Zones_desservies'!BS26","v":0},{"$f":"'3.Zones_desservies'!BT26","v":0},{"$f":"'3.Zones_desservies'!BU26","v":0},{"$f":"'3.Zones_desservies'!BV26","v":0},{"$f":"'3.Zones_desservies'!BW26","v":0},{"$f":"'3.Zones_desservies'!BX26","v":0},{"$f":"'3.Zones_desservies'!BY26","v":0},{"$f":"'3.Zones_desservies'!BZ26","v":0},{"$f":"'3.Zones_desservies'!CA26","v":0},{"$f":"'3.Zones_desservies'!CB26","v":0},{"$f":"'3.Zones_desservies'!CC26","v":0},{"$f":"'3.Zones_desservies'!CD26","v":0},{"$f":"'3.Zones_desservies'!CE26","v":0},{"$f":"'3.Zones_desservies'!CF26","v":0},{"$f":"'3.Zones_desservies'!CG26","v":0},{"$f":"'3.Zones_desservies'!CH26","v":0},{"$f":"'3.Zones_desservies'!CI26","v":0},{"$f":"'3.Zones_desservies'!CJ26","v":0},{"$f":"'3.Zones_desservies'!CK26","v":0},{"$f":"'3.Zones_desservies'!CL26","v":0},{"$f":"'3.Zones_desservies'!CM26","v":0},{"$f":"'3.Zones_desservies'!CN26","v":0},{"$f":"'3.Zones_desservies'!CO26","v":0},{"$f":"'3.Zones_desservies'!CP26","v":0},{"$f":"'3.Zones_desservies'!CQ26","v":0},{"$f":"'3.Zones_desservies'!CR26","v":0},{"$f":"'3.Zones_desservies'!CS26","v":0},{"$f":"'3.Zones_desservies'!CT26","v":0},{"$f":"'3.Zones_desservies'!CU26","v":0},{"$f":"'3.Zones_desservies'!CV26","v":0},{"$f":"'3.Zones_desservies'!CW26","v":0},{"$f":"'3.Zones_desservies'!CX26","v":0},{"$f":"'3.Zones_desservies'!CY26","v":"_"},{"$f":"'3.Zones_desservies'!CZ26","v":0},{"$f":"'3.Zones_desservies'!DA26","v":0},{"$f":"'3.Zones_desservies'!DB26","v":0},{"$f":"'3.Zones_desservies'!DC26","v":0},{"$f":"'3.Zones_desservies'!DD26","v":0},{"$f":"'3.Zones_desservies'!DE26","v":0},{"$f":"'3.Zones_desservies'!DF26","v":0},{"$f":"'3.Zones_desservies'!DG26","v":0},{"$f":"'3.Zones_desservies'!DH26","v":0},{"$f":"'3.Zones_desservies'!DI26","v":0},{"$f":"'3.Zones_desservies'!DJ26","v":0},{"$f":"'3.Zones_desservies'!DK26","v":0},{"$f":"'3.Zones_desservies'!DL26","v":0},{"$f":"'3.Zones_desservies'!DM26","v":0},{"$f":"'3.Zones_desservies'!DN26","v":0},{"$f":"'3.Zones_desservies'!DO26","v":0},{"$f":"'3.Zones_desservies'!DP26","v":0},{"$f":"'3.Zones_desservies'!DQ26","v":0},{"$f":"'3.Zones_desservies'!DR26","v":0},{"$f":"'3.Zones_desservies'!DS26","v":0},{"$f":"'3.Zones_desservies'!DT26","v":0},{"$f":"'3.Zones_desservies'!DU26","v":0},{"$f":"'3.Zones_desservies'!DV26","v":0},{"$f":"'3.Zones_desservies'!DW26","v":0},{"$f":"'3.Zones_desservies'!DX26","v":0},{"$f":"'3.Zones_desservies'!DY26","v":0},{"$f":"'3.Zones_desservies'!DZ26","v":0},{"$f":"'3.Zones_desservies'!EA26","v":0},{"$f":"'3.Zones_desservies'!EB26","v":0},{"$f":"'3.Zones_desservies'!EC26","v":0},{"$f":"'3.Zones_desservies'!ED26","v":0},{"$f":"'3.Zones_desservies'!EE26","v":0},{"$f":"'3.Zones_desservies'!EF26","v":0},{"$f":"'3.Zones_desservies'!EG26","v":0},{"$f":"'3.Zones_desservies'!EH26","v":0},{"$f":"'3.Zones_desservies'!EI26","v":0},{"$f":"'3.Zones_desservies'!EJ26","v":0},{"$f":"'3.Zones_desservies'!EK26","v":0},{"$f":"'3.Zones_desservies'!EL26","v":0},{"$f":"'3.Zones_desservies'!EM26","v":0},{"$f":"'3.Zones_desservies'!EN26","v":0},{"$f":"'3.Zones_desservies'!EO26","v":0},{"$f":"'3.Zones_desservies'!EP26","v":0},{"$f":"'3.Zones_desservies'!EQ26","v":0},{"$f":"'3.Zones_desservies'!ER26","v":0},{"$f":"'3.Zones_desservies'!ES26","v":0},{"$f":"'3.Zones_desservies'!ET26","v":0},{"$f":"'3.Zones_desservies'!EU26","v":0},{"$f":"'3.Zones_desservies'!EV26","v":0},{"$f":"'3.Zones_desservies'!EW26","v":0},{"$f":"'3.Zones_desservies'!EX26","v":0},{"$f":"'3.Zones_desservies'!EY26","v":0},{"$f":"'3.Zones_desservies'!EZ26","v":0},{"$f":"'3.Zones_desservies'!FA26","v":0},{"$f":"'3.Zones_desservies'!FB26","v":0},{"$f":"'3.Zones_desservies'!FC26","v":0},{"$f":"'3.Zones_desservies'!FD26","v":0},{"$f":"'3.Zones_desservies'!FE26","v":0},{"$f":"'3.Zones_desservies'!FF26","v":0},{"$f":"'3.Zones_desservies'!FG26","v":0},{"$f":"'3.Zones_desservies'!FH26","v":0},{"$f":"'3.Zones_desservies'!FI26","v":0},{"$f":"'3.Zones_desservies'!FJ26","v":0},{"$f":"'3.Zones_desservies'!FK26","v":0},{"$f":"'3.Zones_desservies'!FL26","v":0},{"$f":"'3.Zones_desservies'!FM26","v":0},{"$f":"'3.Zones_desservies'!FN26","v":0},{"$f":"'3.Zones_desservies'!FO26","v":0},{"$f":"'3.Zones_desservies'!FP26","v":0},{"$f":"'3.Zones_desservies'!FQ26","v":0},{"$f":"'3.Zones_desservies'!FR26","v":0},{"$f":"'3.Zones_desservies'!FS26","v":0},{"$f":"'3.Zones_desservies'!FT26","v":0},{"$f":"'3.Zones_desservies'!FU26","v":0},{"$f":"'3.Zones_desservies'!FV26","v":0},{"$f":"'3.Zones_desservies'!FW26","v":0},{"$f":"'3.Zones_desservies'!FX26","v":0},{"$f":"'3.Zones_desservies'!FY26","v":0},{"$f":"'3.Zones_desservies'!FZ26","v":0},{"$f":"'3.Zones_desservies'!GA26","v":0},{"$f":"'3.Zones_desservies'!GB26","v":0},{"$f":"'3.Zones_desservies'!GC26","v":0},{"$f":"'3.Zones_desservies'!GD26","v":0},{"$f":"'3.Zones_desservies'!GE26","v":0},{"$f":"'3.Zones_desservies'!GF26","v":0},{"$f":"'3.Zones_desservies'!GG26","v":0},{"$f":"'3.Zones_desservies'!GH26","v":0},{"$f":"'3.Zones_desservies'!GI26","v":0},{"$f":"'3.Zones_desservies'!GJ26","v":0},{"$f":"'3.Zones_desservies'!GK26","v":0},{"$f":"'3.Zones_desservies'!GL26","v":0},{"$f":"'3.Zones_desservies'!GM26","v":0},{"$f":"'3.Zones_desservies'!GN26","v":0},{"$f":"'3.Zones_desservies'!GO26","v":0},{"$f":"'3.Zones_desservies'!GP26","v":0},{"$f":"'3.Zones_desservies'!GQ26","v":0},{"$f":"'3.Zones_desservies'!GR26","v":0},{"$f":"'3.Zones_desservies'!GS26","v":0},{"$f":"'3.Zones_desservies'!GT26","v":0},{"$f":"'3.Zones_desservies'!GU26","v":0},{"$f":"'3.Zones_desservies'!GV26","v":0},{"$f":"'3.Zones_desservies'!GW26","v":0},{"$f":"'3.Zones_desservies'!GX26","v":0},{"$f":"'3.Zones_desservies'!GY26","v":0},{"$f":"'3.Zones_desservies'!GZ26","v":0},{"$f":"'3.Zones_desservies'!HA26","v":0},{"$f":"'3.Zones_desservies'!HB26","v":0},{"$f":"'3.Zones_desservies'!HC26","v":0},{"$f":"'3.Zones_desservies'!HD26","v":0},{"$f":"'3.Zones_desservies'!HE26","v":0},{"$f":"'3.Zones_desservies'!HF26","v":0},{"$f":"'3.Zones_desservies'!HG26","v":0},{"$f":"'3.Zones_desservies'!HH26","v":0},{"$f":"'3.Zones_desservies'!HI26","v":0},{"$f":"'3.Zones_desservies'!HJ26","v":0},{"$f":"'3.Zones_desservies'!HK26","v":0},{"$f":"'3.Zones_desservies'!HL26","v":0},{"$f":"'3.Zones_desservies'!HM26","v":0},{"$f":"'3.Zones_desservies'!HN26","v":0},{"$f":"'3.Zones_desservies'!HO26","v":0},{"$f":"'3.Zones_desservies'!HP26","v":0},{"$f":"'3.Zones_desservies'!HQ26","v":0},{"$f":"'3.Zones_desservies'!HR26","v":0},{"$f":"'3.Zones_desservies'!HS26","v":0},{"$f":"'3.Zones_desservies'!HT26","v":0},{"$f":"'3.Zones_desservies'!HU26","v":0},{"$f":"'3.Zones_desservies'!HV26","v":0},{"$f":"'3.Zones_desservies'!HW26","v":0},{"$f":"'3.Zones_desservies'!HX26","v":0},{"$f":"'3.Zones_desservies'!HY26","v":0},{"$f":"'3.Zones_desservies'!HZ26","v":0},{"$f":"'3.Zones_desservies'!IA26","v":0},{"$f":"'3.Zones_desservies'!IB26","v":0},{"$f":"'3.Zones_desservies'!IC26","v":0},{"$f":"'3.Zones_desservies'!ID26","v":0},{"$f":"'3.Zones_desservies'!IE26","v":0},{"$f":"'3.Zones_desservies'!IF26","v":0},{"$f":"'3.Zones_desservies'!IG26","v":0},{"$f":"'3.Zones_desservies'!IH26","v":0},{"$f":"'3.Zones_desservies'!II26","v":0},{"$f":"'3.Zones_desservies'!IJ26","v":0},{"$f":"'3.Zones_desservies'!IK26","v":0},{"$f":"'3.Zones_desservies'!IL26","v":0},{"$f":"'3.Zones_desservies'!IM26","v":0},{"$f":"'3.Zones_desservies'!IN26","v":0},{"$f":"'3.Zones_desservies'!IO26","v":0},{"$f":"'3.Zones_desservies'!IP26","v":0},{"$f":"'3.Zones_desservies'!IQ26","v":0},{"$f":"'3.Zones_desservies'!IR26","v":0},{"$f":"'3.Zones_desservies'!IS26","v":0},{"$f":"'3.Zones_desservies'!IT26","v":0},{"$f":"'3.Zones_desservies'!IU26","v":0},{"$f":"'3.Zones_desservies'!IV26","v":0},{"$f":"'3.Zones_desservies'!IW26","v":0},{"$f":"'3.Zones_desservies'!IX26","v":0},{"$f":"'3.Zones_desservies'!IY26","v":0},{"$f":"'3.Zones_desservies'!IZ26","v":0},{"$f":"'3.Zones_desservies'!JA26","v":0},{"$f":"'3.Zones_desservies'!JB26","v":0},{"$f":"'3.Zones_desservies'!JC26","v":0},{"$f":"'3.Zones_desservies'!JD26","v":0},{"$f":"'3.Zones_desservies'!JE26","v":0},{"$f":"'3.Zones_desservies'!JF26","v":0},{"$f":"'3.Zones_desservies'!JG26","v":0},{"$f":"'3.Zones_desservies'!JH26","v":0},{"$f":"'3.Zones_desservies'!JI26","v":0},{"$f":"'3.Zones_desservies'!JJ26","v":0},{"$f":"'3.Zones_desservies'!JK26","v":0},{"$f":"'3.Zones_desservies'!JL26","v":0},{"$f":"'3.Zones_desservies'!JM26","v":0},{"$f":"'3.Zones_desservies'!JN26","v":0},{"$f":"'3.Zones_desservies'!JO26","v":0},{"$f":"'3.Zones_desservies'!JP26","v":0},{"$f":"'3.Zones_desservies'!JQ26","v":0},{"$f":"'3.Zones_desservies'!JR26","v":0},{"$f":"'3.Zones_desservies'!JS26","v":0},{"$f":"'3.Zones_desservies'!JT26","v":0},{"$f":"'3.Zones_desservies'!JU26","v":0},{"$f":"'3.Zones_desservies'!JV26","v":0},{"$f":"'3.Zones_desservies'!JW26","v":0},{"$f":"'3.Zones_desservies'!JX26","v":0},{"$f":"'3.Zones_desservies'!JY26","v":0},{"$f":"'3.Zones_desservies'!JZ26","v":0},{"$f":"'3.Zones_desservies'!KA26","v":0},{"$f":"'3.Zones_desservies'!KB26","v":0},{"$f":"'3.Zones_desservies'!KC26","v":0},{"$f":"'3.Zones_desservies'!KD26","v":0},{"$f":"'3.Zones_desservies'!KE26","v":0},{"$f":"'3.Zones_desservies'!KF26","v":0},{"$f":"'3.Zones_desservies'!KG26","v":0},{"$f":"'3.Zones_desservies'!KH26","v":0},{"$f":"'3.Zones_desservies'!KI26","v":0},{"$f":"'3.Zones_desservies'!KJ26","v":0},{"$f":"'3.Zones_desservies'!KK26","v":0},{"$f":"'3.Zones_desservies'!KL26","v":0},{"$f":"'3.Zones_desservies'!KM26","v":0},{"$f":"'3.Zones_desservies'!KN26","v":0},{"$f":"'3.Zones_desservies'!KO26","v":0},{"$f":"'3.Zones_desservies'!KP26","v":0},{"$f":"'3.Zones_desservies'!KQ26","v":0},{"$f":"'3.Zones_desservies'!KR26","v":0},{"$f":"'3.Zones_desservies'!KS26","v":0},{"$f":"'3.Zones_desservies'!KT26","v":0},{"$f":"'3.Zones_desservies'!KU26","v":0},{"$f":"'3.Zones_desservies'!KV26","v":0},{"$f":"'3.Zones_desservies'!KW26","v":0},{"$f":"'3.Zones_desservies'!KX26","v":0},{"$f":"'3.Zones_desservies'!KY26","v":0},{"$f":"'3.Zones_desservies'!KZ26","v":0},{"$f":"'3.Zones_desservies'!LA26","v":0},{"$f":"'3.Zones_desservies'!LB26","v":0},{"$f":"'3.Zones_desservies'!LC26","v":0},{"$f":"'3.Zones_desservies'!LD26","v":0},{"$f":"'3.Zones_desservies'!LE26","v":0},{"$f":"'3.Zones_desservies'!LF26","v":0},{"$f":"'3.Zones_desservies'!LG26","v":0},{"$f":"'3.Zones_desservies'!LH26","v":0},{"$f":"'3.Zones_desservies'!LI26","v":0},{"$f":"'3.Zones_desservies'!LJ26","v":0},{"$f":"'3.Zones_desservies'!LK26","v":0},{"$f":"'3.Zones_desservies'!LL26","v":0},{"$f":"'3.Zones_desservies'!LM26","v":0},{"$f":"'3.Zones_desservies'!LN26","v":0},{"$f":"'3.Zones_desservies'!LO26","v":0},{"$f":"'3.Zones_desservies'!LP26","v":0},{"$f":"'3.Zones_desservies'!LQ26","v":0},{"$f":"'3.Zones_desservies'!LR26","v":0},{"$f":"'3.Zones_desservies'!LS26","v":0},{"$f":"'3.Zones_desservies'!LT26","v":0},{"$f":"'3.Zones_desservies'!LU26","v":0},{"$f":"'3.Zones_desservies'!LV26","v":0},{"$f":"'3.Zones_desservies'!LW26","v":0},{"$f":"'3.Zones_desservies'!LX26","v":0},{"$f":"'3.Zones_desservies'!LY26","v":0},{"$f":"'3.Zones_desservies'!LZ26","v":0},{"$f":"'3.Zones_desservies'!MA26","v":0},{"$f":"'3.Zones_desservies'!MB26","v":0},{"$f":"'3.Zones_desservies'!MC26","v":0},{"$f":"'3.Zones_desservies'!MD26","v":0},{"$f":"'3.Zones_desservies'!ME26","v":0},{"$f":"'3.Zones_desservies'!MF26","v":0},{"$f":"'3.Zones_desservies'!MG26","v":0},{"$f":"'3.Zones_desservies'!MH26","v":0},{"$f":"'3.Zones_desservies'!MI26","v":0},{"$f":"'3.Zones_desservies'!MJ26","v":0},{"$f":"'3.Zones_desservies'!MK26","v":0},{"$f":"'3.Zones_desservies'!ML26","v":0},{"$f":"'3.Zones_desservies'!MM26","v":0},{"$f":"'3.Zones_desservies'!MN26","v":0},{"$f":"'3.Zones_desservies'!MO26","v":0},{"$f":"'3.Zones_desservies'!MP26","v":0},{"$f":"'3.Zones_desservies'!MQ26","v":0},{"$f":"'3.Zones_desservies'!MR26","v":0},{"$f":"'3.Zones_desservies'!MS26","v":0},{"$f":"'3.Zones_desservies'!MT26","v":0},{"$f":"'3.Zones_desservies'!MU26","v":0},{"$f":"'3.Zones_desservies'!MV26","v":0},{"$f":"'3.Zones_desservies'!MW26","v":0},{"$f":"'3.Zones_desservies'!MX26","v":0},{"$f":"'3.Zones_desservies'!MY26","v":0},{"$f":"'3.Zones_desservies'!MZ26","v":0},{"$f":"'3.Zones_desservies'!NA26","v":0},{"$f":"'3.Zones_desservies'!NB26","v":0},{"$f":"'3.Zones_desservies'!NC26","v":0},{"$f":"'3.Zones_desservies'!ND26","v":0},{"$f":"'3.Zones_desservies'!NE26","v":0},{"$f":"'3.Zones_desservies'!NF26","v":0},{"$f":"'3.Zones_desservies'!NG26","v":0},{"$f":"'3.Zones_desservies'!NH26","v":0},{"$f":"'3.Zones_desservies'!NI26","v":0},{"$f":"'3.Zones_desservies'!NJ26","v":0},{"$f":"'3.Zones_desservies'!NK26","v":0},{"$f":"'3.Zones_desservies'!NL26","v":0},{"$f":"'3.Zones_desservies'!NM26","v":0},{"$f":"'3.Zones_desservies'!NN26","v":0},{"$f":"'3.Zones_desservies'!NO26","v":0},{"$f":"'3.Zones_desservies'!NP26","v":0},{"$f":"'3.Zones_desservies'!NQ26","v":0},{"$f":"'3.Zones_desservies'!NR26","v":0},{"$f":"'3.Zones_desservies'!NS26","v":0},{"$f":"'3.Zones_desservies'!NT26","v":0},{"$f":"'3.Zones_desservies'!NU26","v":0},{"$f":"'3.Zones_desservies'!NV26","v":0},{"$f":"'3.Zones_desservies'!NW26","v":0},{"$f":"'3.Zones_desservies'!NX26","v":0},{"$f":"'3.Zones_desservies'!NY26","v":0},{"$f":"'3.Zones_desservies'!NZ26","v":0},{"$f":"'3.Zones_desservies'!OA26","v":0},{"$f":"'3.Zones_desservies'!OB26","v":0},{"$f":"'3.Zones_desservies'!OC26","v":0},{"$f":"'3.Zones_desservies'!OD26","v":0},{"$f":"'3.Zones_desservies'!OE26","v":0},{"$f":"'3.Zones_desservies'!OF26","v":0},{"$f":"'3.Zones_desservies'!OG26","v":0},{"$f":"'3.Zones_desservies'!OH26","v":0},{"$f":"'3.Zones_desservies'!OI26","v":0},{"$f":"'3.Zones_desservies'!OJ26","v":0},{"$f":"'3.Zones_desservies'!OK26","v":0},{"$f":"'3.Zones_desservies'!OL26","v":0},{"$f":"'3.Zones_desservies'!OM26","v":0},{"$f":"'3.Zones_desservies'!ON26","v":0},{"$f":"'3.Zones_desservies'!OO26","v":0},{"$f":"'3.Zones_desservies'!OP26","v":0},{"$f":"'3.Zones_desservies'!OQ26","v":0},{"$f":"'3.Zones_desservies'!OR26","v":0},{"$f":"'3.Zones_desservies'!OS26","v":0},{"$f":"'3.Zones_desservies'!OT26","v":0},{"$f":"'3.Zones_desservies'!OU26","v":0},{"$f":"'3.Zones_desservies'!OV26","v":0},{"$f":"'3.Zones_desservies'!OW26","v":0},{"$f":"'3.Zones_desservies'!OX26","v":0},{"$f":"'3.Zones_desservies'!OY26","v":0},{"$f":"'3.Zones_desservies'!OZ26","v":0},{"$f":"'3.Zones_desservies'!PA26","v":0},{"$f":"'3.Zones_desservies'!PB26","v":0},{"$f":"'3.Zones_desservies'!PC26","v":0},{"$f":"'3.Zones_desservies'!PD26","v":0},{"$f":"'3.Zones_desservies'!PE26","v":0},{"$f":"'3.Zones_desservies'!PF26","v":0},{"$f":"'3.Zones_desservies'!PG26","v":0},{"$f":"'3.Zones_desservies'!PH26","v":0},{"$f":"'3.Zones_desservies'!PI26","v":0},{"$f":"'3.Zones_desservies'!PJ26","v":0},{"$f":"'3.Zones_desservies'!PK26","v":0},{"$f":"'3.Zones_desservies'!PL26","v":0},{"$f":"'3.Zones_desservies'!PM26","v":0},{"$f":"'3.Zones_desservies'!PN26","v":0},{"$f":"'3.Zones_desservies'!PO26","v":0},{"$f":"'3.Zones_desservies'!PP26","v":0},{"$f":"'3.Zones_desservies'!PQ26","v":0},{"$f":"'3.Zones_desservies'!PR26","v":0},{"$f":"'3.Zones_desservies'!PS26","v":0},{"$f":"'3.Zones_desservies'!PT26","v":0},{"$f":"'3.Zones_desservies'!PU26","v":0},{"$f":"'3.Zones_desservies'!PV26","v":0},{"$f":"'3.Zones_desservies'!PW26","v":0},{"$f":"'3.Zones_desservies'!PX26","v":0},{"$f":"'3.Zones_desservies'!PY26","v":0},{"$f":"'3.Zones_desservies'!PZ26","v":0},{"$f":"'3.Zones_desservies'!QA26","v":0},{"$f":"'3.Zones_desservies'!QB26","v":0},{"$f":"'3.Zones_desservies'!QC26","v":0},{"$f":"'3.Zones_desservies'!QD26","v":0},{"$f":"'3.Zones_desservies'!QE26","v":0},{"$f":"'3.Zones_desservies'!QF26","v":0},{"$f":"'3.Zones_desservies'!QG26","v":0},{"$f":"'3.Zones_desservies'!QH26","v":0},{"$f":"'3.Zones_desservies'!QI26","v":0},{"$f":"'3.Zones_desservies'!QJ26","v":0},{"$f":"'3.Zones_desservies'!QK26","v":0},{"$f":"'3.Zones_desservies'!QL26","v":0},{"$f":"'3.Zones_desservies'!QM26","v":0},{"$f":"'3.Zones_desservies'!QN26","v":0},{"$f":"'3.Zones_desservies'!QO26","v":0},{"$f":"'3.Zones_desservies'!QP26","v":0},{"$f":"'3.Zones_desservies'!QQ26","v":0},{"$f":"'3.Zones_desservies'!QR26","v":0},{"$f":"'3.Zones_desservies'!QS26","v":0},{"$f":"'3.Zones_desservies'!QT26","v":0},{"$f":"'3.Zones_desservies'!QU26","v":0},{"$f":"'3.Zones_desservies'!QV26","v":0},{"$f":"'3.Zones_desservies'!QW26","v":0},{"$f":"'3.Zones_desservies'!QX26","v":0},{"$f":"'3.Zones_desservies'!QY26","v":0},{"$f":"'3.Zones_desservies'!QZ26","v":0},{"$f":"'3.Zones_desservies'!RA26","v":0},{"$f":"'3.Zones_desservies'!RB26","v":0},{"$f":"'3.Zones_desservies'!RC26","v":0},{"$f":"'3.Zones_desservies'!RD26","v":0},{"$f":"'3.Zones_desservies'!RE26","v":0},{"$f":"'3.Zones_desservies'!RF26","v":0},{"$f":"'3.Zones_desservies'!RG26","v":0},{"$f":"'3.Zones_desservies'!RH26","v":0},{"$f":"'3.Zones_desservies'!RI26","v":0},{"$f":"'3.Zones_desservies'!RJ26","v":0},{"$f":"'3.Zones_desservies'!RK26","v":0},{"$f":"'3.Zones_desservies'!RL26","v":0},{"$f":"'3.Zones_desservies'!RM26","v":0},{"$f":"'3.Zones_desservies'!RN26","v":0},{"$f":"'3.Zones_desservies'!RO26","v":0},{"$f":"'3.Zones_desservies'!RP26","v":0},{"$f":"'3.Zones_desservies'!RQ26","v":0},{"$f":"'3.Zones_desservies'!RR26","v":0},{"$f":"'3.Zones_desservies'!RS26","v":0},{"$f":"'3.Zones_desservies'!RT26","v":0},{"$f":"'3.Zones_desservies'!RU26","v":0},{"$f":"'3.Zones_desservies'!RV26","v":0},{"$f":"'3.Zones_desservies'!RW26","v":0},{"$f":"'3.Zones_desservies'!RX26","v":0},{"$f":"'3.Zones_desservies'!RY26","v":0},{"$f":"'3.Zones_desservies'!RZ26","v":0},{"$f":"'3.Zones_desservies'!SA26","v":0},{"$f":"'3.Zones_desservies'!SB26","v":0},{"$f":"'3.Zones_desservies'!SC26","v":0},{"$f":"'3.Zones_desservies'!SD26","v":0},{"$f":"'3.Zones_desservies'!SE26","v":0},{"$f":"'3.Zones_desservies'!SF26","v":0},{"$f":"'3.Zones_desservies'!SG26","v":0},{"$f":"'3.Zones_desservies'!SH26","v":0}]
[null,{"$f":"'3.Zones_desservies'!B27","v":13},{"$f":"'3.Zones_desservies'!C27","v":0},{"$f":"'3.Zones_desservies'!D27","v":0},{"$f":"'3.Zones_desservies'!E27","v":0},{"$f":"'3.Zones_desservies'!F27","v":0},{"$f":"'3.Zones_desservies'!G27","v":0},{"$f":"'3.Zones_desservies'!H27","v":0},{"$f":"'3.Zones_desservies'!I27","v":0},{"$f":"'3.Zones_desservies'!J27","v":0},{"$f":"'3.Zones_desservies'!K27","v":0},{"$f":"'3.Zones_desservies'!L27","v":0},{"$f":"'3.Zones_desservies'!M27","v":0},{"$f":"'3.Zones_desservies'!N27","v":0},{"$f":"'3.Zones_desservies'!O27","v":0},{"$f":"'3.Zones_desservies'!P27","v":0},{"$f":"'3.Zones_desservies'!Q27","v":0},{"$f":"'3.Zones_desservies'!R27","v":0},{"$f":"'3.Zones_desservies'!S27","v":0},{"$f":"'3.Zones_desservies'!T27","v":0},{"$f":"'3.Zones_desservies'!U27","v":0},{"$f":"'3.Zones_desservies'!V27","v":0},{"$f":"'3.Zones_desservies'!W27","v":0},{"$f":"'3.Zones_desservies'!X27","v":0},{"$f":"'3.Zones_desservies'!Y27","v":0},{"$f":"'3.Zones_desservies'!Z27","v":0},{"$f":"'3.Zones_desservies'!AA27","v":0},{"$f":"'3.Zones_desservies'!AB27","v":0},{"$f":"'3.Zones_desservies'!AC27","v":0},{"$f":"'3.Zones_desservies'!AD27","v":0},{"$f":"'3.Zones_desservies'!AE27","v":0},{"$f":"'3.Zones_desservies'!AF27","v":0},{"$f":"'3.Zones_desservies'!AG27","v":0},{"$f":"'3.Zones_desservies'!AH27","v":0},{"$f":"'3.Zones_desservies'!AI27","v":0},{"$f":"'3.Zones_desservies'!AJ27","v":0},{"$f":"'3.Zones_desservies'!AK27","v":0},{"$f":"'3.Zones_desservies'!AL27","v":0},{"$f":"'3.Zones_desservies'!AM27","v":0},{"$f":"'3.Zones_desservies'!AN27","v":0},{"$f":"'3.Zones_desservies'!AO27","v":0},{"$f":"'3.Zones_desservies'!AP27","v":0},{"$f":"'3.Zones_desservies'!AQ27","v":0},{"$f":"'3.Zones_desservies'!AR27","v":0},{"$f":"'3.Zones_desservies'!AS27","v":0},{"$f":"'3.Zones_desservies'!AT27","v":0},{"$f":"'3.Zones_desservies'!AU27","v":0},{"$f":"'3.Zones_desservies'!AV27","v":0},{"$f":"'3.Zones_desservies'!AW27","v":0},{"$f":"'3.Zones_desservies'!AX27","v":0},{"$f":"'3.Zones_desservies'!AY27","v":0},{"$f":"'3.Zones_desservies'!AZ27","v":0},{"$f":"'3.Zones_desservies'!BA27","v":0},{"$f":"'3.Zones_desservies'!BB27","v":0},{"$f":"'3.Zones_desservies'!BC27","v":0},{"$f":"'3.Zones_desservies'!BD27","v":0},{"$f":"'3.Zones_desservies'!BE27","v":0},{"$f":"'3.Zones_desservies'!BF27","v":0},{"$f":"'3.Zones_desservies'!BG27","v":0},{"$f":"'3.Zones_desservies'!BH27","v":0},{"$f":"'3.Zones_desservies'!BI27","v":0},{"$f":"'3.Zones_desservies'!BJ27","v":0},{"$f":"'3.Zones_desservies'!BK27","v":0},{"$f":"'3.Zones_desservies'!BL27","v":0},{"$f":"'3.Zones_desservies'!BM27","v":0},{"$f":"'3.Zones_desservies'!BN27","v":0},{"$f":"'3.Zones_desservies'!BO27","v":0},{"$f":"'3.Zones_desservies'!BP27","v":0},{"$f":"'3.Zones_desservies'!BQ27","v":0},{"$f":"'3.Zones_desservies'!BR27","v":0},{"$f":"'3.Zones_desservies'!BS27","v":0},{"$f":"'3.Zones_desservies'!BT27","v":0},{"$f":"'3.Zones_desservies'!BU27","v":0},{"$f":"'3.Zones_desservies'!BV27","v":0},{"$f":"'3.Zones_desservies'!BW27","v":0},{"$f":"'3.Zones_desservies'!BX27","v":0},{"$f":"'3.Zones_desservies'!BY27","v":0},{"$f":"'3.Zones_desservies'!BZ27","v":0},{"$f":"'3.Zones_desservies'!CA27","v":0},{"$f":"'3.Zones_desservies'!CB27","v":0},{"$f":"'3.Zones_desservies'!CC27","v":0},{"$f":"'3.Zones_desservies'!CD27","v":0},{"$f":"'3.Zones_desservies'!CE27","v":0},{"$f":"'3.Zones_desservies'!CF27","v":0},{"$f":"'3.Zones_desservies'!CG27","v":0},{"$f":"'3.Zones_desservies'!CH27","v":0},{"$f":"'3.Zones_desservies'!CI27","v":0},{"$f":"'3.Zones_desservies'!CJ27","v":0},{"$f":"'3.Zones_desservies'!CK27","v":0},{"$f":"'3.Zones_desservies'!CL27","v":0},{"$f":"'3.Zones_desservies'!CM27","v":0},{"$f":"'3.Zones_desservies'!CN27","v":0},{"$f":"'3.Zones_desservies'!CO27","v":0},{"$f":"'3.Zones_desservies'!CP27","v":0},{"$f":"'3.Zones_desservies'!CQ27","v":0},{"$f":"'3.Zones_desservies'!CR27","v":0},{"$f":"'3.Zones_desservies'!CS27","v":0},{"$f":"'3.Zones_desservies'!CT27","v":0},{"$f":"'3.Zones_desservies'!CU27","v":0},{"$f":"'3.Zones_desservies'!CV27","v":0},{"$f":"'3.Zones_desservies'!CW27","v":0},{"$f":"'3.Zones_desservies'!CX27","v":0},{"$f":"'3.Zones_desservies'!CY27","v":"_"},{"$f":"'3.Zones_desservies'!CZ27","v":0},{"$f":"'3.Zones_desservies'!DA27","v":0},{"$f":"'3.Zones_desservies'!DB27","v":0},{"$f":"'3.Zones_desservies'!DC27","v":0},{"$f":"'3.Zones_desservies'!DD27","v":0},{"$f":"'3.Zones_desservies'!DE27","v":0},{"$f":"'3.Zones_desservies'!DF27","v":0},{"$f":"'3.Zones_desservies'!DG27","v":0},{"$f":"'3.Zones_desservies'!DH27","v":0},{"$f":"'3.Zones_desservies'!DI27","v":0},{"$f":"'3.Zones_desservies'!DJ27","v":0},{"$f":"'3.Zones_desservies'!DK27","v":0},{"$f":"'3.Zones_desservies'!DL27","v":0},{"$f":"'3.Zones_desservies'!DM27","v":0},{"$f":"'3.Zones_desservies'!DN27","v":0},{"$f":"'3.Zones_desservies'!DO27","v":0},{"$f":"'3.Zones_desservies'!DP27","v":0},{"$f":"'3.Zones_desservies'!DQ27","v":0},{"$f":"'3.Zones_desservies'!DR27","v":0},{"$f":"'3.Zones_desservies'!DS27","v":0},{"$f":"'3.Zones_desservies'!DT27","v":0},{"$f":"'3.Zones_desservies'!DU27","v":0},{"$f":"'3.Zones_desservies'!DV27","v":0},{"$f":"'3.Zones_desservies'!DW27","v":0},{"$f":"'3.Zones_desservies'!DX27","v":0},{"$f":"'3.Zones_desservies'!DY27","v":0},{"$f":"'3.Zones_desservies'!DZ27","v":0},{"$f":"'3.Zones_desservies'!EA27","v":0},{"$f":"'3.Zones_desservies'!EB27","v":0},{"$f":"'3.Zones_desservies'!EC27","v":0},{"$f":"'3.Zones_desservies'!ED27","v":0},{"$f":"'3.Zones_desservies'!EE27","v":0},{"$f":"'3.Zones_desservies'!EF27","v":0},{"$f":"'3.Zones_desservies'!EG27","v":0},{"$f":"'3.Zones_desservies'!EH27","v":0},{"$f":"'3.Zones_desservies'!EI27","v":0},{"$f":"'3.Zones_desservies'!EJ27","v":0},{"$f":"'3.Zones_desservies'!EK27","v":0},{"$f":"'3.Zones_desservies'!EL27","v":0},{"$f":"'3.Zones_desservies'!EM27","v":0},{"$f":"'3.Zones_desservies'!EN27","v":0},{"$f":"'3.Zones_desservies'!EO27","v":0},{"$f":"'3.Zones_desservies'!EP27","v":0},{"$f":"'3.Zones_desservies'!EQ27","v":0},{"$f":"'3.Zones_desservies'!ER27","v":0},{"$f":"'3.Zones_desservies'!ES27","v":0},{"$f":"'3.Zones_desservies'!ET27","v":0},{"$f":"'3.Zones_desservies'!EU27","v":0},{"$f":"'3.Zones_desservies'!EV27","v":0},{"$f":"'3.Zones_desservies'!EW27","v":0},{"$f":"'3.Zones_desservies'!EX27","v":0},{"$f":"'3.Zones_desservies'!EY27","v":0},{"$f":"'3.Zones_desservies'!EZ27","v":0},{"$f":"'3.Zones_desservies'!FA27","v":0},{"$f":"'3.Zones_desservies'!FB27","v":0},{"$f":"'3.Zones_desservies'!FC27","v":0},{"$f":"'3.Zones_desservies'!FD27","v":0},{"$f":"'3.Zones_desservies'!FE27","v":0},{"$f":"'3.Zones_desservies'!FF27","v":0},{"$f":"'3.Zones_desservies'!FG27","v":0},{"$f":"'3.Zones_desservies'!FH27","v":0},{"$f":"'3.Zones_desservies'!FI27","v":0},{"$f":"'3.Zones_desservies'!FJ27","v":0},{"$f":"'3.Zones_desservies'!FK27","v":0},{"$f":"'3.Zones_desservies'!FL27","v":0},{"$f":"'3.Zones_desservies'!FM27","v":0},{"$f":"'3.Zones_desservies'!FN27","v":0},{"$f":"'3.Zones_desservies'!FO27","v":0},{"$f":"'3.Zones_desservies'!FP27","v":0},{"$f":"'3.Zones_desservies'!FQ27","v":0},{"$f":"'3.Zones_desservies'!FR27","v":0},{"$f":"'3.Zones_desservies'!FS27","v":0},{"$f":"'3.Zones_desservies'!FT27","v":0},{"$f":"'3.Zones_desservies'!FU27","v":0},{"$f":"'3.Zones_desservies'!FV27","v":0},{"$f":"'3.Zones_desservies'!FW27","v":0},{"$f":"'3.Zones_desservies'!FX27","v":0},{"$f":"'3.Zones_desservies'!FY27","v":0},{"$f":"'3.Zones_desservies'!FZ27","v":0},{"$f":"'3.Zones_desservies'!GA27","v":0},{"$f":"'3.Zones_desservies'!GB27","v":0},{"$f":"'3.Zones_desservies'!GC27","v":0},{"$f":"'3.Zones_desservies'!GD27","v":0},{"$f":"'3.Zones_desservies'!GE27","v":0},{"$f":"'3.Zones_desservies'!GF27","v":0},{"$f":"'3.Zones_desservies'!GG27","v":0},{"$f":"'3.Zones_desservies'!GH27","v":0},{"$f":"'3.Zones_desservies'!GI27","v":0},{"$f":"'3.Zones_desservies'!GJ27","v":0},{"$f":"'3.Zones_desservies'!GK27","v":0},{"$f":"'3.Zones_desservies'!GL27","v":0},{"$f":"'3.Zones_desservies'!GM27","v":0},{"$f":"'3.Zones_desservies'!GN27","v":0},{"$f":"'3.Zones_desservies'!GO27","v":0},{"$f":"'3.Zones_desservies'!GP27","v":0},{"$f":"'3.Zones_desservies'!GQ27","v":0},{"$f":"'3.Zones_desservies'!GR27","v":0},{"$f":"'3.Zones_desservies'!GS27","v":0},{"$f":"'3.Zones_desservies'!GT27","v":0},{"$f":"'3.Zones_desservies'!GU27","v":0},{"$f":"'3.Zones_desservies'!GV27","v":0},{"$f":"'3.Zones_desservies'!GW27","v":0},{"$f":"'3.Zones_desservies'!GX27","v":0},{"$f":"'3.Zones_desservies'!GY27","v":0},{"$f":"'3.Zones_desservies'!GZ27","v":0},{"$f":"'3.Zones_desservies'!HA27","v":0},{"$f":"'3.Zones_desservies'!HB27","v":0},{"$f":"'3.Zones_desservies'!HC27","v":0},{"$f":"'3.Zones_desservies'!HD27","v":0},{"$f":"'3.Zones_desservies'!HE27","v":0},{"$f":"'3.Zones_desservies'!HF27","v":0},{"$f":"'3.Zones_desservies'!HG27","v":0},{"$f":"'3.Zones_desservies'!HH27","v":0},{"$f":"'3.Zones_desservies'!HI27","v":0},{"$f":"'3.Zones_desservies'!HJ27","v":0},{"$f":"'3.Zones_desservies'!HK27","v":0},{"$f":"'3.Zones_desservies'!HL27","v":0},{"$f":"'3.Zones_desservies'!HM27","v":0},{"$f":"'3.Zones_desservies'!HN27","v":0},{"$f":"'3.Zones_desservies'!HO27","v":0},{"$f":"'3.Zones_desservies'!HP27","v":0},{"$f":"'3.Zones_desservies'!HQ27","v":0},{"$f":"'3.Zones_desservies'!HR27","v":0},{"$f":"'3.Zones_desservies'!HS27","v":0},{"$f":"'3.Zones_desservies'!HT27","v":0},{"$f":"'3.Zones_desservies'!HU27","v":0},{"$f":"'3.Zones_desservies'!HV27","v":0},{"$f":"'3.Zones_desservies'!HW27","v":0},{"$f":"'3.Zones_desservies'!HX27","v":0},{"$f":"'3.Zones_desservies'!HY27","v":0},{"$f":"'3.Zones_desservies'!HZ27","v":0},{"$f":"'3.Zones_desservies'!IA27","v":0},{"$f":"'3.Zones_desservies'!IB27","v":0},{"$f":"'3.Zones_desservies'!IC27","v":0},{"$f":"'3.Zones_desservies'!ID27","v":0},{"$f":"'3.Zones_desservies'!IE27","v":0},{"$f":"'3.Zones_desservies'!IF27","v":0},{"$f":"'3.Zones_desservies'!IG27","v":0},{"$f":"'3.Zones_desservies'!IH27","v":0},{"$f":"'3.Zones_desservies'!II27","v":0},{"$f":"'3.Zones_desservies'!IJ27","v":0},{"$f":"'3.Zones_desservies'!IK27","v":0},{"$f":"'3.Zones_desservies'!IL27","v":0},{"$f":"'3.Zones_desservies'!IM27","v":0},{"$f":"'3.Zones_desservies'!IN27","v":0},{"$f":"'3.Zones_desservies'!IO27","v":0},{"$f":"'3.Zones_desservies'!IP27","v":0},{"$f":"'3.Zones_desservies'!IQ27","v":0},{"$f":"'3.Zones_desservies'!IR27","v":0},{"$f":"'3.Zones_desservies'!IS27","v":0},{"$f":"'3.Zones_desservies'!IT27","v":0},{"$f":"'3.Zones_desservies'!IU27","v":0},{"$f":"'3.Zones_desservies'!IV27","v":0},{"$f":"'3.Zones_desservies'!IW27","v":0},{"$f":"'3.Zones_desservies'!IX27","v":0},{"$f":"'3.Zones_desservies'!IY27","v":0},{"$f":"'3.Zones_desservies'!IZ27","v":0},{"$f":"'3.Zones_desservies'!JA27","v":0},{"$f":"'3.Zones_desservies'!JB27","v":0},{"$f":"'3.Zones_desservies'!JC27","v":0},{"$f":"'3.Zones_desservies'!JD27","v":0},{"$f":"'3.Zones_desservies'!JE27","v":0},{"$f":"'3.Zones_desservies'!JF27","v":0},{"$f":"'3.Zones_desservies'!JG27","v":0},{"$f":"'3.Zones_desservies'!JH27","v":0},{"$f":"'3.Zones_desservies'!JI27","v":0},{"$f":"'3.Zones_desservies'!JJ27","v":0},{"$f":"'3.Zones_desservies'!JK27","v":0},{"$f":"'3.Zones_desservies'!JL27","v":0},{"$f":"'3.Zones_desservies'!JM27","v":0},{"$f":"'3.Zones_desservies'!JN27","v":0},{"$f":"'3.Zones_desservies'!JO27","v":0},{"$f":"'3.Zones_desservies'!JP27","v":0},{"$f":"'3.Zones_desservies'!JQ27","v":0},{"$f":"'3.Zones_desservies'!JR27","v":0},{"$f":"'3.Zones_desservies'!JS27","v":0},{"$f":"'3.Zones_desservies'!JT27","v":0},{"$f":"'3.Zones_desservies'!JU27","v":0},{"$f":"'3.Zones_desservies'!JV27","v":0},{"$f":"'3.Zones_desservies'!JW27","v":0},{"$f":"'3.Zones_desservies'!JX27","v":0},{"$f":"'3.Zones_desservies'!JY27","v":0},{"$f":"'3.Zones_desservies'!JZ27","v":0},{"$f":"'3.Zones_desservies'!KA27","v":0},{"$f":"'3.Zones_desservies'!KB27","v":0},{"$f":"'3.Zones_desservies'!KC27","v":0},{"$f":"'3.Zones_desservies'!KD27","v":0},{"$f":"'3.Zones_desservies'!KE27","v":0},{"$f":"'3.Zones_desservies'!KF27","v":0},{"$f":"'3.Zones_desservies'!KG27","v":0},{"$f":"'3.Zones_desservies'!KH27","v":0},{"$f":"'3.Zones_desservies'!KI27","v":0},{"$f":"'3.Zones_desservies'!KJ27","v":0},{"$f":"'3.Zones_desservies'!KK27","v":0},{"$f":"'3.Zones_desservies'!KL27","v":0},{"$f":"'3.Zones_desservies'!KM27","v":0},{"$f":"'3.Zones_desservies'!KN27","v":0},{"$f":"'3.Zones_desservies'!KO27","v":0},{"$f":"'3.Zones_desservies'!KP27","v":0},{"$f":"'3.Zones_desservies'!KQ27","v":0},{"$f":"'3.Zones_desservies'!KR27","v":0},{"$f":"'3.Zones_desservies'!KS27","v":0},{"$f":"'3.Zones_desservies'!KT27","v":0},{"$f":"'3.Zones_desservies'!KU27","v":0},{"$f":"'3.Zones_desservies'!KV27","v":0},{"$f":"'3.Zones_desservies'!KW27","v":0},{"$f":"'3.Zones_desservies'!KX27","v":0},{"$f":"'3.Zones_desservies'!KY27","v":0},{"$f":"'3.Zones_desservies'!KZ27","v":0},{"$f":"'3.Zones_desservies'!LA27","v":0},{"$f":"'3.Zones_desservies'!LB27","v":0},{"$f":"'3.Zones_desservies'!LC27","v":0},{"$f":"'3.Zones_desservies'!LD27","v":0},{"$f":"'3.Zones_desservies'!LE27","v":0},{"$f":"'3.Zones_desservies'!LF27","v":0},{"$f":"'3.Zones_desservies'!LG27","v":0},{"$f":"'3.Zones_desservies'!LH27","v":0},{"$f":"'3.Zones_desservies'!LI27","v":0},{"$f":"'3.Zones_desservies'!LJ27","v":0},{"$f":"'3.Zones_desservies'!LK27","v":0},{"$f":"'3.Zones_desservies'!LL27","v":0},{"$f":"'3.Zones_desservies'!LM27","v":0},{"$f":"'3.Zones_desservies'!LN27","v":0},{"$f":"'3.Zones_desservies'!LO27","v":0},{"$f":"'3.Zones_desservies'!LP27","v":0},{"$f":"'3.Zones_desservies'!LQ27","v":0},{"$f":"'3.Zones_desservies'!LR27","v":0},{"$f":"'3.Zones_desservies'!LS27","v":0},{"$f":"'3.Zones_desservies'!LT27","v":0},{"$f":"'3.Zones_desservies'!LU27","v":0},{"$f":"'3.Zones_desservies'!LV27","v":0},{"$f":"'3.Zones_desservies'!LW27","v":0},{"$f":"'3.Zones_desservies'!LX27","v":0},{"$f":"'3.Zones_desservies'!LY27","v":0},{"$f":"'3.Zones_desservies'!LZ27","v":0},{"$f":"'3.Zones_desservies'!MA27","v":0},{"$f":"'3.Zones_desservies'!MB27","v":0},{"$f":"'3.Zones_desservies'!MC27","v":0},{"$f":"'3.Zones_desservies'!MD27","v":0},{"$f":"'3.Zones_desservies'!ME27","v":0},{"$f":"'3.Zones_desservies'!MF27","v":0},{"$f":"'3.Zones_desservies'!MG27","v":0},{"$f":"'3.Zones_desservies'!MH27","v":0},{"$f":"'3.Zones_desservies'!MI27","v":0},{"$f":"'3.Zones_desservies'!MJ27","v":0},{"$f":"'3.Zones_desservies'!MK27","v":0},{"$f":"'3.Zones_desservies'!ML27","v":0},{"$f":"'3.Zones_desservies'!MM27","v":0},{"$f":"'3.Zones_desservies'!MN27","v":0},{"$f":"'3.Zones_desservies'!MO27","v":0},{"$f":"'3.Zones_desservies'!MP27","v":0},{"$f":"'3.Zones_desservies'!MQ27","v":0},{"$f":"'3.Zones_desservies'!MR27","v":0},{"$f":"'3.Zones_desservies'!MS27","v":0},{"$f":"'3.Zones_desservies'!MT27","v":0},{"$f":"'3.Zones_desservies'!MU27","v":0},{"$f":"'3.Zones_desservies'!MV27","v":0},{"$f":"'3.Zones_desservies'!MW27","v":0},{"$f":"'3.Zones_desservies'!MX27","v":0},{"$f":"'3.Zones_desservies'!MY27","v":0},{"$f":"'3.Zones_desservies'!MZ27","v":0},{"$f":"'3.Zones_desservies'!NA27","v":0},{"$f":"'3.Zones_desservies'!NB27","v":0},{"$f":"'3.Zones_desservies'!NC27","v":0},{"$f":"'3.Zones_desservies'!ND27","v":0},{"$f":"'3.Zones_desservies'!NE27","v":0},{"$f":"'3.Zones_desservies'!NF27","v":0},{"$f":"'3.Zones_desservies'!NG27","v":0},{"$f":"'3.Zones_desservies'!NH27","v":0},{"$f":"'3.Zones_desservies'!NI27","v":0},{"$f":"'3.Zones_desservies'!NJ27","v":0},{"$f":"'3.Zones_desservies'!NK27","v":0},{"$f":"'3.Zones_desservies'!NL27","v":0},{"$f":"'3.Zones_desservies'!NM27","v":0},{"$f":"'3.Zones_desservies'!NN27","v":0},{"$f":"'3.Zones_desservies'!NO27","v":0},{"$f":"'3.Zones_desservies'!NP27","v":0},{"$f":"'3.Zones_desservies'!NQ27","v":0},{"$f":"'3.Zones_desservies'!NR27","v":0},{"$f":"'3.Zones_desservies'!NS27","v":0},{"$f":"'3.Zones_desservies'!NT27","v":0},{"$f":"'3.Zones_desservies'!NU27","v":0},{"$f":"'3.Zones_desservies'!NV27","v":0},{"$f":"'3.Zones_desservies'!NW27","v":0},{"$f":"'3.Zones_desservies'!NX27","v":0},{"$f":"'3.Zones_desservies'!NY27","v":0},{"$f":"'3.Zones_desservies'!NZ27","v":0},{"$f":"'3.Zones_desservies'!OA27","v":0},{"$f":"'3.Zones_desservies'!OB27","v":0},{"$f":"'3.Zones_desservies'!OC27","v":0},{"$f":"'3.Zones_desservies'!OD27","v":0},{"$f":"'3.Zones_desservies'!OE27","v":0},{"$f":"'3.Zones_desservies'!OF27","v":0},{"$f":"'3.Zones_desservies'!OG27","v":0},{"$f":"'3.Zones_desservies'!OH27","v":0},{"$f":"'3.Zones_desservies'!OI27","v":0},{"$f":"'3.Zones_desservies'!OJ27","v":0},{"$f":"'3.Zones_desservies'!OK27","v":0},{"$f":"'3.Zones_desservies'!OL27","v":0},{"$f":"'3.Zones_desservies'!OM27","v":0},{"$f":"'3.Zones_desservies'!ON27","v":0},{"$f":"'3.Zones_desservies'!OO27","v":0},{"$f":"'3.Zones_desservies'!OP27","v":0},{"$f":"'3.Zones_desservies'!OQ27","v":0},{"$f":"'3.Zones_desservies'!OR27","v":0},{"$f":"'3.Zones_desservies'!OS27","v":0},{"$f":"'3.Zones_desservies'!OT27","v":0},{"$f":"'3.Zones_desservies'!OU27","v":0},{"$f":"'3.Zones_desservies'!OV27","v":0},{"$f":"'3.Zones_desservies'!OW27","v":0},{"$f":"'3.Zones_desservies'!OX27","v":0},{"$f":"'3.Zones_desservies'!OY27","v":0},{"$f":"'3.Zones_desservies'!OZ27","v":0},{"$f":"'3.Zones_desservies'!PA27","v":0},{"$f":"'3.Zones_desservies'!PB27","v":0},{"$f":"'3.Zones_desservies'!PC27","v":0},{"$f":"'3.Zones_desservies'!PD27","v":0},{"$f":"'3.Zones_desservies'!PE27","v":0},{"$f":"'3.Zones_desservies'!PF27","v":0},{"$f":"'3.Zones_desservies'!PG27","v":0},{"$f":"'3.Zones_desservies'!PH27","v":0},{"$f":"'3.Zones_desservies'!PI27","v":0},{"$f":"'3.Zones_desservies'!PJ27","v":0},{"$f":"'3.Zones_desservies'!PK27","v":0},{"$f":"'3.Zones_desservies'!PL27","v":0},{"$f":"'3.Zones_desservies'!PM27","v":0},{"$f":"'3.Zones_desservies'!PN27","v":0},{"$f":"'3.Zones_desservies'!PO27","v":0},{"$f":"'3.Zones_desservies'!PP27","v":0},{"$f":"'3.Zones_desservies'!PQ27","v":0},{"$f":"'3.Zones_desservies'!PR27","v":0},{"$f":"'3.Zones_desservies'!PS27","v":0},{"$f":"'3.Zones_desservies'!PT27","v":0},{"$f":"'3.Zones_desservies'!PU27","v":0},{"$f":"'3.Zones_desservies'!PV27","v":0},{"$f":"'3.Zones_desservies'!PW27","v":0},{"$f":"'3.Zones_desservies'!PX27","v":0},{"$f":"'3.Zones_desservies'!PY27","v":0},{"$f":"'3.Zones_desservies'!PZ27","v":0},{"$f":"'3.Zones_desservies'!QA27","v":0},{"$f":"'3.Zones_desservies'!QB27","v":0},{"$f":"'3.Zones_desservies'!QC27","v":0},{"$f":"'3.Zones_desservies'!QD27","v":0},{"$f":"'3.Zones_desservies'!QE27","v":0},{"$f":"'3.Zones_desservies'!QF27","v":0},{"$f":"'3.Zones_desservies'!QG27","v":0},{"$f":"'3.Zones_desservies'!QH27","v":0},{"$f":"'3.Zones_desservies'!QI27","v":0},{"$f":"'3.Zones_desservies'!QJ27","v":0},{"$f":"'3.Zones_desservies'!QK27","v":0},{"$f":"'3.Zones_desservies'!QL27","v":0},{"$f":"'3.Zones_desservies'!QM27","v":0},{"$f":"'3.Zones_desservies'!QN27","v":0},{"$f":"'3.Zones_desservies'!QO27","v":0},{"$f":"'3.Zones_desservies'!QP27","v":0},{"$f":"'3.Zones_desservies'!QQ27","v":0},{"$f":"'3.Zones_desservies'!QR27","v":0},{"$f":"'3.Zones_desservies'!QS27","v":0},{"$f":"'3.Zones_desservies'!QT27","v":0},{"$f":"'3.Zones_desservies'!QU27","v":0},{"$f":"'3.Zones_desservies'!QV27","v":0},{"$f":"'3.Zones_desservies'!QW27","v":0},{"$f":"'3.Zones_desservies'!QX27","v":0},{"$f":"'3.Zones_desservies'!QY27","v":0},{"$f":"'3.Zones_desservies'!QZ27","v":0},{"$f":"'3.Zones_desservies'!RA27","v":0},{"$f":"'3.Zones_desservies'!RB27","v":0},{"$f":"'3.Zones_desservies'!RC27","v":0},{"$f":"'3.Zones_desservies'!RD27","v":0},{"$f":"'3.Zones_desservies'!RE27","v":0},{"$f":"'3.Zones_desservies'!RF27","v":0},{"$f":"'3.Zones_desservies'!RG27","v":0},{"$f":"'3.Zones_desservies'!RH27","v":0},{"$f":"'3.Zones_desservies'!RI27","v":0},{"$f":"'3.Zones_desservies'!RJ27","v":0},{"$f":"'3.Zones_desservies'!RK27","v":0},{"$f":"'3.Zones_desservies'!RL27","v":0},{"$f":"'3.Zones_desservies'!RM27","v":0},{"$f":"'3.Zones_desservies'!RN27","v":0},{"$f":"'3.Zones_desservies'!RO27","v":0},{"$f":"'3.Zones_desservies'!RP27","v":0},{"$f":"'3.Zones_desservies'!RQ27","v":0},{"$f":"'3.Zones_desservies'!RR27","v":0},{"$f":"'3.Zones_desservies'!RS27","v":0},{"$f":"'3.Zones_desservies'!RT27","v":0},{"$f":"'3.Zones_desservies'!RU27","v":0},{"$f":"'3.Zones_desservies'!RV27","v":0},{"$f":"'3.Zones_desservies'!RW27","v":0},{"$f":"'3.Zones_desservies'!RX27","v":0},{"$f":"'3.Zones_desservies'!RY27","v":0},{"$f":"'3.Zones_desservies'!RZ27","v":0},{"$f":"'3.Zones_desservies'!SA27","v":0},{"$f":"'3.Zones_desservies'!SB27","v":0},{"$f":"'3.Zones_desservies'!SC27","v":0},{"$f":"'3.Zones_desservies'!SD27","v":0},{"$f":"'3.Zones_desservies'!SE27","v":0},{"$f":"'3.Zones_desservies'!SF27","v":0},{"$f":"'3.Zones_desservies'!SG27","v":0},{"$f":"'3.Zones_desservies'!SH27","v":0}]
[null,{"$f":"'3.Zones_desservies'!B28","v":14},{"$f":"'3.Zones_desservies'!C28","v":0},{"$f":"'3.Zones_desservies'!D28","v":0},{"$f":"'3.Zones_desservies'!E28","v":0},{"$f":"'3.Zones_desservies'!F28","v":0},{"$f":"'3.Zones_desservies'!G28","v":0},{"$f":"'3.Zones_desservies'!H28","v":0},{"$f":"'3.Zones_desservies'!I28","v":0},{"$f":"'3.Zones_desservies'!J28","v":0},{"$f":"'3.Zones_desservies'!K28","v":0},{"$f":"'3.Zones_desservies'!L28","v":0},{"$f":"'3.Zones_desservies'!M28","v":0},{"$f":"'3.Zones_desservies'!N28","v":0},{"$f":"'3.Zones_desservies'!O28","v":0},{"$f":"'3.Zones_desservies'!P28","v":0},{"$f":"'3.Zones_desservies'!Q28","v":0},{"$f":"'3.Zones_desservies'!R28","v":0},{"$f":"'3.Zones_desservies'!S28","v":0},{"$f":"'3.Zones_desservies'!T28","v":0},{"$f":"'3.Zones_desservies'!U28","v":0},{"$f":"'3.Zones_desservies'!V28","v":0},{"$f":"'3.Zones_desservies'!W28","v":0},{"$f":"'3.Zones_desservies'!X28","v":0},{"$f":"'3.Zones_desservies'!Y28","v":0},{"$f":"'3.Zones_desservies'!Z28","v":0},{"$f":"'3.Zones_desservies'!AA28","v":0},{"$f":"'3.Zones_desservies'!AB28","v":0},{"$f":"'3.Zones_desservies'!AC28","v":0},{"$f":"'3.Zones_desservies'!AD28","v":0},{"$f":"'3.Zones_desservies'!AE28","v":0},{"$f":"'3.Zones_desservies'!AF28","v":0},{"$f":"'3.Zones_desservies'!AG28","v":0},{"$f":"'3.Zones_desservies'!AH28","v":0},{"$f":"'3.Zones_desservies'!AI28","v":0},{"$f":"'3.Zones_desservies'!AJ28","v":0},{"$f":"'3.Zones_desservies'!AK28","v":0},{"$f":"'3.Zones_desservies'!AL28","v":0},{"$f":"'3.Zones_desservies'!AM28","v":0},{"$f":"'3.Zones_desservies'!AN28","v":0},{"$f":"'3.Zones_desservies'!AO28","v":0},{"$f":"'3.Zones_desservies'!AP28","v":0},{"$f":"'3.Zones_desservies'!AQ28","v":0},{"$f":"'3.Zones_desservies'!AR28","v":0},{"$f":"'3.Zones_desservies'!AS28","v":0},{"$f":"'3.Zones_desservies'!AT28","v":0},{"$f":"'3.Zones_desservies'!AU28","v":0},{"$f":"'3.Zones_desservies'!AV28","v":0},{"$f":"'3.Zones_desservies'!AW28","v":0},{"$f":"'3.Zones_desservies'!AX28","v":0},{"$f":"'3.Zones_desservies'!AY28","v":0},{"$f":"'3.Zones_desservies'!AZ28","v":0},{"$f":"'3.Zones_desservies'!BA28","v":0},{"$f":"'3.Zones_desservies'!BB28","v":0},{"$f":"'3.Zones_desservies'!BC28","v":0},{"$f":"'3.Zones_desservies'!BD28","v":0},{"$f":"'3.Zones_desservies'!BE28","v":0},{"$f":"'3.Zones_desservies'!BF28","v":0},{"$f":"'3.Zones_desservies'!BG28","v":0},{"$f":"'3.Zones_desservies'!BH28","v":0},{"$f":"'3.Zones_desservies'!BI28","v":0},{"$f":"'3.Zones_desservies'!BJ28","v":0},{"$f":"'3.Zones_desservies'!BK28","v":0},{"$f":"'3.Zones_desservies'!BL28","v":0},{"$f":"'3.Zones_desservies'!BM28","v":0},{"$f":"'3.Zones_desservies'!BN28","v":0},{"$f":"'3.Zones_desservies'!BO28","v":0},{"$f":"'3.Zones_desservies'!BP28","v":0},{"$f":"'3.Zones_desservies'!BQ28","v":0},{"$f":"'3.Zones_desservies'!BR28","v":0},{"$f":"'3.Zones_desservies'!BS28","v":0},{"$f":"'3.Zones_desservies'!BT28","v":0},{"$f":"'3.Zones_desservies'!BU28","v":0},{"$f":"'3.Zones_desservies'!BV28","v":0},{"$f":"'3.Zones_desservies'!BW28","v":0},{"$f":"'3.Zones_desservies'!BX28","v":0},{"$f":"'3.Zones_desservies'!BY28","v":0},{"$f":"'3.Zones_desservies'!BZ28","v":0},{"$f":"'3.Zones_desservies'!CA28","v":0},{"$f":"'3.Zones_desservies'!CB28","v":0},{"$f":"'3.Zones_desservies'!CC28","v":0},{"$f":"'3.Zones_desservies'!CD28","v":0},{"$f":"'3.Zones_desservies'!CE28","v":0},{"$f":"'3.Zones_desservies'!CF28","v":0},{"$f":"'3.Zones_desservies'!CG28","v":0},{"$f":"'3.Zones_desservies'!CH28","v":0},{"$f":"'3.Zones_desservies'!CI28","v":0},{"$f":"'3.Zones_desservies'!CJ28","v":0},{"$f":"'3.Zones_desservies'!CK28","v":0},{"$f":"'3.Zones_desservies'!CL28","v":0},{"$f":"'3.Zones_desservies'!CM28","v":0},{"$f":"'3.Zones_desservies'!CN28","v":0},{"$f":"'3.Zones_desservies'!CO28","v":0},{"$f":"'3.Zones_desservies'!CP28","v":0},{"$f":"'3.Zones_desservies'!CQ28","v":0},{"$f":"'3.Zones_desservies'!CR28","v":0},{"$f":"'3.Zones_desservies'!CS28","v":0},{"$f":"'3.Zones_desservies'!CT28","v":0},{"$f":"'3.Zones_desservies'!CU28","v":0},{"$f":"'3.Zones_desservies'!CV28","v":0},{"$f":"'3.Zones_desservies'!CW28","v":0},{"$f":"'3.Zones_desservies'!CX28","v":0},{"$f":"'3.Zones_desservies'!CY28","v":"_"},{"$f":"'3.Zones_desservies'!CZ28","v":0},{"$f":"'3.Zones_desservies'!DA28","v":0},{"$f":"'3.Zones_desservies'!DB28","v":0},{"$f":"'3.Zones_desservies'!DC28","v":0},{"$f":"'3.Zones_desservies'!DD28","v":0},{"$f":"'3.Zones_desservies'!DE28","v":0},{"$f":"'3.Zones_desservies'!DF28","v":0},{"$f":"'3.Zones_desservies'!DG28","v":0},{"$f":"'3.Zones_desservies'!DH28","v":0},{"$f":"'3.Zones_desservies'!DI28","v":0},{"$f":"'3.Zones_desservies'!DJ28","v":0},{"$f":"'3.Zones_desservies'!DK28","v":0},{"$f":"'3.Zones_desservies'!DL28","v":0},{"$f":"'3.Zones_desservies'!DM28","v":0},{"$f":"'3.Zones_desservies'!DN28","v":0},{"$f":"'3.Zones_desservies'!DO28","v":0},{"$f":"'3.Zones_desservies'!DP28","v":0},{"$f":"'3.Zones_desservies'!DQ28","v":0},{"$f":"'3.Zones_desservies'!DR28","v":0},{"$f":"'3.Zones_desservies'!DS28","v":0},{"$f":"'3.Zones_desservies'!DT28","v":0},{"$f":"'3.Zones_desservies'!DU28","v":0},{"$f":"'3.Zones_desservies'!DV28","v":0},{"$f":"'3.Zones_desservies'!DW28","v":0},{"$f":"'3.Zones_desservies'!DX28","v":0},{"$f":"'3.Zones_desservies'!DY28","v":0},{"$f":"'3.Zones_desservies'!DZ28","v":0},{"$f":"'3.Zones_desservies'!EA28","v":0},{"$f":"'3.Zones_desservies'!EB28","v":0},{"$f":"'3.Zones_desservies'!EC28","v":0},{"$f":"'3.Zones_desservies'!ED28","v":0},{"$f":"'3.Zones_desservies'!EE28","v":0},{"$f":"'3.Zones_desservies'!EF28","v":0},{"$f":"'3.Zones_desservies'!EG28","v":0},{"$f":"'3.Zones_desservies'!EH28","v":0},{"$f":"'3.Zones_desservies'!EI28","v":0},{"$f":"'3.Zones_desservies'!EJ28","v":0},{"$f":"'3.Zones_desservies'!EK28","v":0},{"$f":"'3.Zones_desservies'!EL28","v":0},{"$f":"'3.Zones_desservies'!EM28","v":0},{"$f":"'3.Zones_desservies'!EN28","v":0},{"$f":"'3.Zones_desservies'!EO28","v":0},{"$f":"'3.Zones_desservies'!EP28","v":0},{"$f":"'3.Zones_desservies'!EQ28","v":0},{"$f":"'3.Zones_desservies'!ER28","v":0},{"$f":"'3.Zones_desservies'!ES28","v":0},{"$f":"'3.Zones_desservies'!ET28","v":0},{"$f":"'3.Zones_desservies'!EU28","v":0},{"$f":"'3.Zones_desservies'!EV28","v":0},{"$f":"'3.Zones_desservies'!EW28","v":0},{"$f":"'3.Zones_desservies'!EX28","v":0},{"$f":"'3.Zones_desservies'!EY28","v":0},{"$f":"'3.Zones_desservies'!EZ28","v":0},{"$f":"'3.Zones_desservies'!FA28","v":0},{"$f":"'3.Zones_desservies'!FB28","v":0},{"$f":"'3.Zones_desservies'!FC28","v":0},{"$f":"'3.Zones_desservies'!FD28","v":0},{"$f":"'3.Zones_desservies'!FE28","v":0},{"$f":"'3.Zones_desservies'!FF28","v":0},{"$f":"'3.Zones_desservies'!FG28","v":0},{"$f":"'3.Zones_desservies'!FH28","v":0},{"$f":"'3.Zones_desservies'!FI28","v":0},{"$f":"'3.Zones_desservies'!FJ28","v":0},{"$f":"'3.Zones_desservies'!FK28","v":0},{"$f":"'3.Zones_desservies'!FL28","v":0},{"$f":"'3.Zones_desservies'!FM28","v":0},{"$f":"'3.Zones_desservies'!FN28","v":0},{"$f":"'3.Zones_desservies'!FO28","v":0},{"$f":"'3.Zones_desservies'!FP28","v":0},{"$f":"'3.Zones_desservies'!FQ28","v":0},{"$f":"'3.Zones_desservies'!FR28","v":0},{"$f":"'3.Zones_desservies'!FS28","v":0},{"$f":"'3.Zones_desservies'!FT28","v":0},{"$f":"'3.Zones_desservies'!FU28","v":0},{"$f":"'3.Zones_desservies'!FV28","v":0},{"$f":"'3.Zones_desservies'!FW28","v":0},{"$f":"'3.Zones_desservies'!FX28","v":0},{"$f":"'3.Zones_desservies'!FY28","v":0},{"$f":"'3.Zones_desservies'!FZ28","v":0},{"$f":"'3.Zones_desservies'!GA28","v":0},{"$f":"'3.Zones_desservies'!GB28","v":0},{"$f":"'3.Zones_desservies'!GC28","v":0},{"$f":"'3.Zones_desservies'!GD28","v":0},{"$f":"'3.Zones_desservies'!GE28","v":0},{"$f":"'3.Zones_desservies'!GF28","v":0},{"$f":"'3.Zones_desservies'!GG28","v":0},{"$f":"'3.Zones_desservies'!GH28","v":0},{"$f":"'3.Zones_desservies'!GI28","v":0},{"$f":"'3.Zones_desservies'!GJ28","v":0},{"$f":"'3.Zones_desservies'!GK28","v":0},{"$f":"'3.Zones_desservies'!GL28","v":0},{"$f":"'3.Zones_desservies'!GM28","v":0},{"$f":"'3.Zones_desservies'!GN28","v":0},{"$f":"'3.Zones_desservies'!GO28","v":0},{"$f":"'3.Zones_desservies'!GP28","v":0},{"$f":"'3.Zones_desservies'!GQ28","v":0},{"$f":"'3.Zones_desservies'!GR28","v":0},{"$f":"'3.Zones_desservies'!GS28","v":0},{"$f":"'3.Zones_desservies'!GT28","v":0},{"$f":"'3.Zones_desservies'!GU28","v":0},{"$f":"'3.Zones_desservies'!GV28","v":0},{"$f":"'3.Zones_desservies'!GW28","v":0},{"$f":"'3.Zones_desservies'!GX28","v":0},{"$f":"'3.Zones_desservies'!GY28","v":0},{"$f":"'3.Zones_desservies'!GZ28","v":0},{"$f":"'3.Zones_desservies'!HA28","v":0},{"$f":"'3.Zones_desservies'!HB28","v":0},{"$f":"'3.Zones_desservies'!HC28","v":0},{"$f":"'3.Zones_desservies'!HD28","v":0},{"$f":"'3.Zones_desservies'!HE28","v":0},{"$f":"'3.Zones_desservies'!HF28","v":0},{"$f":"'3.Zones_desservies'!HG28","v":0},{"$f":"'3.Zones_desservies'!HH28","v":0},{"$f":"'3.Zones_desservies'!HI28","v":0},{"$f":"'3.Zones_desservies'!HJ28","v":0},{"$f":"'3.Zones_desservies'!HK28","v":0},{"$f":"'3.Zones_desservies'!HL28","v":0},{"$f":"'3.Zones_desservies'!HM28","v":0},{"$f":"'3.Zones_desservies'!HN28","v":0},{"$f":"'3.Zones_desservies'!HO28","v":0},{"$f":"'3.Zones_desservies'!HP28","v":0},{"$f":"'3.Zones_desservies'!HQ28","v":0},{"$f":"'3.Zones_desservies'!HR28","v":0},{"$f":"'3.Zones_desservies'!HS28","v":0},{"$f":"'3.Zones_desservies'!HT28","v":0},{"$f":"'3.Zones_desservies'!HU28","v":0},{"$f":"'3.Zones_desservies'!HV28","v":0},{"$f":"'3.Zones_desservies'!HW28","v":0},{"$f":"'3.Zones_desservies'!HX28","v":0},{"$f":"'3.Zones_desservies'!HY28","v":0},{"$f":"'3.Zones_desservies'!HZ28","v":0},{"$f":"'3.Zones_desservies'!IA28","v":0},{"$f":"'3.Zones_desservies'!IB28","v":0},{"$f":"'3.Zones_desservies'!IC28","v":0},{"$f":"'3.Zones_desservies'!ID28","v":0},{"$f":"'3.Zones_desservies'!IE28","v":0},{"$f":"'3.Zones_desservies'!IF28","v":0},{"$f":"'3.Zones_desservies'!IG28","v":0},{"$f":"'3.Zones_desservies'!IH28","v":0},{"$f":"'3.Zones_desservies'!II28","v":0},{"$f":"'3.Zones_desservies'!IJ28","v":0},{"$f":"'3.Zones_desservies'!IK28","v":0},{"$f":"'3.Zones_desservies'!IL28","v":0},{"$f":"'3.Zones_desservies'!IM28","v":0},{"$f":"'3.Zones_desservies'!IN28","v":0},{"$f":"'3.Zones_desservies'!IO28","v":0},{"$f":"'3.Zones_desservies'!IP28","v":0},{"$f":"'3.Zones_desservies'!IQ28","v":0},{"$f":"'3.Zones_desservies'!IR28","v":0},{"$f":"'3.Zones_desservies'!IS28","v":0},{"$f":"'3.Zones_desservies'!IT28","v":0},{"$f":"'3.Zones_desservies'!IU28","v":0},{"$f":"'3.Zones_desservies'!IV28","v":0},{"$f":"'3.Zones_desservies'!IW28","v":0},{"$f":"'3.Zones_desservies'!IX28","v":0},{"$f":"'3.Zones_desservies'!IY28","v":0},{"$f":"'3.Zones_desservies'!IZ28","v":0},{"$f":"'3.Zones_desservies'!JA28","v":0},{"$f":"'3.Zones_desservies'!JB28","v":0},{"$f":"'3.Zones_desservies'!JC28","v":0},{"$f":"'3.Zones_desservies'!JD28","v":0},{"$f":"'3.Zones_desservies'!JE28","v":0},{"$f":"'3.Zones_desservies'!JF28","v":0},{"$f":"'3.Zones_desservies'!JG28","v":0},{"$f":"'3.Zones_desservies'!JH28","v":0},{"$f":"'3.Zones_desservies'!JI28","v":0},{"$f":"'3.Zones_desservies'!JJ28","v":0},{"$f":"'3.Zones_desservies'!JK28","v":0},{"$f":"'3.Zones_desservies'!JL28","v":0},{"$f":"'3.Zones_desservies'!JM28","v":0},{"$f":"'3.Zones_desservies'!JN28","v":0},{"$f":"'3.Zones_desservies'!JO28","v":0},{"$f":"'3.Zones_desservies'!JP28","v":0},{"$f":"'3.Zones_desservies'!JQ28","v":0},{"$f":"'3.Zones_desservies'!JR28","v":0},{"$f":"'3.Zones_desservies'!JS28","v":0},{"$f":"'3.Zones_desservies'!JT28","v":0},{"$f":"'3.Zones_desservies'!JU28","v":0},{"$f":"'3.Zones_desservies'!JV28","v":0},{"$f":"'3.Zones_desservies'!JW28","v":0},{"$f":"'3.Zones_desservies'!JX28","v":0},{"$f":"'3.Zones_desservies'!JY28","v":0},{"$f":"'3.Zones_desservies'!JZ28","v":0},{"$f":"'3.Zones_desservies'!KA28","v":0},{"$f":"'3.Zones_desservies'!KB28","v":0},{"$f":"'3.Zones_desservies'!KC28","v":0},{"$f":"'3.Zones_desservies'!KD28","v":0},{"$f":"'3.Zones_desservies'!KE28","v":0},{"$f":"'3.Zones_desservies'!KF28","v":0},{"$f":"'3.Zones_desservies'!KG28","v":0},{"$f":"'3.Zones_desservies'!KH28","v":0},{"$f":"'3.Zones_desservies'!KI28","v":0},{"$f":"'3.Zones_desservies'!KJ28","v":0},{"$f":"'3.Zones_desservies'!KK28","v":0},{"$f":"'3.Zones_desservies'!KL28","v":0},{"$f":"'3.Zones_desservies'!KM28","v":0},{"$f":"'3.Zones_desservies'!KN28","v":0},{"$f":"'3.Zones_desservies'!KO28","v":0},{"$f":"'3.Zones_desservies'!KP28","v":0},{"$f":"'3.Zones_desservies'!KQ28","v":0},{"$f":"'3.Zones_desservies'!KR28","v":0},{"$f":"'3.Zones_desservies'!KS28","v":0},{"$f":"'3.Zones_desservies'!KT28","v":0},{"$f":"'3.Zones_desservies'!KU28","v":0},{"$f":"'3.Zones_desservies'!KV28","v":0},{"$f":"'3.Zones_desservies'!KW28","v":0},{"$f":"'3.Zones_desservies'!KX28","v":0},{"$f":"'3.Zones_desservies'!KY28","v":0},{"$f":"'3.Zones_desservies'!KZ28","v":0},{"$f":"'3.Zones_desservies'!LA28","v":0},{"$f":"'3.Zones_desservies'!LB28","v":0},{"$f":"'3.Zones_desservies'!LC28","v":0},{"$f":"'3.Zones_desservies'!LD28","v":0},{"$f":"'3.Zones_desservies'!LE28","v":0},{"$f":"'3.Zones_desservies'!LF28","v":0},{"$f":"'3.Zones_desservies'!LG28","v":0},{"$f":"'3.Zones_desservies'!LH28","v":0},{"$f":"'3.Zones_desservies'!LI28","v":0},{"$f":"'3.Zones_desservies'!LJ28","v":0},{"$f":"'3.Zones_desservies'!LK28","v":0},{"$f":"'3.Zones_desservies'!LL28","v":0},{"$f":"'3.Zones_desservies'!LM28","v":0},{"$f":"'3.Zones_desservies'!LN28","v":0},{"$f":"'3.Zones_desservies'!LO28","v":0},{"$f":"'3.Zones_desservies'!LP28","v":0},{"$f":"'3.Zones_desservies'!LQ28","v":0},{"$f":"'3.Zones_desservies'!LR28","v":0},{"$f":"'3.Zones_desservies'!LS28","v":0},{"$f":"'3.Zones_desservies'!LT28","v":0},{"$f":"'3.Zones_desservies'!LU28","v":0},{"$f":"'3.Zones_desservies'!LV28","v":0},{"$f":"'3.Zones_desservies'!LW28","v":0},{"$f":"'3.Zones_desservies'!LX28","v":0},{"$f":"'3.Zones_desservies'!LY28","v":0},{"$f":"'3.Zones_desservies'!LZ28","v":0},{"$f":"'3.Zones_desservies'!MA28","v":0},{"$f":"'3.Zones_desservies'!MB28","v":0},{"$f":"'3.Zones_desservies'!MC28","v":0},{"$f":"'3.Zones_desservies'!MD28","v":0},{"$f":"'3.Zones_desservies'!ME28","v":0},{"$f":"'3.Zones_desservies'!MF28","v":0},{"$f":"'3.Zones_desservies'!MG28","v":0},{"$f":"'3.Zones_desservies'!MH28","v":0},{"$f":"'3.Zones_desservies'!MI28","v":0},{"$f":"'3.Zones_desservies'!MJ28","v":0},{"$f":"'3.Zones_desservies'!MK28","v":0},{"$f":"'3.Zones_desservies'!ML28","v":0},{"$f":"'3.Zones_desservies'!MM28","v":0},{"$f":"'3.Zones_desservies'!MN28","v":0},{"$f":"'3.Zones_desservies'!MO28","v":0},{"$f":"'3.Zones_desservies'!MP28","v":0},{"$f":"'3.Zones_desservies'!MQ28","v":0},{"$f":"'3.Zones_desservies'!MR28","v":0},{"$f":"'3.Zones_desservies'!MS28","v":0},{"$f":"'3.Zones_desservies'!MT28","v":0},{"$f":"'3.Zones_desservies'!MU28","v":0},{"$f":"'3.Zones_desservies'!MV28","v":0},{"$f":"'3.Zones_desservies'!MW28","v":0},{"$f":"'3.Zones_desservies'!MX28","v":0},{"$f":"'3.Zones_desservies'!MY28","v":0},{"$f":"'3.Zones_desservies'!MZ28","v":0},{"$f":"'3.Zones_desservies'!NA28","v":0},{"$f":"'3.Zones_desservies'!NB28","v":0},{"$f":"'3.Zones_desservies'!NC28","v":0},{"$f":"'3.Zones_desservies'!ND28","v":0},{"$f":"'3.Zones_desservies'!NE28","v":0},{"$f":"'3.Zones_desservies'!NF28","v":0},{"$f":"'3.Zones_desservies'!NG28","v":0},{"$f":"'3.Zones_desservies'!NH28","v":0},{"$f":"'3.Zones_desservies'!NI28","v":0},{"$f":"'3.Zones_desservies'!NJ28","v":0},{"$f":"'3.Zones_desservies'!NK28","v":0},{"$f":"'3.Zones_desservies'!NL28","v":0},{"$f":"'3.Zones_desservies'!NM28","v":0},{"$f":"'3.Zones_desservies'!NN28","v":0},{"$f":"'3.Zones_desservies'!NO28","v":0},{"$f":"'3.Zones_desservies'!NP28","v":0},{"$f":"'3.Zones_desservies'!NQ28","v":0},{"$f":"'3.Zones_desservies'!NR28","v":0},{"$f":"'3.Zones_desservies'!NS28","v":0},{"$f":"'3.Zones_desservies'!NT28","v":0},{"$f":"'3.Zones_desservies'!NU28","v":0},{"$f":"'3.Zones_desservies'!NV28","v":0},{"$f":"'3.Zones_desservies'!NW28","v":0},{"$f":"'3.Zones_desservies'!NX28","v":0},{"$f":"'3.Zones_desservies'!NY28","v":0},{"$f":"'3.Zones_desservies'!NZ28","v":0},{"$f":"'3.Zones_desservies'!OA28","v":0},{"$f":"'3.Zones_desservies'!OB28","v":0},{"$f":"'3.Zones_desservies'!OC28","v":0},{"$f":"'3.Zones_desservies'!OD28","v":0},{"$f":"'3.Zones_desservies'!OE28","v":0},{"$f":"'3.Zones_desservies'!OF28","v":0},{"$f":"'3.Zones_desservies'!OG28","v":0},{"$f":"'3.Zones_desservies'!OH28","v":0},{"$f":"'3.Zones_desservies'!OI28","v":0},{"$f":"'3.Zones_desservies'!OJ28","v":0},{"$f":"'3.Zones_desservies'!OK28","v":0},{"$f":"'3.Zones_desservies'!OL28","v":0},{"$f":"'3.Zones_desservies'!OM28","v":0},{"$f":"'3.Zones_desservies'!ON28","v":0},{"$f":"'3.Zones_desservies'!OO28","v":0},{"$f":"'3.Zones_desservies'!OP28","v":0},{"$f":"'3.Zones_desservies'!OQ28","v":0},{"$f":"'3.Zones_desservies'!OR28","v":0},{"$f":"'3.Zones_desservies'!OS28","v":0},{"$f":"'3.Zones_desservies'!OT28","v":0},{"$f":"'3.Zones_desservies'!OU28","v":0},{"$f":"'3.Zones_desservies'!OV28","v":0},{"$f":"'3.Zones_desservies'!OW28","v":0},{"$f":"'3.Zones_desservies'!OX28","v":0},{"$f":"'3.Zones_desservies'!OY28","v":0},{"$f":"'3.Zones_desservies'!OZ28","v":0},{"$f":"'3.Zones_desservies'!PA28","v":0},{"$f":"'3.Zones_desservies'!PB28","v":0},{"$f":"'3.Zones_desservies'!PC28","v":0},{"$f":"'3.Zones_desservies'!PD28","v":0},{"$f":"'3.Zones_desservies'!PE28","v":0},{"$f":"'3.Zones_desservies'!PF28","v":0},{"$f":"'3.Zones_desservies'!PG28","v":0},{"$f":"'3.Zones_desservies'!PH28","v":0},{"$f":"'3.Zones_desservies'!PI28","v":0},{"$f":"'3.Zones_desservies'!PJ28","v":0},{"$f":"'3.Zones_desservies'!PK28","v":0},{"$f":"'3.Zones_desservies'!PL28","v":0},{"$f":"'3.Zones_desservies'!PM28","v":0},{"$f":"'3.Zones_desservies'!PN28","v":0},{"$f":"'3.Zones_desservies'!PO28","v":0},{"$f":"'3.Zones_desservies'!PP28","v":0},{"$f":"'3.Zones_desservies'!PQ28","v":0},{"$f":"'3.Zones_desservies'!PR28","v":0},{"$f":"'3.Zones_desservies'!PS28","v":0},{"$f":"'3.Zones_desservies'!PT28","v":0},{"$f":"'3.Zones_desservies'!PU28","v":0},{"$f":"'3.Zones_desservies'!PV28","v":0},{"$f":"'3.Zones_desservies'!PW28","v":0},{"$f":"'3.Zones_desservies'!PX28","v":0},{"$f":"'3.Zones_desservies'!PY28","v":0},{"$f":"'3.Zones_desservies'!PZ28","v":0},{"$f":"'3.Zones_desservies'!QA28","v":0},{"$f":"'3.Zones_desservies'!QB28","v":0},{"$f":"'3.Zones_desservies'!QC28","v":0},{"$f":"'3.Zones_desservies'!QD28","v":0},{"$f":"'3.Zones_desservies'!QE28","v":0},{"$f":"'3.Zones_desservies'!QF28","v":0},{"$f":"'3.Zones_desservies'!QG28","v":0},{"$f":"'3.Zones_desservies'!QH28","v":0},{"$f":"'3.Zones_desservies'!QI28","v":0},{"$f":"'3.Zones_desservies'!QJ28","v":0},{"$f":"'3.Zones_desservies'!QK28","v":0},{"$f":"'3.Zones_desservies'!QL28","v":0},{"$f":"'3.Zones_desservies'!QM28","v":0},{"$f":"'3.Zones_desservies'!QN28","v":0},{"$f":"'3.Zones_desservies'!QO28","v":0},{"$f":"'3.Zones_desservies'!QP28","v":0},{"$f":"'3.Zones_desservies'!QQ28","v":0},{"$f":"'3.Zones_desservies'!QR28","v":0},{"$f":"'3.Zones_desservies'!QS28","v":0},{"$f":"'3.Zones_desservies'!QT28","v":0},{"$f":"'3.Zones_desservies'!QU28","v":0},{"$f":"'3.Zones_desservies'!QV28","v":0},{"$f":"'3.Zones_desservies'!QW28","v":0},{"$f":"'3.Zones_desservies'!QX28","v":0},{"$f":"'3.Zones_desservies'!QY28","v":0},{"$f":"'3.Zones_desservies'!QZ28","v":0},{"$f":"'3.Zones_desservies'!RA28","v":0},{"$f":"'3.Zones_desservies'!RB28","v":0},{"$f":"'3.Zones_desservies'!RC28","v":0},{"$f":"'3.Zones_desservies'!RD28","v":0},{"$f":"'3.Zones_desservies'!RE28","v":0},{"$f":"'3.Zones_desservies'!RF28","v":0},{"$f":"'3.Zones_desservies'!RG28","v":0},{"$f":"'3.Zones_desservies'!RH28","v":0},{"$f":"'3.Zones_desservies'!RI28","v":0},{"$f":"'3.Zones_desservies'!RJ28","v":0},{"$f":"'3.Zones_desservies'!RK28","v":0},{"$f":"'3.Zones_desservies'!RL28","v":0},{"$f":"'3.Zones_desservies'!RM28","v":0},{"$f":"'3.Zones_desservies'!RN28","v":0},{"$f":"'3.Zones_desservies'!RO28","v":0},{"$f":"'3.Zones_desservies'!RP28","v":0},{"$f":"'3.Zones_desservies'!RQ28","v":0},{"$f":"'3.Zones_desservies'!RR28","v":0},{"$f":"'3.Zones_desservies'!RS28","v":0},{"$f":"'3.Zones_desservies'!RT28","v":0},{"$f":"'3.Zones_desservies'!RU28","v":0},{"$f":"'3.Zones_desservies'!RV28","v":0},{"$f":"'3.Zones_desservies'!RW28","v":0},{"$f":"'3.Zones_desservies'!RX28","v":0},{"$f":"'3.Zones_desservies'!RY28","v":0},{"$f":"'3.Zones_desservies'!RZ28","v":0},{"$f":"'3.Zones_desservies'!SA28","v":0},{"$f":"'3.Zones_desservies'!SB28","v":0},{"$f":"'3.Zones_desservies'!SC28","v":0},{"$f":"'3.Zones_desservies'!SD28","v":0},{"$f":"'3.Zones_desservies'!SE28","v":0},{"$f":"'3.Zones_desservies'!SF28","v":0},{"$f":"'3.Zones_desservies'!SG28","v":0},{"$f":"'3.Zones_desservies'!SH28","v":0}]
[null,{"$f":"'3.Zones_desservies'!B29","v":15},{"$f":"'3.Zones_desservies'!C29","v":0},{"$f":"'3.Zones_desservies'!D29","v":0},{"$f":"'3.Zones_desservies'!E29","v":0},{"$f":"'3.Zones_desservies'!F29","v":0},{"$f":"'3.Zones_desservies'!G29","v":0},{"$f":"'3.Zones_desservies'!H29","v":0},{"$f":"'3.Zones_desservies'!I29","v":0},{"$f":"'3.Zones_desservies'!J29","v":0},{"$f":"'3.Zones_desservies'!K29","v":0},{"$f":"'3.Zones_desservies'!L29","v":0},{"$f":"'3.Zones_desservies'!M29","v":0},{"$f":"'3.Zones_desservies'!N29","v":0},{"$f":"'3.Zones_desservies'!O29","v":0},{"$f":"'3.Zones_desservies'!P29","v":0},{"$f":"'3.Zones_desservies'!Q29","v":0},{"$f":"'3.Zones_desservies'!R29","v":0},{"$f":"'3.Zones_desservies'!S29","v":0},{"$f":"'3.Zones_desservies'!T29","v":0},{"$f":"'3.Zones_desservies'!U29","v":0},{"$f":"'3.Zones_desservies'!V29","v":0},{"$f":"'3.Zones_desservies'!W29","v":0},{"$f":"'3.Zones_desservies'!X29","v":0},{"$f":"'3.Zones_desservies'!Y29","v":0},{"$f":"'3.Zones_desservies'!Z29","v":0},{"$f":"'3.Zones_desservies'!AA29","v":0},{"$f":"'3.Zones_desservies'!AB29","v":0},{"$f":"'3.Zones_desservies'!AC29","v":0},{"$f":"'3.Zones_desservies'!AD29","v":0},{"$f":"'3.Zones_desservies'!AE29","v":0},{"$f":"'3.Zones_desservies'!AF29","v":0},{"$f":"'3.Zones_desservies'!AG29","v":0},{"$f":"'3.Zones_desservies'!AH29","v":0},{"$f":"'3.Zones_desservies'!AI29","v":0},{"$f":"'3.Zones_desservies'!AJ29","v":0},{"$f":"'3.Zones_desservies'!AK29","v":0},{"$f":"'3.Zones_desservies'!AL29","v":0},{"$f":"'3.Zones_desservies'!AM29","v":0},{"$f":"'3.Zones_desservies'!AN29","v":0},{"$f":"'3.Zones_desservies'!AO29","v":0},{"$f":"'3.Zones_desservies'!AP29","v":0},{"$f":"'3.Zones_desservies'!AQ29","v":0},{"$f":"'3.Zones_desservies'!AR29","v":0},{"$f":"'3.Zones_desservies'!AS29","v":0},{"$f":"'3.Zones_desservies'!AT29","v":0},{"$f":"'3.Zones_desservies'!AU29","v":0},{"$f":"'3.Zones_desservies'!AV29","v":0},{"$f":"'3.Zones_desservies'!AW29","v":0},{"$f":"'3.Zones_desservies'!AX29","v":0},{"$f":"'3.Zones_desservies'!AY29","v":0},{"$f":"'3.Zones_desservies'!AZ29","v":0},{"$f":"'3.Zones_desservies'!BA29","v":0},{"$f":"'3.Zones_desservies'!BB29","v":0},{"$f":"'3.Zones_desservies'!BC29","v":0},{"$f":"'3.Zones_desservies'!BD29","v":0},{"$f":"'3.Zones_desservies'!BE29","v":0},{"$f":"'3.Zones_desservies'!BF29","v":0},{"$f":"'3.Zones_desservies'!BG29","v":0},{"$f":"'3.Zones_desservies'!BH29","v":0},{"$f":"'3.Zones_desservies'!BI29","v":0},{"$f":"'3.Zones_desservies'!BJ29","v":0},{"$f":"'3.Zones_desservies'!BK29","v":0},{"$f":"'3.Zones_desservies'!BL29","v":0},{"$f":"'3.Zones_desservies'!BM29","v":0},{"$f":"'3.Zones_desservies'!BN29","v":0},{"$f":"'3.Zones_desservies'!BO29","v":0},{"$f":"'3.Zones_desservies'!BP29","v":0},{"$f":"'3.Zones_desservies'!BQ29","v":0},{"$f":"'3.Zones_desservies'!BR29","v":0},{"$f":"'3.Zones_desservies'!BS29","v":0},{"$f":"'3.Zones_desservies'!BT29","v":0},{"$f":"'3.Zones_desservies'!BU29","v":0},{"$f":"'3.Zones_desservies'!BV29","v":0},{"$f":"'3.Zones_desservies'!BW29","v":0},{"$f":"'3.Zones_desservies'!BX29","v":0},{"$f":"'3.Zones_desservies'!BY29","v":0},{"$f":"'3.Zones_desservies'!BZ29","v":0},{"$f":"'3.Zones_desservies'!CA29","v":0},{"$f":"'3.Zones_desservies'!CB29","v":0},{"$f":"'3.Zones_desservies'!CC29","v":0},{"$f":"'3.Zones_desservies'!CD29","v":0},{"$f":"'3.Zones_desservies'!CE29","v":0},{"$f":"'3.Zones_desservies'!CF29","v":0},{"$f":"'3.Zones_desservies'!CG29","v":0},{"$f":"'3.Zones_desservies'!CH29","v":0},{"$f":"'3.Zones_desservies'!CI29","v":0},{"$f":"'3.Zones_desservies'!CJ29","v":0},{"$f":"'3.Zones_desservies'!CK29","v":0},{"$f":"'3.Zones_desservies'!CL29","v":0},{"$f":"'3.Zones_desservies'!CM29","v":0},{"$f":"'3.Zones_desservies'!CN29","v":0},{"$f":"'3.Zones_desservies'!CO29","v":0},{"$f":"'3.Zones_desservies'!CP29","v":0},{"$f":"'3.Zones_desservies'!CQ29","v":0},{"$f":"'3.Zones_desservies'!CR29","v":0},{"$f":"'3.Zones_desservies'!CS29","v":0},{"$f":"'3.Zones_desservies'!CT29","v":0},{"$f":"'3.Zones_desservies'!CU29","v":0},{"$f":"'3.Zones_desservies'!CV29","v":0},{"$f":"'3.Zones_desservies'!CW29","v":0},{"$f":"'3.Zones_desservies'!CX29","v":0},{"$f":"'3.Zones_desservies'!CY29","v":"_"},{"$f":"'3.Zones_desservies'!CZ29","v":0},{"$f":"'3.Zones_desservies'!DA29","v":0},{"$f":"'3.Zones_desservies'!DB29","v":0},{"$f":"'3.Zones_desservies'!DC29","v":0},{"$f":"'3.Zones_desservies'!DD29","v":0},{"$f":"'3.Zones_desservies'!DE29","v":0},{"$f":"'3.Zones_desservies'!DF29","v":0},{"$f":"'3.Zones_desservies'!DG29","v":0},{"$f":"'3.Zones_desservies'!DH29","v":0},{"$f":"'3.Zones_desservies'!DI29","v":0},{"$f":"'3.Zones_desservies'!DJ29","v":0},{"$f":"'3.Zones_desservies'!DK29","v":0},{"$f":"'3.Zones_desservies'!DL29","v":0},{"$f":"'3.Zones_desservies'!DM29","v":0},{"$f":"'3.Zones_desservies'!DN29","v":0},{"$f":"'3.Zones_desservies'!DO29","v":0},{"$f":"'3.Zones_desservies'!DP29","v":0},{"$f":"'3.Zones_desservies'!DQ29","v":0},{"$f":"'3.Zones_desservies'!DR29","v":0},{"$f":"'3.Zones_desservies'!DS29","v":0},{"$f":"'3.Zones_desservies'!DT29","v":0},{"$f":"'3.Zones_desservies'!DU29","v":0},{"$f":"'3.Zones_desservies'!DV29","v":0},{"$f":"'3.Zones_desservies'!DW29","v":0},{"$f":"'3.Zones_desservies'!DX29","v":0},{"$f":"'3.Zones_desservies'!DY29","v":0},{"$f":"'3.Zones_desservies'!DZ29","v":0},{"$f":"'3.Zones_desservies'!EA29","v":0},{"$f":"'3.Zones_desservies'!EB29","v":0},{"$f":"'3.Zones_desservies'!EC29","v":0},{"$f":"'3.Zones_desservies'!ED29","v":0},{"$f":"'3.Zones_desservies'!EE29","v":0},{"$f":"'3.Zones_desservies'!EF29","v":0},{"$f":"'3.Zones_desservies'!EG29","v":0},{"$f":"'3.Zones_desservies'!EH29","v":0},{"$f":"'3.Zones_desservies'!EI29","v":0},{"$f":"'3.Zones_desservies'!EJ29","v":0},{"$f":"'3.Zones_desservies'!EK29","v":0},{"$f":"'3.Zones_desservies'!EL29","v":0},{"$f":"'3.Zones_desservies'!EM29","v":0},{"$f":"'3.Zones_desservies'!EN29","v":0},{"$f":"'3.Zones_desservies'!EO29","v":0},{"$f":"'3.Zones_desservies'!EP29","v":0},{"$f":"'3.Zones_desservies'!EQ29","v":0},{"$f":"'3.Zones_desservies'!ER29","v":0},{"$f":"'3.Zones_desservies'!ES29","v":0},{"$f":"'3.Zones_desservies'!ET29","v":0},{"$f":"'3.Zones_desservies'!EU29","v":0},{"$f":"'3.Zones_desservies'!EV29","v":0},{"$f":"'3.Zones_desservies'!EW29","v":0},{"$f":"'3.Zones_desservies'!EX29","v":0},{"$f":"'3.Zones_desservies'!EY29","v":0},{"$f":"'3.Zones_desservies'!EZ29","v":0},{"$f":"'3.Zones_desservies'!FA29","v":0},{"$f":"'3.Zones_desservies'!FB29","v":0},{"$f":"'3.Zones_desservies'!FC29","v":0},{"$f":"'3.Zones_desservies'!FD29","v":0},{"$f":"'3.Zones_desservies'!FE29","v":0},{"$f":"'3.Zones_desservies'!FF29","v":0},{"$f":"'3.Zones_desservies'!FG29","v":0},{"$f":"'3.Zones_desservies'!FH29","v":0},{"$f":"'3.Zones_desservies'!FI29","v":0},{"$f":"'3.Zones_desservies'!FJ29","v":0},{"$f":"'3.Zones_desservies'!FK29","v":0},{"$f":"'3.Zones_desservies'!FL29","v":0},{"$f":"'3.Zones_desservies'!FM29","v":0},{"$f":"'3.Zones_desservies'!FN29","v":0},{"$f":"'3.Zones_desservies'!FO29","v":0},{"$f":"'3.Zones_desservies'!FP29","v":0},{"$f":"'3.Zones_desservies'!FQ29","v":0},{"$f":"'3.Zones_desservies'!FR29","v":0},{"$f":"'3.Zones_desservies'!FS29","v":0},{"$f":"'3.Zones_desservies'!FT29","v":0},{"$f":"'3.Zones_desservies'!FU29","v":0},{"$f":"'3.Zones_desservies'!FV29","v":0},{"$f":"'3.Zones_desservies'!FW29","v":0},{"$f":"'3.Zones_desservies'!FX29","v":0},{"$f":"'3.Zones_desservies'!FY29","v":0},{"$f":"'3.Zones_desservies'!FZ29","v":0},{"$f":"'3.Zones_desservies'!GA29","v":0},{"$f":"'3.Zones_desservies'!GB29","v":0},{"$f":"'3.Zones_desservies'!GC29","v":0},{"$f":"'3.Zones_desservies'!GD29","v":0},{"$f":"'3.Zones_desservies'!GE29","v":0},{"$f":"'3.Zones_desservies'!GF29","v":0},{"$f":"'3.Zones_desservies'!GG29","v":0},{"$f":"'3.Zones_desservies'!GH29","v":0},{"$f":"'3.Zones_desservies'!GI29","v":0},{"$f":"'3.Zones_desservies'!GJ29","v":0},{"$f":"'3.Zones_desservies'!GK29","v":0},{"$f":"'3.Zones_desservies'!GL29","v":0},{"$f":"'3.Zones_desservies'!GM29","v":0},{"$f":"'3.Zones_desservies'!GN29","v":0},{"$f":"'3.Zones_desservies'!GO29","v":0},{"$f":"'3.Zones_desservies'!GP29","v":0},{"$f":"'3.Zones_desservies'!GQ29","v":0},{"$f":"'3.Zones_desservies'!GR29","v":0},{"$f":"'3.Zones_desservies'!GS29","v":0},{"$f":"'3.Zones_desservies'!GT29","v":0},{"$f":"'3.Zones_desservies'!GU29","v":0},{"$f":"'3.Zones_desservies'!GV29","v":0},{"$f":"'3.Zones_desservies'!GW29","v":0},{"$f":"'3.Zones_desservies'!GX29","v":0},{"$f":"'3.Zones_desservies'!GY29","v":0},{"$f":"'3.Zones_desservies'!GZ29","v":0},{"$f":"'3.Zones_desservies'!HA29","v":0},{"$f":"'3.Zones_desservies'!HB29","v":0},{"$f":"'3.Zones_desservies'!HC29","v":0},{"$f":"'3.Zones_desservies'!HD29","v":0},{"$f":"'3.Zones_desservies'!HE29","v":0},{"$f":"'3.Zones_desservies'!HF29","v":0},{"$f":"'3.Zones_desservies'!HG29","v":0},{"$f":"'3.Zones_desservies'!HH29","v":0},{"$f":"'3.Zones_desservies'!HI29","v":0},{"$f":"'3.Zones_desservies'!HJ29","v":0},{"$f":"'3.Zones_desservies'!HK29","v":0},{"$f":"'3.Zones_desservies'!HL29","v":0},{"$f":"'3.Zones_desservies'!HM29","v":0},{"$f":"'3.Zones_desservies'!HN29","v":0},{"$f":"'3.Zones_desservies'!HO29","v":0},{"$f":"'3.Zones_desservies'!HP29","v":0},{"$f":"'3.Zones_desservies'!HQ29","v":0},{"$f":"'3.Zones_desservies'!HR29","v":0},{"$f":"'3.Zones_desservies'!HS29","v":0},{"$f":"'3.Zones_desservies'!HT29","v":0},{"$f":"'3.Zones_desservies'!HU29","v":0},{"$f":"'3.Zones_desservies'!HV29","v":0},{"$f":"'3.Zones_desservies'!HW29","v":0},{"$f":"'3.Zones_desservies'!HX29","v":0},{"$f":"'3.Zones_desservies'!HY29","v":0},{"$f":"'3.Zones_desservies'!HZ29","v":0},{"$f":"'3.Zones_desservies'!IA29","v":0},{"$f":"'3.Zones_desservies'!IB29","v":0},{"$f":"'3.Zones_desservies'!IC29","v":0},{"$f":"'3.Zones_desservies'!ID29","v":0},{"$f":"'3.Zones_desservies'!IE29","v":0},{"$f":"'3.Zones_desservies'!IF29","v":0},{"$f":"'3.Zones_desservies'!IG29","v":0},{"$f":"'3.Zones_desservies'!IH29","v":0},{"$f":"'3.Zones_desservies'!II29","v":0},{"$f":"'3.Zones_desservies'!IJ29","v":0},{"$f":"'3.Zones_desservies'!IK29","v":0},{"$f":"'3.Zones_desservies'!IL29","v":0},{"$f":"'3.Zones_desservies'!IM29","v":0},{"$f":"'3.Zones_desservies'!IN29","v":0},{"$f":"'3.Zones_desservies'!IO29","v":0},{"$f":"'3.Zones_desservies'!IP29","v":0},{"$f":"'3.Zones_desservies'!IQ29","v":0},{"$f":"'3.Zones_desservies'!IR29","v":0},{"$f":"'3.Zones_desservies'!IS29","v":0},{"$f":"'3.Zones_desservies'!IT29","v":0},{"$f":"'3.Zones_desservies'!IU29","v":0},{"$f":"'3.Zones_desservies'!IV29","v":0},{"$f":"'3.Zones_desservies'!IW29","v":0},{"$f":"'3.Zones_desservies'!IX29","v":0},{"$f":"'3.Zones_desservies'!IY29","v":0},{"$f":"'3.Zones_desservies'!IZ29","v":0},{"$f":"'3.Zones_desservies'!JA29","v":0},{"$f":"'3.Zones_desservies'!JB29","v":0},{"$f":"'3.Zones_desservies'!JC29","v":0},{"$f":"'3.Zones_desservies'!JD29","v":0},{"$f":"'3.Zones_desservies'!JE29","v":0},{"$f":"'3.Zones_desservies'!JF29","v":0},{"$f":"'3.Zones_desservies'!JG29","v":0},{"$f":"'3.Zones_desservies'!JH29","v":0},{"$f":"'3.Zones_desservies'!JI29","v":0},{"$f":"'3.Zones_desservies'!JJ29","v":0},{"$f":"'3.Zones_desservies'!JK29","v":0},{"$f":"'3.Zones_desservies'!JL29","v":0},{"$f":"'3.Zones_desservies'!JM29","v":0},{"$f":"'3.Zones_desservies'!JN29","v":0},{"$f":"'3.Zones_desservies'!JO29","v":0},{"$f":"'3.Zones_desservies'!JP29","v":0},{"$f":"'3.Zones_desservies'!JQ29","v":0},{"$f":"'3.Zones_desservies'!JR29","v":0},{"$f":"'3.Zones_desservies'!JS29","v":0},{"$f":"'3.Zones_desservies'!JT29","v":0},{"$f":"'3.Zones_desservies'!JU29","v":0},{"$f":"'3.Zones_desservies'!JV29","v":0},{"$f":"'3.Zones_desservies'!JW29","v":0},{"$f":"'3.Zones_desservies'!JX29","v":0},{"$f":"'3.Zones_desservies'!JY29","v":0},{"$f":"'3.Zones_desservies'!JZ29","v":0},{"$f":"'3.Zones_desservies'!KA29","v":0},{"$f":"'3.Zones_desservies'!KB29","v":0},{"$f":"'3.Zones_desservies'!KC29","v":0},{"$f":"'3.Zones_desservies'!KD29","v":0},{"$f":"'3.Zones_desservies'!KE29","v":0},{"$f":"'3.Zones_desservies'!KF29","v":0},{"$f":"'3.Zones_desservies'!KG29","v":0},{"$f":"'3.Zones_desservies'!KH29","v":0},{"$f":"'3.Zones_desservies'!KI29","v":0},{"$f":"'3.Zones_desservies'!KJ29","v":0},{"$f":"'3.Zones_desservies'!KK29","v":0},{"$f":"'3.Zones_desservies'!KL29","v":0},{"$f":"'3.Zones_desservies'!KM29","v":0},{"$f":"'3.Zones_desservies'!KN29","v":0},{"$f":"'3.Zones_desservies'!KO29","v":0},{"$f":"'3.Zones_desservies'!KP29","v":0},{"$f":"'3.Zones_desservies'!KQ29","v":0},{"$f":"'3.Zones_desservies'!KR29","v":0},{"$f":"'3.Zones_desservies'!KS29","v":0},{"$f":"'3.Zones_desservies'!KT29","v":0},{"$f":"'3.Zones_desservies'!KU29","v":0},{"$f":"'3.Zones_desservies'!KV29","v":0},{"$f":"'3.Zones_desservies'!KW29","v":0},{"$f":"'3.Zones_desservies'!KX29","v":0},{"$f":"'3.Zones_desservies'!KY29","v":0},{"$f":"'3.Zones_desservies'!KZ29","v":0},{"$f":"'3.Zones_desservies'!LA29","v":0},{"$f":"'3.Zones_desservies'!LB29","v":0},{"$f":"'3.Zones_desservies'!LC29","v":0},{"$f":"'3.Zones_desservies'!LD29","v":0},{"$f":"'3.Zones_desservies'!LE29","v":0},{"$f":"'3.Zones_desservies'!LF29","v":0},{"$f":"'3.Zones_desservies'!LG29","v":0},{"$f":"'3.Zones_desservies'!LH29","v":0},{"$f":"'3.Zones_desservies'!LI29","v":0},{"$f":"'3.Zones_desservies'!LJ29","v":0},{"$f":"'3.Zones_desservies'!LK29","v":0},{"$f":"'3.Zones_desservies'!LL29","v":0},{"$f":"'3.Zones_desservies'!LM29","v":0},{"$f":"'3.Zones_desservies'!LN29","v":0},{"$f":"'3.Zones_desservies'!LO29","v":0},{"$f":"'3.Zones_desservies'!LP29","v":0},{"$f":"'3.Zones_desservies'!LQ29","v":0},{"$f":"'3.Zones_desservies'!LR29","v":0},{"$f":"'3.Zones_desservies'!LS29","v":0},{"$f":"'3.Zones_desservies'!LT29","v":0},{"$f":"'3.Zones_desservies'!LU29","v":0},{"$f":"'3.Zones_desservies'!LV29","v":0},{"$f":"'3.Zones_desservies'!LW29","v":0},{"$f":"'3.Zones_desservies'!LX29","v":0},{"$f":"'3.Zones_desservies'!LY29","v":0},{"$f":"'3.Zones_desservies'!LZ29","v":0},{"$f":"'3.Zones_desservies'!MA29","v":0},{"$f":"'3.Zones_desservies'!MB29","v":0},{"$f":"'3.Zones_desservies'!MC29","v":0},{"$f":"'3.Zones_desservies'!MD29","v":0},{"$f":"'3.Zones_desservies'!ME29","v":0},{"$f":"'3.Zones_desservies'!MF29","v":0},{"$f":"'3.Zones_desservies'!MG29","v":0},{"$f":"'3.Zones_desservies'!MH29","v":0},{"$f":"'3.Zones_desservies'!MI29","v":0},{"$f":"'3.Zones_desservies'!MJ29","v":0},{"$f":"'3.Zones_desservies'!MK29","v":0},{"$f":"'3.Zones_desservies'!ML29","v":0},{"$f":"'3.Zones_desservies'!MM29","v":0},{"$f":"'3.Zones_desservies'!MN29","v":0},{"$f":"'3.Zones_desservies'!MO29","v":0},{"$f":"'3.Zones_desservies'!MP29","v":0},{"$f":"'3.Zones_desservies'!MQ29","v":0},{"$f":"'3.Zones_desservies'!MR29","v":0},{"$f":"'3.Zones_desservies'!MS29","v":0},{"$f":"'3.Zones_desservies'!MT29","v":0},{"$f":"'3.Zones_desservies'!MU29","v":0},{"$f":"'3.Zones_desservies'!MV29","v":0},{"$f":"'3.Zones_desservies'!MW29","v":0},{"$f":"'3.Zones_desservies'!MX29","v":0},{"$f":"'3.Zones_desservies'!MY29","v":0},{"$f":"'3.Zones_desservies'!MZ29","v":0},{"$f":"'3.Zones_desservies'!NA29","v":0},{"$f":"'3.Zones_desservies'!NB29","v":0},{"$f":"'3.Zones_desservies'!NC29","v":0},{"$f":"'3.Zones_desservies'!ND29","v":0},{"$f":"'3.Zones_desservies'!NE29","v":0},{"$f":"'3.Zones_desservies'!NF29","v":0},{"$f":"'3.Zones_desservies'!NG29","v":0},{"$f":"'3.Zones_desservies'!NH29","v":0},{"$f":"'3.Zones_desservies'!NI29","v":0},{"$f":"'3.Zones_desservies'!NJ29","v":0},{"$f":"'3.Zones_desservies'!NK29","v":0},{"$f":"'3.Zones_desservies'!NL29","v":0},{"$f":"'3.Zones_desservies'!NM29","v":0},{"$f":"'3.Zones_desservies'!NN29","v":0},{"$f":"'3.Zones_desservies'!NO29","v":0},{"$f":"'3.Zones_desservies'!NP29","v":0},{"$f":"'3.Zones_desservies'!NQ29","v":0},{"$f":"'3.Zones_desservies'!NR29","v":0},{"$f":"'3.Zones_desservies'!NS29","v":0},{"$f":"'3.Zones_desservies'!NT29","v":0},{"$f":"'3.Zones_desservies'!NU29","v":0},{"$f":"'3.Zones_desservies'!NV29","v":0},{"$f":"'3.Zones_desservies'!NW29","v":0},{"$f":"'3.Zones_desservies'!NX29","v":0},{"$f":"'3.Zones_desservies'!NY29","v":0},{"$f":"'3.Zones_desservies'!NZ29","v":0},{"$f":"'3.Zones_desservies'!OA29","v":0},{"$f":"'3.Zones_desservies'!OB29","v":0},{"$f":"'3.Zones_desservies'!OC29","v":0},{"$f":"'3.Zones_desservies'!OD29","v":0},{"$f":"'3.Zones_desservies'!OE29","v":0},{"$f":"'3.Zones_desservies'!OF29","v":0},{"$f":"'3.Zones_desservies'!OG29","v":0},{"$f":"'3.Zones_desservies'!OH29","v":0},{"$f":"'3.Zones_desservies'!OI29","v":0},{"$f":"'3.Zones_desservies'!OJ29","v":0},{"$f":"'3.Zones_desservies'!OK29","v":0},{"$f":"'3.Zones_desservies'!OL29","v":0},{"$f":"'3.Zones_desservies'!OM29","v":0},{"$f":"'3.Zones_desservies'!ON29","v":0},{"$f":"'3.Zones_desservies'!OO29","v":0},{"$f":"'3.Zones_desservies'!OP29","v":0},{"$f":"'3.Zones_desservies'!OQ29","v":0},{"$f":"'3.Zones_desservies'!OR29","v":0},{"$f":"'3.Zones_desservies'!OS29","v":0},{"$f":"'3.Zones_desservies'!OT29","v":0},{"$f":"'3.Zones_desservies'!OU29","v":0},{"$f":"'3.Zones_desservies'!OV29","v":0},{"$f":"'3.Zones_desservies'!OW29","v":0},{"$f":"'3.Zones_desservies'!OX29","v":0},{"$f":"'3.Zones_desservies'!OY29","v":0},{"$f":"'3.Zones_desservies'!OZ29","v":0},{"$f":"'3.Zones_desservies'!PA29","v":0},{"$f":"'3.Zones_desservies'!PB29","v":0},{"$f":"'3.Zones_desservies'!PC29","v":0},{"$f":"'3.Zones_desservies'!PD29","v":0},{"$f":"'3.Zones_desservies'!PE29","v":0},{"$f":"'3.Zones_desservies'!PF29","v":0},{"$f":"'3.Zones_desservies'!PG29","v":0},{"$f":"'3.Zones_desservies'!PH29","v":0},{"$f":"'3.Zones_desservies'!PI29","v":0},{"$f":"'3.Zones_desservies'!PJ29","v":0},{"$f":"'3.Zones_desservies'!PK29","v":0},{"$f":"'3.Zones_desservies'!PL29","v":0},{"$f":"'3.Zones_desservies'!PM29","v":0},{"$f":"'3.Zones_desservies'!PN29","v":0},{"$f":"'3.Zones_desservies'!PO29","v":0},{"$f":"'3.Zones_desservies'!PP29","v":0},{"$f":"'3.Zones_desservies'!PQ29","v":0},{"$f":"'3.Zones_desservies'!PR29","v":0},{"$f":"'3.Zones_desservies'!PS29","v":0},{"$f":"'3.Zones_desservies'!PT29","v":0},{"$f":"'3.Zones_desservies'!PU29","v":0},{"$f":"'3.Zones_desservies'!PV29","v":0},{"$f":"'3.Zones_desservies'!PW29","v":0},{"$f":"'3.Zones_desservies'!PX29","v":0},{"$f":"'3.Zones_desservies'!PY29","v":0},{"$f":"'3.Zones_desservies'!PZ29","v":0},{"$f":"'3.Zones_desservies'!QA29","v":0},{"$f":"'3.Zones_desservies'!QB29","v":0},{"$f":"'3.Zones_desservies'!QC29","v":0},{"$f":"'3.Zones_desservies'!QD29","v":0},{"$f":"'3.Zones_desservies'!QE29","v":0},{"$f":"'3.Zones_desservies'!QF29","v":0},{"$f":"'3.Zones_desservies'!QG29","v":0},{"$f":"'3.Zones_desservies'!QH29","v":0},{"$f":"'3.Zones_desservies'!QI29","v":0},{"$f":"'3.Zones_desservies'!QJ29","v":0},{"$f":"'3.Zones_desservies'!QK29","v":0},{"$f":"'3.Zones_desservies'!QL29","v":0},{"$f":"'3.Zones_desservies'!QM29","v":0},{"$f":"'3.Zones_desservies'!QN29","v":0},{"$f":"'3.Zones_desservies'!QO29","v":0},{"$f":"'3.Zones_desservies'!QP29","v":0},{"$f":"'3.Zones_desservies'!QQ29","v":0},{"$f":"'3.Zones_desservies'!QR29","v":0},{"$f":"'3.Zones_desservies'!QS29","v":0},{"$f":"'3.Zones_desservies'!QT29","v":0},{"$f":"'3.Zones_desservies'!QU29","v":0},{"$f":"'3.Zones_desservies'!QV29","v":0},{"$f":"'3.Zones_desservies'!QW29","v":0},{"$f":"'3.Zones_desservies'!QX29","v":0},{"$f":"'3.Zones_desservies'!QY29","v":0},{"$f":"'3.Zones_desservies'!QZ29","v":0},{"$f":"'3.Zones_desservies'!RA29","v":0},{"$f":"'3.Zones_desservies'!RB29","v":0},{"$f":"'3.Zones_desservies'!RC29","v":0},{"$f":"'3.Zones_desservies'!RD29","v":0},{"$f":"'3.Zones_desservies'!RE29","v":0},{"$f":"'3.Zones_desservies'!RF29","v":0},{"$f":"'3.Zones_desservies'!RG29","v":0},{"$f":"'3.Zones_desservies'!RH29","v":0},{"$f":"'3.Zones_desservies'!RI29","v":0},{"$f":"'3.Zones_desservies'!RJ29","v":0},{"$f":"'3.Zones_desservies'!RK29","v":0},{"$f":"'3.Zones_desservies'!RL29","v":0},{"$f":"'3.Zones_desservies'!RM29","v":0},{"$f":"'3.Zones_desservies'!RN29","v":0},{"$f":"'3.Zones_desservies'!RO29","v":0},{"$f":"'3.Zones_desservies'!RP29","v":0},{"$f":"'3.Zones_desservies'!RQ29","v":0},{"$f":"'3.Zones_desservies'!RR29","v":0},{"$f":"'3.Zones_desservies'!RS29","v":0},{"$f":"'3.Zones_desservies'!RT29","v":0},{"$f":"'3.Zones_desservies'!RU29","v":0},{"$f":"'3.Zones_desservies'!RV29","v":0},{"$f":"'3.Zones_desservies'!RW29","v":0},{"$f":"'3.Zones_desservies'!RX29","v":0},{"$f":"'3.Zones_desservies'!RY29","v":0},{"$f":"'3.Zones_desservies'!RZ29","v":0},{"$f":"'3.Zones_desservies'!SA29","v":0},{"$f":"'3.Zones_desservies'!SB29","v":0},{"$f":"'3.Zones_desservies'!SC29","v":0},{"$f":"'3.Zones_desservies'!SD29","v":0},{"$f":"'3.Zones_desservies'!SE29","v":0},{"$f":"'3.Zones_desservies'!SF29","v":0},{"$f":"'3.Zones_desservies'!SG29","v":0},{"$f":"'3.Zones_desservies'!SH29","v":0}]
[null,{"$f":"'3.Zones_desservies'!B30","v":16},{"$f":"'3.Zones_desservies'!C30","v":0},{"$f":"'3.Zones_desservies'!D30","v":0},{"$f":"'3.Zones_desservies'!E30","v":0},{"$f":"'3.Zones_desservies'!F30","v":0},{"$f":"'3.Zones_desservies'!G30","v":0},{"$f":"'3.Zones_desservies'!H30","v":0},{"$f":"'3.Zones_desservies'!I30","v":0},{"$f":"'3.Zones_desservies'!J30","v":0},{"$f":"'3.Zones_desservies'!K30","v":0},{"$f":"'3.Zones_desservies'!L30","v":0},{"$f":"'3.Zones_desservies'!M30","v":0},{"$f":"'3.Zones_desservies'!N30","v":0},{"$f":"'3.Zones_desservies'!O30","v":0},{"$f":"'3.Zones_desservies'!P30","v":0},{"$f":"'3.Zones_desservies'!Q30","v":0},{"$f":"'3.Zones_desservies'!R30","v":0},{"$f":"'3.Zones_desservies'!S30","v":0},{"$f":"'3.Zones_desservies'!T30","v":0},{"$f":"'3.Zones_desservies'!U30","v":0},{"$f":"'3.Zones_desservies'!V30","v":0},{"$f":"'3.Zones_desservies'!W30","v":0},{"$f":"'3.Zones_desservies'!X30","v":0},{"$f":"'3.Zones_desservies'!Y30","v":0},{"$f":"'3.Zones_desservies'!Z30","v":0},{"$f":"'3.Zones_desservies'!AA30","v":0},{"$f":"'3.Zones_desservies'!AB30","v":0},{"$f":"'3.Zones_desservies'!AC30","v":0},{"$f":"'3.Zones_desservies'!AD30","v":0},{"$f":"'3.Zones_desservies'!AE30","v":0},{"$f":"'3.Zones_desservies'!AF30","v":0},{"$f":"'3.Zones_desservies'!AG30","v":0},{"$f":"'3.Zones_desservies'!AH30","v":0},{"$f":"'3.Zones_desservies'!AI30","v":0},{"$f":"'3.Zones_desservies'!AJ30","v":0},{"$f":"'3.Zones_desservies'!AK30","v":0},{"$f":"'3.Zones_desservies'!AL30","v":0},{"$f":"'3.Zones_desservies'!AM30","v":0},{"$f":"'3.Zones_desservies'!AN30","v":0},{"$f":"'3.Zones_desservies'!AO30","v":0},{"$f":"'3.Zones_desservies'!AP30","v":0},{"$f":"'3.Zones_desservies'!AQ30","v":0},{"$f":"'3.Zones_desservies'!AR30","v":0},{"$f":"'3.Zones_desservies'!AS30","v":0},{"$f":"'3.Zones_desservies'!AT30","v":0},{"$f":"'3.Zones_desservies'!AU30","v":0},{"$f":"'3.Zones_desservies'!AV30","v":0},{"$f":"'3.Zones_desservies'!AW30","v":0},{"$f":"'3.Zones_desservies'!AX30","v":0},{"$f":"'3.Zones_desservies'!AY30","v":0},{"$f":"'3.Zones_desservies'!AZ30","v":0},{"$f":"'3.Zones_desservies'!BA30","v":0},{"$f":"'3.Zones_desservies'!BB30","v":0},{"$f":"'3.Zones_desservies'!BC30","v":0},{"$f":"'3.Zones_desservies'!BD30","v":0},{"$f":"'3.Zones_desservies'!BE30","v":0},{"$f":"'3.Zones_desservies'!BF30","v":0},{"$f":"'3.Zones_desservies'!BG30","v":0},{"$f":"'3.Zones_desservies'!BH30","v":0},{"$f":"'3.Zones_desservies'!BI30","v":0},{"$f":"'3.Zones_desservies'!BJ30","v":0},{"$f":"'3.Zones_desservies'!BK30","v":0},{"$f":"'3.Zones_desservies'!BL30","v":0},{"$f":"'3.Zones_desservies'!BM30","v":0},{"$f":"'3.Zones_desservies'!BN30","v":0},{"$f":"'3.Zones_desservies'!BO30","v":0},{"$f":"'3.Zones_desservies'!BP30","v":0},{"$f":"'3.Zones_desservies'!BQ30","v":0},{"$f":"'3.Zones_desservies'!BR30","v":0},{"$f":"'3.Zones_desservies'!BS30","v":0},{"$f":"'3.Zones_desservies'!BT30","v":0},{"$f":"'3.Zones_desservies'!BU30","v":0},{"$f":"'3.Zones_desservies'!BV30","v":0},{"$f":"'3.Zones_desservies'!BW30","v":0},{"$f":"'3.Zones_desservies'!BX30","v":0},{"$f":"'3.Zones_desservies'!BY30","v":0},{"$f":"'3.Zones_desservies'!BZ30","v":0},{"$f":"'3.Zones_desservies'!CA30","v":0},{"$f":"'3.Zones_desservies'!CB30","v":0},{"$f":"'3.Zones_desservies'!CC30","v":0},{"$f":"'3.Zones_desservies'!CD30","v":0},{"$f":"'3.Zones_desservies'!CE30","v":0},{"$f":"'3.Zones_desservies'!CF30","v":0},{"$f":"'3.Zones_desservies'!CG30","v":0},{"$f":"'3.Zones_desservies'!CH30","v":0},{"$f":"'3.Zones_desservies'!CI30","v":0},{"$f":"'3.Zones_desservies'!CJ30","v":0},{"$f":"'3.Zones_desservies'!CK30","v":0},{"$f":"'3.Zones_desservies'!CL30","v":0},{"$f":"'3.Zones_desservies'!CM30","v":0},{"$f":"'3.Zones_desservies'!CN30","v":0},{"$f":"'3.Zones_desservies'!CO30","v":0},{"$f":"'3.Zones_desservies'!CP30","v":0},{"$f":"'3.Zones_desservies'!CQ30","v":0},{"$f":"'3.Zones_desservies'!CR30","v":0},{"$f":"'3.Zones_desservies'!CS30","v":0},{"$f":"'3.Zones_desservies'!CT30","v":0},{"$f":"'3.Zones_desservies'!CU30","v":0},{"$f":"'3.Zones_desservies'!CV30","v":0},{"$f":"'3.Zones_desservies'!CW30","v":0},{"$f":"'3.Zones_desservies'!CX30","v":0},{"$f":"'3.Zones_desservies'!CY30","v":"_"},{"$f":"'3.Zones_desservies'!CZ30","v":0},{"$f":"'3.Zones_desservies'!DA30","v":0},{"$f":"'3.Zones_desservies'!DB30","v":0},{"$f":"'3.Zones_desservies'!DC30","v":0},{"$f":"'3.Zones_desservies'!DD30","v":0},{"$f":"'3.Zones_desservies'!DE30","v":0},{"$f":"'3.Zones_desservies'!DF30","v":0},{"$f":"'3.Zones_desservies'!DG30","v":0},{"$f":"'3.Zones_desservies'!DH30","v":0},{"$f":"'3.Zones_desservies'!DI30","v":0},{"$f":"'3.Zones_desservies'!DJ30","v":0},{"$f":"'3.Zones_desservies'!DK30","v":0},{"$f":"'3.Zones_desservies'!DL30","v":0},{"$f":"'3.Zones_desservies'!DM30","v":0},{"$f":"'3.Zones_desservies'!DN30","v":0},{"$f":"'3.Zones_desservies'!DO30","v":0},{"$f":"'3.Zones_desservies'!DP30","v":0},{"$f":"'3.Zones_desservies'!DQ30","v":0},{"$f":"'3.Zones_desservies'!DR30","v":0},{"$f":"'3.Zones_desservies'!DS30","v":0},{"$f":"'3.Zones_desservies'!DT30","v":0},{"$f":"'3.Zones_desservies'!DU30","v":0},{"$f":"'3.Zones_desservies'!DV30","v":0},{"$f":"'3.Zones_desservies'!DW30","v":0},{"$f":"'3.Zones_desservies'!DX30","v":0},{"$f":"'3.Zones_desservies'!DY30","v":0},{"$f":"'3.Zones_desservies'!DZ30","v":0},{"$f":"'3.Zones_desservies'!EA30","v":0},{"$f":"'3.Zones_desservies'!EB30","v":0},{"$f":"'3.Zones_desservies'!EC30","v":0},{"$f":"'3.Zones_desservies'!ED30","v":0},{"$f":"'3.Zones_desservies'!EE30","v":0},{"$f":"'3.Zones_desservies'!EF30","v":0},{"$f":"'3.Zones_desservies'!EG30","v":0},{"$f":"'3.Zones_desservies'!EH30","v":0},{"$f":"'3.Zones_desservies'!EI30","v":0},{"$f":"'3.Zones_desservies'!EJ30","v":0},{"$f":"'3.Zones_desservies'!EK30","v":0},{"$f":"'3.Zones_desservies'!EL30","v":0},{"$f":"'3.Zones_desservies'!EM30","v":0},{"$f":"'3.Zones_desservies'!EN30","v":0},{"$f":"'3.Zones_desservies'!EO30","v":0},{"$f":"'3.Zones_desservies'!EP30","v":0},{"$f":"'3.Zones_desservies'!EQ30","v":0},{"$f":"'3.Zones_desservies'!ER30","v":0},{"$f":"'3.Zones_desservies'!ES30","v":0},{"$f":"'3.Zones_desservies'!ET30","v":0},{"$f":"'3.Zones_desservies'!EU30","v":0},{"$f":"'3.Zones_desservies'!EV30","v":0},{"$f":"'3.Zones_desservies'!EW30","v":0},{"$f":"'3.Zones_desservies'!EX30","v":0},{"$f":"'3.Zones_desservies'!EY30","v":0},{"$f":"'3.Zones_desservies'!EZ30","v":0},{"$f":"'3.Zones_desservies'!FA30","v":0},{"$f":"'3.Zones_desservies'!FB30","v":0},{"$f":"'3.Zones_desservies'!FC30","v":0},{"$f":"'3.Zones_desservies'!FD30","v":0},{"$f":"'3.Zones_desservies'!FE30","v":0},{"$f":"'3.Zones_desservies'!FF30","v":0},{"$f":"'3.Zones_desservies'!FG30","v":0},{"$f":"'3.Zones_desservies'!FH30","v":0},{"$f":"'3.Zones_desservies'!FI30","v":0},{"$f":"'3.Zones_desservies'!FJ30","v":0},{"$f":"'3.Zones_desservies'!FK30","v":0},{"$f":"'3.Zones_desservies'!FL30","v":0},{"$f":"'3.Zones_desservies'!FM30","v":0},{"$f":"'3.Zones_desservies'!FN30","v":0},{"$f":"'3.Zones_desservies'!FO30","v":0},{"$f":"'3.Zones_desservies'!FP30","v":0},{"$f":"'3.Zones_desservies'!FQ30","v":0},{"$f":"'3.Zones_desservies'!FR30","v":0},{"$f":"'3.Zones_desservies'!FS30","v":0},{"$f":"'3.Zones_desservies'!FT30","v":0},{"$f":"'3.Zones_desservies'!FU30","v":0},{"$f":"'3.Zones_desservies'!FV30","v":0},{"$f":"'3.Zones_desservies'!FW30","v":0},{"$f":"'3.Zones_desservies'!FX30","v":0},{"$f":"'3.Zones_desservies'!FY30","v":0},{"$f":"'3.Zones_desservies'!FZ30","v":0},{"$f":"'3.Zones_desservies'!GA30","v":0},{"$f":"'3.Zones_desservies'!GB30","v":0},{"$f":"'3.Zones_desservies'!GC30","v":0},{"$f":"'3.Zones_desservies'!GD30","v":0},{"$f":"'3.Zones_desservies'!GE30","v":0},{"$f":"'3.Zones_desservies'!GF30","v":0},{"$f":"'3.Zones_desservies'!GG30","v":0},{"$f":"'3.Zones_desservies'!GH30","v":0},{"$f":"'3.Zones_desservies'!GI30","v":0},{"$f":"'3.Zones_desservies'!GJ30","v":0},{"$f":"'3.Zones_desservies'!GK30","v":0},{"$f":"'3.Zones_desservies'!GL30","v":0},{"$f":"'3.Zones_desservies'!GM30","v":0},{"$f":"'3.Zones_desservies'!GN30","v":0},{"$f":"'3.Zones_desservies'!GO30","v":0},{"$f":"'3.Zones_desservies'!GP30","v":0},{"$f":"'3.Zones_desservies'!GQ30","v":0},{"$f":"'3.Zones_desservies'!GR30","v":0},{"$f":"'3.Zones_desservies'!GS30","v":0},{"$f":"'3.Zones_desservies'!GT30","v":0},{"$f":"'3.Zones_desservies'!GU30","v":0},{"$f":"'3.Zones_desservies'!GV30","v":0},{"$f":"'3.Zones_desservies'!GW30","v":0},{"$f":"'3.Zones_desservies'!GX30","v":0},{"$f":"'3.Zones_desservies'!GY30","v":0},{"$f":"'3.Zones_desservies'!GZ30","v":0},{"$f":"'3.Zones_desservies'!HA30","v":0},{"$f":"'3.Zones_desservies'!HB30","v":0},{"$f":"'3.Zones_desservies'!HC30","v":0},{"$f":"'3.Zones_desservies'!HD30","v":0},{"$f":"'3.Zones_desservies'!HE30","v":0},{"$f":"'3.Zones_desservies'!HF30","v":0},{"$f":"'3.Zones_desservies'!HG30","v":0},{"$f":"'3.Zones_desservies'!HH30","v":0},{"$f":"'3.Zones_desservies'!HI30","v":0},{"$f":"'3.Zones_desservies'!HJ30","v":0},{"$f":"'3.Zones_desservies'!HK30","v":0},{"$f":"'3.Zones_desservies'!HL30","v":0},{"$f":"'3.Zones_desservies'!HM30","v":0},{"$f":"'3.Zones_desservies'!HN30","v":0},{"$f":"'3.Zones_desservies'!HO30","v":0},{"$f":"'3.Zones_desservies'!HP30","v":0},{"$f":"'3.Zones_desservies'!HQ30","v":0},{"$f":"'3.Zones_desservies'!HR30","v":0},{"$f":"'3.Zones_desservies'!HS30","v":0},{"$f":"'3.Zones_desservies'!HT30","v":0},{"$f":"'3.Zones_desservies'!HU30","v":0},{"$f":"'3.Zones_desservies'!HV30","v":0},{"$f":"'3.Zones_desservies'!HW30","v":0},{"$f":"'3.Zones_desservies'!HX30","v":0},{"$f":"'3.Zones_desservies'!HY30","v":0},{"$f":"'3.Zones_desservies'!HZ30","v":0},{"$f":"'3.Zones_desservies'!IA30","v":0},{"$f":"'3.Zones_desservies'!IB30","v":0},{"$f":"'3.Zones_desservies'!IC30","v":0},{"$f":"'3.Zones_desservies'!ID30","v":0},{"$f":"'3.Zones_desservies'!IE30","v":0},{"$f":"'3.Zones_desservies'!IF30","v":0},{"$f":"'3.Zones_desservies'!IG30","v":0},{"$f":"'3.Zones_desservies'!IH30","v":0},{"$f":"'3.Zones_desservies'!II30","v":0},{"$f":"'3.Zones_desservies'!IJ30","v":0},{"$f":"'3.Zones_desservies'!IK30","v":0},{"$f":"'3.Zones_desservies'!IL30","v":0},{"$f":"'3.Zones_desservies'!IM30","v":0},{"$f":"'3.Zones_desservies'!IN30","v":0},{"$f":"'3.Zones_desservies'!IO30","v":0},{"$f":"'3.Zones_desservies'!IP30","v":0},{"$f":"'3.Zones_desservies'!IQ30","v":0},{"$f":"'3.Zones_desservies'!IR30","v":0},{"$f":"'3.Zones_desservies'!IS30","v":0},{"$f":"'3.Zones_desservies'!IT30","v":0},{"$f":"'3.Zones_desservies'!IU30","v":0},{"$f":"'3.Zones_desservies'!IV30","v":0},{"$f":"'3.Zones_desservies'!IW30","v":0},{"$f":"'3.Zones_desservies'!IX30","v":0},{"$f":"'3.Zones_desservies'!IY30","v":0},{"$f":"'3.Zones_desservies'!IZ30","v":0},{"$f":"'3.Zones_desservies'!JA30","v":0},{"$f":"'3.Zones_desservies'!JB30","v":0},{"$f":"'3.Zones_desservies'!JC30","v":0},{"$f":"'3.Zones_desservies'!JD30","v":0},{"$f":"'3.Zones_desservies'!JE30","v":0},{"$f":"'3.Zones_desservies'!JF30","v":0},{"$f":"'3.Zones_desservies'!JG30","v":0},{"$f":"'3.Zones_desservies'!JH30","v":0},{"$f":"'3.Zones_desservies'!JI30","v":0},{"$f":"'3.Zones_desservies'!JJ30","v":0},{"$f":"'3.Zones_desservies'!JK30","v":0},{"$f":"'3.Zones_desservies'!JL30","v":0},{"$f":"'3.Zones_desservies'!JM30","v":0},{"$f":"'3.Zones_desservies'!JN30","v":0},{"$f":"'3.Zones_desservies'!JO30","v":0},{"$f":"'3.Zones_desservies'!JP30","v":0},{"$f":"'3.Zones_desservies'!JQ30","v":0},{"$f":"'3.Zones_desservies'!JR30","v":0},{"$f":"'3.Zones_desservies'!JS30","v":0},{"$f":"'3.Zones_desservies'!JT30","v":0},{"$f":"'3.Zones_desservies'!JU30","v":0},{"$f":"'3.Zones_desservies'!JV30","v":0},{"$f":"'3.Zones_desservies'!JW30","v":0},{"$f":"'3.Zones_desservies'!JX30","v":0},{"$f":"'3.Zones_desservies'!JY30","v":0},{"$f":"'3.Zones_desservies'!JZ30","v":0},{"$f":"'3.Zones_desservies'!KA30","v":0},{"$f":"'3.Zones_desservies'!KB30","v":0},{"$f":"'3.Zones_desservies'!KC30","v":0},{"$f":"'3.Zones_desservies'!KD30","v":0},{"$f":"'3.Zones_desservies'!KE30","v":0},{"$f":"'3.Zones_desservies'!KF30","v":0},{"$f":"'3.Zones_desservies'!KG30","v":0},{"$f":"'3.Zones_desservies'!KH30","v":0},{"$f":"'3.Zones_desservies'!KI30","v":0},{"$f":"'3.Zones_desservies'!KJ30","v":0},{"$f":"'3.Zones_desservies'!KK30","v":0},{"$f":"'3.Zones_desservies'!KL30","v":0},{"$f":"'3.Zones_desservies'!KM30","v":0},{"$f":"'3.Zones_desservies'!KN30","v":0},{"$f":"'3.Zones_desservies'!KO30","v":0},{"$f":"'3.Zones_desservies'!KP30","v":0},{"$f":"'3.Zones_desservies'!KQ30","v":0},{"$f":"'3.Zones_desservies'!KR30","v":0},{"$f":"'3.Zones_desservies'!KS30","v":0},{"$f":"'3.Zones_desservies'!KT30","v":0},{"$f":"'3.Zones_desservies'!KU30","v":0},{"$f":"'3.Zones_desservies'!KV30","v":0},{"$f":"'3.Zones_desservies'!KW30","v":0},{"$f":"'3.Zones_desservies'!KX30","v":0},{"$f":"'3.Zones_desservies'!KY30","v":0},{"$f":"'3.Zones_desservies'!KZ30","v":0},{"$f":"'3.Zones_desservies'!LA30","v":0},{"$f":"'3.Zones_desservies'!LB30","v":0},{"$f":"'3.Zones_desservies'!LC30","v":0},{"$f":"'3.Zones_desservies'!LD30","v":0},{"$f":"'3.Zones_desservies'!LE30","v":0},{"$f":"'3.Zones_desservies'!LF30","v":0},{"$f":"'3.Zones_desservies'!LG30","v":0},{"$f":"'3.Zones_desservies'!LH30","v":0},{"$f":"'3.Zones_desservies'!LI30","v":0},{"$f":"'3.Zones_desservies'!LJ30","v":0},{"$f":"'3.Zones_desservies'!LK30","v":0},{"$f":"'3.Zones_desservies'!LL30","v":0},{"$f":"'3.Zones_desservies'!LM30","v":0},{"$f":"'3.Zones_desservies'!LN30","v":0},{"$f":"'3.Zones_desservies'!LO30","v":0},{"$f":"'3.Zones_desservies'!LP30","v":0},{"$f":"'3.Zones_desservies'!LQ30","v":0},{"$f":"'3.Zones_desservies'!LR30","v":0},{"$f":"'3.Zones_desservies'!LS30","v":0},{"$f":"'3.Zones_desservies'!LT30","v":0},{"$f":"'3.Zones_desservies'!LU30","v":0},{"$f":"'3.Zones_desservies'!LV30","v":0},{"$f":"'3.Zones_desservies'!LW30","v":0},{"$f":"'3.Zones_desservies'!LX30","v":0},{"$f":"'3.Zones_desservies'!LY30","v":0},{"$f":"'3.Zones_desservies'!LZ30","v":0},{"$f":"'3.Zones_desservies'!MA30","v":0},{"$f":"'3.Zones_desservies'!MB30","v":0},{"$f":"'3.Zones_desservies'!MC30","v":0},{"$f":"'3.Zones_desservies'!MD30","v":0},{"$f":"'3.Zones_desservies'!ME30","v":0},{"$f":"'3.Zones_desservies'!MF30","v":0},{"$f":"'3.Zones_desservies'!MG30","v":0},{"$f":"'3.Zones_desservies'!MH30","v":0},{"$f":"'3.Zones_desservies'!MI30","v":0},{"$f":"'3.Zones_desservies'!MJ30","v":0},{"$f":"'3.Zones_desservies'!MK30","v":0},{"$f":"'3.Zones_desservies'!ML30","v":0},{"$f":"'3.Zones_desservies'!MM30","v":0},{"$f":"'3.Zones_desservies'!MN30","v":0},{"$f":"'3.Zones_desservies'!MO30","v":0},{"$f":"'3.Zones_desservies'!MP30","v":0},{"$f":"'3.Zones_desservies'!MQ30","v":0},{"$f":"'3.Zones_desservies'!MR30","v":0},{"$f":"'3.Zones_desservies'!MS30","v":0},{"$f":"'3.Zones_desservies'!MT30","v":0},{"$f":"'3.Zones_desservies'!MU30","v":0},{"$f":"'3.Zones_desservies'!MV30","v":0},{"$f":"'3.Zones_desservies'!MW30","v":0},{"$f":"'3.Zones_desservies'!MX30","v":0},{"$f":"'3.Zones_desservies'!MY30","v":0},{"$f":"'3.Zones_desservies'!MZ30","v":0},{"$f":"'3.Zones_desservies'!NA30","v":0},{"$f":"'3.Zones_desservies'!NB30","v":0},{"$f":"'3.Zones_desservies'!NC30","v":0},{"$f":"'3.Zones_desservies'!ND30","v":0},{"$f":"'3.Zones_desservies'!NE30","v":0},{"$f":"'3.Zones_desservies'!NF30","v":0},{"$f":"'3.Zones_desservies'!NG30","v":0},{"$f":"'3.Zones_desservies'!NH30","v":0},{"$f":"'3.Zones_desservies'!NI30","v":0},{"$f":"'3.Zones_desservies'!NJ30","v":0},{"$f":"'3.Zones_desservies'!NK30","v":0},{"$f":"'3.Zones_desservies'!NL30","v":0},{"$f":"'3.Zones_desservies'!NM30","v":0},{"$f":"'3.Zones_desservies'!NN30","v":0},{"$f":"'3.Zones_desservies'!NO30","v":0},{"$f":"'3.Zones_desservies'!NP30","v":0},{"$f":"'3.Zones_desservies'!NQ30","v":0},{"$f":"'3.Zones_desservies'!NR30","v":0},{"$f":"'3.Zones_desservies'!NS30","v":0},{"$f":"'3.Zones_desservies'!NT30","v":0},{"$f":"'3.Zones_desservies'!NU30","v":0},{"$f":"'3.Zones_desservies'!NV30","v":0},{"$f":"'3.Zones_desservies'!NW30","v":0},{"$f":"'3.Zones_desservies'!NX30","v":0},{"$f":"'3.Zones_desservies'!NY30","v":0},{"$f":"'3.Zones_desservies'!NZ30","v":0},{"$f":"'3.Zones_desservies'!OA30","v":0},{"$f":"'3.Zones_desservies'!OB30","v":0},{"$f":"'3.Zones_desservies'!OC30","v":0},{"$f":"'3.Zones_desservies'!OD30","v":0},{"$f":"'3.Zones_desservies'!OE30","v":0},{"$f":"'3.Zones_desservies'!OF30","v":0},{"$f":"'3.Zones_desservies'!OG30","v":0},{"$f":"'3.Zones_desservies'!OH30","v":0},{"$f":"'3.Zones_desservies'!OI30","v":0},{"$f":"'3.Zones_desservies'!OJ30","v":0},{"$f":"'3.Zones_desservies'!OK30","v":0},{"$f":"'3.Zones_desservies'!OL30","v":0},{"$f":"'3.Zones_desservies'!OM30","v":0},{"$f":"'3.Zones_desservies'!ON30","v":0},{"$f":"'3.Zones_desservies'!OO30","v":0},{"$f":"'3.Zones_desservies'!OP30","v":0},{"$f":"'3.Zones_desservies'!OQ30","v":0},{"$f":"'3.Zones_desservies'!OR30","v":0},{"$f":"'3.Zones_desservies'!OS30","v":0},{"$f":"'3.Zones_desservies'!OT30","v":0},{"$f":"'3.Zones_desservies'!OU30","v":0},{"$f":"'3.Zones_desservies'!OV30","v":0},{"$f":"'3.Zones_desservies'!OW30","v":0},{"$f":"'3.Zones_desservies'!OX30","v":0},{"$f":"'3.Zones_desservies'!OY30","v":0},{"$f":"'3.Zones_desservies'!OZ30","v":0},{"$f":"'3.Zones_desservies'!PA30","v":0},{"$f":"'3.Zones_desservies'!PB30","v":0},{"$f":"'3.Zones_desservies'!PC30","v":0},{"$f":"'3.Zones_desservies'!PD30","v":0},{"$f":"'3.Zones_desservies'!PE30","v":0},{"$f":"'3.Zones_desservies'!PF30","v":0},{"$f":"'3.Zones_desservies'!PG30","v":0},{"$f":"'3.Zones_desservies'!PH30","v":0},{"$f":"'3.Zones_desservies'!PI30","v":0},{"$f":"'3.Zones_desservies'!PJ30","v":0},{"$f":"'3.Zones_desservies'!PK30","v":0},{"$f":"'3.Zones_desservies'!PL30","v":0},{"$f":"'3.Zones_desservies'!PM30","v":0},{"$f":"'3.Zones_desservies'!PN30","v":0},{"$f":"'3.Zones_desservies'!PO30","v":0},{"$f":"'3.Zones_desservies'!PP30","v":0},{"$f":"'3.Zones_desservies'!PQ30","v":0},{"$f":"'3.Zones_desservies'!PR30","v":0},{"$f":"'3.Zones_desservies'!PS30","v":0},{"$f":"'3.Zones_desservies'!PT30","v":0},{"$f":"'3.Zones_desservies'!PU30","v":0},{"$f":"'3.Zones_desservies'!PV30","v":0},{"$f":"'3.Zones_desservies'!PW30","v":0},{"$f":"'3.Zones_desservies'!PX30","v":0},{"$f":"'3.Zones_desservies'!PY30","v":0},{"$f":"'3.Zones_desservies'!PZ30","v":0},{"$f":"'3.Zones_desservies'!QA30","v":0},{"$f":"'3.Zones_desservies'!QB30","v":0},{"$f":"'3.Zones_desservies'!QC30","v":0},{"$f":"'3.Zones_desservies'!QD30","v":0},{"$f":"'3.Zones_desservies'!QE30","v":0},{"$f":"'3.Zones_desservies'!QF30","v":0},{"$f":"'3.Zones_desservies'!QG30","v":0},{"$f":"'3.Zones_desservies'!QH30","v":0},{"$f":"'3.Zones_desservies'!QI30","v":0},{"$f":"'3.Zones_desservies'!QJ30","v":0},{"$f":"'3.Zones_desservies'!QK30","v":0},{"$f":"'3.Zones_desservies'!QL30","v":0},{"$f":"'3.Zones_desservies'!QM30","v":0},{"$f":"'3.Zones_desservies'!QN30","v":0},{"$f":"'3.Zones_desservies'!QO30","v":0},{"$f":"'3.Zones_desservies'!QP30","v":0},{"$f":"'3.Zones_desservies'!QQ30","v":0},{"$f":"'3.Zones_desservies'!QR30","v":0},{"$f":"'3.Zones_desservies'!QS30","v":0},{"$f":"'3.Zones_desservies'!QT30","v":0},{"$f":"'3.Zones_desservies'!QU30","v":0},{"$f":"'3.Zones_desservies'!QV30","v":0},{"$f":"'3.Zones_desservies'!QW30","v":0},{"$f":"'3.Zones_desservies'!QX30","v":0},{"$f":"'3.Zones_desservies'!QY30","v":0},{"$f":"'3.Zones_desservies'!QZ30","v":0},{"$f":"'3.Zones_desservies'!RA30","v":0},{"$f":"'3.Zones_desservies'!RB30","v":0},{"$f":"'3.Zones_desservies'!RC30","v":0},{"$f":"'3.Zones_desservies'!RD30","v":0},{"$f":"'3.Zones_desservies'!RE30","v":0},{"$f":"'3.Zones_desservies'!RF30","v":0},{"$f":"'3.Zones_desservies'!RG30","v":0},{"$f":"'3.Zones_desservies'!RH30","v":0},{"$f":"'3.Zones_desservies'!RI30","v":0},{"$f":"'3.Zones_desservies'!RJ30","v":0},{"$f":"'3.Zones_desservies'!RK30","v":0},{"$f":"'3.Zones_desservies'!RL30","v":0},{"$f":"'3.Zones_desservies'!RM30","v":0},{"$f":"'3.Zones_desservies'!RN30","v":0},{"$f":"'3.Zones_desservies'!RO30","v":0},{"$f":"'3.Zones_desservies'!RP30","v":0},{"$f":"'3.Zones_desservies'!RQ30","v":0},{"$f":"'3.Zones_desservies'!RR30","v":0},{"$f":"'3.Zones_desservies'!RS30","v":0},{"$f":"'3.Zones_desservies'!RT30","v":0},{"$f":"'3.Zones_desservies'!RU30","v":0},{"$f":"'3.Zones_desservies'!RV30","v":0},{"$f":"'3.Zones_desservies'!RW30","v":0},{"$f":"'3.Zones_desservies'!RX30","v":0},{"$f":"'3.Zones_desservies'!RY30","v":0},{"$f":"'3.Zones_desservies'!RZ30","v":0},{"$f":"'3.Zones_desservies'!SA30","v":0},{"$f":"'3.Zones_desservies'!SB30","v":0},{"$f":"'3.Zones_desservies'!SC30","v":0},{"$f":"'3.Zones_desservies'!SD30","v":0},{"$f":"'3.Zones_desservies'!SE30","v":0},{"$f":"'3.Zones_desservies'!SF30","v":0},{"$f":"'3.Zones_desservies'!SG30","v":0},{"$f":"'3.Zones_desservies'!SH30","v":0}]
[null,{"$f":"'3.Zones_desservies'!B31","v":17},{"$f":"'3.Zones_desservies'!C31","v":0},{"$f":"'3.Zones_desservies'!D31","v":0},{"$f":"'3.Zones_desservies'!E31","v":0},{"$f":"'3.Zones_desservies'!F31","v":0},{"$f":"'3.Zones_desservies'!G31","v":0},{"$f":"'3.Zones_desservies'!H31","v":0},{"$f":"'3.Zones_desservies'!I31","v":0},{"$f":"'3.Zones_desservies'!J31","v":0},{"$f":"'3.Zones_desservies'!K31","v":0},{"$f":"'3.Zones_desservies'!L31","v":0},{"$f":"'3.Zones_desservies'!M31","v":0},{"$f":"'3.Zones_desservies'!N31","v":0},{"$f":"'3.Zones_desservies'!O31","v":0},{"$f":"'3.Zones_desservies'!P31","v":0},{"$f":"'3.Zones_desservies'!Q31","v":0},{"$f":"'3.Zones_desservies'!R31","v":0},{"$f":"'3.Zones_desservies'!S31","v":0},{"$f":"'3.Zones_desservies'!T31","v":0},{"$f":"'3.Zones_desservies'!U31","v":0},{"$f":"'3.Zones_desservies'!V31","v":0},{"$f":"'3.Zones_desservies'!W31","v":0},{"$f":"'3.Zones_desservies'!X31","v":0},{"$f":"'3.Zones_desservies'!Y31","v":0},{"$f":"'3.Zones_desservies'!Z31","v":0},{"$f":"'3.Zones_desservies'!AA31","v":0},{"$f":"'3.Zones_desservies'!AB31","v":0},{"$f":"'3.Zones_desservies'!AC31","v":0},{"$f":"'3.Zones_desservies'!AD31","v":0},{"$f":"'3.Zones_desservies'!AE31","v":0},{"$f":"'3.Zones_desservies'!AF31","v":0},{"$f":"'3.Zones_desservies'!AG31","v":0},{"$f":"'3.Zones_desservies'!AH31","v":0},{"$f":"'3.Zones_desservies'!AI31","v":0},{"$f":"'3.Zones_desservies'!AJ31","v":0},{"$f":"'3.Zones_desservies'!AK31","v":0},{"$f":"'3.Zones_desservies'!AL31","v":0},{"$f":"'3.Zones_desservies'!AM31","v":0},{"$f":"'3.Zones_desservies'!AN31","v":0},{"$f":"'3.Zones_desservies'!AO31","v":0},{"$f":"'3.Zones_desservies'!AP31","v":0},{"$f":"'3.Zones_desservies'!AQ31","v":0},{"$f":"'3.Zones_desservies'!AR31","v":0},{"$f":"'3.Zones_desservies'!AS31","v":0},{"$f":"'3.Zones_desservies'!AT31","v":0},{"$f":"'3.Zones_desservies'!AU31","v":0},{"$f":"'3.Zones_desservies'!AV31","v":0},{"$f":"'3.Zones_desservies'!AW31","v":0},{"$f":"'3.Zones_desservies'!AX31","v":0},{"$f":"'3.Zones_desservies'!AY31","v":0},{"$f":"'3.Zones_desservies'!AZ31","v":0},{"$f":"'3.Zones_desservies'!BA31","v":0},{"$f":"'3.Zones_desservies'!BB31","v":0},{"$f":"'3.Zones_desservies'!BC31","v":0},{"$f":"'3.Zones_desservies'!BD31","v":0},{"$f":"'3.Zones_desservies'!BE31","v":0},{"$f":"'3.Zones_desservies'!BF31","v":0},{"$f":"'3.Zones_desservies'!BG31","v":0},{"$f":"'3.Zones_desservies'!BH31","v":0},{"$f":"'3.Zones_desservies'!BI31","v":0},{"$f":"'3.Zones_desservies'!BJ31","v":0},{"$f":"'3.Zones_desservies'!BK31","v":0},{"$f":"'3.Zones_desservies'!BL31","v":0},{"$f":"'3.Zones_desservies'!BM31","v":0},{"$f":"'3.Zones_desservies'!BN31","v":0},{"$f":"'3.Zones_desservies'!BO31","v":0},{"$f":"'3.Zones_desservies'!BP31","v":0},{"$f":"'3.Zones_desservies'!BQ31","v":0},{"$f":"'3.Zones_desservies'!BR31","v":0},{"$f":"'3.Zones_desservies'!BS31","v":0},{"$f":"'3.Zones_desservies'!BT31","v":0},{"$f":"'3.Zones_desservies'!BU31","v":0},{"$f":"'3.Zones_desservies'!BV31","v":0},{"$f":"'3.Zones_desservies'!BW31","v":0},{"$f":"'3.Zones_desservies'!BX31","v":0},{"$f":"'3.Zones_desservies'!BY31","v":0},{"$f":"'3.Zones_desservies'!BZ31","v":0},{"$f":"'3.Zones_desservies'!CA31","v":0},{"$f":"'3.Zones_desservies'!CB31","v":0},{"$f":"'3.Zones_desservies'!CC31","v":0},{"$f":"'3.Zones_desservies'!CD31","v":0},{"$f":"'3.Zones_desservies'!CE31","v":0},{"$f":"'3.Zones_desservies'!CF31","v":0},{"$f":"'3.Zones_desservies'!CG31","v":0},{"$f":"'3.Zones_desservies'!CH31","v":0},{"$f":"'3.Zones_desservies'!CI31","v":0},{"$f":"'3.Zones_desservies'!CJ31","v":0},{"$f":"'3.Zones_desservies'!CK31","v":0},{"$f":"'3.Zones_desservies'!CL31","v":0},{"$f":"'3.Zones_desservies'!CM31","v":0},{"$f":"'3.Zones_desservies'!CN31","v":0},{"$f":"'3.Zones_desservies'!CO31","v":0},{"$f":"'3.Zones_desservies'!CP31","v":0},{"$f":"'3.Zones_desservies'!CQ31","v":0},{"$f":"'3.Zones_desservies'!CR31","v":0},{"$f":"'3.Zones_desservies'!CS31","v":0},{"$f":"'3.Zones_desservies'!CT31","v":0},{"$f":"'3.Zones_desservies'!CU31","v":0},{"$f":"'3.Zones_desservies'!CV31","v":0},{"$f":"'3.Zones_desservies'!CW31","v":0},{"$f":"'3.Zones_desservies'!CX31","v":0},{"$f":"'3.Zones_desservies'!CY31","v":"_"},{"$f":"'3.Zones_desservies'!CZ31","v":0},{"$f":"'3.Zones_desservies'!DA31","v":0},{"$f":"'3.Zones_desservies'!DB31","v":0},{"$f":"'3.Zones_desservies'!DC31","v":0},{"$f":"'3.Zones_desservies'!DD31","v":0},{"$f":"'3.Zones_desservies'!DE31","v":0},{"$f":"'3.Zones_desservies'!DF31","v":0},{"$f":"'3.Zones_desservies'!DG31","v":0},{"$f":"'3.Zones_desservies'!DH31","v":0},{"$f":"'3.Zones_desservies'!DI31","v":0},{"$f":"'3.Zones_desservies'!DJ31","v":0},{"$f":"'3.Zones_desservies'!DK31","v":0},{"$f":"'3.Zones_desservies'!DL31","v":0},{"$f":"'3.Zones_desservies'!DM31","v":0},{"$f":"'3.Zones_desservies'!DN31","v":0},{"$f":"'3.Zones_desservies'!DO31","v":0},{"$f":"'3.Zones_desservies'!DP31","v":0},{"$f":"'3.Zones_desservies'!DQ31","v":0},{"$f":"'3.Zones_desservies'!DR31","v":0},{"$f":"'3.Zones_desservies'!DS31","v":0},{"$f":"'3.Zones_desservies'!DT31","v":0},{"$f":"'3.Zones_desservies'!DU31","v":0},{"$f":"'3.Zones_desservies'!DV31","v":0},{"$f":"'3.Zones_desservies'!DW31","v":0},{"$f":"'3.Zones_desservies'!DX31","v":0},{"$f":"'3.Zones_desservies'!DY31","v":0},{"$f":"'3.Zones_desservies'!DZ31","v":0},{"$f":"'3.Zones_desservies'!EA31","v":0},{"$f":"'3.Zones_desservies'!EB31","v":0},{"$f":"'3.Zones_desservies'!EC31","v":0},{"$f":"'3.Zones_desservies'!ED31","v":0},{"$f":"'3.Zones_desservies'!EE31","v":0},{"$f":"'3.Zones_desservies'!EF31","v":0},{"$f":"'3.Zones_desservies'!EG31","v":0},{"$f":"'3.Zones_desservies'!EH31","v":0},{"$f":"'3.Zones_desservies'!EI31","v":0},{"$f":"'3.Zones_desservies'!EJ31","v":0},{"$f":"'3.Zones_desservies'!EK31","v":0},{"$f":"'3.Zones_desservies'!EL31","v":0},{"$f":"'3.Zones_desservies'!EM31","v":0},{"$f":"'3.Zones_desservies'!EN31","v":0},{"$f":"'3.Zones_desservies'!EO31","v":0},{"$f":"'3.Zones_desservies'!EP31","v":0},{"$f":"'3.Zones_desservies'!EQ31","v":0},{"$f":"'3.Zones_desservies'!ER31","v":0},{"$f":"'3.Zones_desservies'!ES31","v":0},{"$f":"'3.Zones_desservies'!ET31","v":0},{"$f":"'3.Zones_desservies'!EU31","v":0},{"$f":"'3.Zones_desservies'!EV31","v":0},{"$f":"'3.Zones_desservies'!EW31","v":0},{"$f":"'3.Zones_desservies'!EX31","v":0},{"$f":"'3.Zones_desservies'!EY31","v":0},{"$f":"'3.Zones_desservies'!EZ31","v":0},{"$f":"'3.Zones_desservies'!FA31","v":0},{"$f":"'3.Zones_desservies'!FB31","v":0},{"$f":"'3.Zones_desservies'!FC31","v":0},{"$f":"'3.Zones_desservies'!FD31","v":0},{"$f":"'3.Zones_desservies'!FE31","v":0},{"$f":"'3.Zones_desservies'!FF31","v":0},{"$f":"'3.Zones_desservies'!FG31","v":0},{"$f":"'3.Zones_desservies'!FH31","v":0},{"$f":"'3.Zones_desservies'!FI31","v":0},{"$f":"'3.Zones_desservies'!FJ31","v":0},{"$f":"'3.Zones_desservies'!FK31","v":0},{"$f":"'3.Zones_desservies'!FL31","v":0},{"$f":"'3.Zones_desservies'!FM31","v":0},{"$f":"'3.Zones_desservies'!FN31","v":0},{"$f":"'3.Zones_desservies'!FO31","v":0},{"$f":"'3.Zones_desservies'!FP31","v":0},{"$f":"'3.Zones_desservies'!FQ31","v":0},{"$f":"'3.Zones_desservies'!FR31","v":0},{"$f":"'3.Zones_desservies'!FS31","v":0},{"$f":"'3.Zones_desservies'!FT31","v":0},{"$f":"'3.Zones_desservies'!FU31","v":0},{"$f":"'3.Zones_desservies'!FV31","v":0},{"$f":"'3.Zones_desservies'!FW31","v":0},{"$f":"'3.Zones_desservies'!FX31","v":0},{"$f":"'3.Zones_desservies'!FY31","v":0},{"$f":"'3.Zones_desservies'!FZ31","v":0},{"$f":"'3.Zones_desservies'!GA31","v":0},{"$f":"'3.Zones_desservies'!GB31","v":0},{"$f":"'3.Zones_desservies'!GC31","v":0},{"$f":"'3.Zones_desservies'!GD31","v":0},{"$f":"'3.Zones_desservies'!GE31","v":0},{"$f":"'3.Zones_desservies'!GF31","v":0},{"$f":"'3.Zones_desservies'!GG31","v":0},{"$f":"'3.Zones_desservies'!GH31","v":0},{"$f":"'3.Zones_desservies'!GI31","v":0},{"$f":"'3.Zones_desservies'!GJ31","v":0},{"$f":"'3.Zones_desservies'!GK31","v":0},{"$f":"'3.Zones_desservies'!GL31","v":0},{"$f":"'3.Zones_desservies'!GM31","v":0},{"$f":"'3.Zones_desservies'!GN31","v":0},{"$f":"'3.Zones_desservies'!GO31","v":0},{"$f":"'3.Zones_desservies'!GP31","v":0},{"$f":"'3.Zones_desservies'!GQ31","v":0},{"$f":"'3.Zones_desservies'!GR31","v":0},{"$f":"'3.Zones_desservies'!GS31","v":0},{"$f":"'3.Zones_desservies'!GT31","v":0},{"$f":"'3.Zones_desservies'!GU31","v":0},{"$f":"'3.Zones_desservies'!GV31","v":0},{"$f":"'3.Zones_desservies'!GW31","v":0},{"$f":"'3.Zones_desservies'!GX31","v":0},{"$f":"'3.Zones_desservies'!GY31","v":0},{"$f":"'3.Zones_desservies'!GZ31","v":0},{"$f":"'3.Zones_desservies'!HA31","v":0},{"$f":"'3.Zones_desservies'!HB31","v":0},{"$f":"'3.Zones_desservies'!HC31","v":0},{"$f":"'3.Zones_desservies'!HD31","v":0},{"$f":"'3.Zones_desservies'!HE31","v":0},{"$f":"'3.Zones_desservies'!HF31","v":0},{"$f":"'3.Zones_desservies'!HG31","v":0},{"$f":"'3.Zones_desservies'!HH31","v":0},{"$f":"'3.Zones_desservies'!HI31","v":0},{"$f":"'3.Zones_desservies'!HJ31","v":0},{"$f":"'3.Zones_desservies'!HK31","v":0},{"$f":"'3.Zones_desservies'!HL31","v":0},{"$f":"'3.Zones_desservies'!HM31","v":0},{"$f":"'3.Zones_desservies'!HN31","v":0},{"$f":"'3.Zones_desservies'!HO31","v":0},{"$f":"'3.Zones_desservies'!HP31","v":0},{"$f":"'3.Zones_desservies'!HQ31","v":0},{"$f":"'3.Zones_desservies'!HR31","v":0},{"$f":"'3.Zones_desservies'!HS31","v":0},{"$f":"'3.Zones_desservies'!HT31","v":0},{"$f":"'3.Zones_desservies'!HU31","v":0},{"$f":"'3.Zones_desservies'!HV31","v":0},{"$f":"'3.Zones_desservies'!HW31","v":0},{"$f":"'3.Zones_desservies'!HX31","v":0},{"$f":"'3.Zones_desservies'!HY31","v":0},{"$f":"'3.Zones_desservies'!HZ31","v":0},{"$f":"'3.Zones_desservies'!IA31","v":0},{"$f":"'3.Zones_desservies'!IB31","v":0},{"$f":"'3.Zones_desservies'!IC31","v":0},{"$f":"'3.Zones_desservies'!ID31","v":0},{"$f":"'3.Zones_desservies'!IE31","v":0},{"$f":"'3.Zones_desservies'!IF31","v":0},{"$f":"'3.Zones_desservies'!IG31","v":0},{"$f":"'3.Zones_desservies'!IH31","v":0},{"$f":"'3.Zones_desservies'!II31","v":0},{"$f":"'3.Zones_desservies'!IJ31","v":0},{"$f":"'3.Zones_desservies'!IK31","v":0},{"$f":"'3.Zones_desservies'!IL31","v":0},{"$f":"'3.Zones_desservies'!IM31","v":0},{"$f":"'3.Zones_desservies'!IN31","v":0},{"$f":"'3.Zones_desservies'!IO31","v":0},{"$f":"'3.Zones_desservies'!IP31","v":0},{"$f":"'3.Zones_desservies'!IQ31","v":0},{"$f":"'3.Zones_desservies'!IR31","v":0},{"$f":"'3.Zones_desservies'!IS31","v":0},{"$f":"'3.Zones_desservies'!IT31","v":0},{"$f":"'3.Zones_desservies'!IU31","v":0},{"$f":"'3.Zones_desservies'!IV31","v":0},{"$f":"'3.Zones_desservies'!IW31","v":0},{"$f":"'3.Zones_desservies'!IX31","v":0},{"$f":"'3.Zones_desservies'!IY31","v":0},{"$f":"'3.Zones_desservies'!IZ31","v":0},{"$f":"'3.Zones_desservies'!JA31","v":0},{"$f":"'3.Zones_desservies'!JB31","v":0},{"$f":"'3.Zones_desservies'!JC31","v":0},{"$f":"'3.Zones_desservies'!JD31","v":0},{"$f":"'3.Zones_desservies'!JE31","v":0},{"$f":"'3.Zones_desservies'!JF31","v":0},{"$f":"'3.Zones_desservies'!JG31","v":0},{"$f":"'3.Zones_desservies'!JH31","v":0},{"$f":"'3.Zones_desservies'!JI31","v":0},{"$f":"'3.Zones_desservies'!JJ31","v":0},{"$f":"'3.Zones_desservies'!JK31","v":0},{"$f":"'3.Zones_desservies'!JL31","v":0},{"$f":"'3.Zones_desservies'!JM31","v":0},{"$f":"'3.Zones_desservies'!JN31","v":0},{"$f":"'3.Zones_desservies'!JO31","v":0},{"$f":"'3.Zones_desservies'!JP31","v":0},{"$f":"'3.Zones_desservies'!JQ31","v":0},{"$f":"'3.Zones_desservies'!JR31","v":0},{"$f":"'3.Zones_desservies'!JS31","v":0},{"$f":"'3.Zones_desservies'!JT31","v":0},{"$f":"'3.Zones_desservies'!JU31","v":0},{"$f":"'3.Zones_desservies'!JV31","v":0},{"$f":"'3.Zones_desservies'!JW31","v":0},{"$f":"'3.Zones_desservies'!JX31","v":0},{"$f":"'3.Zones_desservies'!JY31","v":0},{"$f":"'3.Zones_desservies'!JZ31","v":0},{"$f":"'3.Zones_desservies'!KA31","v":0},{"$f":"'3.Zones_desservies'!KB31","v":0},{"$f":"'3.Zones_desservies'!KC31","v":0},{"$f":"'3.Zones_desservies'!KD31","v":0},{"$f":"'3.Zones_desservies'!KE31","v":0},{"$f":"'3.Zones_desservies'!KF31","v":0},{"$f":"'3.Zones_desservies'!KG31","v":0},{"$f":"'3.Zones_desservies'!KH31","v":0},{"$f":"'3.Zones_desservies'!KI31","v":0},{"$f":"'3.Zones_desservies'!KJ31","v":0},{"$f":"'3.Zones_desservies'!KK31","v":0},{"$f":"'3.Zones_desservies'!KL31","v":0},{"$f":"'3.Zones_desservies'!KM31","v":0},{"$f":"'3.Zones_desservies'!KN31","v":0},{"$f":"'3.Zones_desservies'!KO31","v":0},{"$f":"'3.Zones_desservies'!KP31","v":0},{"$f":"'3.Zones_desservies'!KQ31","v":0},{"$f":"'3.Zones_desservies'!KR31","v":0},{"$f":"'3.Zones_desservies'!KS31","v":0},{"$f":"'3.Zones_desservies'!KT31","v":0},{"$f":"'3.Zones_desservies'!KU31","v":0},{"$f":"'3.Zones_desservies'!KV31","v":0},{"$f":"'3.Zones_desservies'!KW31","v":0},{"$f":"'3.Zones_desservies'!KX31","v":0},{"$f":"'3.Zones_desservies'!KY31","v":0},{"$f":"'3.Zones_desservies'!KZ31","v":0},{"$f":"'3.Zones_desservies'!LA31","v":0},{"$f":"'3.Zones_desservies'!LB31","v":0},{"$f":"'3.Zones_desservies'!LC31","v":0},{"$f":"'3.Zones_desservies'!LD31","v":0},{"$f":"'3.Zones_desservies'!LE31","v":0},{"$f":"'3.Zones_desservies'!LF31","v":0},{"$f":"'3.Zones_desservies'!LG31","v":0},{"$f":"'3.Zones_desservies'!LH31","v":0},{"$f":"'3.Zones_desservies'!LI31","v":0},{"$f":"'3.Zones_desservies'!LJ31","v":0},{"$f":"'3.Zones_desservies'!LK31","v":0},{"$f":"'3.Zones_desservies'!LL31","v":0},{"$f":"'3.Zones_desservies'!LM31","v":0},{"$f":"'3.Zones_desservies'!LN31","v":0},{"$f":"'3.Zones_desservies'!LO31","v":0},{"$f":"'3.Zones_desservies'!LP31","v":0},{"$f":"'3.Zones_desservies'!LQ31","v":0},{"$f":"'3.Zones_desservies'!LR31","v":0},{"$f":"'3.Zones_desservies'!LS31","v":0},{"$f":"'3.Zones_desservies'!LT31","v":0},{"$f":"'3.Zones_desservies'!LU31","v":0},{"$f":"'3.Zones_desservies'!LV31","v":0},{"$f":"'3.Zones_desservies'!LW31","v":0},{"$f":"'3.Zones_desservies'!LX31","v":0},{"$f":"'3.Zones_desservies'!LY31","v":0},{"$f":"'3.Zones_desservies'!LZ31","v":0},{"$f":"'3.Zones_desservies'!MA31","v":0},{"$f":"'3.Zones_desservies'!MB31","v":0},{"$f":"'3.Zones_desservies'!MC31","v":0},{"$f":"'3.Zones_desservies'!MD31","v":0},{"$f":"'3.Zones_desservies'!ME31","v":0},{"$f":"'3.Zones_desservies'!MF31","v":0},{"$f":"'3.Zones_desservies'!MG31","v":0},{"$f":"'3.Zones_desservies'!MH31","v":0},{"$f":"'3.Zones_desservies'!MI31","v":0},{"$f":"'3.Zones_desservies'!MJ31","v":0},{"$f":"'3.Zones_desservies'!MK31","v":0},{"$f":"'3.Zones_desservies'!ML31","v":0},{"$f":"'3.Zones_desservies'!MM31","v":0},{"$f":"'3.Zones_desservies'!MN31","v":0},{"$f":"'3.Zones_desservies'!MO31","v":0},{"$f":"'3.Zones_desservies'!MP31","v":0},{"$f":"'3.Zones_desservies'!MQ31","v":0},{"$f":"'3.Zones_desservies'!MR31","v":0},{"$f":"'3.Zones_desservies'!MS31","v":0},{"$f":"'3.Zones_desservies'!MT31","v":0},{"$f":"'3.Zones_desservies'!MU31","v":0},{"$f":"'3.Zones_desservies'!MV31","v":0},{"$f":"'3.Zones_desservies'!MW31","v":0},{"$f":"'3.Zones_desservies'!MX31","v":0},{"$f":"'3.Zones_desservies'!MY31","v":0},{"$f":"'3.Zones_desservies'!MZ31","v":0},{"$f":"'3.Zones_desservies'!NA31","v":0},{"$f":"'3.Zones_desservies'!NB31","v":0},{"$f":"'3.Zones_desservies'!NC31","v":0},{"$f":"'3.Zones_desservies'!ND31","v":0},{"$f":"'3.Zones_desservies'!NE31","v":0},{"$f":"'3.Zones_desservies'!NF31","v":0},{"$f":"'3.Zones_desservies'!NG31","v":0},{"$f":"'3.Zones_desservies'!NH31","v":0},{"$f":"'3.Zones_desservies'!NI31","v":0},{"$f":"'3.Zones_desservies'!NJ31","v":0},{"$f":"'3.Zones_desservies'!NK31","v":0},{"$f":"'3.Zones_desservies'!NL31","v":0},{"$f":"'3.Zones_desservies'!NM31","v":0},{"$f":"'3.Zones_desservies'!NN31","v":0},{"$f":"'3.Zones_desservies'!NO31","v":0},{"$f":"'3.Zones_desservies'!NP31","v":0},{"$f":"'3.Zones_desservies'!NQ31","v":0},{"$f":"'3.Zones_desservies'!NR31","v":0},{"$f":"'3.Zones_desservies'!NS31","v":0},{"$f":"'3.Zones_desservies'!NT31","v":0},{"$f":"'3.Zones_desservies'!NU31","v":0},{"$f":"'3.Zones_desservies'!NV31","v":0},{"$f":"'3.Zones_desservies'!NW31","v":0},{"$f":"'3.Zones_desservies'!NX31","v":0},{"$f":"'3.Zones_desservies'!NY31","v":0},{"$f":"'3.Zones_desservies'!NZ31","v":0},{"$f":"'3.Zones_desservies'!OA31","v":0},{"$f":"'3.Zones_desservies'!OB31","v":0},{"$f":"'3.Zones_desservies'!OC31","v":0},{"$f":"'3.Zones_desservies'!OD31","v":0},{"$f":"'3.Zones_desservies'!OE31","v":0},{"$f":"'3.Zones_desservies'!OF31","v":0},{"$f":"'3.Zones_desservies'!OG31","v":0},{"$f":"'3.Zones_desservies'!OH31","v":0},{"$f":"'3.Zones_desservies'!OI31","v":0},{"$f":"'3.Zones_desservies'!OJ31","v":0},{"$f":"'3.Zones_desservies'!OK31","v":0},{"$f":"'3.Zones_desservies'!OL31","v":0},{"$f":"'3.Zones_desservies'!OM31","v":0},{"$f":"'3.Zones_desservies'!ON31","v":0},{"$f":"'3.Zones_desservies'!OO31","v":0},{"$f":"'3.Zones_desservies'!OP31","v":0},{"$f":"'3.Zones_desservies'!OQ31","v":0},{"$f":"'3.Zones_desservies'!OR31","v":0},{"$f":"'3.Zones_desservies'!OS31","v":0},{"$f":"'3.Zones_desservies'!OT31","v":0},{"$f":"'3.Zones_desservies'!OU31","v":0},{"$f":"'3.Zones_desservies'!OV31","v":0},{"$f":"'3.Zones_desservies'!OW31","v":0},{"$f":"'3.Zones_desservies'!OX31","v":0},{"$f":"'3.Zones_desservies'!OY31","v":0},{"$f":"'3.Zones_desservies'!OZ31","v":0},{"$f":"'3.Zones_desservies'!PA31","v":0},{"$f":"'3.Zones_desservies'!PB31","v":0},{"$f":"'3.Zones_desservies'!PC31","v":0},{"$f":"'3.Zones_desservies'!PD31","v":0},{"$f":"'3.Zones_desservies'!PE31","v":0},{"$f":"'3.Zones_desservies'!PF31","v":0},{"$f":"'3.Zones_desservies'!PG31","v":0},{"$f":"'3.Zones_desservies'!PH31","v":0},{"$f":"'3.Zones_desservies'!PI31","v":0},{"$f":"'3.Zones_desservies'!PJ31","v":0},{"$f":"'3.Zones_desservies'!PK31","v":0},{"$f":"'3.Zones_desservies'!PL31","v":0},{"$f":"'3.Zones_desservies'!PM31","v":0},{"$f":"'3.Zones_desservies'!PN31","v":0},{"$f":"'3.Zones_desservies'!PO31","v":0},{"$f":"'3.Zones_desservies'!PP31","v":0},{"$f":"'3.Zones_desservies'!PQ31","v":0},{"$f":"'3.Zones_desservies'!PR31","v":0},{"$f":"'3.Zones_desservies'!PS31","v":0},{"$f":"'3.Zones_desservies'!PT31","v":0},{"$f":"'3.Zones_desservies'!PU31","v":0},{"$f":"'3.Zones_desservies'!PV31","v":0},{"$f":"'3.Zones_desservies'!PW31","v":0},{"$f":"'3.Zones_desservies'!PX31","v":0},{"$f":"'3.Zones_desservies'!PY31","v":0},{"$f":"'3.Zones_desservies'!PZ31","v":0},{"$f":"'3.Zones_desservies'!QA31","v":0},{"$f":"'3.Zones_desservies'!QB31","v":0},{"$f":"'3.Zones_desservies'!QC31","v":0},{"$f":"'3.Zones_desservies'!QD31","v":0},{"$f":"'3.Zones_desservies'!QE31","v":0},{"$f":"'3.Zones_desservies'!QF31","v":0},{"$f":"'3.Zones_desservies'!QG31","v":0},{"$f":"'3.Zones_desservies'!QH31","v":0},{"$f":"'3.Zones_desservies'!QI31","v":0},{"$f":"'3.Zones_desservies'!QJ31","v":0},{"$f":"'3.Zones_desservies'!QK31","v":0},{"$f":"'3.Zones_desservies'!QL31","v":0},{"$f":"'3.Zones_desservies'!QM31","v":0},{"$f":"'3.Zones_desservies'!QN31","v":0},{"$f":"'3.Zones_desservies'!QO31","v":0},{"$f":"'3.Zones_desservies'!QP31","v":0},{"$f":"'3.Zones_desservies'!QQ31","v":0},{"$f":"'3.Zones_desservies'!QR31","v":0},{"$f":"'3.Zones_desservies'!QS31","v":0},{"$f":"'3.Zones_desservies'!QT31","v":0},{"$f":"'3.Zones_desservies'!QU31","v":0},{"$f":"'3.Zones_desservies'!QV31","v":0},{"$f":"'3.Zones_desservies'!QW31","v":0},{"$f":"'3.Zones_desservies'!QX31","v":0},{"$f":"'3.Zones_desservies'!QY31","v":0},{"$f":"'3.Zones_desservies'!QZ31","v":0},{"$f":"'3.Zones_desservies'!RA31","v":0},{"$f":"'3.Zones_desservies'!RB31","v":0},{"$f":"'3.Zones_desservies'!RC31","v":0},{"$f":"'3.Zones_desservies'!RD31","v":0},{"$f":"'3.Zones_desservies'!RE31","v":0},{"$f":"'3.Zones_desservies'!RF31","v":0},{"$f":"'3.Zones_desservies'!RG31","v":0},{"$f":"'3.Zones_desservies'!RH31","v":0},{"$f":"'3.Zones_desservies'!RI31","v":0},{"$f":"'3.Zones_desservies'!RJ31","v":0},{"$f":"'3.Zones_desservies'!RK31","v":0},{"$f":"'3.Zones_desservies'!RL31","v":0},{"$f":"'3.Zones_desservies'!RM31","v":0},{"$f":"'3.Zones_desservies'!RN31","v":0},{"$f":"'3.Zones_desservies'!RO31","v":0},{"$f":"'3.Zones_desservies'!RP31","v":0},{"$f":"'3.Zones_desservies'!RQ31","v":0},{"$f":"'3.Zones_desservies'!RR31","v":0},{"$f":"'3.Zones_desservies'!RS31","v":0},{"$f":"'3.Zones_desservies'!RT31","v":0},{"$f":"'3.Zones_desservies'!RU31","v":0},{"$f":"'3.Zones_desservies'!RV31","v":0},{"$f":"'3.Zones_desservies'!RW31","v":0},{"$f":"'3.Zones_desservies'!RX31","v":0},{"$f":"'3.Zones_desservies'!RY31","v":0},{"$f":"'3.Zones_desservies'!RZ31","v":0},{"$f":"'3.Zones_desservies'!SA31","v":0},{"$f":"'3.Zones_desservies'!SB31","v":0},{"$f":"'3.Zones_desservies'!SC31","v":0},{"$f":"'3.Zones_desservies'!SD31","v":0},{"$f":"'3.Zones_desservies'!SE31","v":0},{"$f":"'3.Zones_desservies'!SF31","v":0},{"$f":"'3.Zones_desservies'!SG31","v":0},{"$f":"'3.Zones_desservies'!SH31","v":0}]
[null,{"$f":"'3.Zones_desservies'!B32","v":18},{"$f":"'3.Zones_desservies'!C32","v":0},{"$f":"'3.Zones_desservies'!D32","v":0},{"$f":"'3.Zones_desservies'!E32","v":0},{"$f":"'3.Zones_desservies'!F32","v":0},{"$f":"'3.Zones_desservies'!G32","v":0},{"$f":"'3.Zones_desservies'!H32","v":0},{"$f":"'3.Zones_desservies'!I32","v":0},{"$f":"'3.Zones_desservies'!J32","v":0},{"$f":"'3.Zones_desservies'!K32","v":0},{"$f":"'3.Zones_desservies'!L32","v":0},{"$f":"'3.Zones_desservies'!M32","v":0},{"$f":"'3.Zones_desservies'!N32","v":0},{"$f":"'3.Zones_desservies'!O32","v":0},{"$f":"'3.Zones_desservies'!P32","v":0},{"$f":"'3.Zones_desservies'!Q32","v":0},{"$f":"'3.Zones_desservies'!R32","v":0},{"$f":"'3.Zones_desservies'!S32","v":0},{"$f":"'3.Zones_desservies'!T32","v":0},{"$f":"'3.Zones_desservies'!U32","v":0},{"$f":"'3.Zones_desservies'!V32","v":0},{"$f":"'3.Zones_desservies'!W32","v":0},{"$f":"'3.Zones_desservies'!X32","v":0},{"$f":"'3.Zones_desservies'!Y32","v":0},{"$f":"'3.Zones_desservies'!Z32","v":0},{"$f":"'3.Zones_desservies'!AA32","v":0},{"$f":"'3.Zones_desservies'!AB32","v":0},{"$f":"'3.Zones_desservies'!AC32","v":0},{"$f":"'3.Zones_desservies'!AD32","v":0},{"$f":"'3.Zones_desservies'!AE32","v":0},{"$f":"'3.Zones_desservies'!AF32","v":0},{"$f":"'3.Zones_desservies'!AG32","v":0},{"$f":"'3.Zones_desservies'!AH32","v":0},{"$f":"'3.Zones_desservies'!AI32","v":0},{"$f":"'3.Zones_desservies'!AJ32","v":0},{"$f":"'3.Zones_desservies'!AK32","v":0},{"$f":"'3.Zones_desservies'!AL32","v":0},{"$f":"'3.Zones_desservies'!AM32","v":0},{"$f":"'3.Zones_desservies'!AN32","v":0},{"$f":"'3.Zones_desservies'!AO32","v":0},{"$f":"'3.Zones_desservies'!AP32","v":0},{"$f":"'3.Zones_desservies'!AQ32","v":0},{"$f":"'3.Zones_desservies'!AR32","v":0},{"$f":"'3.Zones_desservies'!AS32","v":0},{"$f":"'3.Zones_desservies'!AT32","v":0},{"$f":"'3.Zones_desservies'!AU32","v":0},{"$f":"'3.Zones_desservies'!AV32","v":0},{"$f":"'3.Zones_desservies'!AW32","v":0},{"$f":"'3.Zones_desservies'!AX32","v":0},{"$f":"'3.Zones_desservies'!AY32","v":0},{"$f":"'3.Zones_desservies'!AZ32","v":0},{"$f":"'3.Zones_desservies'!BA32","v":0},{"$f":"'3.Zones_desservies'!BB32","v":0},{"$f":"'3.Zones_desservies'!BC32","v":0},{"$f":"'3.Zones_desservies'!BD32","v":0},{"$f":"'3.Zones_desservies'!BE32","v":0},{"$f":"'3.Zones_desservies'!BF32","v":0},{"$f":"'3.Zones_desservies'!BG32","v":0},{"$f":"'3.Zones_desservies'!BH32","v":0},{"$f":"'3.Zones_desservies'!BI32","v":0},{"$f":"'3.Zones_desservies'!BJ32","v":0},{"$f":"'3.Zones_desservies'!BK32","v":0},{"$f":"'3.Zones_desservies'!BL32","v":0},{"$f":"'3.Zones_desservies'!BM32","v":0},{"$f":"'3.Zones_desservies'!BN32","v":0},{"$f":"'3.Zones_desservies'!BO32","v":0},{"$f":"'3.Zones_desservies'!BP32","v":0},{"$f":"'3.Zones_desservies'!BQ32","v":0},{"$f":"'3.Zones_desservies'!BR32","v":0},{"$f":"'3.Zones_desservies'!BS32","v":0},{"$f":"'3.Zones_desservies'!BT32","v":0},{"$f":"'3.Zones_desservies'!BU32","v":0},{"$f":"'3.Zones_desservies'!BV32","v":0},{"$f":"'3.Zones_desservies'!BW32","v":0},{"$f":"'3.Zones_desservies'!BX32","v":0},{"$f":"'3.Zones_desservies'!BY32","v":0},{"$f":"'3.Zones_desservies'!BZ32","v":0},{"$f":"'3.Zones_desservies'!CA32","v":0},{"$f":"'3.Zones_desservies'!CB32","v":0},{"$f":"'3.Zones_desservies'!CC32","v":0},{"$f":"'3.Zones_desservies'!CD32","v":0},{"$f":"'3.Zones_desservies'!CE32","v":0},{"$f":"'3.Zones_desservies'!CF32","v":0},{"$f":"'3.Zones_desservies'!CG32","v":0},{"$f":"'3.Zones_desservies'!CH32","v":0},{"$f":"'3.Zones_desservies'!CI32","v":0},{"$f":"'3.Zones_desservies'!CJ32","v":0},{"$f":"'3.Zones_desservies'!CK32","v":0},{"$f":"'3.Zones_desservies'!CL32","v":0},{"$f":"'3.Zones_desservies'!CM32","v":0},{"$f":"'3.Zones_desservies'!CN32","v":0},{"$f":"'3.Zones_desservies'!CO32","v":0},{"$f":"'3.Zones_desservies'!CP32","v":0},{"$f":"'3.Zones_desservies'!CQ32","v":0},{"$f":"'3.Zones_desservies'!CR32","v":0},{"$f":"'3.Zones_desservies'!CS32","v":0},{"$f":"'3.Zones_desservies'!CT32","v":0},{"$f":"'3.Zones_desservies'!CU32","v":0},{"$f":"'3.Zones_desservies'!CV32","v":0},{"$f":"'3.Zones_desservies'!CW32","v":0},{"$f":"'3.Zones_desservies'!CX32","v":0},{"$f":"'3.Zones_desservies'!CY32","v":"_"},{"$f":"'3.Zones_desservies'!CZ32","v":0},{"$f":"'3.Zones_desservies'!DA32","v":0},{"$f":"'3.Zones_desservies'!DB32","v":0},{"$f":"'3.Zones_desservies'!DC32","v":0},{"$f":"'3.Zones_desservies'!DD32","v":0},{"$f":"'3.Zones_desservies'!DE32","v":0},{"$f":"'3.Zones_desservies'!DF32","v":0},{"$f":"'3.Zones_desservies'!DG32","v":0},{"$f":"'3.Zones_desservies'!DH32","v":0},{"$f":"'3.Zones_desservies'!DI32","v":0},{"$f":"'3.Zones_desservies'!DJ32","v":0},{"$f":"'3.Zones_desservies'!DK32","v":0},{"$f":"'3.Zones_desservies'!DL32","v":0},{"$f":"'3.Zones_desservies'!DM32","v":0},{"$f":"'3.Zones_desservies'!DN32","v":0},{"$f":"'3.Zones_desservies'!DO32","v":0},{"$f":"'3.Zones_desservies'!DP32","v":0},{"$f":"'3.Zones_desservies'!DQ32","v":0},{"$f":"'3.Zones_desservies'!DR32","v":0},{"$f":"'3.Zones_desservies'!DS32","v":0},{"$f":"'3.Zones_desservies'!DT32","v":0},{"$f":"'3.Zones_desservies'!DU32","v":0},{"$f":"'3.Zones_desservies'!DV32","v":0},{"$f":"'3.Zones_desservies'!DW32","v":0},{"$f":"'3.Zones_desservies'!DX32","v":0},{"$f":"'3.Zones_desservies'!DY32","v":0},{"$f":"'3.Zones_desservies'!DZ32","v":0},{"$f":"'3.Zones_desservies'!EA32","v":0},{"$f":"'3.Zones_desservies'!EB32","v":0},{"$f":"'3.Zones_desservies'!EC32","v":0},{"$f":"'3.Zones_desservies'!ED32","v":0},{"$f":"'3.Zones_desservies'!EE32","v":0},{"$f":"'3.Zones_desservies'!EF32","v":0},{"$f":"'3.Zones_desservies'!EG32","v":0},{"$f":"'3.Zones_desservies'!EH32","v":0},{"$f":"'3.Zones_desservies'!EI32","v":0},{"$f":"'3.Zones_desservies'!EJ32","v":0},{"$f":"'3.Zones_desservies'!EK32","v":0},{"$f":"'3.Zones_desservies'!EL32","v":0},{"$f":"'3.Zones_desservies'!EM32","v":0},{"$f":"'3.Zones_desservies'!EN32","v":0},{"$f":"'3.Zones_desservies'!EO32","v":0},{"$f":"'3.Zones_desservies'!EP32","v":0},{"$f":"'3.Zones_desservies'!EQ32","v":0},{"$f":"'3.Zones_desservies'!ER32","v":0},{"$f":"'3.Zones_desservies'!ES32","v":0},{"$f":"'3.Zones_desservies'!ET32","v":0},{"$f":"'3.Zones_desservies'!EU32","v":0},{"$f":"'3.Zones_desservies'!EV32","v":0},{"$f":"'3.Zones_desservies'!EW32","v":0},{"$f":"'3.Zones_desservies'!EX32","v":0},{"$f":"'3.Zones_desservies'!EY32","v":0},{"$f":"'3.Zones_desservies'!EZ32","v":0},{"$f":"'3.Zones_desservies'!FA32","v":0},{"$f":"'3.Zones_desservies'!FB32","v":0},{"$f":"'3.Zones_desservies'!FC32","v":0},{"$f":"'3.Zones_desservies'!FD32","v":0},{"$f":"'3.Zones_desservies'!FE32","v":0},{"$f":"'3.Zones_desservies'!FF32","v":0},{"$f":"'3.Zones_desservies'!FG32","v":0},{"$f":"'3.Zones_desservies'!FH32","v":0},{"$f":"'3.Zones_desservies'!FI32","v":0},{"$f":"'3.Zones_desservies'!FJ32","v":0},{"$f":"'3.Zones_desservies'!FK32","v":0},{"$f":"'3.Zones_desservies'!FL32","v":0},{"$f":"'3.Zones_desservies'!FM32","v":0},{"$f":"'3.Zones_desservies'!FN32","v":0},{"$f":"'3.Zones_desservies'!FO32","v":0},{"$f":"'3.Zones_desservies'!FP32","v":0},{"$f":"'3.Zones_desservies'!FQ32","v":0},{"$f":"'3.Zones_desservies'!FR32","v":0},{"$f":"'3.Zones_desservies'!FS32","v":0},{"$f":"'3.Zones_desservies'!FT32","v":0},{"$f":"'3.Zones_desservies'!FU32","v":0},{"$f":"'3.Zones_desservies'!FV32","v":0},{"$f":"'3.Zones_desservies'!FW32","v":0},{"$f":"'3.Zones_desservies'!FX32","v":0},{"$f":"'3.Zones_desservies'!FY32","v":0},{"$f":"'3.Zones_desservies'!FZ32","v":0},{"$f":"'3.Zones_desservies'!GA32","v":0},{"$f":"'3.Zones_desservies'!GB32","v":0},{"$f":"'3.Zones_desservies'!GC32","v":0},{"$f":"'3.Zones_desservies'!GD32","v":0},{"$f":"'3.Zones_desservies'!GE32","v":0},{"$f":"'3.Zones_desservies'!GF32","v":0},{"$f":"'3.Zones_desservies'!GG32","v":0},{"$f":"'3.Zones_desservies'!GH32","v":0},{"$f":"'3.Zones_desservies'!GI32","v":0},{"$f":"'3.Zones_desservies'!GJ32","v":0},{"$f":"'3.Zones_desservies'!GK32","v":0},{"$f":"'3.Zones_desservies'!GL32","v":0},{"$f":"'3.Zones_desservies'!GM32","v":0},{"$f":"'3.Zones_desservies'!GN32","v":0},{"$f":"'3.Zones_desservies'!GO32","v":0},{"$f":"'3.Zones_desservies'!GP32","v":0},{"$f":"'3.Zones_desservies'!GQ32","v":0},{"$f":"'3.Zones_desservies'!GR32","v":0},{"$f":"'3.Zones_desservies'!GS32","v":0},{"$f":"'3.Zones_desservies'!GT32","v":0},{"$f":"'3.Zones_desservies'!GU32","v":0},{"$f":"'3.Zones_desservies'!GV32","v":0},{"$f":"'3.Zones_desservies'!GW32","v":0},{"$f":"'3.Zones_desservies'!GX32","v":0},{"$f":"'3.Zones_desservies'!GY32","v":0},{"$f":"'3.Zones_desservies'!GZ32","v":0},{"$f":"'3.Zones_desservies'!HA32","v":0},{"$f":"'3.Zones_desservies'!HB32","v":0},{"$f":"'3.Zones_desservies'!HC32","v":0},{"$f":"'3.Zones_desservies'!HD32","v":0},{"$f":"'3.Zones_desservies'!HE32","v":0},{"$f":"'3.Zones_desservies'!HF32","v":0},{"$f":"'3.Zones_desservies'!HG32","v":0},{"$f":"'3.Zones_desservies'!HH32","v":0},{"$f":"'3.Zones_desservies'!HI32","v":0},{"$f":"'3.Zones_desservies'!HJ32","v":0},{"$f":"'3.Zones_desservies'!HK32","v":0},{"$f":"'3.Zones_desservies'!HL32","v":0},{"$f":"'3.Zones_desservies'!HM32","v":0},{"$f":"'3.Zones_desservies'!HN32","v":0},{"$f":"'3.Zones_desservies'!HO32","v":0},{"$f":"'3.Zones_desservies'!HP32","v":0},{"$f":"'3.Zones_desservies'!HQ32","v":0},{"$f":"'3.Zones_desservies'!HR32","v":0},{"$f":"'3.Zones_desservies'!HS32","v":0},{"$f":"'3.Zones_desservies'!HT32","v":0},{"$f":"'3.Zones_desservies'!HU32","v":0},{"$f":"'3.Zones_desservies'!HV32","v":0},{"$f":"'3.Zones_desservies'!HW32","v":0},{"$f":"'3.Zones_desservies'!HX32","v":0},{"$f":"'3.Zones_desservies'!HY32","v":0},{"$f":"'3.Zones_desservies'!HZ32","v":0},{"$f":"'3.Zones_desservies'!IA32","v":0},{"$f":"'3.Zones_desservies'!IB32","v":0},{"$f":"'3.Zones_desservies'!IC32","v":0},{"$f":"'3.Zones_desservies'!ID32","v":0},{"$f":"'3.Zones_desservies'!IE32","v":0},{"$f":"'3.Zones_desservies'!IF32","v":0},{"$f":"'3.Zones_desservies'!IG32","v":0},{"$f":"'3.Zones_desservies'!IH32","v":0},{"$f":"'3.Zones_desservies'!II32","v":0},{"$f":"'3.Zones_desservies'!IJ32","v":0},{"$f":"'3.Zones_desservies'!IK32","v":0},{"$f":"'3.Zones_desservies'!IL32","v":0},{"$f":"'3.Zones_desservies'!IM32","v":0},{"$f":"'3.Zones_desservies'!IN32","v":0},{"$f":"'3.Zones_desservies'!IO32","v":0},{"$f":"'3.Zones_desservies'!IP32","v":0},{"$f":"'3.Zones_desservies'!IQ32","v":0},{"$f":"'3.Zones_desservies'!IR32","v":0},{"$f":"'3.Zones_desservies'!IS32","v":0},{"$f":"'3.Zones_desservies'!IT32","v":0},{"$f":"'3.Zones_desservies'!IU32","v":0},{"$f":"'3.Zones_desservies'!IV32","v":0},{"$f":"'3.Zones_desservies'!IW32","v":0},{"$f":"'3.Zones_desservies'!IX32","v":0},{"$f":"'3.Zones_desservies'!IY32","v":0},{"$f":"'3.Zones_desservies'!IZ32","v":0},{"$f":"'3.Zones_desservies'!JA32","v":0},{"$f":"'3.Zones_desservies'!JB32","v":0},{"$f":"'3.Zones_desservies'!JC32","v":0},{"$f":"'3.Zones_desservies'!JD32","v":0},{"$f":"'3.Zones_desservies'!JE32","v":0},{"$f":"'3.Zones_desservies'!JF32","v":0},{"$f":"'3.Zones_desservies'!JG32","v":0},{"$f":"'3.Zones_desservies'!JH32","v":0},{"$f":"'3.Zones_desservies'!JI32","v":0},{"$f":"'3.Zones_desservies'!JJ32","v":0},{"$f":"'3.Zones_desservies'!JK32","v":0},{"$f":"'3.Zones_desservies'!JL32","v":0},{"$f":"'3.Zones_desservies'!JM32","v":0},{"$f":"'3.Zones_desservies'!JN32","v":0},{"$f":"'3.Zones_desservies'!JO32","v":0},{"$f":"'3.Zones_desservies'!JP32","v":0},{"$f":"'3.Zones_desservies'!JQ32","v":0},{"$f":"'3.Zones_desservies'!JR32","v":0},{"$f":"'3.Zones_desservies'!JS32","v":0},{"$f":"'3.Zones_desservies'!JT32","v":0},{"$f":"'3.Zones_desservies'!JU32","v":0},{"$f":"'3.Zones_desservies'!JV32","v":0},{"$f":"'3.Zones_desservies'!JW32","v":0},{"$f":"'3.Zones_desservies'!JX32","v":0},{"$f":"'3.Zones_desservies'!JY32","v":0},{"$f":"'3.Zones_desservies'!JZ32","v":0},{"$f":"'3.Zones_desservies'!KA32","v":0},{"$f":"'3.Zones_desservies'!KB32","v":0},{"$f":"'3.Zones_desservies'!KC32","v":0},{"$f":"'3.Zones_desservies'!KD32","v":0},{"$f":"'3.Zones_desservies'!KE32","v":0},{"$f":"'3.Zones_desservies'!KF32","v":0},{"$f":"'3.Zones_desservies'!KG32","v":0},{"$f":"'3.Zones_desservies'!KH32","v":0},{"$f":"'3.Zones_desservies'!KI32","v":0},{"$f":"'3.Zones_desservies'!KJ32","v":0},{"$f":"'3.Zones_desservies'!KK32","v":0},{"$f":"'3.Zones_desservies'!KL32","v":0},{"$f":"'3.Zones_desservies'!KM32","v":0},{"$f":"'3.Zones_desservies'!KN32","v":0},{"$f":"'3.Zones_desservies'!KO32","v":0},{"$f":"'3.Zones_desservies'!KP32","v":0},{"$f":"'3.Zones_desservies'!KQ32","v":0},{"$f":"'3.Zones_desservies'!KR32","v":0},{"$f":"'3.Zones_desservies'!KS32","v":0},{"$f":"'3.Zones_desservies'!KT32","v":0},{"$f":"'3.Zones_desservies'!KU32","v":0},{"$f":"'3.Zones_desservies'!KV32","v":0},{"$f":"'3.Zones_desservies'!KW32","v":0},{"$f":"'3.Zones_desservies'!KX32","v":0},{"$f":"'3.Zones_desservies'!KY32","v":0},{"$f":"'3.Zones_desservies'!KZ32","v":0},{"$f":"'3.Zones_desservies'!LA32","v":0},{"$f":"'3.Zones_desservies'!LB32","v":0},{"$f":"'3.Zones_desservies'!LC32","v":0},{"$f":"'3.Zones_desservies'!LD32","v":0},{"$f":"'3.Zones_desservies'!LE32","v":0},{"$f":"'3.Zones_desservies'!LF32","v":0},{"$f":"'3.Zones_desservies'!LG32","v":0},{"$f":"'3.Zones_desservies'!LH32","v":0},{"$f":"'3.Zones_desservies'!LI32","v":0},{"$f":"'3.Zones_desservies'!LJ32","v":0},{"$f":"'3.Zones_desservies'!LK32","v":0},{"$f":"'3.Zones_desservies'!LL32","v":0},{"$f":"'3.Zones_desservies'!LM32","v":0},{"$f":"'3.Zones_desservies'!LN32","v":0},{"$f":"'3.Zones_desservies'!LO32","v":0},{"$f":"'3.Zones_desservies'!LP32","v":0},{"$f":"'3.Zones_desservies'!LQ32","v":0},{"$f":"'3.Zones_desservies'!LR32","v":0},{"$f":"'3.Zones_desservies'!LS32","v":0},{"$f":"'3.Zones_desservies'!LT32","v":0},{"$f":"'3.Zones_desservies'!LU32","v":0},{"$f":"'3.Zones_desservies'!LV32","v":0},{"$f":"'3.Zones_desservies'!LW32","v":0},{"$f":"'3.Zones_desservies'!LX32","v":0},{"$f":"'3.Zones_desservies'!LY32","v":0},{"$f":"'3.Zones_desservies'!LZ32","v":0},{"$f":"'3.Zones_desservies'!MA32","v":0},{"$f":"'3.Zones_desservies'!MB32","v":0},{"$f":"'3.Zones_desservies'!MC32","v":0},{"$f":"'3.Zones_desservies'!MD32","v":0},{"$f":"'3.Zones_desservies'!ME32","v":0},{"$f":"'3.Zones_desservies'!MF32","v":0},{"$f":"'3.Zones_desservies'!MG32","v":0},{"$f":"'3.Zones_desservies'!MH32","v":0},{"$f":"'3.Zones_desservies'!MI32","v":0},{"$f":"'3.Zones_desservies'!MJ32","v":0},{"$f":"'3.Zones_desservies'!MK32","v":0},{"$f":"'3.Zones_desservies'!ML32","v":0},{"$f":"'3.Zones_desservies'!MM32","v":0},{"$f":"'3.Zones_desservies'!MN32","v":0},{"$f":"'3.Zones_desservies'!MO32","v":0},{"$f":"'3.Zones_desservies'!MP32","v":0},{"$f":"'3.Zones_desservies'!MQ32","v":0},{"$f":"'3.Zones_desservies'!MR32","v":0},{"$f":"'3.Zones_desservies'!MS32","v":0},{"$f":"'3.Zones_desservies'!MT32","v":0},{"$f":"'3.Zones_desservies'!MU32","v":0},{"$f":"'3.Zones_desservies'!MV32","v":0},{"$f":"'3.Zones_desservies'!MW32","v":0},{"$f":"'3.Zones_desservies'!MX32","v":0},{"$f":"'3.Zones_desservies'!MY32","v":0},{"$f":"'3.Zones_desservies'!MZ32","v":0},{"$f":"'3.Zones_desservies'!NA32","v":0},{"$f":"'3.Zones_desservies'!NB32","v":0},{"$f":"'3.Zones_desservies'!NC32","v":0},{"$f":"'3.Zones_desservies'!ND32","v":0},{"$f":"'3.Zones_desservies'!NE32","v":0},{"$f":"'3.Zones_desservies'!NF32","v":0},{"$f":"'3.Zones_desservies'!NG32","v":0},{"$f":"'3.Zones_desservies'!NH32","v":0},{"$f":"'3.Zones_desservies'!NI32","v":0},{"$f":"'3.Zones_desservies'!NJ32","v":0},{"$f":"'3.Zones_desservies'!NK32","v":0},{"$f":"'3.Zones_desservies'!NL32","v":0},{"$f":"'3.Zones_desservies'!NM32","v":0},{"$f":"'3.Zones_desservies'!NN32","v":0},{"$f":"'3.Zones_desservies'!NO32","v":0},{"$f":"'3.Zones_desservies'!NP32","v":0},{"$f":"'3.Zones_desservies'!NQ32","v":0},{"$f":"'3.Zones_desservies'!NR32","v":0},{"$f":"'3.Zones_desservies'!NS32","v":0},{"$f":"'3.Zones_desservies'!NT32","v":0},{"$f":"'3.Zones_desservies'!NU32","v":0},{"$f":"'3.Zones_desservies'!NV32","v":0},{"$f":"'3.Zones_desservies'!NW32","v":0},{"$f":"'3.Zones_desservies'!NX32","v":0},{"$f":"'3.Zones_desservies'!NY32","v":0},{"$f":"'3.Zones_desservies'!NZ32","v":0},{"$f":"'3.Zones_desservies'!OA32","v":0},{"$f":"'3.Zones_desservies'!OB32","v":0},{"$f":"'3.Zones_desservies'!OC32","v":0},{"$f":"'3.Zones_desservies'!OD32","v":0},{"$f":"'3.Zones_desservies'!OE32","v":0},{"$f":"'3.Zones_desservies'!OF32","v":0},{"$f":"'3.Zones_desservies'!OG32","v":0},{"$f":"'3.Zones_desservies'!OH32","v":0},{"$f":"'3.Zones_desservies'!OI32","v":0},{"$f":"'3.Zones_desservies'!OJ32","v":0},{"$f":"'3.Zones_desservies'!OK32","v":0},{"$f":"'3.Zones_desservies'!OL32","v":0},{"$f":"'3.Zones_desservies'!OM32","v":0},{"$f":"'3.Zones_desservies'!ON32","v":0},{"$f":"'3.Zones_desservies'!OO32","v":0},{"$f":"'3.Zones_desservies'!OP32","v":0},{"$f":"'3.Zones_desservies'!OQ32","v":0},{"$f":"'3.Zones_desservies'!OR32","v":0},{"$f":"'3.Zones_desservies'!OS32","v":0},{"$f":"'3.Zones_desservies'!OT32","v":0},{"$f":"'3.Zones_desservies'!OU32","v":0},{"$f":"'3.Zones_desservies'!OV32","v":0},{"$f":"'3.Zones_desservies'!OW32","v":0},{"$f":"'3.Zones_desservies'!OX32","v":0},{"$f":"'3.Zones_desservies'!OY32","v":0},{"$f":"'3.Zones_desservies'!OZ32","v":0},{"$f":"'3.Zones_desservies'!PA32","v":0},{"$f":"'3.Zones_desservies'!PB32","v":0},{"$f":"'3.Zones_desservies'!PC32","v":0},{"$f":"'3.Zones_desservies'!PD32","v":0},{"$f":"'3.Zones_desservies'!PE32","v":0},{"$f":"'3.Zones_desservies'!PF32","v":0},{"$f":"'3.Zones_desservies'!PG32","v":0},{"$f":"'3.Zones_desservies'!PH32","v":0},{"$f":"'3.Zones_desservies'!PI32","v":0},{"$f":"'3.Zones_desservies'!PJ32","v":0},{"$f":"'3.Zones_desservies'!PK32","v":0},{"$f":"'3.Zones_desservies'!PL32","v":0},{"$f":"'3.Zones_desservies'!PM32","v":0},{"$f":"'3.Zones_desservies'!PN32","v":0},{"$f":"'3.Zones_desservies'!PO32","v":0},{"$f":"'3.Zones_desservies'!PP32","v":0},{"$f":"'3.Zones_desservies'!PQ32","v":0},{"$f":"'3.Zones_desservies'!PR32","v":0},{"$f":"'3.Zones_desservies'!PS32","v":0},{"$f":"'3.Zones_desservies'!PT32","v":0},{"$f":"'3.Zones_desservies'!PU32","v":0},{"$f":"'3.Zones_desservies'!PV32","v":0},{"$f":"'3.Zones_desservies'!PW32","v":0},{"$f":"'3.Zones_desservies'!PX32","v":0},{"$f":"'3.Zones_desservies'!PY32","v":0},{"$f":"'3.Zones_desservies'!PZ32","v":0},{"$f":"'3.Zones_desservies'!QA32","v":0},{"$f":"'3.Zones_desservies'!QB32","v":0},{"$f":"'3.Zones_desservies'!QC32","v":0},{"$f":"'3.Zones_desservies'!QD32","v":0},{"$f":"'3.Zones_desservies'!QE32","v":0},{"$f":"'3.Zones_desservies'!QF32","v":0},{"$f":"'3.Zones_desservies'!QG32","v":0},{"$f":"'3.Zones_desservies'!QH32","v":0},{"$f":"'3.Zones_desservies'!QI32","v":0},{"$f":"'3.Zones_desservies'!QJ32","v":0},{"$f":"'3.Zones_desservies'!QK32","v":0},{"$f":"'3.Zones_desservies'!QL32","v":0},{"$f":"'3.Zones_desservies'!QM32","v":0},{"$f":"'3.Zones_desservies'!QN32","v":0},{"$f":"'3.Zones_desservies'!QO32","v":0},{"$f":"'3.Zones_desservies'!QP32","v":0},{"$f":"'3.Zones_desservies'!QQ32","v":0},{"$f":"'3.Zones_desservies'!QR32","v":0},{"$f":"'3.Zones_desservies'!QS32","v":0},{"$f":"'3.Zones_desservies'!QT32","v":0},{"$f":"'3.Zones_desservies'!QU32","v":0},{"$f":"'3.Zones_desservies'!QV32","v":0},{"$f":"'3.Zones_desservies'!QW32","v":0},{"$f":"'3.Zones_desservies'!QX32","v":0},{"$f":"'3.Zones_desservies'!QY32","v":0},{"$f":"'3.Zones_desservies'!QZ32","v":0},{"$f":"'3.Zones_desservies'!RA32","v":0},{"$f":"'3.Zones_desservies'!RB32","v":0},{"$f":"'3.Zones_desservies'!RC32","v":0},{"$f":"'3.Zones_desservies'!RD32","v":0},{"$f":"'3.Zones_desservies'!RE32","v":0},{"$f":"'3.Zones_desservies'!RF32","v":0},{"$f":"'3.Zones_desservies'!RG32","v":0},{"$f":"'3.Zones_desservies'!RH32","v":0},{"$f":"'3.Zones_desservies'!RI32","v":0},{"$f":"'3.Zones_desservies'!RJ32","v":0},{"$f":"'3.Zones_desservies'!RK32","v":0},{"$f":"'3.Zones_desservies'!RL32","v":0},{"$f":"'3.Zones_desservies'!RM32","v":0},{"$f":"'3.Zones_desservies'!RN32","v":0},{"$f":"'3.Zones_desservies'!RO32","v":0},{"$f":"'3.Zones_desservies'!RP32","v":0},{"$f":"'3.Zones_desservies'!RQ32","v":0},{"$f":"'3.Zones_desservies'!RR32","v":0},{"$f":"'3.Zones_desservies'!RS32","v":0},{"$f":"'3.Zones_desservies'!RT32","v":0},{"$f":"'3.Zones_desservies'!RU32","v":0},{"$f":"'3.Zones_desservies'!RV32","v":0},{"$f":"'3.Zones_desservies'!RW32","v":0},{"$f":"'3.Zones_desservies'!RX32","v":0},{"$f":"'3.Zones_desservies'!RY32","v":0},{"$f":"'3.Zones_desservies'!RZ32","v":0},{"$f":"'3.Zones_desservies'!SA32","v":0},{"$f":"'3.Zones_desservies'!SB32","v":0},{"$f":"'3.Zones_desservies'!SC32","v":0},{"$f":"'3.Zones_desservies'!SD32","v":0},{"$f":"'3.Zones_desservies'!SE32","v":0},{"$f":"'3.Zones_desservies'!SF32","v":0},{"$f":"'3.Zones_desservies'!SG32","v":0},{"$f":"'3.Zones_desservies'!SH32","v":0}]
[null,{"$f":"'3.Zones_desservies'!B33","v":19},{"$f":"'3.Zones_desservies'!C33","v":0},{"$f":"'3.Zones_desservies'!D33","v":0},{"$f":"'3.Zones_desservies'!E33","v":0},{"$f":"'3.Zones_desservies'!F33","v":0},{"$f":"'3.Zones_desservies'!G33","v":0},{"$f":"'3.Zones_desservies'!H33","v":0},{"$f":"'3.Zones_desservies'!I33","v":0},{"$f":"'3.Zones_desservies'!J33","v":0},{"$f":"'3.Zones_desservies'!K33","v":0},{"$f":"'3.Zones_desservies'!L33","v":0},{"$f":"'3.Zones_desservies'!M33","v":0},{"$f":"'3.Zones_desservies'!N33","v":0},{"$f":"'3.Zones_desservies'!O33","v":0},{"$f":"'3.Zones_desservies'!P33","v":0},{"$f":"'3.Zones_desservies'!Q33","v":0},{"$f":"'3.Zones_desservies'!R33","v":0},{"$f":"'3.Zones_desservies'!S33","v":0},{"$f":"'3.Zones_desservies'!T33","v":0},{"$f":"'3.Zones_desservies'!U33","v":0},{"$f":"'3.Zones_desservies'!V33","v":0},{"$f":"'3.Zones_desservies'!W33","v":0},{"$f":"'3.Zones_desservies'!X33","v":0},{"$f":"'3.Zones_desservies'!Y33","v":0},{"$f":"'3.Zones_desservies'!Z33","v":0},{"$f":"'3.Zones_desservies'!AA33","v":0},{"$f":"'3.Zones_desservies'!AB33","v":0},{"$f":"'3.Zones_desservies'!AC33","v":0},{"$f":"'3.Zones_desservies'!AD33","v":0},{"$f":"'3.Zones_desservies'!AE33","v":0},{"$f":"'3.Zones_desservies'!AF33","v":0},{"$f":"'3.Zones_desservies'!AG33","v":0},{"$f":"'3.Zones_desservies'!AH33","v":0},{"$f":"'3.Zones_desservies'!AI33","v":0},{"$f":"'3.Zones_desservies'!AJ33","v":0},{"$f":"'3.Zones_desservies'!AK33","v":0},{"$f":"'3.Zones_desservies'!AL33","v":0},{"$f":"'3.Zones_desservies'!AM33","v":0},{"$f":"'3.Zones_desservies'!AN33","v":0},{"$f":"'3.Zones_desservies'!AO33","v":0},{"$f":"'3.Zones_desservies'!AP33","v":0},{"$f":"'3.Zones_desservies'!AQ33","v":0},{"$f":"'3.Zones_desservies'!AR33","v":0},{"$f":"'3.Zones_desservies'!AS33","v":0},{"$f":"'3.Zones_desservies'!AT33","v":0},{"$f":"'3.Zones_desservies'!AU33","v":0},{"$f":"'3.Zones_desservies'!AV33","v":0},{"$f":"'3.Zones_desservies'!AW33","v":0},{"$f":"'3.Zones_desservies'!AX33","v":0},{"$f":"'3.Zones_desservies'!AY33","v":0},{"$f":"'3.Zones_desservies'!AZ33","v":0},{"$f":"'3.Zones_desservies'!BA33","v":0},{"$f":"'3.Zones_desservies'!BB33","v":0},{"$f":"'3.Zones_desservies'!BC33","v":0},{"$f":"'3.Zones_desservies'!BD33","v":0},{"$f":"'3.Zones_desservies'!BE33","v":0},{"$f":"'3.Zones_desservies'!BF33","v":0},{"$f":"'3.Zones_desservies'!BG33","v":0},{"$f":"'3.Zones_desservies'!BH33","v":0},{"$f":"'3.Zones_desservies'!BI33","v":0},{"$f":"'3.Zones_desservies'!BJ33","v":0},{"$f":"'3.Zones_desservies'!BK33","v":0},{"$f":"'3.Zones_desservies'!BL33","v":0},{"$f":"'3.Zones_desservies'!BM33","v":0},{"$f":"'3.Zones_desservies'!BN33","v":0},{"$f":"'3.Zones_desservies'!BO33","v":0},{"$f":"'3.Zones_desservies'!BP33","v":0},{"$f":"'3.Zones_desservies'!BQ33","v":0},{"$f":"'3.Zones_desservies'!BR33","v":0},{"$f":"'3.Zones_desservies'!BS33","v":0},{"$f":"'3.Zones_desservies'!BT33","v":0},{"$f":"'3.Zones_desservies'!BU33","v":0},{"$f":"'3.Zones_desservies'!BV33","v":0},{"$f":"'3.Zones_desservies'!BW33","v":0},{"$f":"'3.Zones_desservies'!BX33","v":0},{"$f":"'3.Zones_desservies'!BY33","v":0},{"$f":"'3.Zones_desservies'!BZ33","v":0},{"$f":"'3.Zones_desservies'!CA33","v":0},{"$f":"'3.Zones_desservies'!CB33","v":0},{"$f":"'3.Zones_desservies'!CC33","v":0},{"$f":"'3.Zones_desservies'!CD33","v":0},{"$f":"'3.Zones_desservies'!CE33","v":0},{"$f":"'3.Zones_desservies'!CF33","v":0},{"$f":"'3.Zones_desservies'!CG33","v":0},{"$f":"'3.Zones_desservies'!CH33","v":0},{"$f":"'3.Zones_desservies'!CI33","v":0},{"$f":"'3.Zones_desservies'!CJ33","v":0},{"$f":"'3.Zones_desservies'!CK33","v":0},{"$f":"'3.Zones_desservies'!CL33","v":0},{"$f":"'3.Zones_desservies'!CM33","v":0},{"$f":"'3.Zones_desservies'!CN33","v":0},{"$f":"'3.Zones_desservies'!CO33","v":0},{"$f":"'3.Zones_desservies'!CP33","v":0},{"$f":"'3.Zones_desservies'!CQ33","v":0},{"$f":"'3.Zones_desservies'!CR33","v":0},{"$f":"'3.Zones_desservies'!CS33","v":0},{"$f":"'3.Zones_desservies'!CT33","v":0},{"$f":"'3.Zones_desservies'!CU33","v":0},{"$f":"'3.Zones_desservies'!CV33","v":0},{"$f":"'3.Zones_desservies'!CW33","v":0},{"$f":"'3.Zones_desservies'!CX33","v":0},{"$f":"'3.Zones_desservies'!CY33","v":"_"},{"$f":"'3.Zones_desservies'!CZ33","v":0},{"$f":"'3.Zones_desservies'!DA33","v":0},{"$f":"'3.Zones_desservies'!DB33","v":0},{"$f":"'3.Zones_desservies'!DC33","v":0},{"$f":"'3.Zones_desservies'!DD33","v":0},{"$f":"'3.Zones_desservies'!DE33","v":0},{"$f":"'3.Zones_desservies'!DF33","v":0},{"$f":"'3.Zones_desservies'!DG33","v":0},{"$f":"'3.Zones_desservies'!DH33","v":0},{"$f":"'3.Zones_desservies'!DI33","v":0},{"$f":"'3.Zones_desservies'!DJ33","v":0},{"$f":"'3.Zones_desservies'!DK33","v":0},{"$f":"'3.Zones_desservies'!DL33","v":0},{"$f":"'3.Zones_desservies'!DM33","v":0},{"$f":"'3.Zones_desservies'!DN33","v":0},{"$f":"'3.Zones_desservies'!DO33","v":0},{"$f":"'3.Zones_desservies'!DP33","v":0},{"$f":"'3.Zones_desservies'!DQ33","v":0},{"$f":"'3.Zones_desservies'!DR33","v":0},{"$f":"'3.Zones_desservies'!DS33","v":0},{"$f":"'3.Zones_desservies'!DT33","v":0},{"$f":"'3.Zones_desservies'!DU33","v":0},{"$f":"'3.Zones_desservies'!DV33","v":0},{"$f":"'3.Zones_desservies'!DW33","v":0},{"$f":"'3.Zones_desservies'!DX33","v":0},{"$f":"'3.Zones_desservies'!DY33","v":0},{"$f":"'3.Zones_desservies'!DZ33","v":0},{"$f":"'3.Zones_desservies'!EA33","v":0},{"$f":"'3.Zones_desservies'!EB33","v":0},{"$f":"'3.Zones_desservies'!EC33","v":0},{"$f":"'3.Zones_desservies'!ED33","v":0},{"$f":"'3.Zones_desservies'!EE33","v":0},{"$f":"'3.Zones_desservies'!EF33","v":0},{"$f":"'3.Zones_desservies'!EG33","v":0},{"$f":"'3.Zones_desservies'!EH33","v":0},{"$f":"'3.Zones_desservies'!EI33","v":0},{"$f":"'3.Zones_desservies'!EJ33","v":0},{"$f":"'3.Zones_desservies'!EK33","v":0},{"$f":"'3.Zones_desservies'!EL33","v":0},{"$f":"'3.Zones_desservies'!EM33","v":0},{"$f":"'3.Zones_desservies'!EN33","v":0},{"$f":"'3.Zones_desservies'!EO33","v":0},{"$f":"'3.Zones_desservies'!EP33","v":0},{"$f":"'3.Zones_desservies'!EQ33","v":0},{"$f":"'3.Zones_desservies'!ER33","v":0},{"$f":"'3.Zones_desservies'!ES33","v":0},{"$f":"'3.Zones_desservies'!ET33","v":0},{"$f":"'3.Zones_desservies'!EU33","v":0},{"$f":"'3.Zones_desservies'!EV33","v":0},{"$f":"'3.Zones_desservies'!EW33","v":0},{"$f":"'3.Zones_desservies'!EX33","v":0},{"$f":"'3.Zones_desservies'!EY33","v":0},{"$f":"'3.Zones_desservies'!EZ33","v":0},{"$f":"'3.Zones_desservies'!FA33","v":0},{"$f":"'3.Zones_desservies'!FB33","v":0},{"$f":"'3.Zones_desservies'!FC33","v":0},{"$f":"'3.Zones_desservies'!FD33","v":0},{"$f":"'3.Zones_desservies'!FE33","v":0},{"$f":"'3.Zones_desservies'!FF33","v":0},{"$f":"'3.Zones_desservies'!FG33","v":0},{"$f":"'3.Zones_desservies'!FH33","v":0},{"$f":"'3.Zones_desservies'!FI33","v":0},{"$f":"'3.Zones_desservies'!FJ33","v":0},{"$f":"'3.Zones_desservies'!FK33","v":0},{"$f":"'3.Zones_desservies'!FL33","v":0},{"$f":"'3.Zones_desservies'!FM33","v":0},{"$f":"'3.Zones_desservies'!FN33","v":0},{"$f":"'3.Zones_desservies'!FO33","v":0},{"$f":"'3.Zones_desservies'!FP33","v":0},{"$f":"'3.Zones_desservies'!FQ33","v":0},{"$f":"'3.Zones_desservies'!FR33","v":0},{"$f":"'3.Zones_desservies'!FS33","v":0},{"$f":"'3.Zones_desservies'!FT33","v":0},{"$f":"'3.Zones_desservies'!FU33","v":0},{"$f":"'3.Zones_desservies'!FV33","v":0},{"$f":"'3.Zones_desservies'!FW33","v":0},{"$f":"'3.Zones_desservies'!FX33","v":0},{"$f":"'3.Zones_desservies'!FY33","v":0},{"$f":"'3.Zones_desservies'!FZ33","v":0},{"$f":"'3.Zones_desservies'!GA33","v":0},{"$f":"'3.Zones_desservies'!GB33","v":0},{"$f":"'3.Zones_desservies'!GC33","v":0},{"$f":"'3.Zones_desservies'!GD33","v":0},{"$f":"'3.Zones_desservies'!GE33","v":0},{"$f":"'3.Zones_desservies'!GF33","v":0},{"$f":"'3.Zones_desservies'!GG33","v":0},{"$f":"'3.Zones_desservies'!GH33","v":0},{"$f":"'3.Zones_desservies'!GI33","v":0},{"$f":"'3.Zones_desservies'!GJ33","v":0},{"$f":"'3.Zones_desservies'!GK33","v":0},{"$f":"'3.Zones_desservies'!GL33","v":0},{"$f":"'3.Zones_desservies'!GM33","v":0},{"$f":"'3.Zones_desservies'!GN33","v":0},{"$f":"'3.Zones_desservies'!GO33","v":0},{"$f":"'3.Zones_desservies'!GP33","v":0},{"$f":"'3.Zones_desservies'!GQ33","v":0},{"$f":"'3.Zones_desservies'!GR33","v":0},{"$f":"'3.Zones_desservies'!GS33","v":0},{"$f":"'3.Zones_desservies'!GT33","v":0},{"$f":"'3.Zones_desservies'!GU33","v":0},{"$f":"'3.Zones_desservies'!GV33","v":0},{"$f":"'3.Zones_desservies'!GW33","v":0},{"$f":"'3.Zones_desservies'!GX33","v":0},{"$f":"'3.Zones_desservies'!GY33","v":0},{"$f":"'3.Zones_desservies'!GZ33","v":0},{"$f":"'3.Zones_desservies'!HA33","v":0},{"$f":"'3.Zones_desservies'!HB33","v":0},{"$f":"'3.Zones_desservies'!HC33","v":0},{"$f":"'3.Zones_desservies'!HD33","v":0},{"$f":"'3.Zones_desservies'!HE33","v":0},{"$f":"'3.Zones_desservies'!HF33","v":0},{"$f":"'3.Zones_desservies'!HG33","v":0},{"$f":"'3.Zones_desservies'!HH33","v":0},{"$f":"'3.Zones_desservies'!HI33","v":0},{"$f":"'3.Zones_desservies'!HJ33","v":0},{"$f":"'3.Zones_desservies'!HK33","v":0},{"$f":"'3.Zones_desservies'!HL33","v":0},{"$f":"'3.Zones_desservies'!HM33","v":0},{"$f":"'3.Zones_desservies'!HN33","v":0},{"$f":"'3.Zones_desservies'!HO33","v":0},{"$f":"'3.Zones_desservies'!HP33","v":0},{"$f":"'3.Zones_desservies'!HQ33","v":0},{"$f":"'3.Zones_desservies'!HR33","v":0},{"$f":"'3.Zones_desservies'!HS33","v":0},{"$f":"'3.Zones_desservies'!HT33","v":0},{"$f":"'3.Zones_desservies'!HU33","v":0},{"$f":"'3.Zones_desservies'!HV33","v":0},{"$f":"'3.Zones_desservies'!HW33","v":0},{"$f":"'3.Zones_desservies'!HX33","v":0},{"$f":"'3.Zones_desservies'!HY33","v":0},{"$f":"'3.Zones_desservies'!HZ33","v":0},{"$f":"'3.Zones_desservies'!IA33","v":0},{"$f":"'3.Zones_desservies'!IB33","v":0},{"$f":"'3.Zones_desservies'!IC33","v":0},{"$f":"'3.Zones_desservies'!ID33","v":0},{"$f":"'3.Zones_desservies'!IE33","v":0},{"$f":"'3.Zones_desservies'!IF33","v":0},{"$f":"'3.Zones_desservies'!IG33","v":0},{"$f":"'3.Zones_desservies'!IH33","v":0},{"$f":"'3.Zones_desservies'!II33","v":0},{"$f":"'3.Zones_desservies'!IJ33","v":0},{"$f":"'3.Zones_desservies'!IK33","v":0},{"$f":"'3.Zones_desservies'!IL33","v":0},{"$f":"'3.Zones_desservies'!IM33","v":0},{"$f":"'3.Zones_desservies'!IN33","v":0},{"$f":"'3.Zones_desservies'!IO33","v":0},{"$f":"'3.Zones_desservies'!IP33","v":0},{"$f":"'3.Zones_desservies'!IQ33","v":0},{"$f":"'3.Zones_desservies'!IR33","v":0},{"$f":"'3.Zones_desservies'!IS33","v":0},{"$f":"'3.Zones_desservies'!IT33","v":0},{"$f":"'3.Zones_desservies'!IU33","v":0},{"$f":"'3.Zones_desservies'!IV33","v":0},{"$f":"'3.Zones_desservies'!IW33","v":0},{"$f":"'3.Zones_desservies'!IX33","v":0},{"$f":"'3.Zones_desservies'!IY33","v":0},{"$f":"'3.Zones_desservies'!IZ33","v":0},{"$f":"'3.Zones_desservies'!JA33","v":0},{"$f":"'3.Zones_desservies'!JB33","v":0},{"$f":"'3.Zones_desservies'!JC33","v":0},{"$f":"'3.Zones_desservies'!JD33","v":0},{"$f":"'3.Zones_desservies'!JE33","v":0},{"$f":"'3.Zones_desservies'!JF33","v":0},{"$f":"'3.Zones_desservies'!JG33","v":0},{"$f":"'3.Zones_desservies'!JH33","v":0},{"$f":"'3.Zones_desservies'!JI33","v":0},{"$f":"'3.Zones_desservies'!JJ33","v":0},{"$f":"'3.Zones_desservies'!JK33","v":0},{"$f":"'3.Zones_desservies'!JL33","v":0},{"$f":"'3.Zones_desservies'!JM33","v":0},{"$f":"'3.Zones_desservies'!JN33","v":0},{"$f":"'3.Zones_desservies'!JO33","v":0},{"$f":"'3.Zones_desservies'!JP33","v":0},{"$f":"'3.Zones_desservies'!JQ33","v":0},{"$f":"'3.Zones_desservies'!JR33","v":0},{"$f":"'3.Zones_desservies'!JS33","v":0},{"$f":"'3.Zones_desservies'!JT33","v":0},{"$f":"'3.Zones_desservies'!JU33","v":0},{"$f":"'3.Zones_desservies'!JV33","v":0},{"$f":"'3.Zones_desservies'!JW33","v":0},{"$f":"'3.Zones_desservies'!JX33","v":0},{"$f":"'3.Zones_desservies'!JY33","v":0},{"$f":"'3.Zones_desservies'!JZ33","v":0},{"$f":"'3.Zones_desservies'!KA33","v":0},{"$f":"'3.Zones_desservies'!KB33","v":0},{"$f":"'3.Zones_desservies'!KC33","v":0},{"$f":"'3.Zones_desservies'!KD33","v":0},{"$f":"'3.Zones_desservies'!KE33","v":0},{"$f":"'3.Zones_desservies'!KF33","v":0},{"$f":"'3.Zones_desservies'!KG33","v":0},{"$f":"'3.Zones_desservies'!KH33","v":0},{"$f":"'3.Zones_desservies'!KI33","v":0},{"$f":"'3.Zones_desservies'!KJ33","v":0},{"$f":"'3.Zones_desservies'!KK33","v":0},{"$f":"'3.Zones_desservies'!KL33","v":0},{"$f":"'3.Zones_desservies'!KM33","v":0},{"$f":"'3.Zones_desservies'!KN33","v":0},{"$f":"'3.Zones_desservies'!KO33","v":0},{"$f":"'3.Zones_desservies'!KP33","v":0},{"$f":"'3.Zones_desservies'!KQ33","v":0},{"$f":"'3.Zones_desservies'!KR33","v":0},{"$f":"'3.Zones_desservies'!KS33","v":0},{"$f":"'3.Zones_desservies'!KT33","v":0},{"$f":"'3.Zones_desservies'!KU33","v":0},{"$f":"'3.Zones_desservies'!KV33","v":0},{"$f":"'3.Zones_desservies'!KW33","v":0},{"$f":"'3.Zones_desservies'!KX33","v":0},{"$f":"'3.Zones_desservies'!KY33","v":0},{"$f":"'3.Zones_desservies'!KZ33","v":0},{"$f":"'3.Zones_desservies'!LA33","v":0},{"$f":"'3.Zones_desservies'!LB33","v":0},{"$f":"'3.Zones_desservies'!LC33","v":0},{"$f":"'3.Zones_desservies'!LD33","v":0},{"$f":"'3.Zones_desservies'!LE33","v":0},{"$f":"'3.Zones_desservies'!LF33","v":0},{"$f":"'3.Zones_desservies'!LG33","v":0},{"$f":"'3.Zones_desservies'!LH33","v":0},{"$f":"'3.Zones_desservies'!LI33","v":0},{"$f":"'3.Zones_desservies'!LJ33","v":0},{"$f":"'3.Zones_desservies'!LK33","v":0},{"$f":"'3.Zones_desservies'!LL33","v":0},{"$f":"'3.Zones_desservies'!LM33","v":0},{"$f":"'3.Zones_desservies'!LN33","v":0},{"$f":"'3.Zones_desservies'!LO33","v":0},{"$f":"'3.Zones_desservies'!LP33","v":0},{"$f":"'3.Zones_desservies'!LQ33","v":0},{"$f":"'3.Zones_desservies'!LR33","v":0},{"$f":"'3.Zones_desservies'!LS33","v":0},{"$f":"'3.Zones_desservies'!LT33","v":0},{"$f":"'3.Zones_desservies'!LU33","v":0},{"$f":"'3.Zones_desservies'!LV33","v":0},{"$f":"'3.Zones_desservies'!LW33","v":0},{"$f":"'3.Zones_desservies'!LX33","v":0},{"$f":"'3.Zones_desservies'!LY33","v":0},{"$f":"'3.Zones_desservies'!LZ33","v":0},{"$f":"'3.Zones_desservies'!MA33","v":0},{"$f":"'3.Zones_desservies'!MB33","v":0},{"$f":"'3.Zones_desservies'!MC33","v":0},{"$f":"'3.Zones_desservies'!MD33","v":0},{"$f":"'3.Zones_desservies'!ME33","v":0},{"$f":"'3.Zones_desservies'!MF33","v":0},{"$f":"'3.Zones_desservies'!MG33","v":0},{"$f":"'3.Zones_desservies'!MH33","v":0},{"$f":"'3.Zones_desservies'!MI33","v":0},{"$f":"'3.Zones_desservies'!MJ33","v":0},{"$f":"'3.Zones_desservies'!MK33","v":0},{"$f":"'3.Zones_desservies'!ML33","v":0},{"$f":"'3.Zones_desservies'!MM33","v":0},{"$f":"'3.Zones_desservies'!MN33","v":0},{"$f":"'3.Zones_desservies'!MO33","v":0},{"$f":"'3.Zones_desservies'!MP33","v":0},{"$f":"'3.Zones_desservies'!MQ33","v":0},{"$f":"'3.Zones_desservies'!MR33","v":0},{"$f":"'3.Zones_desservies'!MS33","v":0},{"$f":"'3.Zones_desservies'!MT33","v":0},{"$f":"'3.Zones_desservies'!MU33","v":0},{"$f":"'3.Zones_desservies'!MV33","v":0},{"$f":"'3.Zones_desservies'!MW33","v":0},{"$f":"'3.Zones_desservies'!MX33","v":0},{"$f":"'3.Zones_desservies'!MY33","v":0},{"$f":"'3.Zones_desservies'!MZ33","v":0},{"$f":"'3.Zones_desservies'!NA33","v":0},{"$f":"'3.Zones_desservies'!NB33","v":0},{"$f":"'3.Zones_desservies'!NC33","v":0},{"$f":"'3.Zones_desservies'!ND33","v":0},{"$f":"'3.Zones_desservies'!NE33","v":0},{"$f":"'3.Zones_desservies'!NF33","v":0},{"$f":"'3.Zones_desservies'!NG33","v":0},{"$f":"'3.Zones_desservies'!NH33","v":0},{"$f":"'3.Zones_desservies'!NI33","v":0},{"$f":"'3.Zones_desservies'!NJ33","v":0},{"$f":"'3.Zones_desservies'!NK33","v":0},{"$f":"'3.Zones_desservies'!NL33","v":0},{"$f":"'3.Zones_desservies'!NM33","v":0},{"$f":"'3.Zones_desservies'!NN33","v":0},{"$f":"'3.Zones_desservies'!NO33","v":0},{"$f":"'3.Zones_desservies'!NP33","v":0},{"$f":"'3.Zones_desservies'!NQ33","v":0},{"$f":"'3.Zones_desservies'!NR33","v":0},{"$f":"'3.Zones_desservies'!NS33","v":0},{"$f":"'3.Zones_desservies'!NT33","v":0},{"$f":"'3.Zones_desservies'!NU33","v":0},{"$f":"'3.Zones_desservies'!NV33","v":0},{"$f":"'3.Zones_desservies'!NW33","v":0},{"$f":"'3.Zones_desservies'!NX33","v":0},{"$f":"'3.Zones_desservies'!NY33","v":0},{"$f":"'3.Zones_desservies'!NZ33","v":0},{"$f":"'3.Zones_desservies'!OA33","v":0},{"$f":"'3.Zones_desservies'!OB33","v":0},{"$f":"'3.Zones_desservies'!OC33","v":0},{"$f":"'3.Zones_desservies'!OD33","v":0},{"$f":"'3.Zones_desservies'!OE33","v":0},{"$f":"'3.Zones_desservies'!OF33","v":0},{"$f":"'3.Zones_desservies'!OG33","v":0},{"$f":"'3.Zones_desservies'!OH33","v":0},{"$f":"'3.Zones_desservies'!OI33","v":0},{"$f":"'3.Zones_desservies'!OJ33","v":0},{"$f":"'3.Zones_desservies'!OK33","v":0},{"$f":"'3.Zones_desservies'!OL33","v":0},{"$f":"'3.Zones_desservies'!OM33","v":0},{"$f":"'3.Zones_desservies'!ON33","v":0},{"$f":"'3.Zones_desservies'!OO33","v":0},{"$f":"'3.Zones_desservies'!OP33","v":0},{"$f":"'3.Zones_desservies'!OQ33","v":0},{"$f":"'3.Zones_desservies'!OR33","v":0},{"$f":"'3.Zones_desservies'!OS33","v":0},{"$f":"'3.Zones_desservies'!OT33","v":0},{"$f":"'3.Zones_desservies'!OU33","v":0},{"$f":"'3.Zones_desservies'!OV33","v":0},{"$f":"'3.Zones_desservies'!OW33","v":0},{"$f":"'3.Zones_desservies'!OX33","v":0},{"$f":"'3.Zones_desservies'!OY33","v":0},{"$f":"'3.Zones_desservies'!OZ33","v":0},{"$f":"'3.Zones_desservies'!PA33","v":0},{"$f":"'3.Zones_desservies'!PB33","v":0},{"$f":"'3.Zones_desservies'!PC33","v":0},{"$f":"'3.Zones_desservies'!PD33","v":0},{"$f":"'3.Zones_desservies'!PE33","v":0},{"$f":"'3.Zones_desservies'!PF33","v":0},{"$f":"'3.Zones_desservies'!PG33","v":0},{"$f":"'3.Zones_desservies'!PH33","v":0},{"$f":"'3.Zones_desservies'!PI33","v":0},{"$f":"'3.Zones_desservies'!PJ33","v":0},{"$f":"'3.Zones_desservies'!PK33","v":0},{"$f":"'3.Zones_desservies'!PL33","v":0},{"$f":"'3.Zones_desservies'!PM33","v":0},{"$f":"'3.Zones_desservies'!PN33","v":0},{"$f":"'3.Zones_desservies'!PO33","v":0},{"$f":"'3.Zones_desservies'!PP33","v":0},{"$f":"'3.Zones_desservies'!PQ33","v":0},{"$f":"'3.Zones_desservies'!PR33","v":0},{"$f":"'3.Zones_desservies'!PS33","v":0},{"$f":"'3.Zones_desservies'!PT33","v":0},{"$f":"'3.Zones_desservies'!PU33","v":0},{"$f":"'3.Zones_desservies'!PV33","v":0},{"$f":"'3.Zones_desservies'!PW33","v":0},{"$f":"'3.Zones_desservies'!PX33","v":0},{"$f":"'3.Zones_desservies'!PY33","v":0},{"$f":"'3.Zones_desservies'!PZ33","v":0},{"$f":"'3.Zones_desservies'!QA33","v":0},{"$f":"'3.Zones_desservies'!QB33","v":0},{"$f":"'3.Zones_desservies'!QC33","v":0},{"$f":"'3.Zones_desservies'!QD33","v":0},{"$f":"'3.Zones_desservies'!QE33","v":0},{"$f":"'3.Zones_desservies'!QF33","v":0},{"$f":"'3.Zones_desservies'!QG33","v":0},{"$f":"'3.Zones_desservies'!QH33","v":0},{"$f":"'3.Zones_desservies'!QI33","v":0},{"$f":"'3.Zones_desservies'!QJ33","v":0},{"$f":"'3.Zones_desservies'!QK33","v":0},{"$f":"'3.Zones_desservies'!QL33","v":0},{"$f":"'3.Zones_desservies'!QM33","v":0},{"$f":"'3.Zones_desservies'!QN33","v":0},{"$f":"'3.Zones_desservies'!QO33","v":0},{"$f":"'3.Zones_desservies'!QP33","v":0},{"$f":"'3.Zones_desservies'!QQ33","v":0},{"$f":"'3.Zones_desservies'!QR33","v":0},{"$f":"'3.Zones_desservies'!QS33","v":0},{"$f":"'3.Zones_desservies'!QT33","v":0},{"$f":"'3.Zones_desservies'!QU33","v":0},{"$f":"'3.Zones_desservies'!QV33","v":0},{"$f":"'3.Zones_desservies'!QW33","v":0},{"$f":"'3.Zones_desservies'!QX33","v":0},{"$f":"'3.Zones_desservies'!QY33","v":0},{"$f":"'3.Zones_desservies'!QZ33","v":0},{"$f":"'3.Zones_desservies'!RA33","v":0},{"$f":"'3.Zones_desservies'!RB33","v":0},{"$f":"'3.Zones_desservies'!RC33","v":0},{"$f":"'3.Zones_desservies'!RD33","v":0},{"$f":"'3.Zones_desservies'!RE33","v":0},{"$f":"'3.Zones_desservies'!RF33","v":0},{"$f":"'3.Zones_desservies'!RG33","v":0},{"$f":"'3.Zones_desservies'!RH33","v":0},{"$f":"'3.Zones_desservies'!RI33","v":0},{"$f":"'3.Zones_desservies'!RJ33","v":0},{"$f":"'3.Zones_desservies'!RK33","v":0},{"$f":"'3.Zones_desservies'!RL33","v":0},{"$f":"'3.Zones_desservies'!RM33","v":0},{"$f":"'3.Zones_desservies'!RN33","v":0},{"$f":"'3.Zones_desservies'!RO33","v":0},{"$f":"'3.Zones_desservies'!RP33","v":0},{"$f":"'3.Zones_desservies'!RQ33","v":0},{"$f":"'3.Zones_desservies'!RR33","v":0},{"$f":"'3.Zones_desservies'!RS33","v":0},{"$f":"'3.Zones_desservies'!RT33","v":0},{"$f":"'3.Zones_desservies'!RU33","v":0},{"$f":"'3.Zones_desservies'!RV33","v":0},{"$f":"'3.Zones_desservies'!RW33","v":0},{"$f":"'3.Zones_desservies'!RX33","v":0},{"$f":"'3.Zones_desservies'!RY33","v":0},{"$f":"'3.Zones_desservies'!RZ33","v":0},{"$f":"'3.Zones_desservies'!SA33","v":0},{"$f":"'3.Zones_desservies'!SB33","v":0},{"$f":"'3.Zones_desservies'!SC33","v":0},{"$f":"'3.Zones_desservies'!SD33","v":0},{"$f":"'3.Zones_desservies'!SE33","v":0},{"$f":"'3.Zones_desservies'!SF33","v":0},{"$f":"'3.Zones_desservies'!SG33","v":0},{"$f":"'3.Zones_desservies'!SH33","v":0}]
[null,{"$f":"'3.Zones_desservies'!B34","v":20},{"$f":"'3.Zones_desservies'!C34","v":0},{"$f":"'3.Zones_desservies'!D34","v":0},{"$f":"'3.Zones_desservies'!E34","v":0},{"$f":"'3.Zones_desservies'!F34","v":0},{"$f":"'3.Zones_desservies'!G34","v":0},{"$f":"'3.Zones_desservies'!H34","v":0},{"$f":"'3.Zones_desservies'!I34","v":0},{"$f":"'3.Zones_desservies'!J34","v":0},{"$f":"'3.Zones_desservies'!K34","v":0},{"$f":"'3.Zones_desservies'!L34","v":0},{"$f":"'3.Zones_desservies'!M34","v":0},{"$f":"'3.Zones_desservies'!N34","v":0},{"$f":"'3.Zones_desservies'!O34","v":0},{"$f":"'3.Zones_desservies'!P34","v":0},{"$f":"'3.Zones_desservies'!Q34","v":0},{"$f":"'3.Zones_desservies'!R34","v":0},{"$f":"'3.Zones_desservies'!S34","v":0},{"$f":"'3.Zones_desservies'!T34","v":0},{"$f":"'3.Zones_desservies'!U34","v":0},{"$f":"'3.Zones_desservies'!V34","v":0},{"$f":"'3.Zones_desservies'!W34","v":0},{"$f":"'3.Zones_desservies'!X34","v":0},{"$f":"'3.Zones_desservies'!Y34","v":0},{"$f":"'3.Zones_desservies'!Z34","v":0},{"$f":"'3.Zones_desservies'!AA34","v":0},{"$f":"'3.Zones_desservies'!AB34","v":0},{"$f":"'3.Zones_desservies'!AC34","v":0},{"$f":"'3.Zones_desservies'!AD34","v":0},{"$f":"'3.Zones_desservies'!AE34","v":0},{"$f":"'3.Zones_desservies'!AF34","v":0},{"$f":"'3.Zones_desservies'!AG34","v":0},{"$f":"'3.Zones_desservies'!AH34","v":0},{"$f":"'3.Zones_desservies'!AI34","v":0},{"$f":"'3.Zones_desservies'!AJ34","v":0},{"$f":"'3.Zones_desservies'!AK34","v":0},{"$f":"'3.Zones_desservies'!AL34","v":0},{"$f":"'3.Zones_desservies'!AM34","v":0},{"$f":"'3.Zones_desservies'!AN34","v":0},{"$f":"'3.Zones_desservies'!AO34","v":0},{"$f":"'3.Zones_desservies'!AP34","v":0},{"$f":"'3.Zones_desservies'!AQ34","v":0},{"$f":"'3.Zones_desservies'!AR34","v":0},{"$f":"'3.Zones_desservies'!AS34","v":0},{"$f":"'3.Zones_desservies'!AT34","v":0},{"$f":"'3.Zones_desservies'!AU34","v":0},{"$f":"'3.Zones_desservies'!AV34","v":0},{"$f":"'3.Zones_desservies'!AW34","v":0},{"$f":"'3.Zones_desservies'!AX34","v":0},{"$f":"'3.Zones_desservies'!AY34","v":0},{"$f":"'3.Zones_desservies'!AZ34","v":0},{"$f":"'3.Zones_desservies'!BA34","v":0},{"$f":"'3.Zones_desservies'!BB34","v":0},{"$f":"'3.Zones_desservies'!BC34","v":0},{"$f":"'3.Zones_desservies'!BD34","v":0},{"$f":"'3.Zones_desservies'!BE34","v":0},{"$f":"'3.Zones_desservies'!BF34","v":0},{"$f":"'3.Zones_desservies'!BG34","v":0},{"$f":"'3.Zones_desservies'!BH34","v":0},{"$f":"'3.Zones_desservies'!BI34","v":0},{"$f":"'3.Zones_desservies'!BJ34","v":0},{"$f":"'3.Zones_desservies'!BK34","v":0},{"$f":"'3.Zones_desservies'!BL34","v":0},{"$f":"'3.Zones_desservies'!BM34","v":0},{"$f":"'3.Zones_desservies'!BN34","v":0},{"$f":"'3.Zones_desservies'!BO34","v":0},{"$f":"'3.Zones_desservies'!BP34","v":0},{"$f":"'3.Zones_desservies'!BQ34","v":0},{"$f":"'3.Zones_desservies'!BR34","v":0},{"$f":"'3.Zones_desservies'!BS34","v":0},{"$f":"'3.Zones_desservies'!BT34","v":0},{"$f":"'3.Zones_desservies'!BU34","v":0},{"$f":"'3.Zones_desservies'!BV34","v":0},{"$f":"'3.Zones_desservies'!BW34","v":0},{"$f":"'3.Zones_desservies'!BX34","v":0},{"$f":"'3.Zones_desservies'!BY34","v":0},{"$f":"'3.Zones_desservies'!BZ34","v":0},{"$f":"'3.Zones_desservies'!CA34","v":0},{"$f":"'3.Zones_desservies'!CB34","v":0},{"$f":"'3.Zones_desservies'!CC34","v":0},{"$f":"'3.Zones_desservies'!CD34","v":0},{"$f":"'3.Zones_desservies'!CE34","v":0},{"$f":"'3.Zones_desservies'!CF34","v":0},{"$f":"'3.Zones_desservies'!CG34","v":0},{"$f":"'3.Zones_desservies'!CH34","v":0},{"$f":"'3.Zones_desservies'!CI34","v":0},{"$f":"'3.Zones_desservies'!CJ34","v":0},{"$f":"'3.Zones_desservies'!CK34","v":0},{"$f":"'3.Zones_desservies'!CL34","v":0},{"$f":"'3.Zones_desservies'!CM34","v":0},{"$f":"'3.Zones_desservies'!CN34","v":0},{"$f":"'3.Zones_desservies'!CO34","v":0},{"$f":"'3.Zones_desservies'!CP34","v":0},{"$f":"'3.Zones_desservies'!CQ34","v":0},{"$f":"'3.Zones_desservies'!CR34","v":0},{"$f":"'3.Zones_desservies'!CS34","v":0},{"$f":"'3.Zones_desservies'!CT34","v":0},{"$f":"'3.Zones_desservies'!CU34","v":0},{"$f":"'3.Zones_desservies'!CV34","v":0},{"$f":"'3.Zones_desservies'!CW34","v":0},{"$f":"'3.Zones_desservies'!CX34","v":0},{"$f":"'3.Zones_desservies'!CY34","v":"_"},{"$f":"'3.Zones_desservies'!CZ34","v":0},{"$f":"'3.Zones_desservies'!DA34","v":0},{"$f":"'3.Zones_desservies'!DB34","v":0},{"$f":"'3.Zones_desservies'!DC34","v":0},{"$f":"'3.Zones_desservies'!DD34","v":0},{"$f":"'3.Zones_desservies'!DE34","v":0},{"$f":"'3.Zones_desservies'!DF34","v":0},{"$f":"'3.Zones_desservies'!DG34","v":0},{"$f":"'3.Zones_desservies'!DH34","v":0},{"$f":"'3.Zones_desservies'!DI34","v":0},{"$f":"'3.Zones_desservies'!DJ34","v":0},{"$f":"'3.Zones_desservies'!DK34","v":0},{"$f":"'3.Zones_desservies'!DL34","v":0},{"$f":"'3.Zones_desservies'!DM34","v":0},{"$f":"'3.Zones_desservies'!DN34","v":0},{"$f":"'3.Zones_desservies'!DO34","v":0},{"$f":"'3.Zones_desservies'!DP34","v":0},{"$f":"'3.Zones_desservies'!DQ34","v":0},{"$f":"'3.Zones_desservies'!DR34","v":0},{"$f":"'3.Zones_desservies'!DS34","v":0},{"$f":"'3.Zones_desservies'!DT34","v":0},{"$f":"'3.Zones_desservies'!DU34","v":0},{"$f":"'3.Zones_desservies'!DV34","v":0},{"$f":"'3.Zones_desservies'!DW34","v":0},{"$f":"'3.Zones_desservies'!DX34","v":0},{"$f":"'3.Zones_desservies'!DY34","v":0},{"$f":"'3.Zones_desservies'!DZ34","v":0},{"$f":"'3.Zones_desservies'!EA34","v":0},{"$f":"'3.Zones_desservies'!EB34","v":0},{"$f":"'3.Zones_desservies'!EC34","v":0},{"$f":"'3.Zones_desservies'!ED34","v":0},{"$f":"'3.Zones_desservies'!EE34","v":0},{"$f":"'3.Zones_desservies'!EF34","v":0},{"$f":"'3.Zones_desservies'!EG34","v":0},{"$f":"'3.Zones_desservies'!EH34","v":0},{"$f":"'3.Zones_desservies'!EI34","v":0},{"$f":"'3.Zones_desservies'!EJ34","v":0},{"$f":"'3.Zones_desservies'!EK34","v":0},{"$f":"'3.Zones_desservies'!EL34","v":0},{"$f":"'3.Zones_desservies'!EM34","v":0},{"$f":"'3.Zones_desservies'!EN34","v":0},{"$f":"'3.Zones_desservies'!EO34","v":0},{"$f":"'3.Zones_desservies'!EP34","v":0},{"$f":"'3.Zones_desservies'!EQ34","v":0},{"$f":"'3.Zones_desservies'!ER34","v":0},{"$f":"'3.Zones_desservies'!ES34","v":0},{"$f":"'3.Zones_desservies'!ET34","v":0},{"$f":"'3.Zones_desservies'!EU34","v":0},{"$f":"'3.Zones_desservies'!EV34","v":0},{"$f":"'3.Zones_desservies'!EW34","v":0},{"$f":"'3.Zones_desservies'!EX34","v":0},{"$f":"'3.Zones_desservies'!EY34","v":0},{"$f":"'3.Zones_desservies'!EZ34","v":0},{"$f":"'3.Zones_desservies'!FA34","v":0},{"$f":"'3.Zones_desservies'!FB34","v":0},{"$f":"'3.Zones_desservies'!FC34","v":0},{"$f":"'3.Zones_desservies'!FD34","v":0},{"$f":"'3.Zones_desservies'!FE34","v":0},{"$f":"'3.Zones_desservies'!FF34","v":0},{"$f":"'3.Zones_desservies'!FG34","v":0},{"$f":"'3.Zones_desservies'!FH34","v":0},{"$f":"'3.Zones_desservies'!FI34","v":0},{"$f":"'3.Zones_desservies'!FJ34","v":0},{"$f":"'3.Zones_desservies'!FK34","v":0},{"$f":"'3.Zones_desservies'!FL34","v":0},{"$f":"'3.Zones_desservies'!FM34","v":0},{"$f":"'3.Zones_desservies'!FN34","v":0},{"$f":"'3.Zones_desservies'!FO34","v":0},{"$f":"'3.Zones_desservies'!FP34","v":0},{"$f":"'3.Zones_desservies'!FQ34","v":0},{"$f":"'3.Zones_desservies'!FR34","v":0},{"$f":"'3.Zones_desservies'!FS34","v":0},{"$f":"'3.Zones_desservies'!FT34","v":0},{"$f":"'3.Zones_desservies'!FU34","v":0},{"$f":"'3.Zones_desservies'!FV34","v":0},{"$f":"'3.Zones_desservies'!FW34","v":0},{"$f":"'3.Zones_desservies'!FX34","v":0},{"$f":"'3.Zones_desservies'!FY34","v":0},{"$f":"'3.Zones_desservies'!FZ34","v":0},{"$f":"'3.Zones_desservies'!GA34","v":0},{"$f":"'3.Zones_desservies'!GB34","v":0},{"$f":"'3.Zones_desservies'!GC34","v":0},{"$f":"'3.Zones_desservies'!GD34","v":0},{"$f":"'3.Zones_desservies'!GE34","v":0},{"$f":"'3.Zones_desservies'!GF34","v":0},{"$f":"'3.Zones_desservies'!GG34","v":0},{"$f":"'3.Zones_desservies'!GH34","v":0},{"$f":"'3.Zones_desservies'!GI34","v":0},{"$f":"'3.Zones_desservies'!GJ34","v":0},{"$f":"'3.Zones_desservies'!GK34","v":0},{"$f":"'3.Zones_desservies'!GL34","v":0},{"$f":"'3.Zones_desservies'!GM34","v":0},{"$f":"'3.Zones_desservies'!GN34","v":0},{"$f":"'3.Zones_desservies'!GO34","v":0},{"$f":"'3.Zones_desservies'!GP34","v":0},{"$f":"'3.Zones_desservies'!GQ34","v":0},{"$f":"'3.Zones_desservies'!GR34","v":0},{"$f":"'3.Zones_desservies'!GS34","v":0},{"$f":"'3.Zones_desservies'!GT34","v":0},{"$f":"'3.Zones_desservies'!GU34","v":0},{"$f":"'3.Zones_desservies'!GV34","v":0},{"$f":"'3.Zones_desservies'!GW34","v":0},{"$f":"'3.Zones_desservies'!GX34","v":0},{"$f":"'3.Zones_desservies'!GY34","v":0},{"$f":"'3.Zones_desservies'!GZ34","v":0},{"$f":"'3.Zones_desservies'!HA34","v":0},{"$f":"'3.Zones_desservies'!HB34","v":0},{"$f":"'3.Zones_desservies'!HC34","v":0},{"$f":"'3.Zones_desservies'!HD34","v":0},{"$f":"'3.Zones_desservies'!HE34","v":0},{"$f":"'3.Zones_desservies'!HF34","v":0},{"$f":"'3.Zones_desservies'!HG34","v":0},{"$f":"'3.Zones_desservies'!HH34","v":0},{"$f":"'3.Zones_desservies'!HI34","v":0},{"$f":"'3.Zones_desservies'!HJ34","v":0},{"$f":"'3.Zones_desservies'!HK34","v":0},{"$f":"'3.Zones_desservies'!HL34","v":0},{"$f":"'3.Zones_desservies'!HM34","v":0},{"$f":"'3.Zones_desservies'!HN34","v":0},{"$f":"'3.Zones_desservies'!HO34","v":0},{"$f":"'3.Zones_desservies'!HP34","v":0},{"$f":"'3.Zones_desservies'!HQ34","v":0},{"$f":"'3.Zones_desservies'!HR34","v":0},{"$f":"'3.Zones_desservies'!HS34","v":0},{"$f":"'3.Zones_desservies'!HT34","v":0},{"$f":"'3.Zones_desservies'!HU34","v":0},{"$f":"'3.Zones_desservies'!HV34","v":0},{"$f":"'3.Zones_desservies'!HW34","v":0},{"$f":"'3.Zones_desservies'!HX34","v":0},{"$f":"'3.Zones_desservies'!HY34","v":0},{"$f":"'3.Zones_desservies'!HZ34","v":0},{"$f":"'3.Zones_desservies'!IA34","v":0},{"$f":"'3.Zones_desservies'!IB34","v":0},{"$f":"'3.Zones_desservies'!IC34","v":0},{"$f":"'3.Zones_desservies'!ID34","v":0},{"$f":"'3.Zones_desservies'!IE34","v":0},{"$f":"'3.Zones_desservies'!IF34","v":0},{"$f":"'3.Zones_desservies'!IG34","v":0},{"$f":"'3.Zones_desservies'!IH34","v":0},{"$f":"'3.Zones_desservies'!II34","v":0},{"$f":"'3.Zones_desservies'!IJ34","v":0},{"$f":"'3.Zones_desservies'!IK34","v":0},{"$f":"'3.Zones_desservies'!IL34","v":0},{"$f":"'3.Zones_desservies'!IM34","v":0},{"$f":"'3.Zones_desservies'!IN34","v":0},{"$f":"'3.Zones_desservies'!IO34","v":0},{"$f":"'3.Zones_desservies'!IP34","v":0},{"$f":"'3.Zones_desservies'!IQ34","v":0},{"$f":"'3.Zones_desservies'!IR34","v":0},{"$f":"'3.Zones_desservies'!IS34","v":0},{"$f":"'3.Zones_desservies'!IT34","v":0},{"$f":"'3.Zones_desservies'!IU34","v":0},{"$f":"'3.Zones_desservies'!IV34","v":0},{"$f":"'3.Zones_desservies'!IW34","v":0},{"$f":"'3.Zones_desservies'!IX34","v":0},{"$f":"'3.Zones_desservies'!IY34","v":0},{"$f":"'3.Zones_desservies'!IZ34","v":0},{"$f":"'3.Zones_desservies'!JA34","v":0},{"$f":"'3.Zones_desservies'!JB34","v":0},{"$f":"'3.Zones_desservies'!JC34","v":0},{"$f":"'3.Zones_desservies'!JD34","v":0},{"$f":"'3.Zones_desservies'!JE34","v":0},{"$f":"'3.Zones_desservies'!JF34","v":0},{"$f":"'3.Zones_desservies'!JG34","v":0},{"$f":"'3.Zones_desservies'!JH34","v":0},{"$f":"'3.Zones_desservies'!JI34","v":0},{"$f":"'3.Zones_desservies'!JJ34","v":0},{"$f":"'3.Zones_desservies'!JK34","v":0},{"$f":"'3.Zones_desservies'!JL34","v":0},{"$f":"'3.Zones_desservies'!JM34","v":0},{"$f":"'3.Zones_desservies'!JN34","v":0},{"$f":"'3.Zones_desservies'!JO34","v":0},{"$f":"'3.Zones_desservies'!JP34","v":0},{"$f":"'3.Zones_desservies'!JQ34","v":0},{"$f":"'3.Zones_desservies'!JR34","v":0},{"$f":"'3.Zones_desservies'!JS34","v":0},{"$f":"'3.Zones_desservies'!JT34","v":0},{"$f":"'3.Zones_desservies'!JU34","v":0},{"$f":"'3.Zones_desservies'!JV34","v":0},{"$f":"'3.Zones_desservies'!JW34","v":0},{"$f":"'3.Zones_desservies'!JX34","v":0},{"$f":"'3.Zones_desservies'!JY34","v":0},{"$f":"'3.Zones_desservies'!JZ34","v":0},{"$f":"'3.Zones_desservies'!KA34","v":0},{"$f":"'3.Zones_desservies'!KB34","v":0},{"$f":"'3.Zones_desservies'!KC34","v":0},{"$f":"'3.Zones_desservies'!KD34","v":0},{"$f":"'3.Zones_desservies'!KE34","v":0},{"$f":"'3.Zones_desservies'!KF34","v":0},{"$f":"'3.Zones_desservies'!KG34","v":0},{"$f":"'3.Zones_desservies'!KH34","v":0},{"$f":"'3.Zones_desservies'!KI34","v":0},{"$f":"'3.Zones_desservies'!KJ34","v":0},{"$f":"'3.Zones_desservies'!KK34","v":0},{"$f":"'3.Zones_desservies'!KL34","v":0},{"$f":"'3.Zones_desservies'!KM34","v":0},{"$f":"'3.Zones_desservies'!KN34","v":0},{"$f":"'3.Zones_desservies'!KO34","v":0},{"$f":"'3.Zones_desservies'!KP34","v":0},{"$f":"'3.Zones_desservies'!KQ34","v":0},{"$f":"'3.Zones_desservies'!KR34","v":0},{"$f":"'3.Zones_desservies'!KS34","v":0},{"$f":"'3.Zones_desservies'!KT34","v":0},{"$f":"'3.Zones_desservies'!KU34","v":0},{"$f":"'3.Zones_desservies'!KV34","v":0},{"$f":"'3.Zones_desservies'!KW34","v":0},{"$f":"'3.Zones_desservies'!KX34","v":0},{"$f":"'3.Zones_desservies'!KY34","v":0},{"$f":"'3.Zones_desservies'!KZ34","v":0},{"$f":"'3.Zones_desservies'!LA34","v":0},{"$f":"'3.Zones_desservies'!LB34","v":0},{"$f":"'3.Zones_desservies'!LC34","v":0},{"$f":"'3.Zones_desservies'!LD34","v":0},{"$f":"'3.Zones_desservies'!LE34","v":0},{"$f":"'3.Zones_desservies'!LF34","v":0},{"$f":"'3.Zones_desservies'!LG34","v":0},{"$f":"'3.Zones_desservies'!LH34","v":0},{"$f":"'3.Zones_desservies'!LI34","v":0},{"$f":"'3.Zones_desservies'!LJ34","v":0},{"$f":"'3.Zones_desservies'!LK34","v":0},{"$f":"'3.Zones_desservies'!LL34","v":0},{"$f":"'3.Zones_desservies'!LM34","v":0},{"$f":"'3.Zones_desservies'!LN34","v":0},{"$f":"'3.Zones_desservies'!LO34","v":0},{"$f":"'3.Zones_desservies'!LP34","v":0},{"$f":"'3.Zones_desservies'!LQ34","v":0},{"$f":"'3.Zones_desservies'!LR34","v":0},{"$f":"'3.Zones_desservies'!LS34","v":0},{"$f":"'3.Zones_desservies'!LT34","v":0},{"$f":"'3.Zones_desservies'!LU34","v":0},{"$f":"'3.Zones_desservies'!LV34","v":0},{"$f":"'3.Zones_desservies'!LW34","v":0},{"$f":"'3.Zones_desservies'!LX34","v":0},{"$f":"'3.Zones_desservies'!LY34","v":0},{"$f":"'3.Zones_desservies'!LZ34","v":0},{"$f":"'3.Zones_desservies'!MA34","v":0},{"$f":"'3.Zones_desservies'!MB34","v":0},{"$f":"'3.Zones_desservies'!MC34","v":0},{"$f":"'3.Zones_desservies'!MD34","v":0},{"$f":"'3.Zones_desservies'!ME34","v":0},{"$f":"'3.Zones_desservies'!MF34","v":0},{"$f":"'3.Zones_desservies'!MG34","v":0},{"$f":"'3.Zones_desservies'!MH34","v":0},{"$f":"'3.Zones_desservies'!MI34","v":0},{"$f":"'3.Zones_desservies'!MJ34","v":0},{"$f":"'3.Zones_desservies'!MK34","v":0},{"$f":"'3.Zones_desservies'!ML34","v":0},{"$f":"'3.Zones_desservies'!MM34","v":0},{"$f":"'3.Zones_desservies'!MN34","v":0},{"$f":"'3.Zones_desservies'!MO34","v":0},{"$f":"'3.Zones_desservies'!MP34","v":0},{"$f":"'3.Zones_desservies'!MQ34","v":0},{"$f":"'3.Zones_desservies'!MR34","v":0},{"$f":"'3.Zones_desservies'!MS34","v":0},{"$f":"'3.Zones_desservies'!MT34","v":0},{"$f":"'3.Zones_desservies'!MU34","v":0},{"$f":"'3.Zones_desservies'!MV34","v":0},{"$f":"'3.Zones_desservies'!MW34","v":0},{"$f":"'3.Zones_desservies'!MX34","v":0},{"$f":"'3.Zones_desservies'!MY34","v":0},{"$f":"'3.Zones_desservies'!MZ34","v":0},{"$f":"'3.Zones_desservies'!NA34","v":0},{"$f":"'3.Zones_desservies'!NB34","v":0},{"$f":"'3.Zones_desservies'!NC34","v":0},{"$f":"'3.Zones_desservies'!ND34","v":0},{"$f":"'3.Zones_desservies'!NE34","v":0},{"$f":"'3.Zones_desservies'!NF34","v":0},{"$f":"'3.Zones_desservies'!NG34","v":0},{"$f":"'3.Zones_desservies'!NH34","v":0},{"$f":"'3.Zones_desservies'!NI34","v":0},{"$f":"'3.Zones_desservies'!NJ34","v":0},{"$f":"'3.Zones_desservies'!NK34","v":0},{"$f":"'3.Zones_desservies'!NL34","v":0},{"$f":"'3.Zones_desservies'!NM34","v":0},{"$f":"'3.Zones_desservies'!NN34","v":0},{"$f":"'3.Zones_desservies'!NO34","v":0},{"$f":"'3.Zones_desservies'!NP34","v":0},{"$f":"'3.Zones_desservies'!NQ34","v":0},{"$f":"'3.Zones_desservies'!NR34","v":0},{"$f":"'3.Zones_desservies'!NS34","v":0},{"$f":"'3.Zones_desservies'!NT34","v":0},{"$f":"'3.Zones_desservies'!NU34","v":0},{"$f":"'3.Zones_desservies'!NV34","v":0},{"$f":"'3.Zones_desservies'!NW34","v":0},{"$f":"'3.Zones_desservies'!NX34","v":0},{"$f":"'3.Zones_desservies'!NY34","v":0},{"$f":"'3.Zones_desservies'!NZ34","v":0},{"$f":"'3.Zones_desservies'!OA34","v":0},{"$f":"'3.Zones_desservies'!OB34","v":0},{"$f":"'3.Zones_desservies'!OC34","v":0},{"$f":"'3.Zones_desservies'!OD34","v":0},{"$f":"'3.Zones_desservies'!OE34","v":0},{"$f":"'3.Zones_desservies'!OF34","v":0},{"$f":"'3.Zones_desservies'!OG34","v":0},{"$f":"'3.Zones_desservies'!OH34","v":0},{"$f":"'3.Zones_desservies'!OI34","v":0},{"$f":"'3.Zones_desservies'!OJ34","v":0},{"$f":"'3.Zones_desservies'!OK34","v":0},{"$f":"'3.Zones_desservies'!OL34","v":0},{"$f":"'3.Zones_desservies'!OM34","v":0},{"$f":"'3.Zones_desservies'!ON34","v":0},{"$f":"'3.Zones_desservies'!OO34","v":0},{"$f":"'3.Zones_desservies'!OP34","v":0},{"$f":"'3.Zones_desservies'!OQ34","v":0},{"$f":"'3.Zones_desservies'!OR34","v":0},{"$f":"'3.Zones_desservies'!OS34","v":0},{"$f":"'3.Zones_desservies'!OT34","v":0},{"$f":"'3.Zones_desservies'!OU34","v":0},{"$f":"'3.Zones_desservies'!OV34","v":0},{"$f":"'3.Zones_desservies'!OW34","v":0},{"$f":"'3.Zones_desservies'!OX34","v":0},{"$f":"'3.Zones_desservies'!OY34","v":0},{"$f":"'3.Zones_desservies'!OZ34","v":0},{"$f":"'3.Zones_desservies'!PA34","v":0},{"$f":"'3.Zones_desservies'!PB34","v":0},{"$f":"'3.Zones_desservies'!PC34","v":0},{"$f":"'3.Zones_desservies'!PD34","v":0},{"$f":"'3.Zones_desservies'!PE34","v":0},{"$f":"'3.Zones_desservies'!PF34","v":0},{"$f":"'3.Zones_desservies'!PG34","v":0},{"$f":"'3.Zones_desservies'!PH34","v":0},{"$f":"'3.Zones_desservies'!PI34","v":0},{"$f":"'3.Zones_desservies'!PJ34","v":0},{"$f":"'3.Zones_desservies'!PK34","v":0},{"$f":"'3.Zones_desservies'!PL34","v":0},{"$f":"'3.Zones_desservies'!PM34","v":0},{"$f":"'3.Zones_desservies'!PN34","v":0},{"$f":"'3.Zones_desservies'!PO34","v":0},{"$f":"'3.Zones_desservies'!PP34","v":0},{"$f":"'3.Zones_desservies'!PQ34","v":0},{"$f":"'3.Zones_desservies'!PR34","v":0},{"$f":"'3.Zones_desservies'!PS34","v":0},{"$f":"'3.Zones_desservies'!PT34","v":0},{"$f":"'3.Zones_desservies'!PU34","v":0},{"$f":"'3.Zones_desservies'!PV34","v":0},{"$f":"'3.Zones_desservies'!PW34","v":0},{"$f":"'3.Zones_desservies'!PX34","v":0},{"$f":"'3.Zones_desservies'!PY34","v":0},{"$f":"'3.Zones_desservies'!PZ34","v":0},{"$f":"'3.Zones_desservies'!QA34","v":0},{"$f":"'3.Zones_desservies'!QB34","v":0},{"$f":"'3.Zones_desservies'!QC34","v":0},{"$f":"'3.Zones_desservies'!QD34","v":0},{"$f":"'3.Zones_desservies'!QE34","v":0},{"$f":"'3.Zones_desservies'!QF34","v":0},{"$f":"'3.Zones_desservies'!QG34","v":0},{"$f":"'3.Zones_desservies'!QH34","v":0},{"$f":"'3.Zones_desservies'!QI34","v":0},{"$f":"'3.Zones_desservies'!QJ34","v":0},{"$f":"'3.Zones_desservies'!QK34","v":0},{"$f":"'3.Zones_desservies'!QL34","v":0},{"$f":"'3.Zones_desservies'!QM34","v":0},{"$f":"'3.Zones_desservies'!QN34","v":0},{"$f":"'3.Zones_desservies'!QO34","v":0},{"$f":"'3.Zones_desservies'!QP34","v":0},{"$f":"'3.Zones_desservies'!QQ34","v":0},{"$f":"'3.Zones_desservies'!QR34","v":0},{"$f":"'3.Zones_desservies'!QS34","v":0},{"$f":"'3.Zones_desservies'!QT34","v":0},{"$f":"'3.Zones_desservies'!QU34","v":0},{"$f":"'3.Zones_desservies'!QV34","v":0},{"$f":"'3.Zones_desservies'!QW34","v":0},{"$f":"'3.Zones_desservies'!QX34","v":0},{"$f":"'3.Zones_desservies'!QY34","v":0},{"$f":"'3.Zones_desservies'!QZ34","v":0},{"$f":"'3.Zones_desservies'!RA34","v":0},{"$f":"'3.Zones_desservies'!RB34","v":0},{"$f":"'3.Zones_desservies'!RC34","v":0},{"$f":"'3.Zones_desservies'!RD34","v":0},{"$f":"'3.Zones_desservies'!RE34","v":0},{"$f":"'3.Zones_desservies'!RF34","v":0},{"$f":"'3.Zones_desservies'!RG34","v":0},{"$f":"'3.Zones_desservies'!RH34","v":0},{"$f":"'3.Zones_desservies'!RI34","v":0},{"$f":"'3.Zones_desservies'!RJ34","v":0},{"$f":"'3.Zones_desservies'!RK34","v":0},{"$f":"'3.Zones_desservies'!RL34","v":0},{"$f":"'3.Zones_desservies'!RM34","v":0},{"$f":"'3.Zones_desservies'!RN34","v":0},{"$f":"'3.Zones_desservies'!RO34","v":0},{"$f":"'3.Zones_desservies'!RP34","v":0},{"$f":"'3.Zones_desservies'!RQ34","v":0},{"$f":"'3.Zones_desservies'!RR34","v":0},{"$f":"'3.Zones_desservies'!RS34","v":0},{"$f":"'3.Zones_desservies'!RT34","v":0},{"$f":"'3.Zones_desservies'!RU34","v":0},{"$f":"'3.Zones_desservies'!RV34","v":0},{"$f":"'3.Zones_desservies'!RW34","v":0},{"$f":"'3.Zones_desservies'!RX34","v":0},{"$f":"'3.Zones_desservies'!RY34","v":0},{"$f":"'3.Zones_desservies'!RZ34","v":0},{"$f":"'3.Zones_desservies'!SA34","v":0},{"$f":"'3.Zones_desservies'!SB34","v":0},{"$f":"'3.Zones_desservies'!SC34","v":0},{"$f":"'3.Zones_desservies'!SD34","v":0},{"$f":"'3.Zones_desservies'!SE34","v":0},{"$f":"'3.Zones_desservies'!SF34","v":0},{"$f":"'3.Zones_desservies'!SG34","v":0},{"$f":"'3.Zones_desservies'!SH34","v":0}]
[null,{"$f":"'3.Zones_desservies'!B35","v":"_"},{"$f":"'3.Zones_desservies'!C35","v":"_"},{"$f":"'3.Zones_desservies'!D35","v":"_"},{"$f":"'3.Zones_desservies'!E35","v":"_"},{"$f":"'3.Zones_desservies'!F35","v":"_"},{"$f":"'3.Zones_desservies'!G35","v":"_"},{"$f":"'3.Zones_desservies'!H35","v":"_"},{"$f":"'3.Zones_desservies'!I35","v":"_"},{"$f":"'3.Zones_desservies'!J35","v":"_"},{"$f":"'3.Zones_desservies'!K35","v":"_"},{"$f":"'3.Zones_desservies'!L35","v":"_"},{"$f":"'3.Zones_desservies'!M35","v":"_"},{"$f":"'3.Zones_desservies'!N35","v":"_"},{"$f":"'3.Zones_desservies'!O35","v":"_"},{"$f":"'3.Zones_desservies'!P35","v":"_"},{"$f":"'3.Zones_desservies'!Q35","v":"_"},{"$f":"'3.Zones_desservies'!R35","v":"_"},{"$f":"'3.Zones_desservies'!S35","v":"_"},{"$f":"'3.Zones_desservies'!T35","v":"_"},{"$f":"'3.Zones_desservies'!U35","v":"_"},{"$f":"'3.Zones_desservies'!V35","v":0},{"$f":"'3.Zones_desservies'!W35","v":0},{"$f":"'3.Zones_desservies'!X35","v":0},{"$f":"'3.Zones_desservies'!Y35","v":0},{"$f":"'3.Zones_desservies'!Z35","v":0},{"$f":"'3.Zones_desservies'!AA35","v":0},{"$f":"'3.Zones_desservies'!AB35","v":0},{"$f":"'3.Zones_desservies'!AC35","v":0},{"$f":"'3.Zones_desservies'!AD35","v":0},{"$f":"'3.Zones_desservies'!AE35","v":0},{"$f":"'3.Zones_desservies'!AF35","v":0},{"$f":"'3.Zones_desservies'!AG35","v":0},{"$f":"'3.Zones_desservies'!AH35","v":0},{"$f":"'3.Zones_desservies'!AI35","v":0},{"$f":"'3.Zones_desservies'!AJ35","v":0},{"$f":"'3.Zones_desservies'!AK35","v":0},{"$f":"'3.Zones_desservies'!AL35","v":0},{"$f":"'3.Zones_desservies'!AM35","v":0},{"$f":"'3.Zones_desservies'!AN35","v":0},{"$f":"'3.Zones_desservies'!AO35","v":0},{"$f":"'3.Zones_desservies'!AP35","v":0},{"$f":"'3.Zones_desservies'!AQ35","v":0},{"$f":"'3.Zones_desservies'!AR35","v":0},{"$f":"'3.Zones_desservies'!AS35","v":0},{"$f":"'3.Zones_desservies'!AT35","v":0},{"$f":"'3.Zones_desservies'!AU35","v":0},{"$f":"'3.Zones_desservies'!AV35","v":0},{"$f":"'3.Zones_desservies'!AW35","v":0},{"$f":"'3.Zones_desservies'!AX35","v":0},{"$f":"'3.Zones_desservies'!AY35","v":0},{"$f":"'3.Zones_desservies'!AZ35","v":0},{"$f":"'3.Zones_desservies'!BA35","v":0},{"$f":"'3.Zones_desservies'!BB35","v":0},{"$f":"'3.Zones_desservies'!BC35","v":0},{"$f":"'3.Zones_desservies'!BD35","v":0},{"$f":"'3.Zones_desservies'!BE35","v":0},{"$f":"'3.Zones_desservies'!BF35","v":0},{"$f":"'3.Zones_desservies'!BG35","v":0},{"$f":"'3.Zones_desservies'!BH35","v":0},{"$f":"'3.Zones_desservies'!BI35","v":0},{"$f":"'3.Zones_desservies'!BJ35","v":0},{"$f":"'3.Zones_desservies'!BK35","v":0},{"$f":"'3.Zones_desservies'!BL35","v":0},{"$f":"'3.Zones_desservies'!BM35","v":0},{"$f":"'3.Zones_desservies'!BN35","v":0},{"$f":"'3.Zones_desservies'!BO35","v":0},{"$f":"'3.Zones_desservies'!BP35","v":0},{"$f":"'3.Zones_desservies'!BQ35","v":0},{"$f":"'3.Zones_desservies'!BR35","v":0},{"$f":"'3.Zones_desservies'!BS35","v":0},{"$f":"'3.Zones_desservies'!BT35","v":0},{"$f":"'3.Zones_desservies'!BU35","v":0},{"$f":"'3.Zones_desservies'!BV35","v":0},{"$f":"'3.Zones_desservies'!BW35","v":0},{"$f":"'3.Zones_desservies'!BX35","v":0},{"$f":"'3.Zones_desservies'!BY35","v":0},{"$f":"'3.Zones_desservies'!BZ35","v":0},{"$f":"'3.Zones_desservies'!CA35","v":0},{"$f":"'3.Zones_desservies'!CB35","v":0},{"$f":"'3.Zones_desservies'!CC35","v":0},{"$f":"'3.Zones_desservies'!CD35","v":0},{"$f":"'3.Zones_desservies'!CE35","v":0},{"$f":"'3.Zones_desservies'!CF35","v":0},{"$f":"'3.Zones_desservies'!CG35","v":0},{"$f":"'3.Zones_desservies'!CH35","v":0},{"$f":"'3.Zones_desservies'!CI35","v":0},{"$f":"'3.Zones_desservies'!CJ35","v":0},{"$f":"'3.Zones_desservies'!CK35","v":0},{"$f":"'3.Zones_desservies'!CL35","v":0},{"$f":"'3.Zones_desservies'!CM35","v":0},{"$f":"'3.Zones_desservies'!CN35","v":0},{"$f":"'3.Zones_desservies'!CO35","v":0},{"$f":"'3.Zones_desservies'!CP35","v":0},{"$f":"'3.Zones_desservies'!CQ35","v":0},{"$f":"'3.Zones_desservies'!CR35","v":0},{"$f":"'3.Zones_desservies'!CS35","v":0},{"$f":"'3.Zones_desservies'!CT35","v":0},{"$f":"'3.Zones_desservies'!CU35","v":0},{"$f":"'3.Zones_desservies'!CV35","v":0},{"$f":"'3.Zones_desservies'!CW35","v":0},{"$f":"'3.Zones_desservies'!CX35","v":0},{"$f":"'3.Zones_desservies'!CY35","v":"_"},{"$f":"'3.Zones_desservies'!CZ35","v":0},{"$f":"'3.Zones_desservies'!DA35","v":0},{"$f":"'3.Zones_desservies'!DB35","v":0},{"$f":"'3.Zones_desservies'!DC35","v":0},{"$f":"'3.Zones_desservies'!DD35","v":0},{"$f":"'3.Zones_desservies'!DE35","v":0},{"$f":"'3.Zones_desservies'!DF35","v":0},{"$f":"'3.Zones_desservies'!DG35","v":0},{"$f":"'3.Zones_desservies'!DH35","v":0},{"$f":"'3.Zones_desservies'!DI35","v":0},{"$f":"'3.Zones_desservies'!DJ35","v":0},{"$f":"'3.Zones_desservies'!DK35","v":0},{"$f":"'3.Zones_desservies'!DL35","v":0},{"$f":"'3.Zones_desservies'!DM35","v":0},{"$f":"'3.Zones_desservies'!DN35","v":0},{"$f":"'3.Zones_desservies'!DO35","v":0},{"$f":"'3.Zones_desservies'!DP35","v":0},{"$f":"'3.Zones_desservies'!DQ35","v":0},{"$f":"'3.Zones_desservies'!DR35","v":0},{"$f":"'3.Zones_desservies'!DS35","v":0},{"$f":"'3.Zones_desservies'!DT35","v":0},{"$f":"'3.Zones_desservies'!DU35","v":0},{"$f":"'3.Zones_desservies'!DV35","v":0},{"$f":"'3.Zones_desservies'!DW35","v":0},{"$f":"'3.Zones_desservies'!DX35","v":0},{"$f":"'3.Zones_desservies'!DY35","v":0},{"$f":"'3.Zones_desservies'!DZ35","v":0},{"$f":"'3.Zones_desservies'!EA35","v":0},{"$f":"'3.Zones_desservies'!EB35","v":0},{"$f":"'3.Zones_desservies'!EC35","v":0},{"$f":"'3.Zones_desservies'!ED35","v":0},{"$f":"'3.Zones_desservies'!EE35","v":0},{"$f":"'3.Zones_desservies'!EF35","v":0},{"$f":"'3.Zones_desservies'!EG35","v":0},{"$f":"'3.Zones_desservies'!EH35","v":0},{"$f":"'3.Zones_desservies'!EI35","v":0},{"$f":"'3.Zones_desservies'!EJ35","v":0},{"$f":"'3.Zones_desservies'!EK35","v":0},{"$f":"'3.Zones_desservies'!EL35","v":0},{"$f":"'3.Zones_desservies'!EM35","v":0},{"$f":"'3.Zones_desservies'!EN35","v":0},{"$f":"'3.Zones_desservies'!EO35","v":0},{"$f":"'3.Zones_desservies'!EP35","v":0},{"$f":"'3.Zones_desservies'!EQ35","v":0},{"$f":"'3.Zones_desservies'!ER35","v":0},{"$f":"'3.Zones_desservies'!ES35","v":0},{"$f":"'3.Zones_desservies'!ET35","v":0},{"$f":"'3.Zones_desservies'!EU35","v":0},{"$f":"'3.Zones_desservies'!EV35","v":0},{"$f":"'3.Zones_desservies'!EW35","v":0},{"$f":"'3.Zones_desservies'!EX35","v":0},{"$f":"'3.Zones_desservies'!EY35","v":0},{"$f":"'3.Zones_desservies'!EZ35","v":0},{"$f":"'3.Zones_desservies'!FA35","v":0},{"$f":"'3.Zones_desservies'!FB35","v":0},{"$f":"'3.Zones_desservies'!FC35","v":0},{"$f":"'3.Zones_desservies'!FD35","v":0},{"$f":"'3.Zones_desservies'!FE35","v":0},{"$f":"'3.Zones_desservies'!FF35","v":0},{"$f":"'3.Zones_desservies'!FG35","v":0},{"$f":"'3.Zones_desservies'!FH35","v":0},{"$f":"'3.Zones_desservies'!FI35","v":0},{"$f":"'3.Zones_desservies'!FJ35","v":0},{"$f":"'3.Zones_desservies'!FK35","v":0},{"$f":"'3.Zones_desservies'!FL35","v":0},{"$f":"'3.Zones_desservies'!FM35","v":0},{"$f":"'3.Zones_desservies'!FN35","v":0},{"$f":"'3.Zones_desservies'!FO35","v":0},{"$f":"'3.Zones_desservies'!FP35","v":0},{"$f":"'3.Zones_desservies'!FQ35","v":0},{"$f":"'3.Zones_desservies'!FR35","v":0},{"$f":"'3.Zones_desservies'!FS35","v":0},{"$f":"'3.Zones_desservies'!FT35","v":0},{"$f":"'3.Zones_desservies'!FU35","v":0},{"$f":"'3.Zones_desservies'!FV35","v":0},{"$f":"'3.Zones_desservies'!FW35","v":0},{"$f":"'3.Zones_desservies'!FX35","v":0},{"$f":"'3.Zones_desservies'!FY35","v":0},{"$f":"'3.Zones_desservies'!FZ35","v":0},{"$f":"'3.Zones_desservies'!GA35","v":0},{"$f":"'3.Zones_desservies'!GB35","v":0},{"$f":"'3.Zones_desservies'!GC35","v":0},{"$f":"'3.Zones_desservies'!GD35","v":0},{"$f":"'3.Zones_desservies'!GE35","v":0},{"$f":"'3.Zones_desservies'!GF35","v":0},{"$f":"'3.Zones_desservies'!GG35","v":0},{"$f":"'3.Zones_desservies'!GH35","v":0},{"$f":"'3.Zones_desservies'!GI35","v":0},{"$f":"'3.Zones_desservies'!GJ35","v":0},{"$f":"'3.Zones_desservies'!GK35","v":0},{"$f":"'3.Zones_desservies'!GL35","v":0},{"$f":"'3.Zones_desservies'!GM35","v":0},{"$f":"'3.Zones_desservies'!GN35","v":0},{"$f":"'3.Zones_desservies'!GO35","v":0},{"$f":"'3.Zones_desservies'!GP35","v":0},{"$f":"'3.Zones_desservies'!GQ35","v":0},{"$f":"'3.Zones_desservies'!GR35","v":0},{"$f":"'3.Zones_desservies'!GS35","v":0},{"$f":"'3.Zones_desservies'!GT35","v":0},{"$f":"'3.Zones_desservies'!GU35","v":0},{"$f":"'3.Zones_desservies'!GV35","v":0},{"$f":"'3.Zones_desservies'!GW35","v":0},{"$f":"'3.Zones_desservies'!GX35","v":0},{"$f":"'3.Zones_desservies'!GY35","v":0},{"$f":"'3.Zones_desservies'!GZ35","v":0},{"$f":"'3.Zones_desservies'!HA35","v":0},{"$f":"'3.Zones_desservies'!HB35","v":0},{"$f":"'3.Zones_desservies'!HC35","v":0},{"$f":"'3.Zones_desservies'!HD35","v":0},{"$f":"'3.Zones_desservies'!HE35","v":0},{"$f":"'3.Zones_desservies'!HF35","v":0},{"$f":"'3.Zones_desservies'!HG35","v":0},{"$f":"'3.Zones_desservies'!HH35","v":0},{"$f":"'3.Zones_desservies'!HI35","v":0},{"$f":"'3.Zones_desservies'!HJ35","v":0},{"$f":"'3.Zones_desservies'!HK35","v":0},{"$f":"'3.Zones_desservies'!HL35","v":0},{"$f":"'3.Zones_desservies'!HM35","v":0},{"$f":"'3.Zones_desservies'!HN35","v":0},{"$f":"'3.Zones_desservies'!HO35","v":0},{"$f":"'3.Zones_desservies'!HP35","v":0},{"$f":"'3.Zones_desservies'!HQ35","v":0},{"$f":"'3.Zones_desservies'!HR35","v":0},{"$f":"'3.Zones_desservies'!HS35","v":0},{"$f":"'3.Zones_desservies'!HT35","v":0},{"$f":"'3.Zones_desservies'!HU35","v":0},{"$f":"'3.Zones_desservies'!HV35","v":0},{"$f":"'3.Zones_desservies'!HW35","v":0},{"$f":"'3.Zones_desservies'!HX35","v":0},{"$f":"'3.Zones_desservies'!HY35","v":0},{"$f":"'3.Zones_desservies'!HZ35","v":0},{"$f":"'3.Zones_desservies'!IA35","v":0},{"$f":"'3.Zones_desservies'!IB35","v":0},{"$f":"'3.Zones_desservies'!IC35","v":0},{"$f":"'3.Zones_desservies'!ID35","v":0},{"$f":"'3.Zones_desservies'!IE35","v":0},{"$f":"'3.Zones_desservies'!IF35","v":0},{"$f":"'3.Zones_desservies'!IG35","v":0},{"$f":"'3.Zones_desservies'!IH35","v":0},{"$f":"'3.Zones_desservies'!II35","v":0},{"$f":"'3.Zones_desservies'!IJ35","v":0},{"$f":"'3.Zones_desservies'!IK35","v":0},{"$f":"'3.Zones_desservies'!IL35","v":0},{"$f":"'3.Zones_desservies'!IM35","v":0},{"$f":"'3.Zones_desservies'!IN35","v":0},{"$f":"'3.Zones_desservies'!IO35","v":0},{"$f":"'3.Zones_desservies'!IP35","v":0},{"$f":"'3.Zones_desservies'!IQ35","v":0},{"$f":"'3.Zones_desservies'!IR35","v":0},{"$f":"'3.Zones_desservies'!IS35","v":0},{"$f":"'3.Zones_desservies'!IT35","v":0},{"$f":"'3.Zones_desservies'!IU35","v":0},{"$f":"'3.Zones_desservies'!IV35","v":0},{"$f":"'3.Zones_desservies'!IW35","v":0},{"$f":"'3.Zones_desservies'!IX35","v":0},{"$f":"'3.Zones_desservies'!IY35","v":0},{"$f":"'3.Zones_desservies'!IZ35","v":0},{"$f":"'3.Zones_desservies'!JA35","v":0},{"$f":"'3.Zones_desservies'!JB35","v":0},{"$f":"'3.Zones_desservies'!JC35","v":0},{"$f":"'3.Zones_desservies'!JD35","v":0},{"$f":"'3.Zones_desservies'!JE35","v":0},{"$f":"'3.Zones_desservies'!JF35","v":0},{"$f":"'3.Zones_desservies'!JG35","v":0},{"$f":"'3.Zones_desservies'!JH35","v":0},{"$f":"'3.Zones_desservies'!JI35","v":0},{"$f":"'3.Zones_desservies'!JJ35","v":0},{"$f":"'3.Zones_desservies'!JK35","v":0},{"$f":"'3.Zones_desservies'!JL35","v":0},{"$f":"'3.Zones_desservies'!JM35","v":0},{"$f":"'3.Zones_desservies'!JN35","v":0},{"$f":"'3.Zones_desservies'!JO35","v":0},{"$f":"'3.Zones_desservies'!JP35","v":0},{"$f":"'3.Zones_desservies'!JQ35","v":0},{"$f":"'3.Zones_desservies'!JR35","v":0},{"$f":"'3.Zones_desservies'!JS35","v":0},{"$f":"'3.Zones_desservies'!JT35","v":0},{"$f":"'3.Zones_desservies'!JU35","v":0},{"$f":"'3.Zones_desservies'!JV35","v":0},{"$f":"'3.Zones_desservies'!JW35","v":0},{"$f":"'3.Zones_desservies'!JX35","v":0},{"$f":"'3.Zones_desservies'!JY35","v":0},{"$f":"'3.Zones_desservies'!JZ35","v":0},{"$f":"'3.Zones_desservies'!KA35","v":0},{"$f":"'3.Zones_desservies'!KB35","v":0},{"$f":"'3.Zones_desservies'!KC35","v":0},{"$f":"'3.Zones_desservies'!KD35","v":0},{"$f":"'3.Zones_desservies'!KE35","v":0},{"$f":"'3.Zones_desservies'!KF35","v":0},{"$f":"'3.Zones_desservies'!KG35","v":0},{"$f":"'3.Zones_desservies'!KH35","v":0},{"$f":"'3.Zones_desservies'!KI35","v":0},{"$f":"'3.Zones_desservies'!KJ35","v":0},{"$f":"'3.Zones_desservies'!KK35","v":0},{"$f":"'3.Zones_desservies'!KL35","v":0},{"$f":"'3.Zones_desservies'!KM35","v":0},{"$f":"'3.Zones_desservies'!KN35","v":0},{"$f":"'3.Zones_desservies'!KO35","v":0},{"$f":"'3.Zones_desservies'!KP35","v":0},{"$f":"'3.Zones_desservies'!KQ35","v":0},{"$f":"'3.Zones_desservies'!KR35","v":0},{"$f":"'3.Zones_desservies'!KS35","v":0},{"$f":"'3.Zones_desservies'!KT35","v":0},{"$f":"'3.Zones_desservies'!KU35","v":0},{"$f":"'3.Zones_desservies'!KV35","v":0},{"$f":"'3.Zones_desservies'!KW35","v":0},{"$f":"'3.Zones_desservies'!KX35","v":0},{"$f":"'3.Zones_desservies'!KY35","v":0},{"$f":"'3.Zones_desservies'!KZ35","v":0},{"$f":"'3.Zones_desservies'!LA35","v":0},{"$f":"'3.Zones_desservies'!LB35","v":0},{"$f":"'3.Zones_desservies'!LC35","v":0},{"$f":"'3.Zones_desservies'!LD35","v":0},{"$f":"'3.Zones_desservies'!LE35","v":0},{"$f":"'3.Zones_desservies'!LF35","v":0},{"$f":"'3.Zones_desservies'!LG35","v":0},{"$f":"'3.Zones_desservies'!LH35","v":0},{"$f":"'3.Zones_desservies'!LI35","v":0},{"$f":"'3.Zones_desservies'!LJ35","v":0},{"$f":"'3.Zones_desservies'!LK35","v":0},{"$f":"'3.Zones_desservies'!LL35","v":0},{"$f":"'3.Zones_desservies'!LM35","v":0},{"$f":"'3.Zones_desservies'!LN35","v":0},{"$f":"'3.Zones_desservies'!LO35","v":0},{"$f":"'3.Zones_desservies'!LP35","v":0},{"$f":"'3.Zones_desservies'!LQ35","v":0},{"$f":"'3.Zones_desservies'!LR35","v":0},{"$f":"'3.Zones_desservies'!LS35","v":0},{"$f":"'3.Zones_desservies'!LT35","v":0},{"$f":"'3.Zones_desservies'!LU35","v":0},{"$f":"'3.Zones_desservies'!LV35","v":0},{"$f":"'3.Zones_desservies'!LW35","v":0},{"$f":"'3.Zones_desservies'!LX35","v":0},{"$f":"'3.Zones_desservies'!LY35","v":0},{"$f":"'3.Zones_desservies'!LZ35","v":0},{"$f":"'3.Zones_desservies'!MA35","v":0},{"$f":"'3.Zones_desservies'!MB35","v":0},{"$f":"'3.Zones_desservies'!MC35","v":0},{"$f":"'3.Zones_desservies'!MD35","v":0},{"$f":"'3.Zones_desservies'!ME35","v":0},{"$f":"'3.Zones_desservies'!MF35","v":0},{"$f":"'3.Zones_desservies'!MG35","v":0},{"$f":"'3.Zones_desservies'!MH35","v":0},{"$f":"'3.Zones_desservies'!MI35","v":0},{"$f":"'3.Zones_desservies'!MJ35","v":0},{"$f":"'3.Zones_desservies'!MK35","v":0},{"$f":"'3.Zones_desservies'!ML35","v":0},{"$f":"'3.Zones_desservies'!MM35","v":0},{"$f":"'3.Zones_desservies'!MN35","v":0},{"$f":"'3.Zones_desservies'!MO35","v":0},{"$f":"'3.Zones_desservies'!MP35","v":0},{"$f":"'3.Zones_desservies'!MQ35","v":0},{"$f":"'3.Zones_desservies'!MR35","v":0},{"$f":"'3.Zones_desservies'!MS35","v":0},{"$f":"'3.Zones_desservies'!MT35","v":0},{"$f":"'3.Zones_desservies'!MU35","v":0},{"$f":"'3.Zones_desservies'!MV35","v":0},{"$f":"'3.Zones_desservies'!MW35","v":0},{"$f":"'3.Zones_desservies'!MX35","v":0},{"$f":"'3.Zones_desservies'!MY35","v":0},{"$f":"'3.Zones_desservies'!MZ35","v":0},{"$f":"'3.Zones_desservies'!NA35","v":0},{"$f":"'3.Zones_desservies'!NB35","v":0},{"$f":"'3.Zones_desservies'!NC35","v":0},{"$f":"'3.Zones_desservies'!ND35","v":0},{"$f":"'3.Zones_desservies'!NE35","v":0},{"$f":"'3.Zones_desservies'!NF35","v":0},{"$f":"'3.Zones_desservies'!NG35","v":0},{"$f":"'3.Zones_desservies'!NH35","v":0},{"$f":"'3.Zones_desservies'!NI35","v":0},{"$f":"'3.Zones_desservies'!NJ35","v":0},{"$f":"'3.Zones_desservies'!NK35","v":0},{"$f":"'3.Zones_desservies'!NL35","v":0},{"$f":"'3.Zones_desservies'!NM35","v":0},{"$f":"'3.Zones_desservies'!NN35","v":0},{"$f":"'3.Zones_desservies'!NO35","v":0},{"$f":"'3.Zones_desservies'!NP35","v":0},{"$f":"'3.Zones_desservies'!NQ35","v":0},{"$f":"'3.Zones_desservies'!NR35","v":0},{"$f":"'3.Zones_desservies'!NS35","v":0},{"$f":"'3.Zones_desservies'!NT35","v":0},{"$f":"'3.Zones_desservies'!NU35","v":0},{"$f":"'3.Zones_desservies'!NV35","v":0},{"$f":"'3.Zones_desservies'!NW35","v":0},{"$f":"'3.Zones_desservies'!NX35","v":0},{"$f":"'3.Zones_desservies'!NY35","v":0},{"$f":"'3.Zones_desservies'!NZ35","v":0},{"$f":"'3.Zones_desservies'!OA35","v":0},{"$f":"'3.Zones_desservies'!OB35","v":0},{"$f":"'3.Zones_desservies'!OC35","v":0},{"$f":"'3.Zones_desservies'!OD35","v":0},{"$f":"'3.Zones_desservies'!OE35","v":0},{"$f":"'3.Zones_desservies'!OF35","v":0},{"$f":"'3.Zones_desservies'!OG35","v":0},{"$f":"'3.Zones_desservies'!OH35","v":0},{"$f":"'3.Zones_desservies'!OI35","v":0},{"$f":"'3.Zones_desservies'!OJ35","v":0},{"$f":"'3.Zones_desservies'!OK35","v":0},{"$f":"'3.Zones_desservies'!OL35","v":0},{"$f":"'3.Zones_desservies'!OM35","v":0},{"$f":"'3.Zones_desservies'!ON35","v":0},{"$f":"'3.Zones_desservies'!OO35","v":0},{"$f":"'3.Zones_desservies'!OP35","v":0},{"$f":"'3.Zones_desservies'!OQ35","v":0},{"$f":"'3.Zones_desservies'!OR35","v":0},{"$f":"'3.Zones_desservies'!OS35","v":0},{"$f":"'3.Zones_desservies'!OT35","v":0},{"$f":"'3.Zones_desservies'!OU35","v":0},{"$f":"'3.Zones_desservies'!OV35","v":0},{"$f":"'3.Zones_desservies'!OW35","v":0},{"$f":"'3.Zones_desservies'!OX35","v":0},{"$f":"'3.Zones_desservies'!OY35","v":0},{"$f":"'3.Zones_desservies'!OZ35","v":0},{"$f":"'3.Zones_desservies'!PA35","v":0},{"$f":"'3.Zones_desservies'!PB35","v":0},{"$f":"'3.Zones_desservies'!PC35","v":0},{"$f":"'3.Zones_desservies'!PD35","v":0},{"$f":"'3.Zones_desservies'!PE35","v":0},{"$f":"'3.Zones_desservies'!PF35","v":0},{"$f":"'3.Zones_desservies'!PG35","v":0},{"$f":"'3.Zones_desservies'!PH35","v":0},{"$f":"'3.Zones_desservies'!PI35","v":0},{"$f":"'3.Zones_desservies'!PJ35","v":0},{"$f":"'3.Zones_desservies'!PK35","v":0},{"$f":"'3.Zones_desservies'!PL35","v":0},{"$f":"'3.Zones_desservies'!PM35","v":0},{"$f":"'3.Zones_desservies'!PN35","v":0},{"$f":"'3.Zones_desservies'!PO35","v":0},{"$f":"'3.Zones_desservies'!PP35","v":0},{"$f":"'3.Zones_desservies'!PQ35","v":0},{"$f":"'3.Zones_desservies'!PR35","v":0},{"$f":"'3.Zones_desservies'!PS35","v":0},{"$f":"'3.Zones_desservies'!PT35","v":0},{"$f":"'3.Zones_desservies'!PU35","v":0},{"$f":"'3.Zones_desservies'!PV35","v":0},{"$f":"'3.Zones_desservies'!PW35","v":0},{"$f":"'3.Zones_desservies'!PX35","v":0},{"$f":"'3.Zones_desservies'!PY35","v":0},{"$f":"'3.Zones_desservies'!PZ35","v":0},{"$f":"'3.Zones_desservies'!QA35","v":0},{"$f":"'3.Zones_desservies'!QB35","v":0},{"$f":"'3.Zones_desservies'!QC35","v":0},{"$f":"'3.Zones_desservies'!QD35","v":0},{"$f":"'3.Zones_desservies'!QE35","v":0},{"$f":"'3.Zones_desservies'!QF35","v":0},{"$f":"'3.Zones_desservies'!QG35","v":0},{"$f":"'3.Zones_desservies'!QH35","v":0},{"$f":"'3.Zones_desservies'!QI35","v":0},{"$f":"'3.Zones_desservies'!QJ35","v":0},{"$f":"'3.Zones_desservies'!QK35","v":0},{"$f":"'3.Zones_desservies'!QL35","v":0},{"$f":"'3.Zones_desservies'!QM35","v":0},{"$f":"'3.Zones_desservies'!QN35","v":0},{"$f":"'3.Zones_desservies'!QO35","v":0},{"$f":"'3.Zones_desservies'!QP35","v":0},{"$f":"'3.Zones_desservies'!QQ35","v":0},{"$f":"'3.Zones_desservies'!QR35","v":0},{"$f":"'3.Zones_desservies'!QS35","v":0},{"$f":"'3.Zones_desservies'!QT35","v":0},{"$f":"'3.Zones_desservies'!QU35","v":0},{"$f":"'3.Zones_desservies'!QV35","v":0},{"$f":"'3.Zones_desservies'!QW35","v":0},{"$f":"'3.Zones_desservies'!QX35","v":0},{"$f":"'3.Zones_desservies'!QY35","v":0},{"$f":"'3.Zones_desservies'!QZ35","v":0},{"$f":"'3.Zones_desservies'!RA35","v":0},{"$f":"'3.Zones_desservies'!RB35","v":0},{"$f":"'3.Zones_desservies'!RC35","v":0},{"$f":"'3.Zones_desservies'!RD35","v":0},{"$f":"'3.Zones_desservies'!RE35","v":0},{"$f":"'3.Zones_desservies'!RF35","v":0},{"$f":"'3.Zones_desservies'!RG35","v":0},{"$f":"'3.Zones_desservies'!RH35","v":0},{"$f":"'3.Zones_desservies'!RI35","v":0},{"$f":"'3.Zones_desservies'!RJ35","v":0},{"$f":"'3.Zones_desservies'!RK35","v":0},{"$f":"'3.Zones_desservies'!RL35","v":0},{"$f":"'3.Zones_desservies'!RM35","v":0},{"$f":"'3.Zones_desservies'!RN35","v":0},{"$f":"'3.Zones_desservies'!RO35","v":0},{"$f":"'3.Zones_desservies'!RP35","v":0},{"$f":"'3.Zones_desservies'!RQ35","v":0},{"$f":"'3.Zones_desservies'!RR35","v":0},{"$f":"'3.Zones_desservies'!RS35","v":0},{"$f":"'3.Zones_desservies'!RT35","v":0},{"$f":"'3.Zones_desservies'!RU35","v":0},{"$f":"'3.Zones_desservies'!RV35","v":0},{"$f":"'3.Zones_desservies'!RW35","v":0},{"$f":"'3.Zones_desservies'!RX35","v":0},{"$f":"'3.Zones_desservies'!RY35","v":0},{"$f":"'3.Zones_desservies'!RZ35","v":0},{"$f":"'3.Zones_desservies'!SA35","v":0},{"$f":"'3.Zones_desservies'!SB35","v":0},{"$f":"'3.Zones_desservies'!SC35","v":0},{"$f":"'3.Zones_desservies'!SD35","v":0},{"$f":"'3.Zones_desservies'!SE35","v":0},{"$f":"'3.Zones_desservies'!SF35","v":0},{"$f":"'3.Zones_desservies'!SG35","v":0},{"$f":"'3.Zones_desservies'!SH35","v":0}]
[null,{"$f":"'3.Zones_desservies'!B36","v":0},{"$f":"'3.Zones_desservies'!C36","v":0},{"$f":"'3.Zones_desservies'!D36","v":0},{"$f":"'3.Zones_desservies'!E36","v":0},{"$f":"'3.Zones_desservies'!F36","v":0},{"$f":"'3.Zones_desservies'!G36","v":0},{"$f":"'3.Zones_desservies'!H36","v":0},{"$f":"'3.Zones_desservies'!I36","v":0},{"$f":"'3.Zones_desservies'!J36","v":0},{"$f":"'3.Zones_desservies'!K36","v":0},{"$f":"'3.Zones_desservies'!L36","v":0},{"$f":"'3.Zones_desservies'!M36","v":0},{"$f":"'3.Zones_desservies'!N36","v":0},{"$f":"'3.Zones_desservies'!O36","v":0},{"$f":"'3.Zones_desservies'!P36","v":0},{"$f":"'3.Zones_desservies'!Q36","v":0},{"$f":"'3.Zones_desservies'!R36","v":0},{"$f":"'3.Zones_desservies'!S36","v":0},{"$f":"'3.Zones_desservies'!T36","v":0},{"$f":"'3.Zones_desservies'!U36","v":0},{"$f":"'3.Zones_desservies'!V36","v":0},{"$f":"'3.Zones_desservies'!W36","v":0},{"$f":"'3.Zones_desservies'!X36","v":0},{"$f":"'3.Zones_desservies'!Y36","v":0},{"$f":"'3.Zones_desservies'!Z36","v":0},{"$f":"'3.Zones_desservies'!AA36","v":0},{"$f":"'3.Zones_desservies'!AB36","v":0},{"$f":"'3.Zones_desservies'!AC36","v":0},{"$f":"'3.Zones_desservies'!AD36","v":0},{"$f":"'3.Zones_desservies'!AE36","v":0},{"$f":"'3.Zones_desservies'!AF36","v":0},{"$f":"'3.Zones_desservies'!AG36","v":0},{"$f":"'3.Zones_desservies'!AH36","v":0},{"$f":"'3.Zones_desservies'!AI36","v":0},{"$f":"'3.Zones_desservies'!AJ36","v":0},{"$f":"'3.Zones_desservies'!AK36","v":0},{"$f":"'3.Zones_desservies'!AL36","v":0},{"$f":"'3.Zones_desservies'!AM36","v":0},{"$f":"'3.Zones_desservies'!AN36","v":0},{"$f":"'3.Zones_desservies'!AO36","v":0},{"$f":"'3.Zones_desservies'!AP36","v":0},{"$f":"'3.Zones_desservies'!AQ36","v":0},{"$f":"'3.Zones_desservies'!AR36","v":0},{"$f":"'3.Zones_desservies'!AS36","v":0},{"$f":"'3.Zones_desservies'!AT36","v":0},{"$f":"'3.Zones_desservies'!AU36","v":0},{"$f":"'3.Zones_desservies'!AV36","v":0},{"$f":"'3.Zones_desservies'!AW36","v":0},{"$f":"'3.Zones_desservies'!AX36","v":0},{"$f":"'3.Zones_desservies'!AY36","v":0},{"$f":"'3.Zones_desservies'!AZ36","v":0},{"$f":"'3.Zones_desservies'!BA36","v":0},{"$f":"'3.Zones_desservies'!BB36","v":0},{"$f":"'3.Zones_desservies'!BC36","v":0},{"$f":"'3.Zones_desservies'!BD36","v":0},{"$f":"'3.Zones_desservies'!BE36","v":0},{"$f":"'3.Zones_desservies'!BF36","v":0},{"$f":"'3.Zones_desservies'!BG36","v":0},{"$f":"'3.Zones_desservies'!BH36","v":0},{"$f":"'3.Zones_desservies'!BI36","v":0},{"$f":"'3.Zones_desservies'!BJ36","v":0},{"$f":"'3.Zones_desservies'!BK36","v":0},{"$f":"'3.Zones_desservies'!BL36","v":0},{"$f":"'3.Zones_desservies'!BM36","v":0},{"$f":"'3.Zones_desservies'!BN36","v":0},{"$f":"'3.Zones_desservies'!BO36","v":0},{"$f":"'3.Zones_desservies'!BP36","v":0},{"$f":"'3.Zones_desservies'!BQ36","v":0},{"$f":"'3.Zones_desservies'!BR36","v":0},{"$f":"'3.Zones_desservies'!BS36","v":0},{"$f":"'3.Zones_desservies'!BT36","v":0},{"$f":"'3.Zones_desservies'!BU36","v":0},{"$f":"'3.Zones_desservies'!BV36","v":0},{"$f":"'3.Zones_desservies'!BW36","v":0},{"$f":"'3.Zones_desservies'!BX36","v":0},{"$f":"'3.Zones_desservies'!BY36","v":0},{"$f":"'3.Zones_desservies'!BZ36","v":0},{"$f":"'3.Zones_desservies'!CA36","v":0},{"$f":"'3.Zones_desservies'!CB36","v":0},{"$f":"'3.Zones_desservies'!CC36","v":0},{"$f":"'3.Zones_desservies'!CD36","v":0},{"$f":"'3.Zones_desservies'!CE36","v":0},{"$f":"'3.Zones_desservies'!CF36","v":0},{"$f":"'3.Zones_desservies'!CG36","v":0},{"$f":"'3.Zones_desservies'!CH36","v":0},{"$f":"'3.Zones_desservies'!CI36","v":0},{"$f":"'3.Zones_desservies'!CJ36","v":0},{"$f":"'3.Zones_desservies'!CK36","v":0},{"$f":"'3.Zones_desservies'!CL36","v":0},{"$f":"'3.Zones_desservies'!CM36","v":0},{"$f":"'3.Zones_desservies'!CN36","v":0},{"$f":"'3.Zones_desservies'!CO36","v":0},{"$f":"'3.Zones_desservies'!CP36","v":0},{"$f":"'3.Zones_desservies'!CQ36","v":0},{"$f":"'3.Zones_desservies'!CR36","v":0},{"$f":"'3.Zones_desservies'!CS36","v":0},{"$f":"'3.Zones_desservies'!CT36","v":0},{"$f":"'3.Zones_desservies'!CU36","v":0},{"$f":"'3.Zones_desservies'!CV36","v":0},{"$f":"'3.Zones_desservies'!CW36","v":0},{"$f":"'3.Zones_desservies'!CX36","v":0},{"$f":"'3.Zones_desservies'!CY36","v":0},{"$f":"'3.Zones_desservies'!CZ36","v":0},{"$f":"'3.Zones_desservies'!DA36","v":0},{"$f":"'3.Zones_desservies'!DB36","v":0},{"$f":"'3.Zones_desservies'!DC36","v":0},{"$f":"'3.Zones_desservies'!DD36","v":0},{"$f":"'3.Zones_desservies'!DE36","v":0},{"$f":"'3.Zones_desservies'!DF36","v":0},{"$f":"'3.Zones_desservies'!DG36","v":0},{"$f":"'3.Zones_desservies'!DH36","v":0},{"$f":"'3.Zones_desservies'!DI36","v":0},{"$f":"'3.Zones_desservies'!DJ36","v":0},{"$f":"'3.Zones_desservies'!DK36","v":0},{"$f":"'3.Zones_desservies'!DL36","v":0},{"$f":"'3.Zones_desservies'!DM36","v":0},{"$f":"'3.Zones_desservies'!DN36","v":0},{"$f":"'3.Zones_desservies'!DO36","v":0},{"$f":"'3.Zones_desservies'!DP36","v":0},{"$f":"'3.Zones_desservies'!DQ36","v":0},{"$f":"'3.Zones_desservies'!DR36","v":0},{"$f":"'3.Zones_desservies'!DS36","v":0},{"$f":"'3.Zones_desservies'!DT36","v":0},{"$f":"'3.Zones_desservies'!DU36","v":0},{"$f":"'3.Zones_desservies'!DV36","v":0},{"$f":"'3.Zones_desservies'!DW36","v":0},{"$f":"'3.Zones_desservies'!DX36","v":0},{"$f":"'3.Zones_desservies'!DY36","v":0},{"$f":"'3.Zones_desservies'!DZ36","v":0},{"$f":"'3.Zones_desservies'!EA36","v":0},{"$f":"'3.Zones_desservies'!EB36","v":0},{"$f":"'3.Zones_desservies'!EC36","v":0},{"$f":"'3.Zones_desservies'!ED36","v":0},{"$f":"'3.Zones_desservies'!EE36","v":0},{"$f":"'3.Zones_desservies'!EF36","v":0},{"$f":"'3.Zones_desservies'!EG36","v":0},{"$f":"'3.Zones_desservies'!EH36","v":0},{"$f":"'3.Zones_desservies'!EI36","v":0},{"$f":"'3.Zones_desservies'!EJ36","v":0},{"$f":"'3.Zones_desservies'!EK36","v":0},{"$f":"'3.Zones_desservies'!EL36","v":0},{"$f":"'3.Zones_desservies'!EM36","v":0},{"$f":"'3.Zones_desservies'!EN36","v":0},{"$f":"'3.Zones_desservies'!EO36","v":0},{"$f":"'3.Zones_desservies'!EP36","v":0},{"$f":"'3.Zones_desservies'!EQ36","v":0},{"$f":"'3.Zones_desservies'!ER36","v":0},{"$f":"'3.Zones_desservies'!ES36","v":0},{"$f":"'3.Zones_desservies'!ET36","v":0},{"$f":"'3.Zones_desservies'!EU36","v":0},{"$f":"'3.Zones_desservies'!EV36","v":0},{"$f":"'3.Zones_desservies'!EW36","v":0},{"$f":"'3.Zones_desservies'!EX36","v":0},{"$f":"'3.Zones_desservies'!EY36","v":0},{"$f":"'3.Zones_desservies'!EZ36","v":0},{"$f":"'3.Zones_desservies'!FA36","v":0},{"$f":"'3.Zones_desservies'!FB36","v":0},{"$f":"'3.Zones_desservies'!FC36","v":0},{"$f":"'3.Zones_desservies'!FD36","v":0},{"$f":"'3.Zones_desservies'!FE36","v":0},{"$f":"'3.Zones_desservies'!FF36","v":0},{"$f":"'3.Zones_desservies'!FG36","v":0},{"$f":"'3.Zones_desservies'!FH36","v":0},{"$f":"'3.Zones_desservies'!FI36","v":0},{"$f":"'3.Zones_desservies'!FJ36","v":0},{"$f":"'3.Zones_desservies'!FK36","v":0},{"$f":"'3.Zones_desservies'!FL36","v":0},{"$f":"'3.Zones_desservies'!FM36","v":0},{"$f":"'3.Zones_desservies'!FN36","v":0},{"$f":"'3.Zones_desservies'!FO36","v":0},{"$f":"'3.Zones_desservies'!FP36","v":0},{"$f":"'3.Zones_desservies'!FQ36","v":0},{"$f":"'3.Zones_desservies'!FR36","v":0},{"$f":"'3.Zones_desservies'!FS36","v":0},{"$f":"'3.Zones_desservies'!FT36","v":0},{"$f":"'3.Zones_desservies'!FU36","v":0},{"$f":"'3.Zones_desservies'!FV36","v":0},{"$f":"'3.Zones_desservies'!FW36","v":0},{"$f":"'3.Zones_desservies'!FX36","v":0},{"$f":"'3.Zones_desservies'!FY36","v":0},{"$f":"'3.Zones_desservies'!FZ36","v":0},{"$f":"'3.Zones_desservies'!GA36","v":0},{"$f":"'3.Zones_desservies'!GB36","v":0},{"$f":"'3.Zones_desservies'!GC36","v":0},{"$f":"'3.Zones_desservies'!GD36","v":0},{"$f":"'3.Zones_desservies'!GE36","v":0},{"$f":"'3.Zones_desservies'!GF36","v":0},{"$f":"'3.Zones_desservies'!GG36","v":0},{"$f":"'3.Zones_desservies'!GH36","v":0},{"$f":"'3.Zones_desservies'!GI36","v":0},{"$f":"'3.Zones_desservies'!GJ36","v":0},{"$f":"'3.Zones_desservies'!GK36","v":0},{"$f":"'3.Zones_desservies'!GL36","v":0},{"$f":"'3.Zones_desservies'!GM36","v":0},{"$f":"'3.Zones_desservies'!GN36","v":0},{"$f":"'3.Zones_desservies'!GO36","v":0},{"$f":"'3.Zones_desservies'!GP36","v":0},{"$f":"'3.Zones_desservies'!GQ36","v":0},{"$f":"'3.Zones_desservies'!GR36","v":0},{"$f":"'3.Zones_desservies'!GS36","v":0},{"$f":"'3.Zones_desservies'!GT36","v":0},{"$f":"'3.Zones_desservies'!GU36","v":0},{"$f":"'3.Zones_desservies'!GV36","v":0},{"$f":"'3.Zones_desservies'!GW36","v":0},{"$f":"'3.Zones_desservies'!GX36","v":0},{"$f":"'3.Zones_desservies'!GY36","v":0},{"$f":"'3.Zones_desservies'!GZ36","v":0},{"$f":"'3.Zones_desservies'!HA36","v":0},{"$f":"'3.Zones_desservies'!HB36","v":0},{"$f":"'3.Zones_desservies'!HC36","v":0},{"$f":"'3.Zones_desservies'!HD36","v":0},{"$f":"'3.Zones_desservies'!HE36","v":0},{"$f":"'3.Zones_desservies'!HF36","v":0},{"$f":"'3.Zones_desservies'!HG36","v":0},{"$f":"'3.Zones_desservies'!HH36","v":0},{"$f":"'3.Zones_desservies'!HI36","v":0},{"$f":"'3.Zones_desservies'!HJ36","v":0},{"$f":"'3.Zones_desservies'!HK36","v":0},{"$f":"'3.Zones_desservies'!HL36","v":0},{"$f":"'3.Zones_desservies'!HM36","v":0},{"$f":"'3.Zones_desservies'!HN36","v":0},{"$f":"'3.Zones_desservies'!HO36","v":0},{"$f":"'3.Zones_desservies'!HP36","v":0},{"$f":"'3.Zones_desservies'!HQ36","v":0},{"$f":"'3.Zones_desservies'!HR36","v":0},{"$f":"'3.Zones_desservies'!HS36","v":0},{"$f":"'3.Zones_desservies'!HT36","v":0},{"$f":"'3.Zones_desservies'!HU36","v":0},{"$f":"'3.Zones_desservies'!HV36","v":0},{"$f":"'3.Zones_desservies'!HW36","v":0},{"$f":"'3.Zones_desservies'!HX36","v":0},{"$f":"'3.Zones_desservies'!HY36","v":0},{"$f":"'3.Zones_desservies'!HZ36","v":0},{"$f":"'3.Zones_desservies'!IA36","v":0},{"$f":"'3.Zones_desservies'!IB36","v":0},{"$f":"'3.Zones_desservies'!IC36","v":0},{"$f":"'3.Zones_desservies'!ID36","v":0},{"$f":"'3.Zones_desservies'!IE36","v":0},{"$f":"'3.Zones_desservies'!IF36","v":0},{"$f":"'3.Zones_desservies'!IG36","v":0},{"$f":"'3.Zones_desservies'!IH36","v":0},{"$f":"'3.Zones_desservies'!II36","v":0},{"$f":"'3.Zones_desservies'!IJ36","v":0},{"$f":"'3.Zones_desservies'!IK36","v":0},{"$f":"'3.Zones_desservies'!IL36","v":0},{"$f":"'3.Zones_desservies'!IM36","v":0},{"$f":"'3.Zones_desservies'!IN36","v":0},{"$f":"'3.Zones_desservies'!IO36","v":0},{"$f":"'3.Zones_desservies'!IP36","v":0},{"$f":"'3.Zones_desservies'!IQ36","v":0},{"$f":"'3.Zones_desservies'!IR36","v":0},{"$f":"'3.Zones_desservies'!IS36","v":0},{"$f":"'3.Zones_desservies'!IT36","v":0},{"$f":"'3.Zones_desservies'!IU36","v":0},{"$f":"'3.Zones_desservies'!IV36","v":0},{"$f":"'3.Zones_desservies'!IW36","v":0},{"$f":"'3.Zones_desservies'!IX36","v":0},{"$f":"'3.Zones_desservies'!IY36","v":0},{"$f":"'3.Zones_desservies'!IZ36","v":0},{"$f":"'3.Zones_desservies'!JA36","v":0},{"$f":"'3.Zones_desservies'!JB36","v":0},{"$f":"'3.Zones_desservies'!JC36","v":0},{"$f":"'3.Zones_desservies'!JD36","v":0},{"$f":"'3.Zones_desservies'!JE36","v":0},{"$f":"'3.Zones_desservies'!JF36","v":0},{"$f":"'3.Zones_desservies'!JG36","v":0},{"$f":"'3.Zones_desservies'!JH36","v":0},{"$f":"'3.Zones_desservies'!JI36","v":0},{"$f":"'3.Zones_desservies'!JJ36","v":0},{"$f":"'3.Zones_desservies'!JK36","v":0},{"$f":"'3.Zones_desservies'!JL36","v":0},{"$f":"'3.Zones_desservies'!JM36","v":0},{"$f":"'3.Zones_desservies'!JN36","v":0},{"$f":"'3.Zones_desservies'!JO36","v":0},{"$f":"'3.Zones_desservies'!JP36","v":0},{"$f":"'3.Zones_desservies'!JQ36","v":0},{"$f":"'3.Zones_desservies'!JR36","v":0},{"$f":"'3.Zones_desservies'!JS36","v":0},{"$f":"'3.Zones_desservies'!JT36","v":0},{"$f":"'3.Zones_desservies'!JU36","v":0},{"$f":"'3.Zones_desservies'!JV36","v":0},{"$f":"'3.Zones_desservies'!JW36","v":0},{"$f":"'3.Zones_desservies'!JX36","v":0},{"$f":"'3.Zones_desservies'!JY36","v":0},{"$f":"'3.Zones_desservies'!JZ36","v":0},{"$f":"'3.Zones_desservies'!KA36","v":0},{"$f":"'3.Zones_desservies'!KB36","v":0},{"$f":"'3.Zones_desservies'!KC36","v":0},{"$f":"'3.Zones_desservies'!KD36","v":0},{"$f":"'3.Zones_desservies'!KE36","v":0},{"$f":"'3.Zones_desservies'!KF36","v":0},{"$f":"'3.Zones_desservies'!KG36","v":0},{"$f":"'3.Zones_desservies'!KH36","v":0},{"$f":"'3.Zones_desservies'!KI36","v":0},{"$f":"'3.Zones_desservies'!KJ36","v":0},{"$f":"'3.Zones_desservies'!KK36","v":0},{"$f":"'3.Zones_desservies'!KL36","v":0},{"$f":"'3.Zones_desservies'!KM36","v":0},{"$f":"'3.Zones_desservies'!KN36","v":0},{"$f":"'3.Zones_desservies'!KO36","v":0},{"$f":"'3.Zones_desservies'!KP36","v":0},{"$f":"'3.Zones_desservies'!KQ36","v":0},{"$f":"'3.Zones_desservies'!KR36","v":0},{"$f":"'3.Zones_desservies'!KS36","v":0},{"$f":"'3.Zones_desservies'!KT36","v":0},{"$f":"'3.Zones_desservies'!KU36","v":0},{"$f":"'3.Zones_desservies'!KV36","v":0},{"$f":"'3.Zones_desservies'!KW36","v":0},{"$f":"'3.Zones_desservies'!KX36","v":0},{"$f":"'3.Zones_desservies'!KY36","v":0},{"$f":"'3.Zones_desservies'!KZ36","v":0},{"$f":"'3.Zones_desservies'!LA36","v":0},{"$f":"'3.Zones_desservies'!LB36","v":0},{"$f":"'3.Zones_desservies'!LC36","v":0},{"$f":"'3.Zones_desservies'!LD36","v":0},{"$f":"'3.Zones_desservies'!LE36","v":0},{"$f":"'3.Zones_desservies'!LF36","v":0},{"$f":"'3.Zones_desservies'!LG36","v":0},{"$f":"'3.Zones_desservies'!LH36","v":0},{"$f":"'3.Zones_desservies'!LI36","v":0},{"$f":"'3.Zones_desservies'!LJ36","v":0},{"$f":"'3.Zones_desservies'!LK36","v":0},{"$f":"'3.Zones_desservies'!LL36","v":0},{"$f":"'3.Zones_desservies'!LM36","v":0},{"$f":"'3.Zones_desservies'!LN36","v":0},{"$f":"'3.Zones_desservies'!LO36","v":0},{"$f":"'3.Zones_desservies'!LP36","v":0},{"$f":"'3.Zones_desservies'!LQ36","v":0},{"$f":"'3.Zones_desservies'!LR36","v":0},{"$f":"'3.Zones_desservies'!LS36","v":0},{"$f":"'3.Zones_desservies'!LT36","v":0},{"$f":"'3.Zones_desservies'!LU36","v":0},{"$f":"'3.Zones_desservies'!LV36","v":0},{"$f":"'3.Zones_desservies'!LW36","v":0},{"$f":"'3.Zones_desservies'!LX36","v":0},{"$f":"'3.Zones_desservies'!LY36","v":0},{"$f":"'3.Zones_desservies'!LZ36","v":0},{"$f":"'3.Zones_desservies'!MA36","v":0},{"$f":"'3.Zones_desservies'!MB36","v":0},{"$f":"'3.Zones_desservies'!MC36","v":0},{"$f":"'3.Zones_desservies'!MD36","v":0},{"$f":"'3.Zones_desservies'!ME36","v":0},{"$f":"'3.Zones_desservies'!MF36","v":0},{"$f":"'3.Zones_desservies'!MG36","v":0},{"$f":"'3.Zones_desservies'!MH36","v":0},{"$f":"'3.Zones_desservies'!MI36","v":0},{"$f":"'3.Zones_desservies'!MJ36","v":0},{"$f":"'3.Zones_desservies'!MK36","v":0},{"$f":"'3.Zones_desservies'!ML36","v":0},{"$f":"'3.Zones_desservies'!MM36","v":0},{"$f":"'3.Zones_desservies'!MN36","v":0},{"$f":"'3.Zones_desservies'!MO36","v":0},{"$f":"'3.Zones_desservies'!MP36","v":0},{"$f":"'3.Zones_desservies'!MQ36","v":0},{"$f":"'3.Zones_desservies'!MR36","v":0},{"$f":"'3.Zones_desservies'!MS36","v":0},{"$f":"'3.Zones_desservies'!MT36","v":0},{"$f":"'3.Zones_desservies'!MU36","v":0},{"$f":"'3.Zones_desservies'!MV36","v":0},{"$f":"'3.Zones_desservies'!MW36","v":0},{"$f":"'3.Zones_desservies'!MX36","v":0},{"$f":"'3.Zones_desservies'!MY36","v":0},{"$f":"'3.Zones_desservies'!MZ36","v":0},{"$f":"'3.Zones_desservies'!NA36","v":0},{"$f":"'3.Zones_desservies'!NB36","v":0},{"$f":"'3.Zones_desservies'!NC36","v":0},{"$f":"'3.Zones_desservies'!ND36","v":0},{"$f":"'3.Zones_desservies'!NE36","v":0},{"$f":"'3.Zones_desservies'!NF36","v":0},{"$f":"'3.Zones_desservies'!NG36","v":0},{"$f":"'3.Zones_desservies'!NH36","v":0},{"$f":"'3.Zones_desservies'!NI36","v":0},{"$f":"'3.Zones_desservies'!NJ36","v":0},{"$f":"'3.Zones_desservies'!NK36","v":0},{"$f":"'3.Zones_desservies'!NL36","v":0},{"$f":"'3.Zones_desservies'!NM36","v":0},{"$f":"'3.Zones_desservies'!NN36","v":0},{"$f":"'3.Zones_desservies'!NO36","v":0},{"$f":"'3.Zones_desservies'!NP36","v":0},{"$f":"'3.Zones_desservies'!NQ36","v":0},{"$f":"'3.Zones_desservies'!NR36","v":0},{"$f":"'3.Zones_desservies'!NS36","v":0},{"$f":"'3.Zones_desservies'!NT36","v":0},{"$f":"'3.Zones_desservies'!NU36","v":0},{"$f":"'3.Zones_desservies'!NV36","v":0},{"$f":"'3.Zones_desservies'!NW36","v":0},{"$f":"'3.Zones_desservies'!NX36","v":0},{"$f":"'3.Zones_desservies'!NY36","v":0},{"$f":"'3.Zones_desservies'!NZ36","v":0},{"$f":"'3.Zones_desservies'!OA36","v":0},{"$f":"'3.Zones_desservies'!OB36","v":0},{"$f":"'3.Zones_desservies'!OC36","v":0},{"$f":"'3.Zones_desservies'!OD36","v":0},{"$f":"'3.Zones_desservies'!OE36","v":0},{"$f":"'3.Zones_desservies'!OF36","v":0},{"$f":"'3.Zones_desservies'!OG36","v":0},{"$f":"'3.Zones_desservies'!OH36","v":0},{"$f":"'3.Zones_desservies'!OI36","v":0},{"$f":"'3.Zones_desservies'!OJ36","v":0},{"$f":"'3.Zones_desservies'!OK36","v":0},{"$f":"'3.Zones_desservies'!OL36","v":0},{"$f":"'3.Zones_desservies'!OM36","v":0},{"$f":"'3.Zones_desservies'!ON36","v":0},{"$f":"'3.Zones_desservies'!OO36","v":0},{"$f":"'3.Zones_desservies'!OP36","v":0},{"$f":"'3.Zones_desservies'!OQ36","v":0},{"$f":"'3.Zones_desservies'!OR36","v":0},{"$f":"'3.Zones_desservies'!OS36","v":0},{"$f":"'3.Zones_desservies'!OT36","v":0},{"$f":"'3.Zones_desservies'!OU36","v":0},{"$f":"'3.Zones_desservies'!OV36","v":0},{"$f":"'3.Zones_desservies'!OW36","v":0},{"$f":"'3.Zones_desservies'!OX36","v":0},{"$f":"'3.Zones_desservies'!OY36","v":0},{"$f":"'3.Zones_desservies'!OZ36","v":0},{"$f":"'3.Zones_desservies'!PA36","v":0},{"$f":"'3.Zones_desservies'!PB36","v":0},{"$f":"'3.Zones_desservies'!PC36","v":0},{"$f":"'3.Zones_desservies'!PD36","v":0},{"$f":"'3.Zones_desservies'!PE36","v":0},{"$f":"'3.Zones_desservies'!PF36","v":0},{"$f":"'3.Zones_desservies'!PG36","v":0},{"$f":"'3.Zones_desservies'!PH36","v":0},{"$f":"'3.Zones_desservies'!PI36","v":0},{"$f":"'3.Zones_desservies'!PJ36","v":0},{"$f":"'3.Zones_desservies'!PK36","v":0},{"$f":"'3.Zones_desservies'!PL36","v":0},{"$f":"'3.Zones_desservies'!PM36","v":0},{"$f":"'3.Zones_desservies'!PN36","v":0},{"$f":"'3.Zones_desservies'!PO36","v":0},{"$f":"'3.Zones_desservies'!PP36","v":0},{"$f":"'3.Zones_desservies'!PQ36","v":0},{"$f":"'3.Zones_desservies'!PR36","v":0},{"$f":"'3.Zones_desservies'!PS36","v":0},{"$f":"'3.Zones_desservies'!PT36","v":0},{"$f":"'3.Zones_desservies'!PU36","v":0},{"$f":"'3.Zones_desservies'!PV36","v":0},{"$f":"'3.Zones_desservies'!PW36","v":0},{"$f":"'3.Zones_desservies'!PX36","v":0},{"$f":"'3.Zones_desservies'!PY36","v":0},{"$f":"'3.Zones_desservies'!PZ36","v":0},{"$f":"'3.Zones_desservies'!QA36","v":0},{"$f":"'3.Zones_desservies'!QB36","v":0},{"$f":"'3.Zones_desservies'!QC36","v":0},{"$f":"'3.Zones_desservies'!QD36","v":0},{"$f":"'3.Zones_desservies'!QE36","v":0},{"$f":"'3.Zones_desservies'!QF36","v":0},{"$f":"'3.Zones_desservies'!QG36","v":0},{"$f":"'3.Zones_desservies'!QH36","v":0},{"$f":"'3.Zones_desservies'!QI36","v":0},{"$f":"'3.Zones_desservies'!QJ36","v":0},{"$f":"'3.Zones_desservies'!QK36","v":0},{"$f":"'3.Zones_desservies'!QL36","v":0},{"$f":"'3.Zones_desservies'!QM36","v":0},{"$f":"'3.Zones_desservies'!QN36","v":0},{"$f":"'3.Zones_desservies'!QO36","v":0},{"$f":"'3.Zones_desservies'!QP36","v":0},{"$f":"'3.Zones_desservies'!QQ36","v":0},{"$f":"'3.Zones_desservies'!QR36","v":0},{"$f":"'3.Zones_desservies'!QS36","v":0},{"$f":"'3.Zones_desservies'!QT36","v":0},{"$f":"'3.Zones_desservies'!QU36","v":0},{"$f":"'3.Zones_desservies'!QV36","v":0},{"$f":"'3.Zones_desservies'!QW36","v":0},{"$f":"'3.Zones_desservies'!QX36","v":0},{"$f":"'3.Zones_desservies'!QY36","v":0},{"$f":"'3.Zones_desservies'!QZ36","v":0},{"$f":"'3.Zones_desservies'!RA36","v":0},{"$f":"'3.Zones_desservies'!RB36","v":0},{"$f":"'3.Zones_desservies'!RC36","v":0},{"$f":"'3.Zones_desservies'!RD36","v":0},{"$f":"'3.Zones_desservies'!RE36","v":0},{"$f":"'3.Zones_desservies'!RF36","v":0},{"$f":"'3.Zones_desservies'!RG36","v":0},{"$f":"'3.Zones_desservies'!RH36","v":0},{"$f":"'3.Zones_desservies'!RI36","v":0},{"$f":"'3.Zones_desservies'!RJ36","v":0},{"$f":"'3.Zones_desservies'!RK36","v":0},{"$f":"'3.Zones_desservies'!RL36","v":0},{"$f":"'3.Zones_desservies'!RM36","v":0},{"$f":"'3.Zones_desservies'!RN36","v":0},{"$f":"'3.Zones_desservies'!RO36","v":0},{"$f":"'3.Zones_desservies'!RP36","v":0},{"$f":"'3.Zones_desservies'!RQ36","v":0},{"$f":"'3.Zones_desservies'!RR36","v":0},{"$f":"'3.Zones_desservies'!RS36","v":0},{"$f":"'3.Zones_desservies'!RT36","v":0},{"$f":"'3.Zones_desservies'!RU36","v":0},{"$f":"'3.Zones_desservies'!RV36","v":0},{"$f":"'3.Zones_desservies'!RW36","v":0},{"$f":"'3.Zones_desservies'!RX36","v":0},{"$f":"'3.Zones_desservies'!RY36","v":0},{"$f":"'3.Zones_desservies'!RZ36","v":0},{"$f":"'3.Zones_desservies'!SA36","v":0},{"$f":"'3.Zones_desservies'!SB36","v":0},{"$f":"'3.Zones_desservies'!SC36","v":0},{"$f":"'3.Zones_desservies'!SD36","v":0},{"$f":"'3.Zones_desservies'!SE36","v":0},{"$f":"'3.Zones_desservies'!SF36","v":0},{"$f":"'3.Zones_desservies'!SG36","v":0},{"$f":"'3.Zones_desservies'!SH36","v":0}]
[null,{"$f":"'3.Zones_desservies'!B37","v":"Date de lancement de la ligne"},{"$f":"'3.Zones_desservies'!C37","v":0},{"$f":"'3.Zones_desservies'!D37","v":0},{"$f":"'3.Zones_desservies'!E37","v":0},{"$f":"'3.Zones_desservies'!F37","v":0},{"$f":"'3.Zones_desservies'!G37","v":0},{"$f":"'3.Zones_desservies'!H37","v":0},{"$f":"'3.Zones_desservies'!I37","v":0},{"$f":"'3.Zones_desservies'!J37","v":0},{"$f":"'3.Zones_desservies'!K37","v":0},{"$f":"'3.Zones_desservies'!L37","v":0},{"$f":"'3.Zones_desservies'!M37","v":0},{"$f":"'3.Zones_desservies'!N37","v":0},{"$f":"'3.Zones_desservies'!O37","v":0},{"$f":"'3.Zones_desservies'!P37","v":0},{"$f":"'3.Zones_desservies'!Q37","v":0},{"$f":"'3.Zones_desservies'!R37","v":0},{"$f":"'3.Zones_desservies'!S37","v":0},{"$f":"'3.Zones_desservies'!T37","v":0},{"$f":"'3.Zones_desservies'!U37","v":0},{"$f":"'3.Zones_desservies'!V37","v":0},{"$f":"'3.Zones_desservies'!W37","v":0},{"$f":"'3.Zones_desservies'!X37","v":0},{"$f":"'3.Zones_desservies'!Y37","v":0},{"$f":"'3.Zones_desservies'!Z37","v":0},{"$f":"'3.Zones_desservies'!AA37","v":0},{"$f":"'3.Zones_desservies'!AB37","v":0},{"$f":"'3.Zones_desservies'!AC37","v":0},{"$f":"'3.Zones_desservies'!AD37","v":0},{"$f":"'3.Zones_desservies'!AE37","v":0},{"$f":"'3.Zones_desservies'!AF37","v":0},{"$f":"'3.Zones_desservies'!AG37","v":0},{"$f":"'3.Zones_desservies'!AH37","v":0},{"$f":"'3.Zones_desservies'!AI37","v":0},{"$f":"'3.Zones_desservies'!AJ37","v":0},{"$f":"'3.Zones_desservies'!AK37","v":0},{"$f":"'3.Zones_desservies'!AL37","v":0},{"$f":"'3.Zones_desservies'!AM37","v":0},{"$f":"'3.Zones_desservies'!AN37","v":0},{"$f":"'3.Zones_desservies'!AO37","v":0},{"$f":"'3.Zones_desservies'!AP37","v":0},{"$f":"'3.Zones_desservies'!AQ37","v":0},{"$f":"'3.Zones_desservies'!AR37","v":0},{"$f":"'3.Zones_desservies'!AS37","v":0},{"$f":"'3.Zones_desservies'!AT37","v":0},{"$f":"'3.Zones_desservies'!AU37","v":0},{"$f":"'3.Zones_desservies'!AV37","v":0},{"$f":"'3.Zones_desservies'!AW37","v":0},{"$f":"'3.Zones_desservies'!AX37","v":0},{"$f":"'3.Zones_desservies'!AY37","v":0},{"$f":"'3.Zones_desservies'!AZ37","v":0},{"$f":"'3.Zones_desservies'!BA37","v":0},{"$f":"'3.Zones_desservies'!BB37","v":0},{"$f":"'3.Zones_desservies'!BC37","v":0},{"$f":"'3.Zones_desservies'!BD37","v":0},{"$f":"'3.Zones_desservies'!BE37","v":0},{"$f":"'3.Zones_desservies'!BF37","v":0},{"$f":"'3.Zones_desservies'!BG37","v":0},{"$f":"'3.Zones_desservies'!BH37","v":0},{"$f":"'3.Zones_desservies'!BI37","v":0},{"$f":"'3.Zones_desservies'!BJ37","v":0},{"$f":"'3.Zones_desservies'!BK37","v":0},{"$f":"'3.Zones_desservies'!BL37","v":0},{"$f":"'3.Zones_desservies'!BM37","v":0},{"$f":"'3.Zones_desservies'!BN37","v":0},{"$f":"'3.Zones_desservies'!BO37","v":0},{"$f":"'3.Zones_desservies'!BP37","v":0},{"$f":"'3.Zones_desservies'!BQ37","v":0},{"$f":"'3.Zones_desservies'!BR37","v":0},{"$f":"'3.Zones_desservies'!BS37","v":0},{"$f":"'3.Zones_desservies'!BT37","v":0},{"$f":"'3.Zones_desservies'!BU37","v":0},{"$f":"'3.Zones_desservies'!BV37","v":0},{"$f":"'3.Zones_desservies'!BW37","v":0},{"$f":"'3.Zones_desservies'!BX37","v":0},{"$f":"'3.Zones_desservies'!BY37","v":0},{"$f":"'3.Zones_desservies'!BZ37","v":0},{"$f":"'3.Zones_desservies'!CA37","v":0},{"$f":"'3.Zones_desservies'!CB37","v":0},{"$f":"'3.Zones_desservies'!CC37","v":0},{"$f":"'3.Zones_desservies'!CD37","v":0},{"$f":"'3.Zones_desservies'!CE37","v":0},{"$f":"'3.Zones_desservies'!CF37","v":0},{"$f":"'3.Zones_desservies'!CG37","v":0},{"$f":"'3.Zones_desservies'!CH37","v":0},{"$f":"'3.Zones_desservies'!CI37","v":0},{"$f":"'3.Zones_desservies'!CJ37","v":0},{"$f":"'3.Zones_desservies'!CK37","v":0},{"$f":"'3.Zones_desservies'!CL37","v":0},{"$f":"'3.Zones_desservies'!CM37","v":0},{"$f":"'3.Zones_desservies'!CN37","v":0},{"$f":"'3.Zones_desservies'!CO37","v":0},{"$f":"'3.Zones_desservies'!CP37","v":0},{"$f":"'3.Zones_desservies'!CQ37","v":0},{"$f":"'3.Zones_desservies'!CR37","v":0},{"$f":"'3.Zones_desservies'!CS37","v":0},{"$f":"'3.Zones_desservies'!CT37","v":0},{"$f":"'3.Zones_desservies'!CU37","v":0},{"$f":"'3.Zones_desservies'!CV37","v":0},{"$f":"'3.Zones_desservies'!CW37","v":0},{"$f":"'3.Zones_desservies'!CX37","v":0},{"$f":"'3.Zones_desservies'!CY37","v":0},{"$f":"'3.Zones_desservies'!CZ37","v":0},{"$f":"'3.Zones_desservies'!DA37","v":0},{"$f":"'3.Zones_desservies'!DB37","v":0},{"$f":"'3.Zones_desservies'!DC37","v":0},{"$f":"'3.Zones_desservies'!DD37","v":0},{"$f":"'3.Zones_desservies'!DE37","v":"_"},{"$f":"'3.Zones_desservies'!DF37","v":0},{"$f":"'3.Zones_desservies'!DG37","v":0},{"$f":"'3.Zones_desservies'!DH37","v":0},{"$f":"'3.Zones_desservies'!DI37","v":0},{"$f":"'3.Zones_desservies'!DJ37","v":0},{"$f":"'3.Zones_desservies'!DK37","v":0},{"$f":"'3.Zones_desservies'!DL37","v":0},{"$f":"'3.Zones_desservies'!DM37","v":0},{"$f":"'3.Zones_desservies'!DN37","v":0},{"$f":"'3.Zones_desservies'!DO37","v":0},{"$f":"'3.Zones_desservies'!DP37","v":0},{"$f":"'3.Zones_desservies'!DQ37","v":0},{"$f":"'3.Zones_desservies'!DR37","v":0},{"$f":"'3.Zones_desservies'!DS37","v":0},{"$f":"'3.Zones_desservies'!DT37","v":0},{"$f":"'3.Zones_desservies'!DU37","v":0},{"$f":"'3.Zones_desservies'!DV37","v":0},{"$f":"'3.Zones_desservies'!DW37","v":0},{"$f":"'3.Zones_desservies'!DX37","v":0},{"$f":"'3.Zones_desservies'!DY37","v":0},{"$f":"'3.Zones_desservies'!DZ37","v":0},{"$f":"'3.Zones_desservies'!EA37","v":0},{"$f":"'3.Zones_desservies'!EB37","v":0},{"$f":"'3.Zones_desservies'!EC37","v":0},{"$f":"'3.Zones_desservies'!ED37","v":0},{"$f":"'3.Zones_desservies'!EE37","v":0},{"$f":"'3.Zones_desservies'!EF37","v":0},{"$f":"'3.Zones_desservies'!EG37","v":0},{"$f":"'3.Zones_desservies'!EH37","v":0},{"$f":"'3.Zones_desservies'!EI37","v":0},{"$f":"'3.Zones_desservies'!EJ37","v":0},{"$f":"'3.Zones_desservies'!EK37","v":0},{"$f":"'3.Zones_desservies'!EL37","v":0},{"$f":"'3.Zones_desservies'!EM37","v":0},{"$f":"'3.Zones_desservies'!EN37","v":0},{"$f":"'3.Zones_desservies'!EO37","v":0},{"$f":"'3.Zones_desservies'!EP37","v":0},{"$f":"'3.Zones_desservies'!EQ37","v":0},{"$f":"'3.Zones_desservies'!ER37","v":0},{"$f":"'3.Zones_desservies'!ES37","v":0},{"$f":"'3.Zones_desservies'!ET37","v":0},{"$f":"'3.Zones_desservies'!EU37","v":0},{"$f":"'3.Zones_desservies'!EV37","v":0},{"$f":"'3.Zones_desservies'!EW37","v":0},{"$f":"'3.Zones_desservies'!EX37","v":0},{"$f":"'3.Zones_desservies'!EY37","v":0},{"$f":"'3.Zones_desservies'!EZ37","v":0},{"$f":"'3.Zones_desservies'!FA37","v":0},{"$f":"'3.Zones_desservies'!FB37","v":0},{"$f":"'3.Zones_desservies'!FC37","v":0},{"$f":"'3.Zones_desservies'!FD37","v":0},{"$f":"'3.Zones_desservies'!FE37","v":0},{"$f":"'3.Zones_desservies'!FF37","v":0},{"$f":"'3.Zones_desservies'!FG37","v":0},{"$f":"'3.Zones_desservies'!FH37","v":0},{"$f":"'3.Zones_desservies'!FI37","v":0},{"$f":"'3.Zones_desservies'!FJ37","v":0},{"$f":"'3.Zones_desservies'!FK37","v":0},{"$f":"'3.Zones_desservies'!FL37","v":0},{"$f":"'3.Zones_desservies'!FM37","v":0},{"$f":"'3.Zones_desservies'!FN37","v":0},{"$f":"'3.Zones_desservies'!FO37","v":0},{"$f":"'3.Zones_desservies'!FP37","v":0},{"$f":"'3.Zones_desservies'!FQ37","v":0},{"$f":"'3.Zones_desservies'!FR37","v":0},{"$f":"'3.Zones_desservies'!FS37","v":0},{"$f":"'3.Zones_desservies'!FT37","v":0},{"$f":"'3.Zones_desservies'!FU37","v":0},{"$f":"'3.Zones_desservies'!FV37","v":0},{"$f":"'3.Zones_desservies'!FW37","v":0},{"$f":"'3.Zones_desservies'!FX37","v":0},{"$f":"'3.Zones_desservies'!FY37","v":0},{"$f":"'3.Zones_desservies'!FZ37","v":0},{"$f":"'3.Zones_desservies'!GA37","v":0},{"$f":"'3.Zones_desservies'!GB37","v":0},{"$f":"'3.Zones_desservies'!GC37","v":0},{"$f":"'3.Zones_desservies'!GD37","v":0},{"$f":"'3.Zones_desservies'!GE37","v":0},{"$f":"'3.Zones_desservies'!GF37","v":0},{"$f":"'3.Zones_desservies'!GG37","v":0},{"$f":"'3.Zones_desservies'!GH37","v":0},{"$f":"'3.Zones_desservies'!GI37","v":0},{"$f":"'3.Zones_desservies'!GJ37","v":0},{"$f":"'3.Zones_desservies'!GK37","v":0},{"$f":"'3.Zones_desservies'!GL37","v":0},{"$f":"'3.Zones_desservies'!GM37","v":0},{"$f":"'3.Zones_desservies'!GN37","v":0},{"$f":"'3.Zones_desservies'!GO37","v":0},{"$f":"'3.Zones_desservies'!GP37","v":0},{"$f":"'3.Zones_desservies'!GQ37","v":0},{"$f":"'3.Zones_desservies'!GR37","v":0},{"$f":"'3.Zones_desservies'!GS37","v":0},{"$f":"'3.Zones_desservies'!GT37","v":0},{"$f":"'3.Zones_desservies'!GU37","v":0},{"$f":"'3.Zones_desservies'!GV37","v":0},{"$f":"'3.Zones_desservies'!GW37","v":0},{"$f":"'3.Zones_desservies'!GX37","v":0},{"$f":"'3.Zones_desservies'!GY37","v":0},{"$f":"'3.Zones_desservies'!GZ37","v":0},{"$f":"'3.Zones_desservies'!HA37","v":0},{"$f":"'3.Zones_desservies'!HB37","v":0},{"$f":"'3.Zones_desservies'!HC37","v":0},{"$f":"'3.Zones_desservies'!HD37","v":0},{"$f":"'3.Zones_desservies'!HE37","v":0},{"$f":"'3.Zones_desservies'!HF37","v":0},{"$f":"'3.Zones_desservies'!HG37","v":0},{"$f":"'3.Zones_desservies'!HH37","v":0},{"$f":"'3.Zones_desservies'!HI37","v":0},{"$f":"'3.Zones_desservies'!HJ37","v":0},{"$f":"'3.Zones_desservies'!HK37","v":0},{"$f":"'3.Zones_desservies'!HL37","v":0},{"$f":"'3.Zones_desservies'!HM37","v":0},{"$f":"'3.Zones_desservies'!HN37","v":0},{"$f":"'3.Zones_desservies'!HO37","v":0},{"$f":"'3.Zones_desservies'!HP37","v":0},{"$f":"'3.Zones_desservies'!HQ37","v":0},{"$f":"'3.Zones_desservies'!HR37","v":0},{"$f":"'3.Zones_desservies'!HS37","v":0},{"$f":"'3.Zones_desservies'!HT37","v":0},{"$f":"'3.Zones_desservies'!HU37","v":0},{"$f":"'3.Zones_desservies'!HV37","v":0},{"$f":"'3.Zones_desservies'!HW37","v":0},{"$f":"'3.Zones_desservies'!HX37","v":0},{"$f":"'3.Zones_desservies'!HY37","v":0},{"$f":"'3.Zones_desservies'!HZ37","v":0},{"$f":"'3.Zones_desservies'!IA37","v":0},{"$f":"'3.Zones_desservies'!IB37","v":0},{"$f":"'3.Zones_desservies'!IC37","v":0},{"$f":"'3.Zones_desservies'!ID37","v":0},{"$f":"'3.Zones_desservies'!IE37","v":0},{"$f":"'3.Zones_desservies'!IF37","v":0},{"$f":"'3.Zones_desservies'!IG37","v":0},{"$f":"'3.Zones_desservies'!IH37","v":0},{"$f":"'3.Zones_desservies'!II37","v":0},{"$f":"'3.Zones_desservies'!IJ37","v":0},{"$f":"'3.Zones_desservies'!IK37","v":0},{"$f":"'3.Zones_desservies'!IL37","v":0},{"$f":"'3.Zones_desservies'!IM37","v":0},{"$f":"'3.Zones_desservies'!IN37","v":0},{"$f":"'3.Zones_desservies'!IO37","v":0},{"$f":"'3.Zones_desservies'!IP37","v":0},{"$f":"'3.Zones_desservies'!IQ37","v":0},{"$f":"'3.Zones_desservies'!IR37","v":0},{"$f":"'3.Zones_desservies'!IS37","v":0},{"$f":"'3.Zones_desservies'!IT37","v":0},{"$f":"'3.Zones_desservies'!IU37","v":0},{"$f":"'3.Zones_desservies'!IV37","v":0},{"$f":"'3.Zones_desservies'!IW37","v":0},{"$f":"'3.Zones_desservies'!IX37","v":0},{"$f":"'3.Zones_desservies'!IY37","v":0},{"$f":"'3.Zones_desservies'!IZ37","v":0},{"$f":"'3.Zones_desservies'!JA37","v":0},{"$f":"'3.Zones_desservies'!JB37","v":0},{"$f":"'3.Zones_desservies'!JC37","v":0},{"$f":"'3.Zones_desservies'!JD37","v":0},{"$f":"'3.Zones_desservies'!JE37","v":0},{"$f":"'3.Zones_desservies'!JF37","v":0},{"$f":"'3.Zones_desservies'!JG37","v":0},{"$f":"'3.Zones_desservies'!JH37","v":0},{"$f":"'3.Zones_desservies'!JI37","v":0},{"$f":"'3.Zones_desservies'!JJ37","v":0},{"$f":"'3.Zones_desservies'!JK37","v":0},{"$f":"'3.Zones_desservies'!JL37","v":0},{"$f":"'3.Zones_desservies'!JM37","v":0},{"$f":"'3.Zones_desservies'!JN37","v":0},{"$f":"'3.Zones_desservies'!JO37","v":0},{"$f":"'3.Zones_desservies'!JP37","v":0},{"$f":"'3.Zones_desservies'!JQ37","v":0},{"$f":"'3.Zones_desservies'!JR37","v":0},{"$f":"'3.Zones_desservies'!JS37","v":0},{"$f":"'3.Zones_desservies'!JT37","v":0},{"$f":"'3.Zones_desservies'!JU37","v":0},{"$f":"'3.Zones_desservies'!JV37","v":0},{"$f":"'3.Zones_desservies'!JW37","v":0},{"$f":"'3.Zones_desservies'!JX37","v":0},{"$f":"'3.Zones_desservies'!JY37","v":0},{"$f":"'3.Zones_desservies'!JZ37","v":0},{"$f":"'3.Zones_desservies'!KA37","v":0},{"$f":"'3.Zones_desservies'!KB37","v":0},{"$f":"'3.Zones_desservies'!KC37","v":0},{"$f":"'3.Zones_desservies'!KD37","v":0},{"$f":"'3.Zones_desservies'!KE37","v":0},{"$f":"'3.Zones_desservies'!KF37","v":0},{"$f":"'3.Zones_desservies'!KG37","v":0},{"$f":"'3.Zones_desservies'!KH37","v":0},{"$f":"'3.Zones_desservies'!KI37","v":0},{"$f":"'3.Zones_desservies'!KJ37","v":0},{"$f":"'3.Zones_desservies'!KK37","v":0},{"$f":"'3.Zones_desservies'!KL37","v":0},{"$f":"'3.Zones_desservies'!KM37","v":0},{"$f":"'3.Zones_desservies'!KN37","v":0},{"$f":"'3.Zones_desservies'!KO37","v":0},{"$f":"'3.Zones_desservies'!KP37","v":0},{"$f":"'3.Zones_desservies'!KQ37","v":0},{"$f":"'3.Zones_desservies'!KR37","v":0},{"$f":"'3.Zones_desservies'!KS37","v":0},{"$f":"'3.Zones_desservies'!KT37","v":0},{"$f":"'3.Zones_desservies'!KU37","v":0},{"$f":"'3.Zones_desservies'!KV37","v":0},{"$f":"'3.Zones_desservies'!KW37","v":0},{"$f":"'3.Zones_desservies'!KX37","v":0},{"$f":"'3.Zones_desservies'!KY37","v":0},{"$f":"'3.Zones_desservies'!KZ37","v":0},{"$f":"'3.Zones_desservies'!LA37","v":0},{"$f":"'3.Zones_desservies'!LB37","v":0},{"$f":"'3.Zones_desservies'!LC37","v":0},{"$f":"'3.Zones_desservies'!LD37","v":0},{"$f":"'3.Zones_desservies'!LE37","v":0},{"$f":"'3.Zones_desservies'!LF37","v":0},{"$f":"'3.Zones_desservies'!LG37","v":0},{"$f":"'3.Zones_desservies'!LH37","v":0},{"$f":"'3.Zones_desservies'!LI37","v":0},{"$f":"'3.Zones_desservies'!LJ37","v":0},{"$f":"'3.Zones_desservies'!LK37","v":0},{"$f":"'3.Zones_desservies'!LL37","v":0},{"$f":"'3.Zones_desservies'!LM37","v":0},{"$f":"'3.Zones_desservies'!LN37","v":0},{"$f":"'3.Zones_desservies'!LO37","v":0},{"$f":"'3.Zones_desservies'!LP37","v":0},{"$f":"'3.Zones_desservies'!LQ37","v":0},{"$f":"'3.Zones_desservies'!LR37","v":0},{"$f":"'3.Zones_desservies'!LS37","v":0},{"$f":"'3.Zones_desservies'!LT37","v":0},{"$f":"'3.Zones_desservies'!LU37","v":0},{"$f":"'3.Zones_desservies'!LV37","v":0},{"$f":"'3.Zones_desservies'!LW37","v":0},{"$f":"'3.Zones_desservies'!LX37","v":0},{"$f":"'3.Zones_desservies'!LY37","v":0},{"$f":"'3.Zones_desservies'!LZ37","v":0},{"$f":"'3.Zones_desservies'!MA37","v":0},{"$f":"'3.Zones_desservies'!MB37","v":0},{"$f":"'3.Zones_desservies'!MC37","v":0},{"$f":"'3.Zones_desservies'!MD37","v":0},{"$f":"'3.Zones_desservies'!ME37","v":0},{"$f":"'3.Zones_desservies'!MF37","v":0},{"$f":"'3.Zones_desservies'!MG37","v":0},{"$f":"'3.Zones_desservies'!MH37","v":0},{"$f":"'3.Zones_desservies'!MI37","v":0},{"$f":"'3.Zones_desservies'!MJ37","v":0},{"$f":"'3.Zones_desservies'!MK37","v":0},{"$f":"'3.Zones_desservies'!ML37","v":0},{"$f":"'3.Zones_desservies'!MM37","v":0},{"$f":"'3.Zones_desservies'!MN37","v":0},{"$f":"'3.Zones_desservies'!MO37","v":0},{"$f":"'3.Zones_desservies'!MP37","v":0},{"$f":"'3.Zones_desservies'!MQ37","v":0},{"$f":"'3.Zones_desservies'!MR37","v":0},{"$f":"'3.Zones_desservies'!MS37","v":0},{"$f":"'3.Zones_desservies'!MT37","v":0},{"$f":"'3.Zones_desservies'!MU37","v":0},{"$f":"'3.Zones_desservies'!MV37","v":0},{"$f":"'3.Zones_desservies'!MW37","v":0},{"$f":"'3.Zones_desservies'!MX37","v":0},{"$f":"'3.Zones_desservies'!MY37","v":0},{"$f":"'3.Zones_desservies'!MZ37","v":0},{"$f":"'3.Zones_desservies'!NA37","v":0},{"$f":"'3.Zones_desservies'!NB37","v":0},{"$f":"'3.Zones_desservies'!NC37","v":0},{"$f":"'3.Zones_desservies'!ND37","v":0},{"$f":"'3.Zones_desservies'!NE37","v":0},{"$f":"'3.Zones_desservies'!NF37","v":0},{"$f":"'3.Zones_desservies'!NG37","v":0},{"$f":"'3.Zones_desservies'!NH37","v":0},{"$f":"'3.Zones_desservies'!NI37","v":0},{"$f":"'3.Zones_desservies'!NJ37","v":0},{"$f":"'3.Zones_desservies'!NK37","v":0},{"$f":"'3.Zones_desservies'!NL37","v":0},{"$f":"'3.Zones_desservies'!NM37","v":0},{"$f":"'3.Zones_desservies'!NN37","v":0},{"$f":"'3.Zones_desservies'!NO37","v":0},{"$f":"'3.Zones_desservies'!NP37","v":0},{"$f":"'3.Zones_desservies'!NQ37","v":0},{"$f":"'3.Zones_desservies'!NR37","v":0},{"$f":"'3.Zones_desservies'!NS37","v":0},{"$f":"'3.Zones_desservies'!NT37","v":0},{"$f":"'3.Zones_desservies'!NU37","v":0},{"$f":"'3.Zones_desservies'!NV37","v":0},{"$f":"'3.Zones_desservies'!NW37","v":0},{"$f":"'3.Zones_desservies'!NX37","v":0},{"$f":"'3.Zones_desservies'!NY37","v":0},{"$f":"'3.Zones_desservies'!NZ37","v":0},{"$f":"'3.Zones_desservies'!OA37","v":0},{"$f":"'3.Zones_desservies'!OB37","v":0},{"$f":"'3.Zones_desservies'!OC37","v":0},{"$f":"'3.Zones_desservies'!OD37","v":0},{"$f":"'3.Zones_desservies'!OE37","v":0},{"$f":"'3.Zones_desservies'!OF37","v":0},{"$f":"'3.Zones_desservies'!OG37","v":0},{"$f":"'3.Zones_desservies'!OH37","v":0},{"$f":"'3.Zones_desservies'!OI37","v":0},{"$f":"'3.Zones_desservies'!OJ37","v":0},{"$f":"'3.Zones_desservies'!OK37","v":0},{"$f":"'3.Zones_desservies'!OL37","v":0},{"$f":"'3.Zones_desservies'!OM37","v":0},{"$f":"'3.Zones_desservies'!ON37","v":0},{"$f":"'3.Zones_desservies'!OO37","v":0},{"$f":"'3.Zones_desservies'!OP37","v":0},{"$f":"'3.Zones_desservies'!OQ37","v":0},{"$f":"'3.Zones_desservies'!OR37","v":0},{"$f":"'3.Zones_desservies'!OS37","v":0},{"$f":"'3.Zones_desservies'!OT37","v":0},{"$f":"'3.Zones_desservies'!OU37","v":0},{"$f":"'3.Zones_desservies'!OV37","v":0},{"$f":"'3.Zones_desservies'!OW37","v":0},{"$f":"'3.Zones_desservies'!OX37","v":0},{"$f":"'3.Zones_desservies'!OY37","v":0},{"$f":"'3.Zones_desservies'!OZ37","v":0},{"$f":"'3.Zones_desservies'!PA37","v":0},{"$f":"'3.Zones_desservies'!PB37","v":0},{"$f":"'3.Zones_desservies'!PC37","v":0},{"$f":"'3.Zones_desservies'!PD37","v":0},{"$f":"'3.Zones_desservies'!PE37","v":0},{"$f":"'3.Zones_desservies'!PF37","v":0},{"$f":"'3.Zones_desservies'!PG37","v":0},{"$f":"'3.Zones_desservies'!PH37","v":0},{"$f":"'3.Zones_desservies'!PI37","v":0},{"$f":"'3.Zones_desservies'!PJ37","v":0},{"$f":"'3.Zones_desservies'!PK37","v":0},{"$f":"'3.Zones_desservies'!PL37","v":0},{"$f":"'3.Zones_desservies'!PM37","v":0},{"$f":"'3.Zones_desservies'!PN37","v":0},{"$f":"'3.Zones_desservies'!PO37","v":0},{"$f":"'3.Zones_desservies'!PP37","v":0},{"$f":"'3.Zones_desservies'!PQ37","v":0},{"$f":"'3.Zones_desservies'!PR37","v":0},{"$f":"'3.Zones_desservies'!PS37","v":0},{"$f":"'3.Zones_desservies'!PT37","v":0},{"$f":"'3.Zones_desservies'!PU37","v":0},{"$f":"'3.Zones_desservies'!PV37","v":0},{"$f":"'3.Zones_desservies'!PW37","v":0},{"$f":"'3.Zones_desservies'!PX37","v":0},{"$f":"'3.Zones_desservies'!PY37","v":0},{"$f":"'3.Zones_desservies'!PZ37","v":0},{"$f":"'3.Zones_desservies'!QA37","v":0},{"$f":"'3.Zones_desservies'!QB37","v":0},{"$f":"'3.Zones_desservies'!QC37","v":0},{"$f":"'3.Zones_desservies'!QD37","v":0},{"$f":"'3.Zones_desservies'!QE37","v":0},{"$f":"'3.Zones_desservies'!QF37","v":0},{"$f":"'3.Zones_desservies'!QG37","v":0},{"$f":"'3.Zones_desservies'!QH37","v":0},{"$f":"'3.Zones_desservies'!QI37","v":0},{"$f":"'3.Zones_desservies'!QJ37","v":0},{"$f":"'3.Zones_desservies'!QK37","v":0},{"$f":"'3.Zones_desservies'!QL37","v":0},{"$f":"'3.Zones_desservies'!QM37","v":0},{"$f":"'3.Zones_desservies'!QN37","v":0},{"$f":"'3.Zones_desservies'!QO37","v":0},{"$f":"'3.Zones_desservies'!QP37","v":0},{"$f":"'3.Zones_desservies'!QQ37","v":0},{"$f":"'3.Zones_desservies'!QR37","v":0},{"$f":"'3.Zones_desservies'!QS37","v":0},{"$f":"'3.Zones_desservies'!QT37","v":0},{"$f":"'3.Zones_desservies'!QU37","v":0},{"$f":"'3.Zones_desservies'!QV37","v":0},{"$f":"'3.Zones_desservies'!QW37","v":0},{"$f":"'3.Zones_desservies'!QX37","v":0},{"$f":"'3.Zones_desservies'!QY37","v":0},{"$f":"'3.Zones_desservies'!QZ37","v":0},{"$f":"'3.Zones_desservies'!RA37","v":0},{"$f":"'3.Zones_desservies'!RB37","v":0},{"$f":"'3.Zones_desservies'!RC37","v":0},{"$f":"'3.Zones_desservies'!RD37","v":0},{"$f":"'3.Zones_desservies'!RE37","v":0},{"$f":"'3.Zones_desservies'!RF37","v":0},{"$f":"'3.Zones_desservies'!RG37","v":0},{"$f":"'3.Zones_desservies'!RH37","v":0},{"$f":"'3.Zones_desservies'!RI37","v":0},{"$f":"'3.Zones_desservies'!RJ37","v":0},{"$f":"'3.Zones_desservies'!RK37","v":0},{"$f":"'3.Zones_desservies'!RL37","v":0},{"$f":"'3.Zones_desservies'!RM37","v":0},{"$f":"'3.Zones_desservies'!RN37","v":0},{"$f":"'3.Zones_desservies'!RO37","v":0},{"$f":"'3.Zones_desservies'!RP37","v":0},{"$f":"'3.Zones_desservies'!RQ37","v":0},{"$f":"'3.Zones_desservies'!RR37","v":0},{"$f":"'3.Zones_desservies'!RS37","v":0},{"$f":"'3.Zones_desservies'!RT37","v":0},{"$f":"'3.Zones_desservies'!RU37","v":0},{"$f":"'3.Zones_desservies'!RV37","v":0},{"$f":"'3.Zones_desservies'!RW37","v":0},{"$f":"'3.Zones_desservies'!RX37","v":0},{"$f":"'3.Zones_desservies'!RY37","v":0},{"$f":"'3.Zones_desservies'!RZ37","v":0},{"$f":"'3.Zones_desservies'!SA37","v":0},{"$f":"'3.Zones_desservies'!SB37","v":0},{"$f":"'3.Zones_desservies'!SC37","v":0},{"$f":"'3.Zones_desservies'!SD37","v":0},{"$f":"'3.Zones_desservies'!SE37","v":0},{"$f":"'3.Zones_desservies'!SF37","v":0},{"$f":"'3.Zones_desservies'!SG37","v":0},{"$f":"'3.Zones_desservies'!SH37","v":0}]
[null,{"$f":"'3.Zones_desservies'!B38","v":0},{"$f":"'3.Zones_desservies'!C38","v":0},{"$f":"'3.Zones_desservies'!D38","v":0},{"$f":"'3.Zones_desservies'!E38","v":0},{"$f":"'3.Zones_desservies'!F38","v":0},{"$f":"'3.Zones_desservies'!G38","v":0},{"$f":"'3.Zones_desservies'!H38","v":0},{"$f":"'3.Zones_desservies'!I38","v":0},{"$f":"'3.Zones_desservies'!J38","v":0},{"$f":"'3.Zones_desservies'!K38","v":0},{"$f":"'3.Zones_desservies'!L38","v":0},{"$f":"'3.Zones_desservies'!M38","v":0},{"$f":"'3.Zones_desservies'!N38","v":0},{"$f":"'3.Zones_desservies'!O38","v":0},{"$f":"'3.Zones_desservies'!P38","v":0},{"$f":"'3.Zones_desservies'!Q38","v":0},{"$f":"'3.Zones_desservies'!R38","v":0},{"$f":"'3.Zones_desservies'!S38","v":0},{"$f":"'3.Zones_desservies'!T38","v":0},{"$f":"'3.Zones_desservies'!U38","v":0},{"$f":"'3.Zones_desservies'!V38","v":0},{"$f":"'3.Zones_desservies'!W38","v":0},{"$f":"'3.Zones_desservies'!X38","v":0},{"$f":"'3.Zones_desservies'!Y38","v":0},{"$f":"'3.Zones_desservies'!Z38","v":0},{"$f":"'3.Zones_desservies'!AA38","v":0},{"$f":"'3.Zones_desservies'!AB38","v":0},{"$f":"'3.Zones_desservies'!AC38","v":0},{"$f":"'3.Zones_desservies'!AD38","v":0},{"$f":"'3.Zones_desservies'!AE38","v":0},{"$f":"'3.Zones_desservies'!AF38","v":0},{"$f":"'3.Zones_desservies'!AG38","v":0},{"$f":"'3.Zones_desservies'!AH38","v":0},{"$f":"'3.Zones_desservies'!AI38","v":0},{"$f":"'3.Zones_desservies'!AJ38","v":0},{"$f":"'3.Zones_desservies'!AK38","v":0},{"$f":"'3.Zones_desservies'!AL38","v":0},{"$f":"'3.Zones_desservies'!AM38","v":0},{"$f":"'3.Zones_desservies'!AN38","v":0},{"$f":"'3.Zones_desservies'!AO38","v":0},{"$f":"'3.Zones_desservies'!AP38","v":0},{"$f":"'3.Zones_desservies'!AQ38","v":0},{"$f":"'3.Zones_desservies'!AR38","v":0},{"$f":"'3.Zones_desservies'!AS38","v":0},{"$f":"'3.Zones_desservies'!AT38","v":0},{"$f":"'3.Zones_desservies'!AU38","v":0},{"$f":"'3.Zones_desservies'!AV38","v":0},{"$f":"'3.Zones_desservies'!AW38","v":0},{"$f":"'3.Zones_desservies'!AX38","v":0},{"$f":"'3.Zones_desservies'!AY38","v":0},{"$f":"'3.Zones_desservies'!AZ38","v":0},{"$f":"'3.Zones_desservies'!BA38","v":0},{"$f":"'3.Zones_desservies'!BB38","v":0},{"$f":"'3.Zones_desservies'!BC38","v":0},{"$f":"'3.Zones_desservies'!BD38","v":0},{"$f":"'3.Zones_desservies'!BE38","v":0},{"$f":"'3.Zones_desservies'!BF38","v":0},{"$f":"'3.Zones_desservies'!BG38","v":0},{"$f":"'3.Zones_desservies'!BH38","v":0},{"$f":"'3.Zones_desservies'!BI38","v":0},{"$f":"'3.Zones_desservies'!BJ38","v":0},{"$f":"'3.Zones_desservies'!BK38","v":0},{"$f":"'3.Zones_desservies'!BL38","v":0},{"$f":"'3.Zones_desservies'!BM38","v":0},{"$f":"'3.Zones_desservies'!BN38","v":0},{"$f":"'3.Zones_desservies'!BO38","v":0},{"$f":"'3.Zones_desservies'!BP38","v":0},{"$f":"'3.Zones_desservies'!BQ38","v":0},{"$f":"'3.Zones_desservies'!BR38","v":0},{"$f":"'3.Zones_desservies'!BS38","v":0},{"$f":"'3.Zones_desservies'!BT38","v":0},{"$f":"'3.Zones_desservies'!BU38","v":0},{"$f":"'3.Zones_desservies'!BV38","v":0},{"$f":"'3.Zones_desservies'!BW38","v":0},{"$f":"'3.Zones_desservies'!BX38","v":0},{"$f":"'3.Zones_desservies'!BY38","v":0},{"$f":"'3.Zones_desservies'!BZ38","v":0},{"$f":"'3.Zones_desservies'!CA38","v":0},{"$f":"'3.Zones_desservies'!CB38","v":0},{"$f":"'3.Zones_desservies'!CC38","v":0},{"$f":"'3.Zones_desservies'!CD38","v":0},{"$f":"'3.Zones_desservies'!CE38","v":0},{"$f":"'3.Zones_desservies'!CF38","v":0},{"$f":"'3.Zones_desservies'!CG38","v":0},{"$f":"'3.Zones_desservies'!CH38","v":0},{"$f":"'3.Zones_desservies'!CI38","v":0},{"$f":"'3.Zones_desservies'!CJ38","v":0},{"$f":"'3.Zones_desservies'!CK38","v":0},{"$f":"'3.Zones_desservies'!CL38","v":0},{"$f":"'3.Zones_desservies'!CM38","v":0},{"$f":"'3.Zones_desservies'!CN38","v":0},{"$f":"'3.Zones_desservies'!CO38","v":0},{"$f":"'3.Zones_desservies'!CP38","v":0},{"$f":"'3.Zones_desservies'!CQ38","v":0},{"$f":"'3.Zones_desservies'!CR38","v":0},{"$f":"'3.Zones_desservies'!CS38","v":0},{"$f":"'3.Zones_desservies'!CT38","v":0},{"$f":"'3.Zones_desservies'!CU38","v":0},{"$f":"'3.Zones_desservies'!CV38","v":0},{"$f":"'3.Zones_desservies'!CW38","v":0},{"$f":"'3.Zones_desservies'!CX38","v":0},{"$f":"'3.Zones_desservies'!CY38","v":0},{"$f":"'3.Zones_desservies'!CZ38","v":0},{"$f":"'3.Zones_desservies'!DA38","v":0},{"$f":"'3.Zones_desservies'!DB38","v":0},{"$f":"'3.Zones_desservies'!DC38","v":0},{"$f":"'3.Zones_desservies'!DD38","v":0},{"$f":"'3.Zones_desservies'!DE38","v":0},{"$f":"'3.Zones_desservies'!DF38","v":0},{"$f":"'3.Zones_desservies'!DG38","v":0},{"$f":"'3.Zones_desservies'!DH38","v":0},{"$f":"'3.Zones_desservies'!DI38","v":0},{"$f":"'3.Zones_desservies'!DJ38","v":0},{"$f":"'3.Zones_desservies'!DK38","v":0},{"$f":"'3.Zones_desservies'!DL38","v":0},{"$f":"'3.Zones_desservies'!DM38","v":0},{"$f":"'3.Zones_desservies'!DN38","v":0},{"$f":"'3.Zones_desservies'!DO38","v":0},{"$f":"'3.Zones_desservies'!DP38","v":0},{"$f":"'3.Zones_desservies'!DQ38","v":0},{"$f":"'3.Zones_desservies'!DR38","v":0},{"$f":"'3.Zones_desservies'!DS38","v":0},{"$f":"'3.Zones_desservies'!DT38","v":0},{"$f":"'3.Zones_desservies'!DU38","v":0},{"$f":"'3.Zones_desservies'!DV38","v":0},{"$f":"'3.Zones_desservies'!DW38","v":0},{"$f":"'3.Zones_desservies'!DX38","v":0},{"$f":"'3.Zones_desservies'!DY38","v":0},{"$f":"'3.Zones_desservies'!DZ38","v":0},{"$f":"'3.Zones_desservies'!EA38","v":0},{"$f":"'3.Zones_desservies'!EB38","v":0},{"$f":"'3.Zones_desservies'!EC38","v":0},{"$f":"'3.Zones_desservies'!ED38","v":0},{"$f":"'3.Zones_desservies'!EE38","v":0},{"$f":"'3.Zones_desservies'!EF38","v":0},{"$f":"'3.Zones_desservies'!EG38","v":0},{"$f":"'3.Zones_desservies'!EH38","v":0},{"$f":"'3.Zones_desservies'!EI38","v":0},{"$f":"'3.Zones_desservies'!EJ38","v":0},{"$f":"'3.Zones_desservies'!EK38","v":0},{"$f":"'3.Zones_desservies'!EL38","v":0},{"$f":"'3.Zones_desservies'!EM38","v":0},{"$f":"'3.Zones_desservies'!EN38","v":0},{"$f":"'3.Zones_desservies'!EO38","v":0},{"$f":"'3.Zones_desservies'!EP38","v":0},{"$f":"'3.Zones_desservies'!EQ38","v":0},{"$f":"'3.Zones_desservies'!ER38","v":0},{"$f":"'3.Zones_desservies'!ES38","v":0},{"$f":"'3.Zones_desservies'!ET38","v":0},{"$f":"'3.Zones_desservies'!EU38","v":0},{"$f":"'3.Zones_desservies'!EV38","v":0},{"$f":"'3.Zones_desservies'!EW38","v":0},{"$f":"'3.Zones_desservies'!EX38","v":0},{"$f":"'3.Zones_desservies'!EY38","v":0},{"$f":"'3.Zones_desservies'!EZ38","v":0},{"$f":"'3.Zones_desservies'!FA38","v":0},{"$f":"'3.Zones_desservies'!FB38","v":0},{"$f":"'3.Zones_desservies'!FC38","v":0},{"$f":"'3.Zones_desservies'!FD38","v":0},{"$f":"'3.Zones_desservies'!FE38","v":0},{"$f":"'3.Zones_desservies'!FF38","v":0},{"$f":"'3.Zones_desservies'!FG38","v":0},{"$f":"'3.Zones_desservies'!FH38","v":0},{"$f":"'3.Zones_desservies'!FI38","v":0},{"$f":"'3.Zones_desservies'!FJ38","v":0},{"$f":"'3.Zones_desservies'!FK38","v":0},{"$f":"'3.Zones_desservies'!FL38","v":0},{"$f":"'3.Zones_desservies'!FM38","v":0},{"$f":"'3.Zones_desservies'!FN38","v":0},{"$f":"'3.Zones_desservies'!FO38","v":0},{"$f":"'3.Zones_desservies'!FP38","v":0},{"$f":"'3.Zones_desservies'!FQ38","v":0},{"$f":"'3.Zones_desservies'!FR38","v":0},{"$f":"'3.Zones_desservies'!FS38","v":0},{"$f":"'3.Zones_desservies'!FT38","v":0},{"$f":"'3.Zones_desservies'!FU38","v":0},{"$f":"'3.Zones_desservies'!FV38","v":0},{"$f":"'3.Zones_desservies'!FW38","v":0},{"$f":"'3.Zones_desservies'!FX38","v":0},{"$f":"'3.Zones_desservies'!FY38","v":0},{"$f":"'3.Zones_desservies'!FZ38","v":0},{"$f":"'3.Zones_desservies'!GA38","v":0},{"$f":"'3.Zones_desservies'!GB38","v":0},{"$f":"'3.Zones_desservies'!GC38","v":0},{"$f":"'3.Zones_desservies'!GD38","v":0},{"$f":"'3.Zones_desservies'!GE38","v":0},{"$f":"'3.Zones_desservies'!GF38","v":0},{"$f":"'3.Zones_desservies'!GG38","v":0},{"$f":"'3.Zones_desservies'!GH38","v":0},{"$f":"'3.Zones_desservies'!GI38","v":0},{"$f":"'3.Zones_desservies'!GJ38","v":0},{"$f":"'3.Zones_desservies'!GK38","v":0},{"$f":"'3.Zones_desservies'!GL38","v":0},{"$f":"'3.Zones_desservies'!GM38","v":0},{"$f":"'3.Zones_desservies'!GN38","v":0},{"$f":"'3.Zones_desservies'!GO38","v":0},{"$f":"'3.Zones_desservies'!GP38","v":0},{"$f":"'3.Zones_desservies'!GQ38","v":0},{"$f":"'3.Zones_desservies'!GR38","v":0},{"$f":"'3.Zones_desservies'!GS38","v":0},{"$f":"'3.Zones_desservies'!GT38","v":0},{"$f":"'3.Zones_desservies'!GU38","v":0},{"$f":"'3.Zones_desservies'!GV38","v":0},{"$f":"'3.Zones_desservies'!GW38","v":0},{"$f":"'3.Zones_desservies'!GX38","v":0},{"$f":"'3.Zones_desservies'!GY38","v":0},{"$f":"'3.Zones_desservies'!GZ38","v":0},{"$f":"'3.Zones_desservies'!HA38","v":0},{"$f":"'3.Zones_desservies'!HB38","v":0},{"$f":"'3.Zones_desservies'!HC38","v":0},{"$f":"'3.Zones_desservies'!HD38","v":0},{"$f":"'3.Zones_desservies'!HE38","v":0},{"$f":"'3.Zones_desservies'!HF38","v":0},{"$f":"'3.Zones_desservies'!HG38","v":0},{"$f":"'3.Zones_desservies'!HH38","v":0},{"$f":"'3.Zones_desservies'!HI38","v":0},{"$f":"'3.Zones_desservies'!HJ38","v":0},{"$f":"'3.Zones_desservies'!HK38","v":0},{"$f":"'3.Zones_desservies'!HL38","v":0},{"$f":"'3.Zones_desservies'!HM38","v":0},{"$f":"'3.Zones_desservies'!HN38","v":0},{"$f":"'3.Zones_desservies'!HO38","v":0},{"$f":"'3.Zones_desservies'!HP38","v":0},{"$f":"'3.Zones_desservies'!HQ38","v":0},{"$f":"'3.Zones_desservies'!HR38","v":0},{"$f":"'3.Zones_desservies'!HS38","v":0},{"$f":"'3.Zones_desservies'!HT38","v":0},{"$f":"'3.Zones_desservies'!HU38","v":0},{"$f":"'3.Zones_desservies'!HV38","v":0},{"$f":"'3.Zones_desservies'!HW38","v":0},{"$f":"'3.Zones_desservies'!HX38","v":0},{"$f":"'3.Zones_desservies'!HY38","v":0},{"$f":"'3.Zones_desservies'!HZ38","v":0},{"$f":"'3.Zones_desservies'!IA38","v":0},{"$f":"'3.Zones_desservies'!IB38","v":0},{"$f":"'3.Zones_desservies'!IC38","v":0},{"$f":"'3.Zones_desservies'!ID38","v":0},{"$f":"'3.Zones_desservies'!IE38","v":0},{"$f":"'3.Zones_desservies'!IF38","v":0},{"$f":"'3.Zones_desservies'!IG38","v":0},{"$f":"'3.Zones_desservies'!IH38","v":0},{"$f":"'3.Zones_desservies'!II38","v":0},{"$f":"'3.Zones_desservies'!IJ38","v":0},{"$f":"'3.Zones_desservies'!IK38","v":0},{"$f":"'3.Zones_desservies'!IL38","v":0},{"$f":"'3.Zones_desservies'!IM38","v":0},{"$f":"'3.Zones_desservies'!IN38","v":0},{"$f":"'3.Zones_desservies'!IO38","v":0},{"$f":"'3.Zones_desservies'!IP38","v":0},{"$f":"'3.Zones_desservies'!IQ38","v":0},{"$f":"'3.Zones_desservies'!IR38","v":0},{"$f":"'3.Zones_desservies'!IS38","v":0},{"$f":"'3.Zones_desservies'!IT38","v":0},{"$f":"'3.Zones_desservies'!IU38","v":0},{"$f":"'3.Zones_desservies'!IV38","v":0},{"$f":"'3.Zones_desservies'!IW38","v":0},{"$f":"'3.Zones_desservies'!IX38","v":0},{"$f":"'3.Zones_desservies'!IY38","v":0},{"$f":"'3.Zones_desservies'!IZ38","v":0},{"$f":"'3.Zones_desservies'!JA38","v":0},{"$f":"'3.Zones_desservies'!JB38","v":0},{"$f":"'3.Zones_desservies'!JC38","v":0},{"$f":"'3.Zones_desservies'!JD38","v":0},{"$f":"'3.Zones_desservies'!JE38","v":0},{"$f":"'3.Zones_desservies'!JF38","v":0},{"$f":"'3.Zones_desservies'!JG38","v":0},{"$f":"'3.Zones_desservies'!JH38","v":0},{"$f":"'3.Zones_desservies'!JI38","v":0},{"$f":"'3.Zones_desservies'!JJ38","v":0},{"$f":"'3.Zones_desservies'!JK38","v":0},{"$f":"'3.Zones_desservies'!JL38","v":0},{"$f":"'3.Zones_desservies'!JM38","v":0},{"$f":"'3.Zones_desservies'!JN38","v":0},{"$f":"'3.Zones_desservies'!JO38","v":0},{"$f":"'3.Zones_desservies'!JP38","v":0},{"$f":"'3.Zones_desservies'!JQ38","v":0},{"$f":"'3.Zones_desservies'!JR38","v":0},{"$f":"'3.Zones_desservies'!JS38","v":0},{"$f":"'3.Zones_desservies'!JT38","v":0},{"$f":"'3.Zones_desservies'!JU38","v":0},{"$f":"'3.Zones_desservies'!JV38","v":0},{"$f":"'3.Zones_desservies'!JW38","v":0},{"$f":"'3.Zones_desservies'!JX38","v":0},{"$f":"'3.Zones_desservies'!JY38","v":0},{"$f":"'3.Zones_desservies'!JZ38","v":0},{"$f":"'3.Zones_desservies'!KA38","v":0},{"$f":"'3.Zones_desservies'!KB38","v":0},{"$f":"'3.Zones_desservies'!KC38","v":0},{"$f":"'3.Zones_desservies'!KD38","v":0},{"$f":"'3.Zones_desservies'!KE38","v":0},{"$f":"'3.Zones_desservies'!KF38","v":0},{"$f":"'3.Zones_desservies'!KG38","v":0},{"$f":"'3.Zones_desservies'!KH38","v":0},{"$f":"'3.Zones_desservies'!KI38","v":0},{"$f":"'3.Zones_desservies'!KJ38","v":0},{"$f":"'3.Zones_desservies'!KK38","v":0},{"$f":"'3.Zones_desservies'!KL38","v":0},{"$f":"'3.Zones_desservies'!KM38","v":0},{"$f":"'3.Zones_desservies'!KN38","v":0},{"$f":"'3.Zones_desservies'!KO38","v":0},{"$f":"'3.Zones_desservies'!KP38","v":0},{"$f":"'3.Zones_desservies'!KQ38","v":0},{"$f":"'3.Zones_desservies'!KR38","v":0},{"$f":"'3.Zones_desservies'!KS38","v":0},{"$f":"'3.Zones_desservies'!KT38","v":0},{"$f":"'3.Zones_desservies'!KU38","v":0},{"$f":"'3.Zones_desservies'!KV38","v":0},{"$f":"'3.Zones_desservies'!KW38","v":0},{"$f":"'3.Zones_desservies'!KX38","v":0},{"$f":"'3.Zones_desservies'!KY38","v":0},{"$f":"'3.Zones_desservies'!KZ38","v":0},{"$f":"'3.Zones_desservies'!LA38","v":0},{"$f":"'3.Zones_desservies'!LB38","v":0},{"$f":"'3.Zones_desservies'!LC38","v":0},{"$f":"'3.Zones_desservies'!LD38","v":0},{"$f":"'3.Zones_desservies'!LE38","v":0},{"$f":"'3.Zones_desservies'!LF38","v":0},{"$f":"'3.Zones_desservies'!LG38","v":0},{"$f":"'3.Zones_desservies'!LH38","v":0},{"$f":"'3.Zones_desservies'!LI38","v":0},{"$f":"'3.Zones_desservies'!LJ38","v":0},{"$f":"'3.Zones_desservies'!LK38","v":0},{"$f":"'3.Zones_desservies'!LL38","v":0},{"$f":"'3.Zones_desservies'!LM38","v":0},{"$f":"'3.Zones_desservies'!LN38","v":0},{"$f":"'3.Zones_desservies'!LO38","v":0},{"$f":"'3.Zones_desservies'!LP38","v":0},{"$f":"'3.Zones_desservies'!LQ38","v":0},{"$f":"'3.Zones_desservies'!LR38","v":0},{"$f":"'3.Zones_desservies'!LS38","v":0},{"$f":"'3.Zones_desservies'!LT38","v":0},{"$f":"'3.Zones_desservies'!LU38","v":0},{"$f":"'3.Zones_desservies'!LV38","v":0},{"$f":"'3.Zones_desservies'!LW38","v":0},{"$f":"'3.Zones_desservies'!LX38","v":0},{"$f":"'3.Zones_desservies'!LY38","v":0},{"$f":"'3.Zones_desservies'!LZ38","v":0},{"$f":"'3.Zones_desservies'!MA38","v":0},{"$f":"'3.Zones_desservies'!MB38","v":0},{"$f":"'3.Zones_desservies'!MC38","v":0},{"$f":"'3.Zones_desservies'!MD38","v":0},{"$f":"'3.Zones_desservies'!ME38","v":0},{"$f":"'3.Zones_desservies'!MF38","v":0},{"$f":"'3.Zones_desservies'!MG38","v":0},{"$f":"'3.Zones_desservies'!MH38","v":0},{"$f":"'3.Zones_desservies'!MI38","v":0},{"$f":"'3.Zones_desservies'!MJ38","v":0},{"$f":"'3.Zones_desservies'!MK38","v":0},{"$f":"'3.Zones_desservies'!ML38","v":0},{"$f":"'3.Zones_desservies'!MM38","v":0},{"$f":"'3.Zones_desservies'!MN38","v":0},{"$f":"'3.Zones_desservies'!MO38","v":0},{"$f":"'3.Zones_desservies'!MP38","v":0},{"$f":"'3.Zones_desservies'!MQ38","v":0},{"$f":"'3.Zones_desservies'!MR38","v":0},{"$f":"'3.Zones_desservies'!MS38","v":0},{"$f":"'3.Zones_desservies'!MT38","v":0},{"$f":"'3.Zones_desservies'!MU38","v":0},{"$f":"'3.Zones_desservies'!MV38","v":0},{"$f":"'3.Zones_desservies'!MW38","v":0},{"$f":"'3.Zones_desservies'!MX38","v":0},{"$f":"'3.Zones_desservies'!MY38","v":0},{"$f":"'3.Zones_desservies'!MZ38","v":0},{"$f":"'3.Zones_desservies'!NA38","v":0},{"$f":"'3.Zones_desservies'!NB38","v":0},{"$f":"'3.Zones_desservies'!NC38","v":0},{"$f":"'3.Zones_desservies'!ND38","v":0},{"$f":"'3.Zones_desservies'!NE38","v":0},{"$f":"'3.Zones_desservies'!NF38","v":0},{"$f":"'3.Zones_desservies'!NG38","v":0},{"$f":"'3.Zones_desservies'!NH38","v":0},{"$f":"'3.Zones_desservies'!NI38","v":0},{"$f":"'3.Zones_desservies'!NJ38","v":0},{"$f":"'3.Zones_desservies'!NK38","v":0},{"$f":"'3.Zones_desservies'!NL38","v":0},{"$f":"'3.Zones_desservies'!NM38","v":0},{"$f":"'3.Zones_desservies'!NN38","v":0},{"$f":"'3.Zones_desservies'!NO38","v":0},{"$f":"'3.Zones_desservies'!NP38","v":0},{"$f":"'3.Zones_desservies'!NQ38","v":0},{"$f":"'3.Zones_desservies'!NR38","v":0},{"$f":"'3.Zones_desservies'!NS38","v":0},{"$f":"'3.Zones_desservies'!NT38","v":0},{"$f":"'3.Zones_desservies'!NU38","v":0},{"$f":"'3.Zones_desservies'!NV38","v":0},{"$f":"'3.Zones_desservies'!NW38","v":0},{"$f":"'3.Zones_desservies'!NX38","v":0},{"$f":"'3.Zones_desservies'!NY38","v":0},{"$f":"'3.Zones_desservies'!NZ38","v":0},{"$f":"'3.Zones_desservies'!OA38","v":0},{"$f":"'3.Zones_desservies'!OB38","v":0},{"$f":"'3.Zones_desservies'!OC38","v":0},{"$f":"'3.Zones_desservies'!OD38","v":0},{"$f":"'3.Zones_desservies'!OE38","v":0},{"$f":"'3.Zones_desservies'!OF38","v":0},{"$f":"'3.Zones_desservies'!OG38","v":0},{"$f":"'3.Zones_desservies'!OH38","v":0},{"$f":"'3.Zones_desservies'!OI38","v":0},{"$f":"'3.Zones_desservies'!OJ38","v":0},{"$f":"'3.Zones_desservies'!OK38","v":0},{"$f":"'3.Zones_desservies'!OL38","v":0},{"$f":"'3.Zones_desservies'!OM38","v":0},{"$f":"'3.Zones_desservies'!ON38","v":0},{"$f":"'3.Zones_desservies'!OO38","v":0},{"$f":"'3.Zones_desservies'!OP38","v":0},{"$f":"'3.Zones_desservies'!OQ38","v":0},{"$f":"'3.Zones_desservies'!OR38","v":0},{"$f":"'3.Zones_desservies'!OS38","v":0},{"$f":"'3.Zones_desservies'!OT38","v":0},{"$f":"'3.Zones_desservies'!OU38","v":0},{"$f":"'3.Zones_desservies'!OV38","v":0},{"$f":"'3.Zones_desservies'!OW38","v":0},{"$f":"'3.Zones_desservies'!OX38","v":0},{"$f":"'3.Zones_desservies'!OY38","v":0},{"$f":"'3.Zones_desservies'!OZ38","v":0},{"$f":"'3.Zones_desservies'!PA38","v":0},{"$f":"'3.Zones_desservies'!PB38","v":0},{"$f":"'3.Zones_desservies'!PC38","v":0},{"$f":"'3.Zones_desservies'!PD38","v":0},{"$f":"'3.Zones_desservies'!PE38","v":0},{"$f":"'3.Zones_desservies'!PF38","v":0},{"$f":"'3.Zones_desservies'!PG38","v":0},{"$f":"'3.Zones_desservies'!PH38","v":0},{"$f":"'3.Zones_desservies'!PI38","v":0},{"$f":"'3.Zones_desservies'!PJ38","v":0},{"$f":"'3.Zones_desservies'!PK38","v":0},{"$f":"'3.Zones_desservies'!PL38","v":0},{"$f":"'3.Zones_desservies'!PM38","v":0},{"$f":"'3.Zones_desservies'!PN38","v":0},{"$f":"'3.Zones_desservies'!PO38","v":0},{"$f":"'3.Zones_desservies'!PP38","v":0},{"$f":"'3.Zones_desservies'!PQ38","v":0},{"$f":"'3.Zones_desservies'!PR38","v":0},{"$f":"'3.Zones_desservies'!PS38","v":0},{"$f":"'3.Zones_desservies'!PT38","v":0},{"$f":"'3.Zones_desservies'!PU38","v":0},{"$f":"'3.Zones_desservies'!PV38","v":0},{"$f":"'3.Zones_desservies'!PW38","v":0},{"$f":"'3.Zones_desservies'!PX38","v":0},{"$f":"'3.Zones_desservies'!PY38","v":0},{"$f":"'3.Zones_desservies'!PZ38","v":0},{"$f":"'3.Zones_desservies'!QA38","v":0},{"$f":"'3.Zones_desservies'!QB38","v":0},{"$f":"'3.Zones_desservies'!QC38","v":0},{"$f":"'3.Zones_desservies'!QD38","v":0},{"$f":"'3.Zones_desservies'!QE38","v":0},{"$f":"'3.Zones_desservies'!QF38","v":0},{"$f":"'3.Zones_desservies'!QG38","v":0},{"$f":"'3.Zones_desservies'!QH38","v":0},{"$f":"'3.Zones_desservies'!QI38","v":0},{"$f":"'3.Zones_desservies'!QJ38","v":0},{"$f":"'3.Zones_desservies'!QK38","v":0},{"$f":"'3.Zones_desservies'!QL38","v":0},{"$f":"'3.Zones_desservies'!QM38","v":0},{"$f":"'3.Zones_desservies'!QN38","v":0},{"$f":"'3.Zones_desservies'!QO38","v":0},{"$f":"'3.Zones_desservies'!QP38","v":0},{"$f":"'3.Zones_desservies'!QQ38","v":0},{"$f":"'3.Zones_desservies'!QR38","v":0},{"$f":"'3.Zones_desservies'!QS38","v":0},{"$f":"'3.Zones_desservies'!QT38","v":0},{"$f":"'3.Zones_desservies'!QU38","v":0},{"$f":"'3.Zones_desservies'!QV38","v":0},{"$f":"'3.Zones_desservies'!QW38","v":0},{"$f":"'3.Zones_desservies'!QX38","v":0},{"$f":"'3.Zones_desservies'!QY38","v":0},{"$f":"'3.Zones_desservies'!QZ38","v":0},{"$f":"'3.Zones_desservies'!RA38","v":0},{"$f":"'3.Zones_desservies'!RB38","v":0},{"$f":"'3.Zones_desservies'!RC38","v":0},{"$f":"'3.Zones_desservies'!RD38","v":0},{"$f":"'3.Zones_desservies'!RE38","v":0},{"$f":"'3.Zones_desservies'!RF38","v":0},{"$f":"'3.Zones_desservies'!RG38","v":0},{"$f":"'3.Zones_desservies'!RH38","v":0},{"$f":"'3.Zones_desservies'!RI38","v":0},{"$f":"'3.Zones_desservies'!RJ38","v":0},{"$f":"'3.Zones_desservies'!RK38","v":0},{"$f":"'3.Zones_desservies'!RL38","v":0},{"$f":"'3.Zones_desservies'!RM38","v":0},{"$f":"'3.Zones_desservies'!RN38","v":0},{"$f":"'3.Zones_desservies'!RO38","v":0},{"$f":"'3.Zones_desservies'!RP38","v":0},{"$f":"'3.Zones_desservies'!RQ38","v":0},{"$f":"'3.Zones_desservies'!RR38","v":0},{"$f":"'3.Zones_desservies'!RS38","v":0},{"$f":"'3.Zones_desservies'!RT38","v":0},{"$f":"'3.Zones_desservies'!RU38","v":0},{"$f":"'3.Zones_desservies'!RV38","v":0},{"$f":"'3.Zones_desservies'!RW38","v":0},{"$f":"'3.Zones_desservies'!RX38","v":0},{"$f":"'3.Zones_desservies'!RY38","v":0},{"$f":"'3.Zones_desservies'!RZ38","v":0},{"$f":"'3.Zones_desservies'!SA38","v":0},{"$f":"'3.Zones_desservies'!SB38","v":0},{"$f":"'3.Zones_desservies'!SC38","v":0},{"$f":"'3.Zones_desservies'!SD38","v":0},{"$f":"'3.Zones_desservies'!SE38","v":0},{"$f":"'3.Zones_desservies'!SF38","v":0},{"$f":"'3.Zones_desservies'!SG38","v":0},{"$f":"'3.Zones_desservies'!SH38","v":0}]
[]
[]
[null,"NB_ligne",{"$f":"499-COUNTIF(C3:SH3,0)","v":3}]
[null,"NB_arrêt",{"$f":"21-COUNTIF(C3:C23,0)","v":11},{"$f":"21-COUNTIF(D3:D23,0)","v":7},3,0,0,0,0,0,0,{"$f":"21-COUNTIF(L3:L23,0)","v":0},0,0,0,0,0,0,0,0,0,0,0,0,0,0,0,0,0,0,0,0,0,0,0,0,0,0,0,0,0,0,0,0,0,0,0,0,0,0,0,0,0,0,0,0,0,0,0,0,0,0,0,0,0,0,0,0,0,0,0,0,0,0,0,{"$f":"21-COUNTIF(BX3:BX23,0)","v":0},0,0,0,0,0,0,0,0,0,0,0,0,0,0,0,0,0,0,0,0,0,0,0,0,0,0,21,0,0,0,0,0,0,0,0,0,0,0,0,0,0,0,0,0,0,0,0,0,0,0,0,0,0,0,0,0,0,0,0,0,0,0,0,{"$f":"21-COUNTIF(EJ3:EJ23,0)","v":0},0,0,0,0,0,0,0,0,0,0,0,0,0,0,0,0,0,0,0,0,0,0,0,0,0,0,0,0,0,0,0,0,0,0,0,0,0,0,0,0,0,0,0,0,0,0,0,0,0,0,0,0,0,0,0,0,0,0,0,0,0,0,0,{"$f":"21-COUNTIF(GV3:GV23,0)","v":0},0,0,0,0,0,0,0,0,0,0,0,0,0,0,0,0,0,0,0,0,0,0,0,0,0,0,0,0,0,0,0,0,0,0,0,0,0,0,0,0,0,0,0,0,0,0,0,0,0,0,0,0,0,0,0,0,0,0,0,0,0,0,0,{"$f":"21-COUNTIF(JH3:JH23,0)","v":0},0,0,0,0,0,0,0,0,0,0,0,0,0,0,0,0,0,0,0,0,0,0,0,0,0,0,0,0,0,0,0,0,0,0,0,0,0,0,0,0,0,0,0,0,0,0,0,0,0,0,0,0,0,0,0,0,0,0,0,0,0,0,0,{"$f":"21-COUNTIF(LT3:LT23,0)","v":0},0,0,0,0,0,0,0,0,0,0,0,0,0,0,0,0,0,0,0,0,0,0,0,0,0,0,0,0,0,0,0,0,0,0,0,0,0,0,0,0,0,0,0,0,0,0,0,0,0,0,0,0,0,0,0,0,0,0,0,0,0,0,0,{"$f":"21-COUNTIF(OF3:OF23,0)","v":0},0,0,0,0,0,0,0,0,0,0,0,0,0,0,0,0,0,0,0,0,0,0,0,0,0,0,0,0,0,0,0,0,0,0,0,0,0,0,0,0,0,0,0,0,0,0,0,0,0,0,0,0,0,0,0,0,0,0,0,0,0,0,0,{"$f":"21-COUNTIF(QR3:QR23,0)","v":0},0,0,0,0,0,0,0,0,0,0,0,0,0,0,0,0,0,0,0,0,0,0,0,0,0,0,0,0,0,0,0,0,0,0,0,0,0,0,0,0,0,0]
[null,"NB_liaisons_max",{"$f":"MATCH(MAX('3.Zones_desservies'!$C$45:$C$1048576),'3.Zones_desservies'!$C$45:$C$1048576,0)","v":1}]
[null,"NB_arret_max",1]
[]
[]
[]
[]
[null,null,"n° de ligne","n° de liaison","Origine","Destination","Liaison commercialisée?\nOui/Non","Date de lancement"]
[null,null,1,1,{"$f":"D$14","v":0},{"$f":"D9","v":"Ville 6"},null,"JJ/MM/AAAA"]
[null,null,1,2,0,0,null,"JJ/MM/AAAA"]
[null,null,1,3,0,0,null,"JJ/MM/AAAA"]
[null,null,1,4,0,0,null,"JJ/MM/AAAA"]
[null,null,1,5,0,0,null,"JJ/MM/AAAA"]
[null,null,1,6,0,0,null,"JJ/MM/AAAA"]
[null,null,1,7,{"$f":"D$15","v":0},{"$f":"D10","v":0},null,"JJ/MM/AAAA"]
[null,null,1,8,{"$f":"D$15","v":0},{"$f":"D11","v":0},null,"JJ/MM/AAAA"]
[null,null,1,9,{"$f":"D$15","v":0},{"$f":"D12","v":0},null,"JJ/MM/AAAA"]
[null,null,1,10,{"$f":"D$15","v":0},{"$f":"D13","v":0},null,"JJ/MM/AAAA"]
[null,null,1,11,{"$f":"D$15","v":0},{"$f":"D14","v":0},null,"JJ/MM/AAAA"]
[null,null,1,12,{"$f":"D$16","v":0},{"$f":"D11","v":0},null,"JJ/MM/AAAA"]
[null,null,1,13,{"$f":"D$16","v":0},{"$f":"D12","v":0},null,"JJ/MM/AAAA"]
[null,null,1,14,{"$f":"D$16","v":0},{"$f":"D13","v":0},null,"JJ/MM/AAAA"]
[null,null,1,15,{"$f":"D$16","v":0},{"$f":"D14","v":0},null,"JJ/MM/AAAA"]
[null,null,1,16,{"$f":"D$17","v":0},{"$f":"D12","v":0},null,"JJ/MM/AAAA"]
[null,null,1,17,{"$f":"D$17","v":0},{"$f":"D13","v":0},null,"JJ/MM/AAAA"]
[null,null,1,18,{"$f":"D$17","v":0},{"$f":"D14","v":0},null,"JJ/MM/AAAA"]
[null,null,1,19,{"$f":"D$18","v":0},{"$f":"D13","v":0},null,"JJ/MM/AAAA"]
[null,null,1,20,{"$f":"D$18","v":0},{"$f":"D14","v":0},null,"JJ/MM/AAAA"]
[null,null,1,21,{"$f":"D$19","v":0},{"$f":"D14","v":0},null,"JJ/MM/AAAA"]
[null,null,"…","…","…","…","…","…"]
[null,null,2,1,{"$f":"E$14","v":0},{"$f":"E9","v":0},null,"JJ/MM/AAAA"]
[]
[]
[]
[]
[]
[]
[]
[]
[null,"n° de ligne","n° de liaison","Origine","Destination"]
[null,1,0,"Ville  0","Ville  1"]
[null,1,1,"Ville  0","Ville  1"]
[null,1,2,"Ville  0","Ville  2"]
[null,1,3,"Ville  0","Ville  3"]
[null,1,4,"Ville  0","Ville  4"]
[null,1,5,"Ville  0","Ville  5"]
[null,1,6,"Ville  0","Ville  6"]
[null,1,7,"Ville  0","Ville  7"]
[null,1,7,"Ville  1","Ville  2"]
[null,1,8,"Ville  0","Ville  8"]
[null,1,8,"Ville  1","Ville  3"]
[null,1,9,"Ville  0","Ville  9"]
[null,1,9,"Ville  1","Ville  4"]
[null,1,10,"Ville  0","Ville  10"]
[null,1,10,"Ville  1","Ville  5"]
[null,1,11,"Ville  0","Ville  11"]
[null,1,11,"Ville  1","Ville  6"]
[null,1,12,"Ville  0","Ville  12"]
[null,1,12,"Ville  2","Ville  3"]
[null,1,13,"Ville  0","Ville  13"]
[null,1,13,"Ville  2","Ville  4"]
[null,1,14,"Ville  0","Ville  14"]
[null,1,14,"Ville  2","Ville  5"]
[null,1,15,"Ville  0","Ville  15"]
[null,1,15,"Ville  2","Ville  6"]
[null,1,16,"Ville  0","Ville  16"]
[null,1,16,"Ville  3","Ville  4"]
[null,1,17,"Ville  0","Ville  17"]
[null,1,17,"Ville  3","Ville  5"]
[null,1,18,"Ville  0","Ville  18"]
[null,1,18,"Ville  3","Ville  6"]
[null,1,19,"Ville  0","Ville  19"]
[null,1,19,"Ville  4","Ville  5"]
[null,1,20,"Ville  0","Ville  20"]
[null,1,20,"Ville  4","Ville  6"]
[null,1,21,"Ville  1","Ville  2"]
[null,1,21,"Ville  5","Ville  6"]
[null,1,22,"Ville  1","Ville  3"]
[null,1,23,"Ville  1","Ville  4"]
[null,1,24,"Ville  1","Ville  5"]
[null,1,25,"Ville  1","Ville  6"]
[null,1,26,"Ville  1","Ville  7"]
[null,1,27,"Ville  1","Ville  8"]
[null,1,28,"Ville  1","Ville  9"]
[null,1,29,"Ville  1","Ville  10"]
[null,1,30,"Ville  1","Ville  11"]
[null,1,31,"Ville  1","Ville  12"]
[null,1,32,"Ville  1","Ville  13"]
[null,1,33,"Ville  1","Ville  14"]
[null,1,34,"Ville  1","Ville  15"]
[null,1,35,"Ville  1","Ville  16"]
[null,1,36,"Ville  1","Ville  17"]
[null,1,37,"Ville  1","Ville  18"]
[null,1,38,"Ville  1","Ville  19"]
[null,1,39,"Ville  1","Ville  20"]
[null,1,40,"Ville  2","Ville  3"]
[null,1,41,"Ville  2","Ville  4"]
[null,1,42,"Ville  2","Ville  5"]
[null,1,43,"Ville  2","Ville  6"]
[null,1,44,"Ville  2","Ville  7"]
[null,1,45,"Ville  2","Ville  8"]
[null,1,46,"Ville  2","Ville  9"]
[null,1,47,"Ville  2","Ville  10"]
[null,1,48,"Ville  2","Ville  11"]
[null,1,49,"Ville  2","Ville  12"]
[null,1,50,"Ville  2","Ville  13"]
[null,1,51,"Ville  2","Ville  14"]
[null,1,52,"Ville  2","Ville  15"]
[null,1,53,"Ville  2","Ville  16"]
[null,1,54,"Ville  2","Ville  17"]
[null,1,55,"Ville  2","Ville  18"]
[null,1,56,"Ville  2","Ville  19"]
[null,1,57,"Ville  2","Ville  20"]
[null,1,58,"Ville  3","Ville  4"]
[null,1,59,"Ville  3","Ville  5"]
[null,1,60,"Ville  3","Ville  6"]
[null,1,61,"Ville  3","Ville  7"]
[null,1,62,"Ville  3","Ville  8"]
[null,1,63,"Ville  3","Ville  9"]
[null,1,64,"Ville  3","Ville  10"]
[null,1,65,"Ville  3","Ville  11"]
[null,1,66,"Ville  3","Ville  12"]
[null,1,67,"Ville  3","Ville  13"]
[null,1,68,"Ville  3","Ville  14"]
[null,1,69,"Ville  3","Ville  15"]
[null,1,70,"Ville  3","Ville  16"]
[null,1,71,"Ville  3","Ville  17"]
[null,1,72,"Ville  3","Ville  18"]
[null,1,73,"Ville  3","Ville  19"]
[null,1,74,"Ville  3","Ville  20"]
[null,1,75,"Ville  4","Ville  5"]
[null,1,76,"Ville  4","Ville  6"]
[null,1,77,"Ville  4","Ville  7"]
[null,1,78,"Ville  4","Ville  8"]
[null,1,79,"Ville  4","Ville  9"]
[null,1,80,"Ville  4","Ville  10"]
[null,1,81,"Ville  4","Ville  11"]
[null,1,82,"Ville  4","Ville  12"]
[null,1,83,"Ville  4","Ville  13"]
[null,1,84,"Ville  4","Ville  14"]
[null,1,85,"Ville  4","Ville  15"]
[null,1,86,"Ville  4","Ville  16"]
[null,1,87,"Ville  4","Ville  17"]
[null,1,88,"Ville  4","Ville  18"]
[null,1,89,"Ville  4","Ville  19"]
[null,1,90,"Ville  4","Ville  20"]
[null,1,91,"Ville  5","Ville  6"]
[null,1,92,"Ville  5","Ville  7"]
[null,1,93,"Ville  5","Ville  8"]
[null,1,94,"Ville  5","Ville  9"]
[null,1,95,"Ville  5","Ville  10"]
[null,1,96,"Ville  5","Ville  11"]
[null,1,97,"Ville  5","Ville  12"]
[null,1,98,"Ville  5","Ville  13"]
[null,1,99,"Ville  5","Ville  14"]
[null,1,100,"Ville  5","Ville  15"]
[null,1,101,"Ville  5","Ville  16"]
[null,1,102,"Ville  5","Ville  17"]
[null,1,103,"Ville  5","Ville  18"]
[null,1,104,"Ville  5","Ville  19"]
[null,1,105,"Ville  5","Ville  20"]
[null,1,106,"Ville  6","Ville  7"]
[null,1,107,"Ville  6","Ville  8"]
[null,1,108,"Ville  6","Ville  9"]
[null,1,109,"Ville  6","Ville  10"]
[null,1,110,"Ville  6","Ville  11"]
[null,1,111,"Ville  6","Ville  12"]
[null,1,112,"Ville  6","Ville  13"]
[null,1,113,"Ville  6","Ville  14"]
[null,1,114,"Ville  6","Ville  15"]
[null,1,115,"Ville  6","Ville  16"]
[null,1,116,"Ville  6","Ville  17"]
[null,1,117,"Ville  6","Ville  18"]
[null,1,118,"Ville  6","Ville  19"]
[null,1,119,"Ville  6","Ville  20"]
[null,1,120,"Ville  7","Ville  8"]
[null,1,121,"Ville  7","Ville  9"]
[null,1,122,"Ville  7","Ville  10"]
[null,1,123,"Ville  7","Ville  11"]
[null,1,124,"Ville  7","Ville  12"]
[null,1,125,"Ville  7","Ville  13"]
[null,1,126,"Ville  7","Ville  14"]
[null,1,127,"Ville  7","Ville  15"]
[null,1,128,"Ville  7","Ville  16"]
[null,1,129,"Ville  7","Ville  17"]
[null,1,130,"Ville  7","Ville  18"]
[null,1,131,"Ville  7","Ville  19"]
[null,1,132,"Ville  7","Ville  20"]
[null,1,133,"Ville  8","Ville  9"]
[null,1,134,"Ville  8","Ville  10"]
[null,1,135,"Ville  8","Ville  11"]
[null,1,136,"Ville  8","Ville  12"]
[null,1,137,"Ville  8","Ville  13"]
[null,1,138,"Ville  8","Ville  14"]
[null,1,139,"Ville  8","Ville  15"]
[null,1,140,"Ville  8","Ville  16"]
[null,1,141,"Ville  8","Ville  17"]
[null,1,142,"Ville  8","Ville  18"]
[null,1,143,"Ville  8","Ville  19"]
[null,1,144,"Ville  8","Ville  20"]
[null,1,145,"Ville  9","Ville  10"]
[null,1,146,"Ville  9","Ville  11"]
[null,1,147,"Ville  9","Ville  12"]
[null,1,148,"Ville  9","Ville  13"]
[null,1,149,"Ville  9","Ville  14"]
[null,1,150,"Ville  9","Ville  15"]
[null,1,151,"Ville  9","Ville  16"]
[null,1,152,"Ville  9","Ville  17"]
[null,1,153,"Ville  9","Ville  18"]
[null,1,154,"Ville  9","Ville  19"]
[null,1,155,"Ville  9","Ville  20"]
[null,1,156,"Ville  10","Ville  11"]
[null,1,157,"Ville  10","Ville  12"]
[null,1,158,"Ville  10","Ville  13"]
[null,1,159,"Ville  10","Ville  14"]
[null,1,160,"Ville  10","Ville  15"]
[null,1,161,"Ville  10","Ville  16"]
[null,1,162,"Ville  10","Ville  17"]
[null,1,163,"Ville  10","Ville  18"]
[null,1,164,"Ville  10","Ville  19"]
[null,1,165,"Ville  10","Ville  20"]
[null,1,166,"Ville  11","Ville  12"]
[null,1,167,"Ville  11","Ville  13"]
[null,1,168,"Ville  11","Ville  14"]
[null,1,169,"Ville  11","Ville  15"]
[null,1,170,"Ville  11","Ville  16"]
[null,1,171,"Ville  11","Ville  17"]
[null,1,172,"Ville  11","Ville  18"]
[null,1,173,"Ville  11","Ville  19"]
[null,1,174,"Ville  11","Ville  20"]
[null,1,175,"Ville  12","Ville  13"]
[null,1,176,"Ville  12","Ville  14"]
[null,1,177,"Ville  12","Ville  15"]
[null,1,178,"Ville  12","Ville  16"]
[null,1,179,"Ville  12","Ville  17"]
[null,1,180,"Ville  12","Ville  18"]
[null,1,181,"Ville  12","Ville  19"]
[null,1,182,"Ville  12","Ville  20"]
[null,1,183,"Ville  13","Ville  14"]
[null,1,184,"Ville  13","Ville  15"]
[null,1,185,"Ville  13","Ville  16"]
[null,1,186,"Ville  13","Ville  17"]
[null,1,187,"Ville  13","Ville  18"]
[null,1,188,"Ville  13","Ville  19"]
[null,1,189,"Ville  13","Ville  20"]
[null,1,190,"Ville  14","Ville  15"]
[null,1,191,"Ville  14","Ville  16"]
[null,1,192,"Ville  14","Ville  17"]
[null,1,193,"Ville  14","Ville  18"]
[null,1,194,"Ville  14","Ville  19"]
[null,1,195,"Ville  14","Ville  20"]
[null,1,196,"Ville  15","Ville  16"]
[null,1,197,"Ville  15","Ville  17"]
[null,1,198,"Ville  15","Ville  18"]
[null,1,199,"Ville  15","Ville  19"]
[null,1,200,"Ville  15","Ville  20"]
[null,1,201,"Ville  16","Ville  17"]
[null,1,202,"Ville  16","Ville  18"]
[null,1,203,"Ville  16","Ville  19"]
[null,1,204,"Ville  16","Ville  20"]
[null,1,205,"Ville  17","Ville  18"]
[null,1,206,"Ville  17","Ville  19"]
[null,1,207,"Ville  17","Ville  20"]
[null,1,208,"Ville  18","Ville  19"]
[null,1,209,"Ville  18","Ville  20"]
[null,1,210,"Ville  19","Ville  20"]
[null,2,1,"Ville 0","Ville 1"]
[null,2,211,"Ville 0","Ville 1"]
[null,2,212,"Ville 0","Ville 2"]
[null,2,213,"Ville 0","Ville 3"]
[null,2,214,"Ville 0","Ville 4"]
[null,2,215,"Ville 0","Ville 5"]
[null,2,216,"Ville 0","Ville 6"]
[null,2,217,"Ville 0","Ville 7"]
[null,2,218,"Ville 0","Ville 8"]
[null,2,219,"Ville 0","Ville 9"]
[null,2,220,"Ville 0","Ville 10"]
[null,2,221,"Ville 0","Ville 11"]
[null,2,222,"Ville 0","Ville 12"]
[null,2,223,"Ville 0","Ville 13"]
[null,2,224,"Ville 0","Ville 14"]
[null,2,225,"Ville 0","Ville 15"]
[null,2,226,"Ville 0","Ville 16"]
[null,2,227,"Ville 0","Ville 17"]
[null,2,228,"Ville 0","Ville 18"]
[null,2,229,"Ville 0","Ville 19"]
[null,2,230,"Ville 0","Ville 20"]
[null,2,231,"Ville 1","Ville 2"]
[null,2,232,"Ville 1","Ville 3"]
[null,2,233,"Ville 1","Ville 4"]
[null,2,234,"Ville 1","Ville 5"]
[null,2,235,"Ville 1","Ville 6"]
[null,2,236,"Ville 1","Ville 7"]
[null,2,237,"Ville 1","Ville 8"]
[null,2,238,"Ville 1","Ville 9"]
[null,2,239,"Ville 1","Ville 10"]
[null,2,240,"Ville 1","Ville 11"]
[null,2,241,"Ville 1","Ville 12"]
[null,2,242,"Ville 1","Ville 13"]
[null,2,243,"Ville 1","Ville 14"]
[null,2,244,"Ville 1","Ville 15"]
[null,2,245,"Ville 1","Ville 16"]
[null,2,246,"Ville 1","Ville 17"]
[null,2,247,"Ville 1","Ville 18"]
[null,2,248,"Ville 1","Ville 19"]
[null,2,249,"Ville 1","Ville 20"]
[null,2,250,"Ville 2","Ville 3"]
[null,2,251,"Ville 2","Ville 4"]
[null,2,252,"Ville 2","Ville 5"]
[null,2,253,"Ville 2","Ville 6"]
[null,2,254,"Ville 2","Ville 7"]
[null,2,255,"Ville 2","Ville 8"]
[null,2,256,"Ville 2","Ville 9"]
[null,2,257,"Ville 2","Ville 10"]
[null,2,258,"Ville 2","Ville 11"]
[null,2,259,"Ville 2","Ville 12"]
[null,2,260,"Ville 2","Ville 13"]
[null,2,261,"Ville 2","Ville 14"]
[null,2,262,"Ville 2","Ville 15"]
[null,2,263,"Ville 2","Ville 16"]
[null,2,264,"Ville 2","Ville 17"]
[null,2,265,"Ville 2","Ville 18"]
[null,2,266,"Ville 2","Ville 19"]
[null,2,267,"Ville 2","Ville 20"]
[null,2,268,"Ville 3","Ville 4"]
[null,2,269,"Ville 3","Ville 5"]
[null,2,270,"Ville 3","Ville 6"]
[null,2,271,"Ville 3","Ville 7"]
[null,2,272,"Ville 3","Ville 8"]
[null,2,273,"Ville 3","Ville 9"]
[null,2,274,"Ville 3","Ville 10"]
[null,2,275,"Ville 3","Ville 11"]
[null,2,276,"Ville 3","Ville 12"]
[null,2,277,"Ville 3","Ville 13"]
[null,2,278,"Ville 3","Ville 14"]
[null,2,279,"Ville 3","Ville 15"]
[null,2,280,"Ville 3","Ville 16"]
[null,2,281,"Ville 3","Ville 17"]
[null,2,282,"Ville 3","Ville 18"]
[null,2,283,"Ville 3","Ville 19"]
[null,2,284,"Ville 3","Ville 20"]
[null,2,285,"Ville 4","Ville 5"]
[null,2,286,"Ville 4","Ville 6"]
[null,2,287,"Ville 4","Ville 7"]
[null,2,288,"Ville 4","Ville 8"]
[null,2,289,"Ville 4","Ville 9"]
[null,2,290,"Ville 4","Ville 10"]
[null,2,291,"Ville 4","Ville 11"]
[null,2,292,"Ville 4","Ville 12"]
[null,2,293,"Ville 4","Ville 13"]
[null,2,294,"Ville 4","Ville 14"]
[null,2,295,"Ville 4","Ville 15"]
[null,2,296,"Ville 4","Ville 16"]
[null,2,297,"Ville 4","Ville 17"]
[null,2,298,"Ville 4","Ville 18"]
[null,2,299,"Ville 4","Ville 19"]
[null,2,300,"Ville 4","Ville 20"]
[null,2,301,"Ville 5","Ville 6"]
[null,2,302,"Ville 5","Ville 7"]
[null,2,303,"Ville 5","Ville 8"]
[null,2,304,"Ville 5","Ville 9"]
[null,2,305,"Ville 5","Ville 10"]
[null,2,306,"Ville 5","Ville 11"]
[null,2,307,"Ville 5","Ville 12"]
[null,2,308,"Ville 5","Ville 13"]
[null,2,309,"Ville 5","Ville 14"]
[null,2,310,"Ville 5","Ville 15"]
[null,2,311,"Ville 5","Ville 16"]
[null,2,312,"Ville 5","Ville 17"]
[null,2,313,"Ville 5","Ville 18"]
[null,2,314,"Ville 5","Ville 19"]
[null,2,315,"Ville 5","Ville 20"]
[null,2,316,"Ville 6","Ville 7"]
[null,2,317,"Ville 6","Ville 8"]
[null,2,318,"Ville 6","Ville 9"]
[null,2,319,"Ville 6","Ville 10"]
[null,2,320,"Ville 6","Ville 11"]
[null,2,321,"Ville 6","Ville 12"]
[null,2,322,"Ville 6","Ville 13"]
[null,2,323,"Ville 6","Ville 14"]
[null,2,324,"Ville 6","Ville 15"]
[null,2,325,"Ville 6","Ville 16"]
[null,2,326,"Ville 6","Ville 17"]
[null,2,327,"Ville 6","Ville 18"]
[null,2,328,"Ville 6","Ville 19"]
[null,2,329,"Ville 6","Ville 20"]
[null,2,330,"Ville 7","Ville 8"]
[null,2,331,"Ville 7","Ville 9"]
[null,2,332,"Ville 7","Ville 10"]
[null,2,333,"Ville 7","Ville 11"]
[null,2,334,"Ville 7","Ville 12"]
[null,2,335,"Ville 7","Ville 13"]
[null,2,336,"Ville 7","Ville 14"]
[null,2,337,"Ville 7","Ville 15"]
[null,2,338,"Ville 7","Ville 16"]
[null,2,339,"Ville 7","Ville 17"]
[null,2,340,"Ville 7","Ville 18"]
[null,2,341,"Ville 7","Ville 19"]
[null,2,342,"Ville 7","Ville 20"]
[null,2,343,"Ville 8","Ville 9"]
[null,2,344,"Ville 8","Ville 10"]
[null,2,345,"Ville 8","Ville 11"]
[null,2,346,"Ville 8","Ville 12"]
[null,2,347,"Ville 8","Ville 13"]
[null,2,348,"Ville 8","Ville 14"]
[null,2,349,"Ville 8","Ville 15"]
[null,2,350,"Ville 8","Ville 16"]
[null,2,351,"Ville 8","Ville 17"]
[null,2,352,"Ville 8","Ville 18"]
[null,2,353,"Ville 8","Ville 19"]
[null,2,354,"Ville 8","Ville 20"]
[null,2,355,"Ville 9","Ville 10"]
[null,2,356,"Ville 9","Ville 11"]
[null,2,357,"Ville 9","Ville 12"]
[null,2,358,"Ville 9","Ville 13"]
[null,2,359,"Ville 9","Ville 14"]
[null,2,360,"Ville 9","Ville 15"]
[null,2,361,"Ville 9","Ville 16"]
[null,2,362,"Ville 9","Ville 17"]
[null,2,363,"Ville 9","Ville 18"]
[null,2,364,"Ville 9","Ville 19"]
[null,2,365,"Ville 9","Ville 20"]
[null,2,366,"Ville 10","Ville 11"]
[null,2,367,"Ville 10","Ville 12"]
[null,2,368,"Ville 10","Ville 13"]
[null,2,369,"Ville 10","Ville 14"]
[null,2,370,"Ville 10","Ville 15"]
[null,2,371,"Ville 10","Ville 16"]
[null,2,372,"Ville 10","Ville 17"]
[null,2,373,"Ville 10","Ville 18"]
[null,2,374,"Ville 10","Ville 19"]
[null,2,375,"Ville 10","Ville 20"]
[null,2,376,"Ville 11","Ville 12"]
[null,2,377,"Ville 11","Ville 13"]
[null,2,378,"Ville 11","Ville 14"]
[null,2,379,"Ville 11","Ville 15"]
[null,2,380,"Ville 11","Ville 16"]
[null,2,381,"Ville 11","Ville 17"]
[null,2,382,"Ville 11","Ville 18"]
[null,2,383,"Ville 11","Ville 19"]
[null,2,384,"Ville 11","Ville 20"]
[null,2,385,"Ville 12","Ville 13"]
[null,2,386,"Ville 12","Ville 14"]
[null,2,387,"Ville 12","Ville 15"]
[null,2,388,"Ville 12","Ville 16"]
[null,2,389,"Ville 12","Ville 17"]
[null,2,390,"Ville 12","Ville 18"]
[null,2,391,"Ville 12","Ville 19"]
[null,2,392,"Ville 12","Ville 20"]
[null,2,393,"Ville 13","Ville 14"]
[null,2,394,"Ville 13","Ville 15"]
[null,2,395,"Ville 13","Ville 16"]
[null,2,396,"Ville 13","Ville 17"]
[null,2,397,"Ville 13","Ville 18"]
[null,2,398,"Ville 13","Ville 19"]
[null,2,399,"Ville 13","Ville 20"]
[null,2,400,"Ville 14","Ville 15"]
[null,2,401,"Ville 14","Ville 16"]
[null,2,402,"Ville 14","Ville 17"]
[null,2,403,"Ville 14","Ville 18"]
[null,2,404,"Ville 14","Ville 19"]
[null,2,405,"Ville 14","Ville 20"]
[null,2,406,"Ville 15","Ville 16"]
[null,2,407,"Ville 15","Ville 17"]
[null,2,408,"Ville 15","Ville 18"]
[null,2,409,"Ville 15","Ville 19"]
[null,2,410,"Ville 15","Ville 20"]
[null,2,411,"Ville 16","Ville 17"]
[null,2,412,"Ville 16","Ville 18"]
[null,2,413,"Ville 16","Ville 19"]
[null,2,414,"Ville 16","Ville 20"]
[null,2,415,"Ville 17","Ville 18"]
[null,2,416,"Ville 17","Ville 19"]
[null,2,417,"Ville 17","Ville 20"]
[null,2,418,"Ville 18","Ville 19"]
[null,2,419,"Ville 18","Ville 20"]
[null,2,420,"Ville 19","Ville 20"]
[null,"…","…","…","…"]
[null,"(vide)","(vide)","(vide)","(vide)"]

{"sheet":"4.Utilisation-Fréquentation","index":4,"n_rows":8,"n_cols":7,"rows_kept":8,"cut":false,"hidden":false,"merged":[[3,1,5,8]]}
[]
[null,"INFORMATIONS SUR L'UTILISATION ET LA FREQUENTATION DES SERVICES"]
[]
[null,"Après avoir cliqué sur le bouton action rouge ci-contre (pour pré-remplir le tableau), merci de préciser le taux de remplissage moyen des autocars par liaison et le nombre total de passagers transportés par liaison. Voir l'onglet \"Définitions\" concernant la formule de calcul du taux de remplissage.\nEn cas de problème, vous pouvez réinitialiser le tableau ci-dessous en cliquant sur le bouton action triangulaire gris (attention, ne réinitialise que les colonnes B à E)."]
[]
[]
[]
[null,"n° de ligne","n° de liaison","Origine","Destination","Taux de remplissage","Nombre de passagers transportés"]

{"sheet":"5.Services délivrés","index":5,"n_rows":8,"n_cols":16,"rows_kept":8,"cut":false,"hidden":false,"merged":[[3,1,5,7],[3,13,5,20]]}
[]
[null,"INFORMATIONS SUR LES SERVICES DELIVRES"]
[]
[null,"Merci de préciser, pour chaque liaison, le temps de trajet, la distance routière effective, et le nombre de sièges moyen dans l'autocar \n(voir l'onglet \"Définitions\" pour rappel des modalités de calcul des informations demandées). \nEn cas de problème, vous pouvez réinitialiser le tableau ci-dessous en cliquant sur le bouton action triangulaire gris (attention, ne réinitialise que les colonnes B à E).",null,null,null,null,null,null,null,null,null,null,null,"Merci de préciser les informations concernant la fréquence pour chaque ligne commercialisée. \nPréciser s'il s'agit d'une fréquence constante (voir l'onglet \"Définitions\" pour les fréquences irrégulières)."]
[]
[]
[]
[null,{"$f":"'4.Utilisation-Fréquentation'!B8","v":"n° de ligne"},{"$f":"'4.Utilisation-Fréquentation'!C8","v":"n° de liaison"},{"$f":"'4.Utilisation-Fréquentation'!D8","v":"Origine"},{"$f":"'4.Utilisation-Fréquentation'!E8","v":"Destination"},"Temps de trajet (minutes)","Distance routière effective (km)","Nombre moyen de sièges dans l'autocar",null,null,null,null,null,{"$f":"B8","v":"n° de ligne"},"Fréquence","Fréquence constante? (Oui/Non)"]

{"sheet":"6.Modalités d'accès","index":6,"n_rows":18831,"n_cols":14,"rows_kept":4500,"cut":true,"hidden":false,"merged":[[7,3,7,8],[7,9,7,13],[5,1,5,13]],"bounds":{"rows_first":2000,"rows_last":500,"rows_between":2000,"halvings":0}}
[]
[null,"INFORMATIONS SUR LES MODALITES D'ACCES"]
[]
[]
[null,"Merci d'indiquer les précisions suivantes concernant les points arrêts relatifs aux liaisons commercialisées. "]
[null,"Précisez notamment la localisation GPS du point d'arrêt, au format suivant : [latitude;longitude]\nMerci d'indiquer si les points d'arrêts sont des gares routières (en colonnes F et K) ou des arrêts routiers hors gare routière (colonne H et M).\nSi le point d'arrêt est une gare routière, merci également d'en préciser le gestionnaire (dénomination de la structure publique ou privée).\nEn cas de problème, vous pouvez réinitialiser le tableau ci-dessous en cliquant sur le bouton action triangulaire gris (attention, ne réinitialise que les colonnes B, C, D et J)."]
[]
[null,null,null,"Origine",null,null,null,null,null,"Destination"]
[null,{"$f":"'3.Zones_desservies'!B44","v":"n° de ligne"},{"$f":"'3.Zones_desservies'!C44","v":"n° de liaison"},{"$f":"'3.Zones_desservies'!D44","v":"Origine"},"Dest (auto)","Gare routière desservie (le cas échéant)","Gestionnaire de la gare routière ","Autre point d'arrêt (pour les arrêts hors gares routières)","Localisation GPS",{"$f":"'3.Zones_desservies'!E44","v":"Destination"},"Gare routière desservie (le cas échéant)","Gestionnaire de la gare routière","Autre point d'arrêt (pour les arrêts hors gares routières)","Localisation GPS "]
[null,null,null,null,null,null,null,null,null,{"$f":"IF(ISBLANK(E10),\"\",E10)","v":""}]
[null,null,null,null,null,null,null,null,null,{"$f":"IF(ISBLANK(E11),\"\",E11)","v":""}]
[null,null,null,null,null,null,null,null,null,""]
[null,null,null,null,null,null,null,null,null,""]
[null,null,null,null,null,null,null,null,null,""]
[null,null,null,null,null,null,null,null,null,""]
[null,null,null,null,null,null,null,null,null,""]
[null,null,null,null,null,null,null,null,null,""]
[null,null,null,null,null,null,null,null,null,""]
[null,null,null,null,null,null,null,null,null,""]
[null,null,null,null,null,null,null,null,null,""]
[null,null,null,null,null,null,null,null,null,""]
[null,null,null,null,null,null,null,null,null,""]
[null,null,null,null,null,null,null,null,null,""]
[null,null,null,null,null,null,null,null,null,""]
[null,null,null,null,null,null,null,null,null,""]
[null,null,null,null,null,null,null,null,null,""]
[null,null,null,null,null,null,null,null,null,""]
[null,null,null,null,null,null,null,null,null,""]
[null,null,null,null,null,null,null,null,null,""]
[null,null,null,null,null,null,null,null,null,""]
[null,null,null,null,null,null,null,null,null,""]
[null,null,null,null,null,null,null,null,null,""]
[null,null,null,null,null,null,null,null,null,""]
[null,null,null,null,null,null,null,null,null,""]
[null,null,null,null,null,null,null,null,null,""]
[null,null,null,null,null,null,null,null,null,""]
[null,null,null,null,null,null,null,null,null,""]
[null,null,null,null,null,null,null,null,null,""]
[null,null,null,null,null,null,null,null,null,""]
[null,null,null,null,null,null,null,null,null,""]
[null,null,null,null,null,null,null,null,null,""]
[null,null,null,null,null,null,null,null,null,""]
[null,null,null,null,null,null,null,null,null,""]
[null,null,null,null,null,null,null,null,null,""]
[null,null,null,null,null,null,null,null,null,""]
[null,null,null,null,null,null,null,null,null,""]
[null,null,null,null,null,null,null,null,null,""]
[null,null,null,null,null,null,null,null,null,""]
[null,null,null,null,null,null,null,null,null,""]
[null,null,null,null,null,null,null,null,null,""]
[null,null,null,null,null,null,null,null,null,""]
[null,null,null,null,null,null,null,null,null,""]
[null,null,null,null,null,null,null,null,null,""]
[null,null,null,null,null,null,null,null,null,""]
[null,null,null,null,null,null,null,null,null,""]
[null,null,null,null,null,null,null,null,null,""]
[null,null,null,null,null,null,null,null,null,""]
[null,null,null,null,null,null,null,null,null,""]
[null,null,null,null,null,null,null,null,null,""]
[null,null,null,null,null,null,null,null,null,""]
[null,null,null,null,null,null,null,null,null,""]
[null,null,null,null,null,null,null,null,null,""]
[null,null,null,null,null,null,null,null,null,""]
[null,null,null,null,null,null,null,null,null,""]
[null,null,null,null,null,null,null,null,null,""]
[null,null,null,null,null,null,null,null,null,""]
[null,null,null,null,null,null,null,null,null,""]
[null,null,null,null,null,null,null,null,null,""]
[null,null,null,null,null,null,null,null,null,""]
[null,null,null,null,null,null,null,null,null,""]
[null,null,null,null,null,null,null,null,null,""]
[null,null,null,null,null,null,null,null,null,""]
[null,null,null,null,null,null,null,null,null,""]
[null,null,null,null,null,null,null,null,null,""]
[null,null,null,null,null,null,null,null,null,{"$f":"IF(ISBLANK(E75),\"\",E75)","v":""}]
[null,null,null,null,null,null,null,null,null,""]
[null,null,null,null,null,null,null,null,null,""]
[null,null,null,null,null,null,null,null,null,""]
[null,null,null,null,null,null,null,null,null,""]
[null,null,null,null,null,null,null,null,null,""]
[null,null,null,null,null,null,null,null,null,""]
[null,null,null,null,null,null,null,null,null,""]
[null,null,null,null,null,null,null,null,null,""]
[null,null,null,null,null,null,null,null,null,""]
[null,null,null,null,null,null,null,null,null,""]
[null,null,null,null,null,null,null,null,null,""]
[null,null,null,null,null,null,null,null,null,""]
[null,null,null,null,null,null,null,null,null,""]
[null,null,null,null,null,null,null,null,null,""]
[null,null,null,null,null,null,null,null,null,""]
[null,null,null,null,null,null,null,null,null,""]
[null,null,null,null,null,null,null,null,null,""]
[null,null,null,null,null,null,null,null,null,""]
[null,null,null,null,null,null,null,null,null,""]
[null,null,null,null,null,null,null,null,null,""]
[null,null,null,null,null,null,null,null,null,""]
[null,null,null,null,null,null,null,null,null,""]
[null,null,null,null,null,null,null,null,null,""]
[null,null,null,null,null,null,null,null,null,""]
[null,null,null,null,null,null,null,null,null,""]
[null,null,null,null,null,null,null,null,null,""]
[null,null,null,null,null,null,null,null,null,""]
[null,null,null,null,null,null,null,null,null,""]
[null,null,null,null,null,null,null,null,null,""]
[null,null,null,null,null,null,null,null,null,""]
[null,null,null,null,null,null,null,null,null,""]
[null,null,null,null,null,null,null,null,null,""]
[null,null,null,null,null,null,null,null,null,""]
[null,null,null,null,null,null,null,null,null,""]
[null,null,null,null,null,null,null,null,null,""]
[null,null,null,null,null,null,null,null,null,""]
[null,null,null,null,null,null,null,null,null,""]
[null,null,null,null,null,null,null,null,null,""]
[null,null,null,null,null,null,null,null,null,""]
[null,null,null,null,null,null,null,null,null,""]
[null,null,null,null,null,null,null,null,null,""]
[null,null,null,null,null,null,null,null,null,""]
[null,null,null,null,null,null,null,null,null,""]
[null,null,null,null,null,null,null,null,null,""]
[null,null,null,null,null,null,null,null,null,""]
[null,null,null,null,null,null,null,null,null,""]
[null,null,null,null,null,null,null,null,null,""]
[null,null,null,null,null,null,null,null,null,""]
[null,null,null,null,null,null,null,null,null,""]
[null,null,null,null,null,null,null,null,null,""]
[null,null,null,null,null,null,null,null,null,""]
[null,null,null,null,null,null,null,null,null,""]
[null,null,null,null,null,null,null,null,null,""]
[null,null,null,null,null,null,null,null,null,""]
[null,null,null,null,null,null,null,null,null,""]
[null,null,null,null,null,null,null,null,null,""]
[null,null,null,null,null,null,null,null,null,""]
[null,null,null,null,null,null,null,null,null,""]
[null,null,null,null,null,null,null,null,null,""]
[null,null,null,null,null,null,null,null,null,""]
[null,null,null,null,null,null,null,null,null,""]
[null,null,null,null,null,null,null,null,null,""]
[null,null,null,null,null,null,null,null,null,""]
[null,null,null,null,null,null,null,null,null,{"$f":"IF(ISBLANK(E139),\"\",E139)","v":""}]
[null,null,null,null,null,null,null,null,null,""]
[null,null,null,null,null,null,null,null,null,""]
[null,null,null,null,null,null,null,null,null,""]
[null,null,null,null,null,null,null,null,null,""]
[null,null,null,null,null,null,null,null,null,""]
[null,null,null,null,null,null,null,null,null,""]
[null,null,null,null,null,null,null,null,null,""]
[null,null,null,null,null,null,null,null,null,""]
[null,null,null,null,null,null,null,null,null,""]
[null,null,null,null,null,null,null,null,null,""]
[null,null,null,null,null,null,null,null,null,""]
[null,null,null,null,null,null,null,null,null,""]
[null,null,null,null,null,null,null,null,null,""]
[null,null,null,null,null,null,null,null,null,""]
[null,null,null,null,null,null,null,null,null,""]
[null,null,null,null,null,null,null,null,null,""]
[null,null,null,null,null,null,null,null,null,""]
[null,null,null,null,null,null,null,null,null,""]
[null,null,null,null,null,null,null,null,null,""]
[null,null,null,null,null,null,null,null,null,""]
[null,null,null,null,null,null,null,null,null,""]
[null,null,null,null,null,null,null,null,null,""]
[null,null,null,null,null,null,null,null,null,""]
[null,null,null,null,null,null,null,null,null,""]
[null,null,null,null,null,null,null,null,null,""]
[null,null,null,null,null,null,null,null,null,""]
[null,null,null,null,null,null,null,null,null,""]
[null,null,null,null,null,null,null,null,null,""]
[null,null,null,null,null,null,null,null,null,""]
[null,null,null,null,null,null,null,null,null,""]
[null,null,null,null,null,null,null,null,null,""]
[null,null,null,null,null,null,null,null,null,""]
[null,null,null,null,null,null,null,null,null,""]
[null,null,null,null,null,null,null,null,null,""]
[null,null,null,null,null,null,null,null,null,""]
[null,null,null,null,null,null,null,null,null,""]
[null,null,null,null,null,null,null,null,null,""]
[null,null,null,null,null,null,null,null,null,""]
[null,null,null,null,null,null,null,null,null,""]
[null,null,null,null,null,null,null,null,null,""]
[null,null,null,null,null,null,null,null,null,""]
[null,null,null,null,null,null,null,null,null,""]
[null,null,null,null,null,null,null,null,null,""]
[null,null,null,null,null,null,null,null,null,""]
[null,null,null,null,null,null,null,null,null,""]
[null,null,null,null,null,null,null,null,null,""]
[null,null,null,null,null,null,null,null,null,""]
[null,null,null,null,null,null,null,null,null,""]
[null,null,null,null,null,null,null,null,null,""]
[null,null,null,null,null,null,null,null,null,""]
[null,null,null,null,null,null,null,null,null,""]
[null,null,null,null,null,null,null,null,null,""]
[null,null,null,null,null,null,null,null,null,""]
[null,null,null,null,null,null,null,null,null,""]
[null,null,null,null,null,null,null,null,null,""]
[null,null,null,null,null,null,null,null,null,""]
[null,null,null,null,null,null,null,null,null,""]
[null,null,null,null,null,null,null,null,null,""]
[null,null,null,null,null,null,null,null,null,""]
[null,null,null,null,null,null,null,null,null,""]
[null,null,null,null,null,null,null,null,null,""]
[null,null,null,null,null,null,null,null,null,""]
[null,null,null,null,null,null,null,null,null,""]
[null,null,null,null,null,null,null,null,null,{"$f":"IF(ISBLANK(E203),\"\",E203)","v":""}]
[null,null,null,null,null,null,null,null,null,""]
[null,null,null,null,null,null,null,null,null,""]
[null,null,null,null,null,null,null,null,null,""]
[null,null,null,null,null,null,null,null,null,""]
[null,null,null,null,null,null,null,null,null,""]
[null,null,null,null,null,null,null,null,null,""]
[null,null,null,null,null,null,null,null,null,""]
[null,null,null,null,null,null,null,null,null,""]
[null,null,null,null,null,null,null,null,null,""]
[null,null,null,null,null,null,null,null,null,""]
[null,null,null,null,null,null,null,null,null,""]
[null,null,null,null,null,null,null,null,null,""]
[null,null,null,null,null,null,null,null,null,""]
[null,null,null,null,null,null,null,null,null,""]
[null,null,null,null,null,null,null,null,null,""]
[null,null,null,null,null,null,null,null,null,""]
[null,null,null,null,null,null,null,null,null,""]
[null,null,null,null,null,null,null,null,null,""]
[null,null,null,null,null,null,null,null,null,""]
[null,null,null,null,null,null,null,null,null,""]
[null,null,null,null,null,null,null,null,null,""]
[null,null,null,null,null,null,null,null,null,""]
[null,null,null,null,null,null,null,null,null,""]
[null,null,null,null,null,null,null,null,null,""]
[null,null,null,null,null,null,null,null,null,""]
[null,null,null,null,null,null,null,null,null,""]
[null,null,null,null,null,null,null,null,null,""]
[null,null,null,null,null,null,null,null,null,""]
[null,null,null,null,null,null,null,null,null,""]
[null,null,null,null,null,null,null,null,null,""]
[null,null,null,null,null,null,null,null,null,""]
[null,null,null,null,null,null,null,null,null,""]
[null,null,null,null,null,null,null,null,null,""]
[null,null,null,null,null,null,null,null,null,""]
[null,null,null,null,null,null,null,null,null,""]
[null,null,null,null,null,null,null,null,null,""]
[null,null,null,null,null,null,null,null,null,""]
[null,null,null,null,null,null,null,null,null,""]
[null,null,null,null,null,null,null,null,null,""]
[null,null,null,null,null,null,null,null,null,""]
[null,null,null,null,null,null,null,null,null,""]
[null,null,null,null,null,null,null,null,null,""]
[null,null,null,null,null,null,null,null,null,""]
[null,null,null,null,null,null,null,null,null,""]
[null,null,null,null,null,null,null,null,null,""]
[null,null,null,null,null,null,null,null,null,""]
[null,null,null,null,null,null,null,null,null,""]
[null,null,null,null,null,null,null,null,null,""]
[null,null,null,null,null,null,null,null,null,""]
[null,null,null,null,null,null,null,null,null,""]
[null,null,null,null,null,null,null,null,null,""]
[null,null,null,null,null,null,null,null,null,""]
[null,null,null,null,null,null,null,null,null,""]
[null,null,null,null,null,null,null,null,null,""]
[null,null,null,null,null,null,null,null,null,""]
[null,null,null,null,null,null,null,null,null,""]
[null,null,null,null,null,null,null,null,null,""]
[null,null,null,null,null,null,null,null,null,""]
[null,null,null,null,null,null,null,null,null,""]
[null,null,null,null,null,null,null,null,null,""]
[null,null,null,null,null,null,null,null,null,""]
[null,null,null,null,null,null,null,null,null,""]
[null,null,null,null,null,null,null,null,null,""]
[null,null,null,null,null,null,null,null,null,{"$f":"IF(ISBLANK(E267),\"\",E267)","v":""}]
[null,null,null,null,null,null,null,null,null,""]
[null,null,null,null,null,null,null,null,null,""]
[null,null,null,null,null,null,null,null,null,""]
[null,null,null,null,null,null,null,null,null,""]
[null,null,null,null,null,null,null,null,null,""]
[null,null,null,null,null,null,null,null,null,""]
[null,null,null,null,null,null,null,null,null,""]
[null,null,null,null,null,null,null,null,null,""]
[null,null,null,null,null,null,null,null,null,""]
[null,null,null,null,null,null,null,null,null,""]
[null,null,null,null,null,null,null,null,null,""]
[null,null,null,null,null,null,null,null,null,""]
[null,null,null,null,null,null,null,null,null,""]
[null,null,null,null,null,null,null,null,null,""]
[null,null,null,null,null,null,null,null,null,""]
[null,null,null,null,null,null,null,null,null,""]
[null,null,null,null,null,null,null,null,null,""]
[null,null,null,null,null,null,null,null,null,""]
[null,null,null,null,null,null,null,null,null,""]
[null,null,null,null,null,null,null,null,null,""]
[null,null,null,null,null,null,null,null,null,""]
[null,null,null,null,null,null,null,null,null,""]
[null,null,null,null,null,null,null,null,null,""]
[null,null,null,null,null,null,null,null,null,""]
[null,null,null,null,null,null,null,null,null,""]
[null,null,null,null,null,null,null,null,null,""]
[null,null,null,null,null,null,null,null,null,""]
[null,null,null,null,null,null,null,null,null,""]
[null,null,null,null,null,null,null,null,null,""]
[null,null,null,null,null,null,null,null,null,""]
[null,null,null,null,null,null,null,null,null,""]
[null,null,null,null,null,null,null,null,null,""]
[null,null,null,null,null,null,null,null,null,""]
[null,null,null,null,null,null,null,null,null,""]
[null,null,null,null,null,null,null,null,null,""]
[null,null,null,null,null,null,null,null,null,""]
[null,null,null,null,null,null,null,null,null,""]
[null,null,null,null,null,null,null,null,null,""]
[null,null,null,null,null,null,null,null,null,""]
[null,null,null,null,null,null,null,null,null,""]
[null,null,null,null,null,null,null,null,null,""]
[null,null,null,null,null,null,null,null,null,""]
[null,null,null,null,null,null,null,null,null,""]
[null,null,null,null,null,null,null,null,null,""]
[null,null,null,null,null,null,null,null,null,""]
[null,null,null,null,null,null,null,null,null,""]
[null,null,null,null,null,null,null,null,null,""]
[null,null,null,null,null,null,null,null,null,""]
[null,null,null,null,null,null,null,null,null,""]
[null,null,null,null,null,null,null,null,null,""]
[null,null,null,null,null,null,null,null,null,""]
[null,null,null,null,null,null,null,null,null,""]
[null,null,null,null,null,null,null,null,null,""]
[null,null,null,null,null,null,null,null,null,""]
[null,null,null,null,null,null,null,null,null,""]
[null,null,null,null,null,null,null,null,null,""]
[null,null,null,null,null,null,null,null,null,""]
[null,null,null,null,null,null,null,null,null,""]
[null,null,null,null,null,null,null,null,null,""]
[null,null,null,null,null,null,null,null,null,""]
[null,null,null,null,null,null,null,null,null,""]
[null,null,null,null,null,null,null,null,null,""]
[null,null,null,null,null,null,null,null,null,""]
[null,null,null,null,null,null,null,null,null,{"$f":"IF(ISBLANK(E331),\"\",E331)","v":""}]
[null,null,null,null,null,null,null,null,null,""]
[null,null,null,null,null,null,null,null,null,""]
[null,null,null,null,null,null,null,null,null,""]
[null,null,null,null,null,null,null,null,null,""]
[null,null,null,null,null,null,null,null,null,""]
[null,null,null,null,null,null,null,null,null,""]
[null,null,null,null,null,null,null,null,null,""]
[null,null,null,null,null,null,null,null,null,""]
[null,null,null,null,null,null,null,null,null,""]
[null,null,null,null,null,null,null,null,null,""]
[null,null,null,null,null,null,null,null,null,""]
[null,null,null,null,null,null,null,null,null,""]
[null,null,null,null,null,null,null,null,null,""]
[null,null,null,null,null,null,null,null,null,""]
[null,null,null,null,null,null,null,null,null,""]
[null,null,null,null,null,null,null,null,null,""]
[null,null,null,null,null,null,null,null,null,""]
[null,null,null,null,null,null,null,null,null,""]
[null,null,null,null,null,null,null,null,null,""]
[null,null,null,null,null,null,null,null,null,""]
[null,null,null,null,null,null,null,null,null,""]
[null,null,null,null,null,null,null,null,null,""]
[null,null,null,null,null,null,null,null,null,""]
[null,null,null,null,null,null,null,null,null,""]
[null,null,null,null,null,null,null,null,null,""]
[null,null,null,null,null,null,null,null,null,""]
[null,null,null,null,null,null,null,null,null,""]
[null,null,null,null,null,null,null,null,null,""]
[null,null,null,null,null,null,null,null,null,""]
[null,null,null,null,null,null,null,null,null,""]
[null,null,null,null,null,null,null,null,null,""]
[null,null,null,null,null,null,null,null,null,""]
[null,null,null,null,null,null,null,null,null,""]
[null,null,null,null,null,null,null,null,null,""]
[null,null,null,null,null,null,null,null,null,""]
[null,null,null,null,null,null,null,null,null,""]
[null,null,null,null,null,null,null,null,null,""]
[null,null,null,null,null,null,null,null,null,""]
[null,null,null,null,null,null,null,null,null,""]
[null,null,null,null,null,null,null,null,null,""]
[null,null,null,null,null,null,null,null,null,""]
[null,null,null,null,null,null,null,null,null,""]
[null,null,null,null,null,null,null,null,null,""]
[null,null,null,null,null,null,null,null,null,""]
[null,null,null,null,null,null,null,null,null,""]
[null,null,null,null,null,null,null,null,null,""]
[null,null,null,null,null,null,null,null,null,""]
[null,null,null,null,null,null,null,null,null,""]
[null,null,null,null,null,null,null,null,null,""]
[null,null,null,null,null,null,null,null,null,""]
[null,null,null,null,null,null,null,null,null,""]
[null,null,null,null,null,null,null,null,null,""]
[null,null,null,null,null,null,null,null,null,""]
[null,null,null,null,null,null,null,null,null,""]
[null,null,null,null,null,null,null,null,null,""]
[null,null,null,null,null,null,null,null,null,""]
[null,null,null,null,null,null,null,null,null,""]
[null,null,null,null,null,null,null,null,null,""]
[null,null,null,null,null,null,null,null,null,""]
[null,null,null,null,null,null,null,null,null,""]
[null,null,null,null,null,null,null,null,null,""]
[null,null,null,null,null,null,null,null,null,""]
[null,null,null,null,null,null,null,null,null,""]
[null,null,null,null,null,null,null,null,null,{"$f":"IF(ISBLANK(E395),\"\",E395)","v":""}]
[null,null,null,null,null,null,null,null,null,""]
[null,null,null,null,null,null,null,null,null,""]
[null,null,null,null,null,null,null,null,null,""]
[null,null,null,null,null,null,null,null,null,""]
[null,null,null,null,null,null,null,null,null,""]
[null,null,null,null,null,null,null,null,null,""]
[null,null,null,null,null,null,null,null,null,""]
[null,null,null,null,null,null,null,null,null,""]
[null,null,null,null,null,null,null,null,null,""]
[null,null,null,null,null,null,null,null,null,""]
[null,null,null,null,null,null,null,null,null,""]
[null,null,null,null,null,null,null,null,null,""]
[null,null,null,null,null,null,null,null,null,""]
[null,null,null,null,null,null,null,null,null,""]
[null,null,null,null,null,null,null,null,null,""]
[null,null,null,null,null,null,null,null,null,""]
[null,null,null,null,null,null,null,null,null,""]
[null,null,null,null,null,null,null,null,null,""]
[null,null,null,null,null,null,null,null,null,""]
[null,null,null,null,null,null,null,null,null,""]
[null,null,null,null,null,null,null,null,null,""]
[null,null,null,null,null,null,null,null,null,""]
[null,null,null,null,null,null,null,null,null,""]
[null,null,null,null,null,null,null,null,null,""]
[null,null,null,null,null,null,null,null,null,""]
[null,null,null,null,null,null,null,null,null,""]
[null,null,null,null,null,null,null,null,null,""]
[null,null,null,null,null,null,null,null,null,""]
[null,null,null,null,null,null,null,null,null,""]
[null,null,null,null,null,null,null,null,null,""]
[null,null,null,null,null,null,null,null,null,""]
[null,null,null,null,null,null,null,null,null,""]
[null,null,null,null,null,null,null,null,null,""]
[null,null,null,null,null,null,null,null,null,""]
[null,null,null,null,null,null,null,null,null,""]
[null,null,null,null,null,null,null,null,null,""]
[null,null,null,null,null,null,null,null,null,""]
[null,null,null,null,null,null,null,null,null,""]
[null,null,null,null,null,null,null,null,null,""]
[null,null,null,null,null,null,null,null,null,""]
[null,null,null,null,null,null,null,null,null,""]
[null,null,null,null,null,null,null,null,null,""]
[null,null,null,null,null,null,null,null,null,""]
[null,null,null,null,null,null,null,null,null,""]
[null,null,null,null,null,null,null,null,null,""]
[null,null,null,null,null,null,null,null,null,""]
[null,null,null,null,null,null,null,null,null,""]
[null,null,null,null,null,null,null,null,null,""]
[null,null,null,null,null,null,null,null,null,""]
[null,null,null,null,null,null,null,null,null,""]
[null,null,null,null,null,null,null,null,null,""]
[null,null,null,null,null,null,null,null,null,""]
[null,null,null,null,null,null,null,null,null,""]
[null,null,null,null,null,null,null,null,null,""]
[null,null,null,null,null,null,null,null,null,""]
[null,null,null,null,null,null,null,null,null,""]
[null,null,null,null,null,null,null,null,null,""]
[null,null,null,null,null,null,null,null,null,""]
[null,null,null,null,null,null,null,null,null,""]
[null,null,null,null,null,null,null,null,null,""]
[null,null,null,null,null,null,null,null,null,""]
[null,null,null,null,null,null,null,null,null,""]
[null,null,null,null,null,null,null,null,null,""]
[null,null,null,null,null,null,null,null,null,{"$f":"IF(ISBLANK(E459),\"\",E459)","v":""}]
[null,null,null,null,null,null,null,null,null,""]
[null,null,null,null,null,null,null,null,null,""]
[null,null,null,null,null,null,null,null,null,""]
[null,null,null,null,null,null,null,null,null,""]
[null,null,null,null,null,null,null,null,null,""]
[null,null,null,null,null,null,null,null,null,""]
[null,null,null,null,null,null,null,null,null,""]
[null,null,null,null,null,null,null,null,null,""]
[null,null,null,null,null,null,null,null,null,""]
[null,null,null,null,null,null,null,null,null,""]
[null,null,null,null,null,null,null,null,null,""]
[null,null,null,null,null,null,null,null,null,""]
[null,null,null,null,null,null,null,null,null,""]
[null,null,null,null,null,null,null,null,null,""]
[null,null,null,null,null,null,null,null,null,""]
[null,null,null,null,null,null,null,null,null,""]
[null,null,null,null,null,null,null,null,null,""]
[null,null,null,null,null,null,null,null,null,""]
[null,null,null,null,null,null,null,null,null,""]
[null,null,null,null,null,null,null,null,null,""]
[null,null,null,null,null,null,null,null,null,""]
[null,null,null,null,null,null,null,null,null,""]
[null,null,null,null,null,null,null,null,null,""]
[null,null,null,null,null,null,null,null,null,""]
[null,null,null,null,null,null,null,null,null,""]
[null,null,null,null,null,null,null,null,null,""]
[null,null,null,null,null,null,null,null,null,""]
[null,null,null,null,null,null,null,null,null,""]
[null,null,null,null,null,null,null,null,null,""]
[null,null,null,null,null,null,null,null,null,""]
[null,null,null,null,null,null,null,null,null,""]
[null,null,null,null,null,null,null,null,null,""]
[null,null,null,null,null,null,null,null,null,""]
[null,null,null,null,null,null,null,null,null,""]
[null,null,null,null,null,null,null,null,null,""]
[null,null,null,null,null,null,null,null,null,""]
[null,null,null,null,null,null,null,null,null,""]
[null,null,null,null,null,null,null,null,null,""]
[null,null,null,null,null,null,null,null,null,""]
[null,null,null,null,null,null,null,null,null,""]
[null,null,null,null,null,null,null,null,null,""]
[null,null,null,null,null,null,null,null,null,""]
[null,null,null,null,null,null,null,null,null,""]
[null,null,null,null,null,null,null,null,null,""]
[null,null,null,null,null,null,null,null,null,""]
[null,null,null,null,null,null,null,null,null,""]
[null,null,null,null,null,null,null,null,null,""]
[null,null,null,null,null,null,null,null,null,""]
[null,null,null,null,null,null,null,null,null,""]
[null,null,null,null,null,null,null,null,null,""]
[null,null,null,null,null,null,null,null,null,""]
[null,null,null,null,null,null,null,null,null,""]
[null,null,null,null,null,null,null,null,null,""]
[null,null,null,null,null,null,null,null,null,""]
[null,null,null,null,null,null,null,null,null,""]
[null,null,null,null,null,null,null,null,null,""]
[null,null,null,null,null,null,null,null,null,""]
[null,null,null,null,null,null,null,null,null,""]
[null,null,null,null,null,null,null,null,null,""]
[null,null,null,null,null,null,null,null,null,""]
[null,null,null,null,null,null,null,null,null,""]
[null,null,null,null,null,null,null,null,null,""]
[null,null,null,null,null,null,null,null,null,""]
[null,null,null,null,null,null,null,null,null,{"$f":"IF(ISBLANK(E523),\"\",E523)","v":""}]
[null,null,null,null,null,null,null,null,null,""]
[null,null,null,null,null,null,null,null,null,""]
[null,null,null,null,null,null,null,null,null,""]
[null,null,null,null,null,null,null,null,null,""]
[null,null,null,null,null,null,null,null,null,""]
[null,null,null,null,null,null,null,null,null,""]
[null,null,null,null,null,null,null,null,null,""]
[null,null,null,null,null,null,null,null,null,""]
[null,null,null,null,null,null,null,null,null,""]
[null,null,null,null,null,null,null,null,null,""]
[null,null,null,null,null,null,null,null,null,""]
[null,null,null,null,null,null,null,null,null,""]
[null,null,null,null,null,null,null,null,null,""]
[null,null,null,null,null,null,null,null,null,""]
[null,null,null,null,null,null,null,null,null,""]
[null,null,null,null,null,null,null,null,null,""]
[null,null,null,null,null,null,null,null,null,""]
[null,null,null,null,null,null,null,null,null,""]
[null,null,null,null,null,null,null,null,null,""]
[null,null,null,null,null,null,null,null,null,""]
[null,null,null,null,null,null,null,null,null,""]
[null,null,null,null,null,null,null,null,null,""]
[null,null,null,null,null,null,null,null,null,""]
[null,null,null,null,null,null,null,null,null,""]
[null,null,null,null,null,null,null,null,null,""]
[null,null,null,null,null,null,null,null,null,""]
[null,null,null,null,null,null,null,null,null,""]
[null,null,null,null,null,null,null,null,null,""]
[null,null,null,null,null,null,null,null,null,""]
[null,null,null,null,null,null,null,null,null,""]
[null,null,null,null,null,null,null,null,null,""]
[null,null,null,null,null,null,null,null,null,""]
[null,null,null,null,null,null,null,null,null,""]
[null,null,null,null,null,null,null,null,null,""]
[null,null,null,null,null,null,null,null,null,""]
[null,null,null,null,null,null,null,null,null,""]
[null,null,null,null,null,null,null,null,null,""]
[null,null,null,null,null,null,null,null,null,""]
[null,null,null,null,null,null,null,null,null,""]
[null,null,null,null,null,null,null,null,null,""]
[null,null,null,null,null,null,null,null,null,""]
[null,null,null,null,null,null,null,null,null,""]
[null,null,null,null,null,null,null,null,null,""]
[null,null,null,null,null,null,null,null,null,""]
[null,null,null,null,null,null,null,null,null,""]
[null,null,null,null,null,null,null,null,null,""]
[null,null,null,null,null,null,null,null,null,""]
[null,null,null,null,null,null,null,null,null,""]
[null,null,null,null,null,null,null,null,null,""]
[null,null,null,null,null,null,null,null,null,""]
[null,null,null,null,null,null,null,null,null,""]
[null,null,null,null,null,null,null,null,null,""]
[null,null,null,null,null,null,null,null,null,""]
[null,null,null,null,null,null,null,null,null,""]
[null,null,null,null,null,null,null,null,null,""]
[null,null,null,null,null,null,null,null,null,""]
[null,null,null,null,null,null,null,null,null,""]
[null,null,null,null,null,null,null,null,null,""]
[null,null,null,null,null,null,null,null,null,""]
[null,null,null,null,null,null,null,null,null,""]
[null,null,null,null,null,null,null,null,null,""]
[null,null,null,null,null,null,null,null,null,""]
[null,null,null,null,null,null,null,null,null,""]
[null,null,null,null,null,null,null,null,null,{"$f":"IF(ISBLANK(E587),\"\",E587)","v":""}]
[null,null,null,null,null,null,null,null,null,""]
[null,null,null,null,null,null,null,null,null,""]
[null,null,null,null,null,null,null,null,null,""]
[null,null,null,null,null,null,null,null,null,""]
[null,null,null,null,null,null,null,null,null,""]
[null,null,null,null,null,null,null,null,null,""]
[null,null,null,null,null,null,null,null,null,""]
[null,null,null,null,null,null,null,null,null,""]
[null,null,null,null,null,null,null,null,null,""]
[null,null,null,null,null,null,null,null,null,""]
[null,null,null,null,null,null,null,null,null,""]
[null,null,null,null,null,null,null,null,null,""]
[null,null,null,null,null,null,null,null,null,""]
[null,null,null,null,null,null,null,null,null,""]
[null,null,null,null,null,null,null,null,null,""]
[null,null,null,null,null,null,null,null,null,""]
[null,null,null,null,null,null,null,null,null,""]
[null,null,null,null,null,null,null,null,null,""]
[null,null,null,null,null,null,null,null,null,""]
[null,null,null,null,null,null,null,null,null,""]
[null,null,null,null,null,null,null,null,null,""]
[null,null,null,null,null,null,null,null,null,""]
[null,null,null,null,null,null,null,null,null,""]
[null,null,null,null,null,null,null,null,null,""]
[null,null,null,null,null,null,null,null,null,""]
[null,null,null,null,null,null,null,null,null,""]
[null,null,null,null,null,null,null,null,null,""]
[null,null,null,null,null,null,null,null,null,""]
[null,null,null,null,null,null,null,null,null,""]
[null,null,null,null,null,null,null,null,null,""]
[null,null,null,null,null,null,null,null,null,""]
[null,null,null,null,null,null,null,null,null,""]
[null,null,null,null,null,null,null,null,null,""]
[null,null,null,null,null,null,null,null,null,""]
[null,null,null,null,null,null,null,null,null,""]
[null,null,null,null,null,null,null,null,null,""]
[null,null,null,null,null,null,null,null,null,""]
[null,null,null,null,null,null,null,null,null,""]
[null,null,null,null,null,null,null,null,null,""]
[null,null,null,null,null,null,null,null,null,""]
[null,null,null,null,null,null,null,null,null,""]
[null,null,null,null,null,null,null,null,null,""]
[null,null,null,null,null,null,null,null,null,""]
[null,null,null,null,null,null,null,null,null,""]
[null,null,null,null,null,null,null,null,null,""]
[null,null,null,null,null,null,null,null,null,""]
[null,null,null,null,null,null,null,null,null,""]
[null,null,null,null,null,null,null,null,null,""]
[null,null,null,null,null,null,null,null,null,""]
[null,null,null,null,null,null,null,null,null,""]
[null,null,null,null,null,null,null,null,null,""]
[null,null,null,null,null,null,null,null,null,""]
[null,null,null,null,null,null,null,null,null,""]
[null,null,null,null,null,null,null,null,null,""]
[null,null,null,null,null,null,null,null,null,""]
[null,null,null,null,null,null,null,null,null,""]
[null,null,null,null,null,null,null,null,null,""]
[null,null,null,null,null,null,null,null,null,""]
[null,null,null,null,null,null,null,null,null,""]
[null,null,null,null,null,null,null,null,null,""]
[null,null,null,null,null,null,null,null,null,""]
[null,null,null,null,null,null,null,null,null,""]
[null,null,null,null,null,null,null,null,null,""]
[null,null,null,null,null,null,null,null,null,{"$f":"IF(ISBLANK(E651),\"\",E651)","v":""}]
[null,null,null,null,null,null,null,null,null,""]
[null,null,null,null,null,null,null,null,null,""]
[null,null,null,null,null,null,null,null,null,""]
[null,null,null,null,null,null,null,null,null,""]
[null,null,null,null,null,null,null,null,null,""]
[null,null,null,null,null,null,null,null,null,""]
[null,null,null,null,null,null,null,null,null,""]
[null,null,null,null,null,null,null,null,null,""]
[null,null,null,null,null,null,null,null,null,""]
[null,null,null,null,null,null,null,null,null,""]
[null,null,null,null,null,null,null,null,null,""]
[null,null,null,null,null,null,null,null,null,""]
[null,null,null,null,null,null,null,null,null,""]
[null,null,null,null,null,null,null,null,null,""]
[null,null,null,null,null,null,null,null,null,""]
[null,null,null,null,null,null,null,null,null,""]
[null,null,null,null,null,null,null,null,null,""]
[null,null,null,null,null,null,null,null,null,""]
[null,null,null,null,null,null,null,null,null,""]
[null,null,null,null,null,null,null,null,null,""]
[null,null,null,null,null,null,null,null,null,""]
[null,null,null,null,null,null,null,null,null,""]
[null,null,null,null,null,null,null,null,null,""]
[null,null,null,null,null,null,null,null,null,""]
[null,null,null,null,null,null,null,null,null,""]
[null,null,null,null,null,null,null,null,null,""]
[null,null,null,null,null,null,null,null,null,""]
[null,null,null,null,null,null,null,null,null,""]
[null,null,null,null,null,null,null,null,null,""]
[null,null,null,null,null,null,null,null,null,""]
[null,null,null,null,null,null,null,null,null,""]
[null,null,null,null,null,null,null,null,null,""]
[null,null,null,null,null,null,null,null,null,""]
[null,null,null,null,null,null,null,null,null,""]
[null,null,null,null,null,null,null,null,null,""]
[null,null,null,null,null,null,null,null,null,""]
[null,null,null,null,null,null,null,null,null,""]
[null,null,null,null,null,null,null,null,null,""]
[null,null,null,null,null,null,null,null,null,""]
[null,null,null,null,null,null,null,null,null,""]
[null,null,null,null,null,null,null,null,null,""]
[null,null,null,null,null,null,null,null,null,""]
[null,null,null,null,null,null,null,null,null,""]
[null,null,null,null,null,null,null,null,null,""]
[null,null,null,null,null,null,null,null,null,""]
[null,null,null,null,null,null,null,null,null,""]
[null,null,null,null,null,null,null,null,null,""]
[null,null,null,null,null,null,null,null,null,""]
[null,null,null,null,null,null,null,null,null,""]
[null,null,null,null,null,null,null,null,null,""]
[null,null,null,null,null,null,null,null,null,""]
[null,null,null,null,null,null,null,null,null,""]
[null,null,null,null,null,null,null,null,null,""]
[null,null,null,null,null,null,null,null,null,""]
[null,null,null,null,null,null,null,null,null,""]
[null,null,null,null,null,null,null,null,null,""]
[null,null,null,null,null,null,null,null,null,""]
[null,null,null,null,null,null,null,null,null,""]
[null,null,null,null,null,null,null,null,null,""]
[null,null,null,null,null,null,null,null,null,""]
[null,null,null,null,null,null,null,null,null,""]
[null,null,null,null,null,null,null,null,null,""]
[null,null,null,null,null,null,null,null,null,""]
[null,null,null,null,null,null,null,null,null,{"$f":"IF(ISBLANK(E715),\"\",E715)","v":""}]
[null,null,null,null,null,null,null,null,null,""]
[null,null,null,null,null,null,null,null,null,""]
[null,null,null,null,null,null,null,null,null,""]
[null,null,null,null,null,null,null,null,null,""]
[null,null,null,null,null,null,null,null,null,""]
[null,null,null,null,null,null,null,null,null,""]
[null,null,null,null,null,null,null,null,null,""]
[null,null,null,null,null,null,null,null,null,""]
[null,null,null,null,null,null,null,null,null,""]
[null,null,null,null,null,null,null,null,null,""]
[null,null,null,null,null,null,null,null,null,""]
[null,null,null,null,null,null,null,null,null,""]
[null,null,null,null,null,null,null,null,null,""]
[null,null,null,null,null,null,null,null,null,""]
[null,null,null,null,null,null,null,null,null,""]
[null,null,null,null,null,null,null,null,null,""]
[null,null,null,null,null,null,null,null,null,""]
[null,null,null,null,null,null,null,null,null,""]
[null,null,null,null,null,null,null,null,null,""]
[null,null,null,null,null,null,null,null,null,""]
[null,null,null,null,null,null,null,null,null,""]
[null,null,null,null,null,null,null,null,null,""]
[null,null,null,null,null,null,null,null,null,""]
[null,null,null,null,null,null,null,null,null,""]
[null,null,null,null,null,null,null,null,null,""]
[null,null,null,null,null,null,null,null,null,""]
[null,null,null,null,null,null,null,null,null,""]
[null,null,null,null,null,null,null,null,null,""]
[null,null,null,null,null,null,null,null,null,""]
[null,null,null,null,null,null,null,null,null,""]
[null,null,null,null,null,null,null,null,null,""]
[null,null,null,null,null,null,null,null,null,""]
[null,null,null,null,null,null,null,null,null,""]
[null,null,null,null,null,null,null,null,null,""]
[null,null,null,null,null,null,null,null,null,""]
[null,null,null,null,null,null,null,null,null,""]
[null,null,null,null,null,null,null,null,null,""]
[null,null,null,null,null,null,null,null,null,""]
[null,null,null,null,null,null,null,null,null,""]
[null,null,null,null,null,null,null,null,null,""]
[null,null,null,null,null,null,null,null,null,""]
[null,null,null,null,null,null,null,null,null,""]
[null,null,null,null,null,null,null,null,null,""]
[null,null,null,null,null,null,null,null,null,""]
[null,null,null,null,null,null,null,null,null,""]
[null,null,null,null,null,null,null,null,null,""]
[null,null,null,null,null,null,null,null,null,""]
[null,null,null,null,null,null,null,null,null,""]
[null,null,null,null,null,null,null,null,null,""]
[null,null,null,null,null,null,null,null,null,""]
[null,null,null,null,null,null,null,null,null,""]
[null,null,null,null,null,null,null,null,null,""]
[null,null,null,null,null,null,null,null,null,""]
[null,null,null,null,null,null,null,null,null,""]
[null,null,null,null,null,null,null,null,null,""]
[null,null,null,null,null,null,null,null,null,""]
[null,null,null,null,null,null,null,null,null,""]
[null,null,null,null,null,null,null,null,null,""]
[null,null,null,null,null,null,null,null,null,""]
[null,null,null,null,null,null,null,null,null,""]
[null,null,null,null,null,null,null,null,null,""]
[null,null,null,null,null,null,null,null,null,""]
[null,null,null,null,null,null,null,null,null,""]
[null,null,null,null,null,null,null,null,null,{"$f":"IF(ISBLANK(E779),\"\",E779)","v":""}]
[null,null,null,null,null,null,null,null,null,""]
[null,null,null,null,null,null,null,null,null,""]
[null,null,null,null,null,null,null,null,null,""]
[null,null,null,null,null,null,null,null,null,""]
[null,null,null,null,null,null,null,null,null,""]
[null,null,null,null,null,null,null,null,null,""]
[null,null,null,null,null,null,null,null,null,""]
[null,null,null,null,null,null,null,null,null,""]
[null,null,null,null,null,null,null,null,null,""]
[null,null,null,null,null,null,null,null,null,""]
[null,null,null,null,null,null,null,null,null,""]
[null,null,null,null,null,null,null,null,null,""]
[null,null,null,null,null,null,null,null,null,""]
[null,null,null,null,null,null,null,null,null,""]
[null,null,null,null,null,null,null,null,null,""]
[null,null,null,null,null,null,null,null,null,""]
[null,null,null,null,null,null,null,null,null,""]
[null,null,null,null,null,null,null,null,null,""]
[null,null,null,null,null,null,null,null,null,""]
[null,null,null,null,null,null,null,null,null,""]
[null,null,null,null,null,null,null,null,null,""]
[null,null,null,null,null,null,null,null,null,""]
[null,null,null,null,null,null,null,null,null,""]
[null,null,null,null,null,null,null,null,null,""]
[null,null,null,null,null,null,null,null,null,""]
[null,null,null,null,null,null,null,null,null,""]
[null,null,null,null,null,null,null,null,null,""]
[null,null,null,null,null,null,null,null,null,""]
[null,null,null,null,null,null,null,null,null,""]
[null,null,null,null,null,null,null,null,null,""]
[null,null,null,null,null,null,null,null,null,""]
[null,null,null,null,null,null,null,null,null,""]
[null,null,null,null,null,null,null,null,null,""]
[null,null,null,null,null,null,null,null,null,""]
[null,null,null,null,null,null,null,null,null,""]
[null,null,null,null,null,null,null,null,null,""]
[null,null,null,null,null,null,null,null,null,""]
[null,null,null,null,null,null,null,null,null,""]
[null,null,null,null,null,null,null,null,null,""]
[null,null,null,null,null,null,null,null,null,""]
[null,null,null,null,null,null,null,null,null,""]
[null,null,null,null,null,null,null,null,null,""]
[null,null,null,null,null,null,null,null,null,""]
[null,null,null,null,null,null,null,null,null,""]
[null,null,null,null,null,null,null,null,null,""]
[null,null,null,null,null,null,null,null,null,""]
[null,null,null,null,null,null,null,null,null,""]
[null,null,null,null,null,null,null,null,null,""]
[null,null,null,null,null,null,null,null,null,""]
[null,null,null,null,null,null,null,null,null,""]
[null,null,null,null,null,null,null,null,null,""]
[null,null,null,null,null,null,null,null,null,""]
[null,null,null,null,null,null,null,null,null,""]
[null,null,null,null,null,null,null,null,null,""]
[null,null,null,null,null,null,null,null,null,""]
[null,null,null,null,null,null,null,null,null,""]
[null,null,null,null,null,null,null,null,null,""]
[null,null,null,null,null,null,null,null,null,""]
[null,null,null,null,null,null,null,null,null,""]
[null,null,null,null,null,null,null,null,null,""]
[null,null,null,null,null,null,null,null,null,""]
[null,null,null,null,null,null,null,null,null,""]
[null,null,null,null,null,null,null,null,null,""]
[null,null,null,null,null,null,null,null,null,{"$f":"IF(ISBLANK(E843),\"\",E843)","v":""}]
[null,null,null,null,null,null,null,null,null,""]
[null,null,null,null,null,null,null,null,null,""]
[null,null,null,null,null,null,null,null,null,""]
[null,null,null,null,null,null,null,null,null,""]
[null,null,null,null,null,null,null,null,null,""]
[null,null,null,null,null,null,null,null,null,""]
[null,null,null,null,null,null,null,null,null,""]
[null,null,null,null,null,null,null,null,null,""]
[null,null,null,null,null,null,null,null,null,""]
[null,null,null,null,null,null,null,null,null,""]
[null,null,null,null,null,null,null,null,null,""]
[null,null,null,null,null,null,null,null,null,""]
[null,null,null,null,null,null,null,null,null,""]
[null,null,null,null,null,null,null,null,null,""]
[null,null,null,null,null,null,null,null,null,""]
[null,null,null,null,null,null,null,null,null,""]
[null,null,null,null,null,null,null,null,null,""]
[null,null,null,null,null,null,null,null,null,""]
[null,null,null,null,null,null,null,null,null,""]
[null,null,null,null,null,null,null,null,null,""]
[null,null,null,null,null,null,null,null,null,""]
[null,null,null,null,null,null,null,null,null,""]
[null,null,null,null,null,null,null,null,null,""]
[null,null,null,null,null,null,null,null,null,""]
[null,null,null,null,null,null,null,null,null,""]
[null,null,null,null,null,null,null,null,null,""]
[null,null,null,null,null,null,null,null,null,""]
[null,null,null,null,null,null,null,null,null,""]
[null,null,null,null,null,null,null,null,null,""]
[null,null,null,null,null,null,null,null,null,""]
[null,null,null,null,null,null,null,null,null,""]
[null,null,null,null,null,null,null,null,null,""]
[null,null,null,null,null,null,null,null,null,""]
[null,null,null,null,null,null,null,null,null,""]
[null,null,null,null,null,null,null,null,null,""]
[null,null,null,null,null,null,null,null,null,""]
[null,null,null,null,null,null,null,null,null,""]
[null,null,null,null,null,null,null,null,null,""]
[null,null,null,null,null,null,null,null,null,""]
[null,null,null,null,null,null,null,null,null,""]
[null,null,null,null,null,null,null,null,null,""]
[null,null,null,null,null,null,null,null,null,""]
[null,null,null,null,null,null,null,null,null,""]
[null,null,null,null,null,null,null,null,null,""]
[null,null,null,null,null,null,null,null,null,""]
[null,null,null,null,null,null,null,null,null,""]
[null,null,null,null,null,null,null,null,null,""]
[null,null,null,null,null,null,null,null,null,""]
[null,null,null,null,null,null,null,null,null,""]
[null,null,null,null,null,null,null,null,null,""]
[null,null,null,null,null,null,null,null,null,""]
[null,null,null,null,null,null,null,null,null,""]
[null,null,null,null,null,null,null,null,null,""]
[null,null,null,null,null,null,null,null,null,""]
[null,null,null,null,null,null,null,null,null,""]
[null,null,null,null,null,null,null,null,null,""]
[null,null,null,null,null,null,null,null,null,""]
[null,null,null,null,null,null,null,null,null,""]
[null,null,null,null,null,null,null,null,null,""]
[null,null,null,null,null,null,null,null,null,""]
[null,null,null,null,null,null,null,null,null,""]
[null,null,null,null,null,null,null,null,null,""]
[null,null,null,null,null,null,null,null,null,""]
[null,null,null,null,null,null,null,null,null,{"$f":"IF(ISBLANK(E907),\"\",E907)","v":""}]
[null,null,null,null,null,null,null,null,null,""]
[null,null,null,null,null,null,null,null,null,""]
[null,null,null,null,null,null,null,null,null,""]
[null,null,null,null,null,null,null,null,null,""]
[null,null,null,null,null,null,null,null,null,""]
[null,null,null,null,null,null,null,null,null,""]
[null,null,null,null,null,null,null,null,null,""]
[null,null,null,null,null,null,null,null,null,""]
[null,null,null,null,null,null,null,null,null,""]
[null,null,null,null,null,null,null,null,null,""]
[null,null,null,null,null,null,null,null,null,""]
[null,null,null,null,null,null,null,null,null,""]
[null,null,null,null,null,null,null,null,null,""]
[null,null,null,null,null,null,null,null,null,""]
[null,null,null,null,null,null,null,null,null,""]
[null,null,null,null,null,null,null,null,null,""]
[null,null,null,null,null,null,null,null,null,""]
[null,null,null,null,null,null,null,null,null,""]
[null,null,null,null,null,null,null,null,null,""]
[null,null,null,null,null,null,null,null,null,""]
[null,null,null,null,null,null,null,null,null,""]
[null,null,null,null,null,null,null,null,null,""]
[null,null,null,null,null,null,null,null,null,""]
[null,null,null,null,null,null,null,null,null,""]
[null,null,null,null,null,null,null,null,null,""]
[null,null,null,null,null,null,null,null,null,""]
[null,null,null,null,null,null,null,null,null,""]
[null,null,null,null,null,null,null,null,null,""]
[null,null,null,null,null,null,null,null,null,""]
[null,null,null,null,null,null,null,null,null,""]
[null,null,null,null,null,null,null,null,null,""]
[null,null,null,null,null,null,null,null,null,""]
[null,null,null,null,null,null,null,null,null,""]
[null,null,null,null,null,null,null,null,null,""]
[null,null,null,null,null,null,null,null,null,""]
[null,null,null,null,null,null,null,null,null,""]
[null,null,null,null,null,null,null,null,null,""]
[null,null,null,null,null,null,null,null,null,""]
[null,null,null,null,null,null,null,null,null,""]
[null,null,null,null,null,null,null,null,null,""]
[null,null,null,null,null,null,null,null,null,""]
[null,null,null,null,null,null,null,null,null,""]
[null,null,null,null,null,null,null,null,null,""]
[null,null,null,null,null,null,null,null,null,""]
[null,null,null,null,null,null,null,null,null,""]
[null,null,null,null,null,null,null,null,null,""]
[null,null,null,null,null,null,null,null,null,""]
[null,null,null,null,null,null,null,null,null,""]
[null,null,null,null,null,null,null,null,null,""]
[null,null,null,null,null,null,null,null,null,""]
[null,null,null,null,null,null,null,null,null,""]
[null,null,null,null,null,null,null,null,null,""]
[null,null,null,null,null,null,null,null,null,""]
[null,null,null,null,null,null,null,null,null,""]
[null,null,null,null,null,null,null,null,null,""]
[null,null,null,null,null,null,null,null,null,""]
[null,null,null,null,null,null,null,null,null,""]
[null,null,null,null,null,null,null,null,null,""]
[null,null,null,null,null,null,null,null,null,""]
[null,null,null,null,null,null,null,null,null,""]
[null,null,null,null,null,null,null,null,null,""]
[null,null,null,null,null,null,null,null,null,""]
[null,null,null,null,null,null,null,null,null,""]
[null,null,null,null,null,null,null,null,null,{"$f":"IF(ISBLANK(E971),\"\",E971)","v":""}]
[null,null,null,null,null,null,null,null,null,""]
[null,null,null,null,null,null,null,null,null,""]
[null,null,null,null,null,null,null,null,null,""]
[null,null,null,null,null,null,null,null,null,""]
[null,null,null,null,null,null,null,null,null,""]
[null,null,null,null,null,null,null,null,null,""]
[null,null,null,null,null,null,null,null,null,""]
[null,null,null,null,null,null,null,null,null,""]
[null,null,null,null,null,null,null,null,null,""]
[null,null,null,null,null,null,null,null,null,""]
[null,null,null,null,null,null,null,null,null,""]
[null,null,null,null,null,null,null,null,null,""]
[null,null,null,null,null,null,null,null,null,""]
[null,null,null,null,null,null,null,null,null,""]
[null,null,null,null,null,null,null,null,null,""]
[null,null,null,null,null,null,null,null,null,""]
[null,null,null,null,null,null,null,null,null,""]
[null,null,null,null,null,null,null,null,null,""]
[null,null,null,null,null,null,null,null,null,""]
[null,null,null,null,null,null,null,null,null,""]
[null,null,null,null,null,null,null,null,null,""]
[null,null,null,null,null,null,null,null,null,""]
[null,null,null,null,null,null,null,null,null,""]
[null,null,null,null,null,null,null,null,null,""]
[null,null,null,null,null,null,null,null,null,""]
[null,null,null,null,null,null,null,null,null,""]
[null,null,null,null,null,null,null,null,null,""]
[null,null,null,null,null,null,null,null,null,""]
[null,null,null,null,null,null,null,null,null,""]
[null,null,null,null,null,null,null,null,null,""]
[null,null,null,null,null,null,null,null,null,""]
[null,null,null,null,null,null,null,null,null,""]
[null,null,null,null,null,null,null,null,null,""]
[null,null,null,null,null,null,null,null,null,""]
[null,null,null,null,null,null,null,null,null,""]
[null,null,null,null,null,null,null,null,null,""]
[null,null,null,null,null,null,null,null,null,""]
[null,null,null,null,null,null,null,null,null,""]
[null,null,null,null,null,null,null,null,null,""]
[null,null,null,null,null,null,null,null,null,""]
[null,null,null,null,null,null,null,null,null,""]
[null,null,null,null,null,null,null,null,null,""]
[null,null,null,null,null,null,null,null,null,""]
[null,null,null,null,null,null,null,null,null,""]
[null,null,null,null,null,null,null,null,null,""]
[null,null,null,null,null,null,null,null,null,""]
[null,null,null,null,null,null,null,null,null,""]
[null,null,null,null,null,null,null,null,null,""]
[null,null,null,null,null,null,null,null,null,""]
[null,null,null,null,null,null,null,null,null,""]
[null,null,null,null,null,null,null,null,null,""]
[null,null,null,null,null,null,null,null,null,""]
[null,null,null,null,null,null,null,null,null,""]
[null,null,null,null,null,null,null,null,null,""]
[null,null,null,null,null,null,null,null,null,""]
[null,null,null,null,null,null,null,null,null,""]
[null,null,null,null,null,null,null,null,null,""]
[null,null,null,null,null,null,null,null,null,""]
[null,null,null,null,null,null,null,null,null,""]
[null,null,null,null,null,null,null,null,null,""]
[null,null,null,null,null,null,null,null,null,""]
[null,null,null,null,null,null,null,null,null,""]
[null,null,null,null,null,null,null,null,null,""]
[null,null,null,null,null,null,null,null,null,{"$f":"IF(ISBLANK(E1035),\"\",E1035)","v":""}]
[null,null,null,null,null,null,null,null,null,""]
[null,null,null,null,null,null,null,null,null,""]
[null,null,null,null,null,null,null,null,null,""]
[null,null,null,null,null,null,null,null,null,""]
[null,null,null,null,null,null,null,null,null,""]
[null,null,null,null,null,null,null,null,null,""]
[null,null,null,null,null,null,null,null,null,""]
[null,null,null,null,null,null,null,null,null,""]
[null,null,null,null,null,null,null,null,null,""]
[null,null,null,null,null,null,null,null,null,""]
[null,null,null,null,null,null,null,null,null,""]
[null,null,null,null,null,null,null,null,null,""]
[null,null,null,null,null,null,null,null,null,""]
[null,null,null,null,null,null,null,null,null,""]
[null,null,null,null,null,null,null,null,null,""]
[null,null,null,null,null,null,null,null,null,""]
[null,null,null,null,null,null,null,null,null,""]
[null,null,null,null,null,null,null,null,null,""]
[null,null,null,null,null,null,null,null,null,""]
[null,null,null,null,null,null,null,null,null,""]
[null,null,null,null,null,null,null,null,null,""]
[null,null,null,null,null,null,null,null,null,""]
[null,null,null,null,null,null,null,null,null,""]
[null,null,null,null,null,null,null,null,null,""]
[null,null,null,null,null,null,null,null,null,""]
[null,null,null,null,null,null,null,null,null,""]
[null,null,null,null,null,null,null,null,null,""]
[null,null,null,null,null,null,null,null,null,""]
[null,null,null,null,null,null,null,null,null,""]
[null,null,null,null,null,null,null,null,null,""]
[null,null,null,null,null,null,null,null,null,""]
[null,null,null,null,null,null,null,null,null,""]
[null,null,null,null,null,null,null,null,null,""]
[null,null,null,null,null,null,null,null,null,""]
[null,null,null,null,null,null,null,null,null,""]
[null,null,null,null,null,null,null,null,null,""]
[null,null,null,null,null,null,null,null,null,""]
[null,null,null,null,null,null,null,null,null,""]
[null,null,null,null,null,null,null,null,null,""]
[null,null,null,null,null,null,null,null,null,""]
[null,null,null,null,null,null,null,null,null,""]
[null,null,null,null,null,null,null,null,null,""]
[null,null,null,null,null,null,null,null,null,""]
[null,null,null,null,null,null,null,null,null,""]
[null,null,null,null,null,null,null,null,null,""]
[null,null,null,null,null,null,null,null,null,""]
[null,null,null,null,null,null,null,null,null,""]
[null,null,null,null,null,null,null,null,null,""]
[null,null,null,null,null,null,null,null,null,""]
[null,null,null,null,null,null,null,null,null,""]
[null,null,null,null,null,null,null,null,null,""]
[null,null,null,null,null,null,null,null,null,""]
[null,null,null,null,null,null,null,null,null,""]
[null,null,null,null,null,null,null,null,null,""]
[null,null,null,null,null,null,null,null,null,""]
[null,null,null,null,null,null,null,null,null,""]
[null,null,null,null,null,null,null,null,null,""]
[null,null,null,null,null,null,null,null,null,""]
[null,null,null,null,null,null,null,null,null,""]
[null,null,null,null,null,null,null,null,null,""]
[null,null,null,null,null,null,null,null,null,""]
[null,null,null,null,null,null,null,null,null,""]
[null,null,null,null,null,null,null,null,null,""]
[null,null,null,null,null,null,null,null,null,{"$f":"IF(ISBLANK(E1099),\"\",E1099)","v":""}]
[null,null,null,null,null,null,null,null,null,""]
[null,null,null,null,null,null,null,null,null,""]
[null,null,null,null,null,null,null,null,null,""]
[null,null,null,null,null,null,null,null,null,""]
[null,null,null,null,null,null,null,null,null,""]
[null,null,null,null,null,null,null,null,null,""]
[null,null,null,null,null,null,null,null,null,""]
[null,null,null,null,null,null,null,null,null,""]
[null,null,null,null,null,null,null,null,null,""]
[null,null,null,null,null,null,null,null,null,""]
[null,null,null,null,null,null,null,null,null,""]
[null,null,null,null,null,null,null,null,null,""]
[null,null,null,null,null,null,null,null,null,""]
[null,null,null,null,null,null,null,null,null,""]
[null,null,null,null,null,null,null,null,null,""]
[null,null,null,null,null,null,null,null,null,""]
[null,null,null,null,null,null,null,null,null,""]
[null,null,null,null,null,null,null,null,null,""]
[null,null,null,null,null,null,null,null,null,""]
[null,null,null,null,null,null,null,null,null,""]
[null,null,null,null,null,null,null,null,null,""]
[null,null,null,null,null,null,null,null,null,""]
[null,null,null,null,null,null,null,null,null,""]
[null,null,null,null,null,null,null,null,null,""]
[null,null,null,null,null,null,null,null,null,""]
[null,null,null,null,null,null,null,null,null,""]
[null,null,null,null,null,null,null,null,null,""]
[null,null,null,null,null,null,null,null,null,""]
[null,null,null,null,null,null,null,null,null,""]
[null,null,null,null,null,null,null,null,null,""]
[null,null,null,null,null,null,null,null,null,""]
[null,null,null,null,null,null,null,null,null,""]
[null,null,null,null,null,null,null,null,null,""]
[null,null,null,null,null,null,null,null,null,""]
[null,null,null,null,null,null,null,null,null,""]
[null,null,null,null,null,null,null,null,null,""]
[null,null,null,null,null,null,null,null,null,""]
[null,null,null,null,null,null,null,null,null,""]
[null,null,null,null,null,null,null,null,null,""]
[null,null,null,null,null,null,null,null,null,""]
[null,null,null,null,null,null,null,null,null,""]
[null,null,null,null,null,null,null,null,null,""]
[null,null,null,null,null,null,null,null,null,""]
[null,null,null,null,null,null,null,null,null,""]
[null,null,null,null,null,null,null,null,null,""]
[null,null,null,null,null,null,null,null,null,""]
[null,null,null,null,null,null,null,null,null,""]
[null,null,null,null,null,null,null,null,null,""]
[null,null,null,null,null,null,null,null,null,""]
[null,null,null,null,null,null,null,null,null,""]
[null,null,null,null,null,null,null,null,null,""]
[null,null,null,null,null,null,null,null,null,""]
[null,null,null,null,null,null,null,null,null,""]
[null,null,null,null,null,null,null,null,null,""]
[null,null,null,null,null,null,null,null,null,""]
[null,null,null,null,null,null,null,null,null,""]
[null,null,null,null,null,null,null,null,null,""]
[null,null,null,null,null,null,null,null,null,""]
[null,null,null,null,null,null,null,null,null,""]
[null,null,null,null,null,null,null,null,null,""]
[null,null,null,null,null,null,null,null,null,""]
[null,null,null,null,null,null,null,null,null,""]
[null,null,null,null,null,null,null,null,null,""]
[null,null,null,null,null,null,null,null,null,{"$f":"IF(ISBLANK(E1163),\"\",E1163)","v":""}]
[null,null,null,null,null,null,null,null,null,""]
[null,null,null,null,null,null,null,null,null,""]
[null,null,null,null,null,null,null,null,null,""]
[null,null,null,null,null,null,null,null,null,""]
[null,null,null,null,null,null,null,null,null,""]
[null,null,null,null,null,null,null,null,null,""]
[null,null,null,null,null,null,null,null,null,""]
[null,null,null,null,null,null,null,null,null,""]
[null,null,null,null,null,null,null,null,null,""]
[null,null,null,null,null,null,null,null,null,""]
[null,null,null,null,null,null,null,null,null,""]
[null,null,null,null,null,null,null,null,null,""]
[null,null,null,null,null,null,null,null,null,""]
[null,null,null,null,null,null,null,null,null,""]
[null,null,null,null,null,null,null,null,null,""]
[null,null,null,null,null,null,null,null,null,""]
[null,null,null,null,null,null,null,null,null,""]
[null,null,null,null,null,null,null,null,null,""]
[null,null,null,null,null,null,null,null,null,""]
[null,null,null,null,null,null,null,null,null,""]
[null,null,null,null,null,null,null,null,null,""]
[null,null,null,null,null,null,null,null,null,""]
[null,null,null,null,null,null,null,null,null,""]
[null,null,null,null,null,null,null,null,null,""]
[null,null,null,null,null,null,null,null,null,""]
[null,null,null,null,null,null,null,null,null,""]
[null,null,null,null,null,null,null,null,null,""]
[null,null,null,null,null,null,null,null,null,""]
[null,null,null,null,null,null,null,null,null,""]
[null,null,null,null,null,null,null,null,null,""]
[null,null,null,null,null,null,null,null,null,""]
[null,null,null,null,null,null,null,null,null,""]
[null,null,null,null,null,null,null,null,null,""]
[null,null,null,null,null,null,null,null,null,""]
[null,null,null,null,null,null,null,null,null,""]
[null,null,null,null,null,null,null,null,null,""]
[null,null,null,null,null,null,null,null,null,""]
[null,null,null,null,null,null,null,null,null,""]
[null,null,null,null,null,null,null,null,null,""]
[null,null,null,null,null,null,null,null,null,""]
[null,null,null,null,null,null,null,null,null,""]
[null,null,null,null,null,null,null,null,null,""]
[null,null,null,null,null,null,null,null,null,""]
[null,null,null,null,null,null,null,null,null,""]
[null,null,null,null,null,null,null,null,null,""]
[null,null,null,null,null,null,null,null,null,""]
[null,null,null,null,null,null,null,null,null,""]
[null,null,null,null,null,null,null,null,null,""]
[null,null,null,null,null,null,null,null,null,""]
[null,null,null,null,null,null,null,null,null,""]
[null,null,null,null,null,null,null,null,null,""]
[null,null,null,null,null,null,null,null,null,""]
[null,null,null,null,null,null,null,null,null,""]
[null,null,null,null,null,null,null,null,null,""]
[null,null,null,null,null,null,null,null,null,""]
[null,null,null,null,null,null,null,null,null,""]
[null,null,null,null,null,null,null,null,null,""]
[null,null,null,null,null,null,null,null,null,""]
[null,null,null,null,null,null,null,null,null,""]
[null,null,null,null,null,null,null,null,null,""]
[null,null,null,null,null,null,null,null,null,""]
[null,null,null,null,null,null,null,null,null,""]
[null,null,null,null,null,null,null,null,null,""]
[null,null,null,null,null,null,null,null,null,{"$f":"IF(ISBLANK(E1227),\"\",E1227)","v":""}]
[null,null,null,null,null,null,null,null,null,""]
[null,null,null,null,null,null,null,null,null,""]
[null,null,null,null,null,null,null,null,null,""]
[null,null,null,null,null,null,null,null,null,""]
[null,null,null,null,null,null,null,null,null,""]
[null,null,null,null,null,null,null,null,null,""]
[null,null,null,null,null,null,null,null,null,""]
[null,null,null,null,null,null,null,null,null,""]
[null,null,null,null,null,null,null,null,null,""]
[null,null,null,null,null,null,null,null,null,""]
[null,null,null,null,null,null,null,null,null,""]
[null,null,null,null,null,null,null,null,null,""]
[null,null,null,null,null,null,null,null,null,""]
[null,null,null,null,null,null,null,null,null,""]
[null,null,null,null,null,null,null,null,null,""]
[null,null,null,null,null,null,null,null,null,""]
[null,null,null,null,null,null,null,null,null,""]
[null,null,null,null,null,null,null,null,null,""]
[null,null,null,null,null,null,null,null,null,""]
[null,null,null,null,null,null,null,null,null,""]
[null,null,null,null,null,null,null,null,null,""]
[null,null,null,null,null,null,null,null,null,""]
[null,null,null,null,null,null,null,null,null,""]
[null,null,null,null,null,null,null,null,null,""]
[null,null,null,null,null,null,null,null,null,""]
[null,null,null,null,null,null,null,null,null,""]
[null,null,null,null,null,null,null,null,null,""]
[null,null,null,null,null,null,null,null,null,""]
[null,null,null,null,null,null,null,null,null,""]
[null,null,null,null,null,null,null,null,null,""]
[null,null,null,null,null,null,null,null,null,""]
[null,null,null,null,null,null,null,null,null,""]
[null,null,null,null,null,null,null,null,null,""]
[null,null,null,null,null,null,null,null,null,""]
[null,null,null,null,null,null,null,null,null,""]
[null,null,null,null,null,null,null,null,null,""]
[null,null,null,null,null,null,null,null,null,""]
[null,null,null,null,null,null,null,null,null,""]
[null,null,null,null,null,null,null,null,null,""]
[null,null,null,null,null,null,null,null,null,""]
[null,null,null,null,null,null,null,null,null,""]
[null,null,null,null,null,null,null,null,null,""]
[null,null,null,null,null,null,null,null,null,""]
[null,null,null,null,null,null,null,null,null,""]
[null,null,null,null,null,null,null,null,null,""]
[null,null,null,null,null,null,null,null,null,""]
[null,null,null,null,null,null,null,null,null,""]
[null,null,null,null,null,null,null,null,null,""]
[null,null,null,null,null,null,null,null,null,""]
[null,null,null,null,null,null,null,null,null,""]
[null,null,null,null,null,null,null,null,null,""]
[null,null,null,null,null,null,null,null,null,""]
[null,null,null,null,null,null,null,null,null,""]
[null,null,null,null,null,null,null,null,null,""]
[null,null,null,null,null,null,null,null,null,""]
[null,null,null,null,null,null,null,null,null,""]
[null,null,null,null,null,null,null,null,null,""]
[null,null,null,null,null,null,null,null,null,""]
[null,null,null,null,null,null,null,null,null,""]
[null,null,null,null,null,null,null,null,null,""]
[null,null,null,null,null,null,null,null,null,""]
[null,null,null,null,null,null,null,null,null,""]
[null,null,null,null,null,null,null,null,null,""]
[null,null,null,null,null,null,null,null,null,{"$f":"IF(ISBLANK(E1291),\"\",E1291)","v":""}]
[null,null,null,null,null,null,null,null,null,""]
[null,null,null,null,null,null,null,null,null,""]
[null,null,null,null,null,null,null,null,null,""]
[null,null,null,null,null,null,null,null,null,""]
[null,null,null,null,null,null,null,null,null,""]
[null,null,null,null,null,null,null,null,null,""]
[null,null,null,null,null,null,null,null,null,""]
[null,null,null,null,null,null,null,null,null,""]
[null,null,null,null,null,null,null,null,null,""]
[null,null,null,null,null,null,null,null,null,""]
[null,null,null,null,null,null,null,null,null,""]
[null,null,null,null,null,null,null,null,null,""]
[null,null,null,null,null,null,null,null,null,""]
[null,null,null,null,null,null,null,null,null,""]
[null,null,null,null,null,null,null,null,null,""]
[null,null,null,null,null,null,null,null,null,""]
[null,null,null,null,null,null,null,null,null,""]
[null,null,null,null,null,null,null,null,null,""]
[null,null,null,null,null,null,null,null,null,""]
[null,null,null,null,null,null,null,null,null,""]
[null,null,null,null,null,null,null,null,null,""]
[null,null,null,null,null,null,null,null,null,""]
[null,null,null,null,null,null,null,null,null,""]
[null,null,null,null,null,null,null,null,null,""]
[null,null,null,null,null,null,null,null,null,""]
[null,null,null,null,null,null,null,null,null,""]
[null,null,null,null,null,null,null,null,null,""]
[null,null,null,null,null,null,null,null,null,""]
[null,null,null,null,null,null,null,null,null,""]
[null,null,null,null,null,null,null,null,null,""]
[null,null,null,null,null,null,null,null,null,""]
[null,null,null,null,null,null,null,null,null,""]
[null,null,null,null,null,null,null,null,null,""]
[null,null,null,null,null,null,null,null,null,""]
[null,null,null,null,null,null,null,null,null,""]
[null,null,null,null,null,null,null,null,null,""]
[null,null,null,null,null,null,null,null,null,""]
[null,null,null,null,null,null,null,null,null,""]
[null,null,null,null,null,null,null,null,null,""]
[null,null,null,null,null,null,null,null,null,""]
[null,null,null,null,null,null,null,null,null,""]
[null,null,null,null,null,null,null,null,null,""]
[null,null,null,null,null,null,null,null,null,""]
[null,null,null,null,null,null,null,null,null,""]
[null,null,null,null,null,null,null,null,null,""]
[null,null,null,null,null,null,null,null,null,""]
[null,null,null,null,null,null,null,null,null,""]
[null,null,null,null,null,null,null,null,null,""]
[null,null,null,null,null,null,null,null,null,""]
[null,null,null,null,null,null,null,null,null,""]
[null,null,null,null,null,null,null,null,null,""]
[null,null,null,null,null,null,null,null,null,""]
[null,null,null,null,null,null,null,null,null,""]
[null,null,null,null,null,null,null,null,null,""]
[null,null,null,null,null,null,null,null,null,""]
[null,null,null,null,null,null,null,null,null,""]
[null,null,null,null,null,null,null,null,null,""]
[null,null,null,null,null,null,null,null,null,""]
[null,null,null,null,null,null,null,null,null,""]
[null,null,null,null,null,null,null,null,null,""]
[null,null,null,null,null,null,null,null,null,""]
[null,null,null,null,null,null,null,null,null,""]
[null,null,null,null,null,null,null,null,null,""]
[null,null,null,null,null,null,null,null,null,{"$f":"IF(ISBLANK(E1355),\"\",E1355)","v":""}]
[null,null,null,null,null,null,null,null,null,""]
[null,null,null,null,null,null,null,null,null,""]
[null,null,null,null,null,null,null,null,null,""]
[null,null,null,null,null,null,null,null,null,""]
[null,null,null,null,null,null,null,null,null,""]
[null,null,null,null,null,null,null,null,null,""]
[null,null,null,null,null,null,null,null,null,""]
[null,null,null,null,null,null,null,null,null,""]
[null,null,null,null,null,null,null,null,null,""]
[null,null,null,null,null,null,null,null,null,""]
[null,null,null,null,null,null,null,null,null,""]
[null,null,null,null,null,null,null,null,null,""]
[null,null,null,null,null,null,null,null,null,""]
[null,null,null,null,null,null,null,null,null,""]
[null,null,null,null,null,null,null,null,null,""]
[null,null,null,null,null,null,null,null,null,""]
[null,null,null,null,null,null,null,null,null,""]
[null,null,null,null,null,null,null,null,null,""]
[null,null,null,null,null,null,null,null,null,""]
[null,null,null,null,null,null,null,null,null,""]
[null,null,null,null,null,null,null,null,null,""]
[null,null,null,null,null,null,null,null,null,""]
[null,null,null,null,null,null,null,null,null,""]
[null,null,null,null,null,null,null,null,null,""]
[null,null,null,null,null,null,null,null,null,""]
[null,null,null,null,null,null,null,null,null,""]
[null,null,null,null,null,null,null,null,null,""]
[null,null,null,null,null,null,null,null,null,""]
[null,null,null,null,null,null,null,null,null,""]
[null,null,null,null,null,null,null,null,null,""]
[null,null,null,null,null,null,null,null,null,""]
[null,null,null,null,null,null,null,null,null,""]
[null,null,null,null,null,null,null,null,null,""]
[null,null,null,null,null,null,null,null,null,""]
[null,null,null,null,null,null,null,null,null,""]
[null,null,null,null,null,null,null,null,null,""]
[null,null,null,null,null,null,null,null,null,""]
[null,null,null,null,null,null,null,null,null,""]
[null,null,null,null,null,null,null,null,null,""]
[null,null,null,null,null,null,null,null,null,""]
[null,null,null,null,null,null,null,null,null,""]
[null,null,null,null,null,null,null,null,null,""]
[null,null,null,null,null,null,null,null,null,""]
[null,null,null,null,null,null,null,null,null,""]
[null,null,null,null,null,null,null,null,null,""]
[null,null,null,null,null,null,null,null,null,""]
[null,null,null,null,null,null,null,null,null,""]
[null,null,null,null,null,null,null,null,null,""]
[null,null,null,null,null,null,null,null,null,""]
[null,null,null,null,null,null,null,null,null,""]
[null,null,null,null,null,null,null,null,null,""]
[null,null,null,null,null,null,null,null,null,""]
[null,null,null,null,null,null,null,null,null,""]
[null,null,null,null,null,null,null,null,null,""]
[null,null,null,null,null,null,null,null,null,""]
[null,null,null,null,null,null,null,null,null,""]
[null,null,null,null,null,null,null,null,null,""]
[null,null,null,null,null,null,null,null,null,""]
[null,null,null,null,null,null,null,null,null,""]
[null,null,null,null,null,null,null,null,null,""]
[null,null,null,null,null,null,null,null,null,""]
[null,null,null,null,null,null,null,null,null,""]
[null,null,null,null,null,null,null,null,null,""]
[null,null,null,null,null,null,null,null,null,{"$f":"IF(ISBLANK(E1419),\"\",E1419)","v":""}]
[null,null,null,null,null,null,null,null,null,""]
[null,null,null,null,null,null,null,null,null,""]
[null,null,null,null,null,null,null,null,null,""]
[null,null,null,null,null,null,null,null,null,""]
[null,null,null,null,null,null,null,null,null,""]
[null,null,null,null,null,null,null,null,null,""]
[null,null,null,null,null,null,null,null,null,""]
[null,null,null,null,null,null,null,null,null,""]
[null,null,null,null,null,null,null,null,null,""]
[null,null,null,null,null,null,null,null,null,""]
[null,null,null,null,null,null,null,null,null,""]
[null,null,null,null,null,null,null,null,null,""]
[null,null,null,null,null,null,null,null,null,""]
[null,null,null,null,null,null,null,null,null,""]
[null,null,null,null,null,null,null,null,null,""]
[null,null,null,null,null,null,null,null,null,""]
[null,null,null,null,null,null,null,null,null,""]
[null,null,null,null,null,null,null,null,null,""]
[null,null,null,null,null,null,null,null,null,""]
[null,null,null,null,null,null,null,null,null,""]
[null,null,null,null,null,null,null,null,null,""]
[null,null,null,null,null,null,null,null,null,""]
[null,null,null,null,null,null,null,null,null,""]
[null,null,null,null,null,null,null,null,null,""]
[null,null,null,null,null,null,null,null,null,""]
[null,null,null,null,null,null,null,null,null,""]
[null,null,null,null,null,null,null,null,null,""]
[null,null,null,null,null,null,null,null,null,""]
[null,null,null,null,null,null,null,null,null,""]
[null,null,null,null,null,null,null,null,null,""]
[null,null,null,null,null,null,null,null,null,""]
[null,null,null,null,null,null,null,null,null,""]
[null,null,null,null,null,null,null,null,null,""]
[null,null,null,null,null,null,null,null,null,""]
[null,null,null,null,null,null,null,null,null,""]
[null,null,null,null,null,null,null,null,null,""]
[null,null,null,null,null,null,null,null,null,""]
[null,null,null,null,null,null,null,null,null,""]
[null,null,null,null,null,null,null,null,null,""]
[null,null,null,null,null,null,null,null,null,""]
[null,null,null,null,null,null,null,null,null,""]
[null,null,null,null,null,null,null,null,null,""]
[null,null,null,null,null,null,null,null,null,""]
[null,null,null,null,null,null,null,null,null,""]
[null,null,null,null,null,null,null,null,null,""]
[null,null,null,null,null,null,null,null,null,""]
[null,null,null,null,null,null,null,null,null,""]
[null,null,null,null,null,null,null,null,null,""]
[null,null,null,null,null,null,null,null,null,""]
[null,null,null,null,null,null,null,null,null,""]
[null,null,null,null,null,null,null,null,null,""]
[null,null,null,null,null,null,null,null,null,""]
[null,null,null,null,null,null,null,null,null,""]
[null,null,null,null,null,null,null,null,null,""]
[null,null,null,null,null,null,null,null,null,""]
[null,null,null,null,null,null,null,null,null,""]
[null,null,null,null,null,null,null,null,null,""]
[null,null,null,null,null,null,null,null,null,""]
[null,null,null,null,null,null,null,null,null,""]
[null,null,null,null,null,null,null,null,null,""]
[null,null,null,null,null,null,null,null,null,""]
[null,null,null,null,null,null,null,null,null,""]
[null,null,null,null,null,null,null,null,null,""]
[null,null,null,null,null,null,null,null,null,{"$f":"IF(ISBLANK(E1483),\"\",E1483)","v":""}]
[null,null,null,null,null,null,null,null,null,""]
[null,null,null,null,null,null,null,null,null,""]
[null,null,null,null,null,null,null,null,null,""]
[null,null,null,null,null,null,null,null,null,""]
[null,null,null,null,null,null,null,null,null,""]
[null,null,null,null,null,null,null,null,null,""]
[null,null,null,null,null,null,null,null,null,""]
[null,null,null,null,null,null,null,null,null,""]
[null,null,null,null,null,null,null,null,null,""]
[null,null,null,null,null,null,null,null,null,""]
[null,null,null,null,null,null,null,null,null,""]
[null,null,null,null,null,null,null,null,null,""]
[null,null,null,null,null,null,null,null,null,""]
[null,null,null,null,null,null,null,null,null,""]
[null,null,null,null,null,null,null,null,null,""]
[null,null,null,null,null,null,null,null,null,""]
[null,null,null,null,null,null,null,null,null,""]
[null,null,null,null,null,null,null,null,null,""]
[null,null,null,null,null,null,null,null,null,""]
[null,null,null,null,null,null,null,null,null,""]
[null,null,null,null,null,null,null,null,null,""]
[null,null,null,null,null,null,null,null,null,""]
[null,null,null,null,null,null,null,null,null,""]
[null,null,null,null,null,null,null,null,null,""]
[null,null,null,null,null,null,null,null,null,""]
[null,null,null,null,null,null,null,null,null,""]
[null,null,null,null,null,null,null,null,null,""]
[null,null,null,null,null,null,null,null,null,""]
[null,null,null,null,null,null,null,null,null,""]
[null,null,null,null,null,null,null,null,null,""]
[null,null,null,null,null,null,null,null,null,""]
[null,null,null,null,null,null,null,null,null,""]
[null,null,null,null,null,null,null,null,null,""]
[null,null,null,null,null,null,null,null,null,""]
[null,null,null,null,null,null,null,null,null,""]
[null,null,null,null,null,null,null,null,null,""]
[null,null,null,null,null,null,null,null,null,""]
[null,null,null,null,null,null,null,null,null,""]
[null,null,null,null,null,null,null,null,null,""]
[null,null,null,null,null,null,null,null,null,""]
[null,null,null,null,null,null,null,null,null,""]
[null,null,null,null,null,null,null,null,null,""]
[null,null,null,null,null,null,null,null,null,""]
[null,null,null,null,null,null,null,null,null,""]
[null,null,null,null,null,null,null,null,null,""]
[null,null,null,null,null,null,null,null,null,""]
[null,null,null,null,null,null,null,null,null,""]
[null,null,null,null,null,null,null,null,null,""]
[null,null,null,null,null,null,null,null,null,""]
[null,null,null,null,null,null,null,null,null,""]
[null,null,null,null,null,null,null,null,null,""]
[null,null,null,null,null,null,null,null,null,""]
[null,null,null,null,null,null,null,null,null,""]
[null,null,null,null,null,null,null,null,null,""]
[null,null,null,null,null,null,null,null,null,""]
[null,null,null,null,null,null,null,null,null,""]
[null,null,null,null,null,null,null,null,null,""]
[null,null,null,null,null,null,null,null,null,""]
[null,null,null,null,null,null,null,null,null,""]
[null,null,null,null,null,null,null,null,null,""]
[null,null,null,null,null,null,null,null,null,""]
[null,null,null,null,null,null,null,null,null,""]
[null,null,null,null,null,null,null,null,null,""]
[null,null,null,null,null,null,null,null,null,{"$f":"IF(ISBLANK(E1547),\"\",E1547)","v":""}]
[null,null,null,null,null,null,null,null,null,""]
[null,null,null,null,null,null,null,null,null,""]
[null,null,null,null,null,null,null,null,null,""]
[null,null,null,null,null,null,null,null,null,""]
[null,null,null,null,null,null,null,null,null,""]
[null,null,null,null,null,null,null,null,null,""]
[null,null,null,null,null,null,null,null,null,""]
[null,null,null,null,null,null,null,null,null,""]
[null,null,null,null,null,null,null,null,null,""]
[null,null,null,null,null,null,null,null,null,""]
[null,null,null,null,null,null,null,null,null,""]
[null,null,null,null,null,null,null,null,null,""]
[null,null,null,null,null,null,null,null,null,""]
[null,null,null,null,null,null,null,null,null,""]
[null,null,null,null,null,null,null,null,null,""]
[null,null,null,null,null,null,null,null,null,""]
[null,null,null,null,null,null,null,null,null,""]
[null,null,null,null,null,null,null,null,null,""]
[null,null,null,null,null,null,null,null,null,""]
[null,null,null,null,null,null,null,null,null,""]
[null,null,null,null,null,null,null,null,null,""]
[null,null,null,null,null,null,null,null,null,""]
[null,null,null,null,null,null,null,null,null,""]
[null,null,null,null,null,null,null,null,null,""]
[null,null,null,null,null,null,null,null,null,""]
[null,null,null,null,null,null,null,null,null,""]
[null,null,null,null,null,null,null,null,null,""]
[null,null,null,null,null,null,null,null,null,""]
[null,null,null,null,null,null,null,null,null,""]
[null,null,null,null,null,null,null,null,null,""]
[null,null,null,null,null,null,null,null,null,""]
[null,null,null,null,null,null,null,null,null,""]
[null,null,null,null,null,null,null,null,null,""]
[null,null,null,null,null,null,null,null,null,""]
[null,null,null,null,null,null,null,null,null,""]
[null,null,null,null,null,null,null,null,null,""]
[null,null,null,null,null,null,null,null,null,""]
[null,null,null,null,null,null,null,null,null,""]
[null,null,null,null,null,null,null,null,null,""]
[null,null,null,null,null,null,null,null,null,""]
[null,null,null,null,null,null,null,null,null,""]
[null,null,null,null,null,null,null,null,null,""]
[null,null,null,null,null,null,null,null,null,""]
[null,null,null,null,null,null,null,null,null,""]
[null,null,null,null,null,null,null,null,null,""]
[null,null,null,null,null,null,null,null,null,""]
[null,null,null,null,null,null,null,null,null,""]
[null,null,null,null,null,null,null,null,null,""]
[null,null,null,null,null,null,null,null,null,""]
[null,null,null,null,null,null,null,null,null,""]
[null,null,null,null,null,null,null,null,null,""]
[null,null,null,null,null,null,null,null,null,""]
[null,null,null,null,null,null,null,null,null,""]
[null,null,null,null,null,null,null,null,null,""]
[null,null,null,null,null,null,null,null,null,""]
[null,null,null,null,null,null,null,null,null,""]
[null,null,null,null,null,null,null,null,null,""]
[null,null,null,null,null,null,null,null,null,""]
[null,null,null,null,null,null,null,null,null,""]
[null,null,null,null,null,null,null,null,null,""]
[null,null,null,null,null,null,null,null,null,""]
[null,null,null,null,null,null,null,null,null,""]
[null,null,null,null,null,null,null,null,null,""]
[null,null,null,null,null,null,null,null,null,{"$f":"IF(ISBLANK(E1611),\"\",E1611)","v":""}]
[null,null,null,null,null,null,null,null,null,""]
[null,null,null,null,null,null,null,null,null,""]
[null,null,null,null,null,null,null,null,null,""]
[null,null,null,null,null,null,null,null,null,""]
[null,null,null,null,null,null,null,null,null,""]
[null,null,null,null,null,null,null,null,null,""]
[null,null,null,null,null,null,null,null,null,""]
[null,null,null,null,null,null,null,null,null,""]
[null,null,null,null,null,null,null,null,null,""]
[null,null,null,null,null,null,null,null,null,""]
[null,null,null,null,null,null,null,null,null,""]
[null,null,null,null,null,null,null,null,null,""]
[null,null,null,null,null,null,null,null,null,""]
[null,null,null,null,null,null,null,null,null,""]
[null,null,null,null,null,null,null,null,null,""]
[null,null,null,null,null,null,null,null,null,""]
[null,null,null,null,null,null,null,null,null,""]
[null,null,null,null,null,null,null,null,null,""]
[null,null,null,null,null,null,null,null,null,""]
[null,null,null,null,null,null,null,null,null,""]
[null,null,null,null,null,null,null,null,null,""]
[null,null,null,null,null,null,null,null,null,""]
[null,null,null,null,null,null,null,null,null,""]
[null,null,null,null,null,null,null,null,null,""]
[null,null,null,null,null,null,null,null,null,""]
[null,null,null,null,null,null,null,null,null,""]
[null,null,null,null,null,null,null,null,null,""]
[null,null,null,null,null,null,null,null,null,""]
[null,null,null,null,null,null,null,null,null,""]
[null,null,null,null,null,null,null,null,null,""]
[null,null,null,null,null,null,null,null,null,""]
[null,null,null,null,null,null,null,null,null,""]
[null,null,null,null,null,null,null,null,null,""]
[null,null,null,null,null,null,null,null,null,""]
[null,null,null,null,null,null,null,null,null,""]
[null,null,null,null,null,null,null,null,null,""]
[null,null,null,null,null,null,null,null,null,""]
[null,null,null,null,null,null,null,null,null,""]
[null,null,null,null,null,null,null,null,null,""]
[null,null,null,null,null,null,null,null,null,""]
[null,null,null,null,null,null,null,null,null,""]
[null,null,null,null,null,null,null,null,null,""]
[null,null,null,null,null,null,null,null,null,""]
[null,null,null,null,null,null,null,null,null,""]
[null,null,null,null,null,null,null,null,null,""]
[null,null,null,null,null,null,null,null,null,""]
[null,null,null,null,null,null,null,null,null,""]
[null,null,null,null,null,null,null,null,null,""]
[null,null,null,null,null,null,null,null,null,""]
[null,null,null,null,null,null,null,null,null,""]
[null,null,null,null,null,null,null,null,null,""]
[null,null,null,null,null,null,null,null,null,""]
[null,null,null,null,null,null,null,null,null,""]
[null,null,null,null,null,null,null,null,null,""]
[null,null,null,null,null,null,null,null,null,""]
[null,null,null,null,null,null,null,null,null,""]
[null,null,null,null,null,null,null,null,null,""]
[null,null,null,null,null,null,null,null,null,""]
[null,null,null,null,null,null,null,null,null,""]
[null,null,null,null,null,null,null,null,null,""]
[null,null,null,null,null,null,null,null,null,""]
[null,null,null,null,null,null,null,null,null,""]
[null,null,null,null,null,null,null,null,null,""]
[null,null,null,null,null,null,null,null,null,{"$f":"IF(ISBLANK(E1675),\"\",E1675)","v":""}]
[null,null,null,null,null,null,null,null,null,""]
[null,null,null,null,null,null,null,null,null,""]
[null,null,null,null,null,null,null,null,null,""]
[null,null,null,null,null,null,null,null,null,""]
[null,null,null,null,null,null,null,null,null,""]
[null,null,null,null,null,null,null,null,null,""]
[null,null,null,null,null,null,null,null,null,""]
[null,null,null,null,null,null,null,null,null,""]
[null,null,null,null,null,null,null,null,null,""]
[null,null,null,null,null,null,null,null,null,""]
[null,null,null,null,null,null,null,null,null,""]
[null,null,null,null,null,null,null,null,null,""]
[null,null,null,null,null,null,null,null,null,""]
[null,null,null,null,null,null,null,null,null,""]
[null,null,null,null,null,null,null,null,null,""]
[null,null,null,null,null,null,null,null,null,""]
[null,null,null,null,null,null,null,null,null,""]
[null,null,null,null,null,null,null,null,null,""]
[null,null,null,null,null,null,null,null,null,""]
[null,null,null,null,null,null,null,null,null,""]
[null,null,null,null,null,null,null,null,null,""]
[null,null,null,null,null,null,null,null,null,""]
[null,null,null,null,null,null,null,null,null,""]
[null,null,null,null,null,null,null,null,null,""]
[null,null,null,null,null,null,null,null,null,""]
[null,null,null,null,null,null,null,null,null,""]
[null,null,null,null,null,null,null,null,null,""]
[null,null,null,null,null,null,null,null,null,""]
[null,null,null,null,null,null,null,null,null,""]
[null,null,null,null,null,null,null,null,null,""]
[null,null,null,null,null,null,null,null,null,""]
[null,null,null,null,null,null,null,null,null,""]
[null,null,null,null,null,null,null,null,null,""]
[null,null,null,null,null,null,null,null,null,""]
[null,null,null,null,null,null,null,null,null,""]
[null,null,null,null,null,null,null,null,null,""]
[null,null,null,null,null,null,null,null,null,""]
[null,null,null,null,null,null,null,null,null,""]
[null,null,null,null,null,null,null,null,null,""]
[null,null,null,null,null,null,null,null,null,""]
[null,null,null,null,null,null,null,null,null,""]
[null,null,null,null,null,null,null,null,null,""]
[null,null,null,null,null,null,null,null,null,""]
[null,null,null,null,null,null,null,null,null,""]
[null,null,null,null,null,null,null,null,null,""]
[null,null,null,null,null,null,null,null,null,""]
[null,null,null,null,null,null,null,null,null,""]
[null,null,null,null,null,null,null,null,null,""]
[null,null,null,null,null,null,null,null,null,""]
[null,null,null,null,null,null,null,null,null,""]
[null,null,null,null,null,null,null,null,null,""]
[null,null,null,null,null,null,null,null,null,""]
[null,null,null,null,null,null,null,null,null,""]
[null,null,null,null,null,null,null,null,null,""]
[null,null,null,null,null,null,null,null,null,""]
[null,null,null,null,null,null,null,null,null,""]
[null,null,null,null,null,null,null,null,null,""]
[null,null,null,null,null,null,null,null,null,""]
[null,null,null,null,null,null,null,null,null,""]
[null,null,null,null,null,null,null,null,null,""]
[null,null,null,null,null,null,null,null,null,""]
[null,null,null,null,null,null,null,null,null,""]
[null,null,null,null,null,null,null,null,null,""]
[null,null,null,null,null,null,null,null,null,{"$f":"IF(ISBLANK(E1739),\"\",E1739)","v":""}]
[null,null,null,null,null,null,null,null,null,""]
[null,null,null,null,null,null,null,null,null,""]
[null,null,null,null,null,null,null,null,null,""]
[null,null,null,null,null,null,null,null,null,""]
[null,null,null,null,null,null,null,null,null,""]
[null,null,null,null,null,null,null,null,null,""]
[null,null,null,null,null,null,null,null,null,""]
[null,null,null,null,null,null,null,null,null,""]
[null,null,null,null,null,null,null,null,null,""]
[null,null,null,null,null,null,null,null,null,""]
[null,null,null,null,null,null,null,null,null,""]
[null,null,null,null,null,null,null,null,null,""]
[null,null,null,null,null,null,null,null,null,""]
[null,null,null,null,null,null,null,null,null,""]
[null,null,null,null,null,null,null,null,null,""]
[null,null,null,null,null,null,null,null,null,""]
[null,null,null,null,null,null,null,null,null,""]
[null,null,null,null,null,null,null,null,null,""]
[null,null,null,null,null,null,null,null,null,""]
[null,null,null,null,null,null,null,null,null,""]
[null,null,null,null,null,null,null,null,null,""]
[null,null,null,null,null,null,null,null,null,""]
[null,null,null,null,null,null,null,null,null,""]
[null,null,null,null,null,null,null,null,null,""]
[null,null,null,null,null,null,null,null,null,""]
[null,null,null,null,null,null,null,null,null,""]
[null,null,null,null,null,null,null,null,null,""]
[null,null,null,null,null,null,null,null,null,""]
[null,null,null,null,null,null,null,null,null,""]
[null,null,null,null,null,null,null,null,null,""]
[null,null,null,null,null,null,null,null,null,""]
[null,null,null,null,null,null,null,null,null,""]
[null,null,null,null,null,null,null,null,null,""]
[null,null,null,null,null,null,null,null,null,""]
[null,null,null,null,null,null,null,null,null,""]
[null,null,null,null,null,null,null,null,null,""]
[null,null,null,null,null,null,null,null,null,""]
[null,null,null,null,null,null,null,null,null,""]
[null,null,null,null,null,null,null,null,null,""]
[null,null,null,null,null,null,null,null,null,""]
[null,null,null,null,null,null,null,null,null,""]
[null,null,null,null,null,null,null,null,null,""]
[null,null,null,null,null,null,null,null,null,""]
[null,null,null,null,null,null,null,null,null,""]
[null,null,null,null,null,null,null,null,null,""]
[null,null,null,null,null,null,null,null,null,""]
[null,null,null,null,null,null,null,null,null,""]
[null,null,null,null,null,null,null,null,null,""]
[null,null,null,null,null,null,null,null,null,""]
[null,null,null,null,null,null,null,null,null,""]
[null,null,null,null,null,null,null,null,null,""]
[null,null,null,null,null,null,null,null,null,""]
[null,null,null,null,null,null,null,null,null,""]
[null,null,null,null,null,null,null,null,null,""]
[null,null,null,null,null,null,null,null,null,""]
[null,null,null,null,null,null,null,null,null,""]
[null,null,null,null,null,null,null,null,null,""]
[null,null,null,null,null,null,null,null,null,""]
[null,null,null,null,null,null,null,null,null,""]
[null,null,null,null,null,null,null,null,null,""]
[null,null,null,null,null,null,null,null,null,""]
[null,null,null,null,null,null,null,null,null,""]
[null,null,null,null,null,null,null,null,null,""]
[null,null,null,null,null,null,null,null,null,{"$f":"IF(ISBLANK(E1803),\"\",E1803)","v":""}]
[null,null,null,null,null,null,null,null,null,""]
[null,null,null,null,null,null,null,null,null,""]
[null,null,null,null,null,null,null,null,null,""]
[null,null,null,null,null,null,null,null,null,""]
[null,null,null,null,null,null,null,null,null,""]
[null,null,null,null,null,null,null,null,null,""]
[null,null,null,null,null,null,null,null,null,""]
[null,null,null,null,null,null,null,null,null,""]
[null,null,null,null,null,null,null,null,null,""]
[null,null,null,null,null,null,null,null,null,""]
[null,null,null,null,null,null,null,null,null,""]
[null,null,null,null,null,null,null,null,null,""]
[null,null,null,null,null,null,null,null,null,""]
[null,null,null,null,null,null,null,null,null,""]
[null,null,null,null,null,null,null,null,null,""]
[null,null,null,null,null,null,null,null,null,""]
[null,null,null,null,null,null,null,null,null,""]
[null,null,null,null,null,null,null,null,null,""]
[null,null,null,null,null,null,null,null,null,""]
[null,null,null,null,null,null,null,null,null,""]
[null,null,null,null,null,null,null,null,null,""]
[null,null,null,null,null,null,null,null,null,""]
[null,null,null,null,null,null,null,null,null,""]
[null,null,null,null,null,null,null,null,null,""]
[null,null,null,null,null,null,null,null,null,""]
[null,null,null,null,null,null,null,null,null,""]
[null,null,null,null,null,null,null,null,null,""]
[null,null,null,null,null,null,null,null,null,""]
[null,null,null,null,null,null,null,null,null,""]
[null,null,null,null,null,null,null,null,null,""]
[null,null,null,null,null,null,null,null,null,""]
[null,null,null,null,null,null,null,null,null,""]
[null,null,null,null,null,null,null,null,null,""]
[null,null,null,null,null,null,null,null,null,""]
[null,null,null,null,null,null,null,null,null,""]
[null,null,null,null,null,null,null,null,null,""]
[null,null,null,null,null,null,null,null,null,""]
[null,null,null,null,null,null,null,null,null,""]
[null,null,null,null,null,null,null,null,null,""]
[null,null,null,null,null,null,null,null,null,""]
[null,null,null,null,null,null,null,null,null,""]
[null,null,null,null,null,null,null,null,null,""]
[null,null,null,null,null,null,null,null,null,""]
[null,null,null,null,null,null,null,null,null,""]
[null,null,null,null,null,null,null,null,null,""]
[null,null,null,null,null,null,null,null,null,""]
[null,null,null,null,null,null,null,null,null,""]
[null,null,null,null,null,null,null,null,null,""]
[null,null,null,null,null,null,null,null,null,""]
[null,null,null,null,null,null,null,null,null,""]
[null,null,null,null,null,null,null,null,null,""]
[null,null,null,null,null,null,null,null,null,""]
[null,null,null,null,null,null,null,null,null,""]
[null,null,null,null,null,null,null,null,null,""]
[null,null,null,null,null,null,null,null,null,""]
[null,null,null,null,null,null,null,null,null,""]
[null,null,null,null,null,null,null,null,null,""]
[null,null,null,null,null,null,null,null,null,""]
[null,null,null,null,null,null,null,null,null,""]
[null,null,null,null,null,null,null,null,null,""]
[null,null,null,null,null,null,null,null,null,""]
[null,null,null,null,null,null,null,null,null,""]
[null,null,null,null,null,null,null,null,null,""]
[null,null,null,null,null,null,null,null,null,{"$f":"IF(ISBLANK(E1867),\"\",E1867)","v":""}]
[null,null,null,null,null,null,null,null,null,""]
[null,null,null,null,null,null,null,null,null,""]
[null,null,null,null,null,null,null,null,null,""]
[null,null,null,null,null,null,null,null,null,""]
[null,null,null,null,null,null,null,null,null,""]
[null,null,null,null,null,null,null,null,null,""]
[null,null,null,null,null,null,null,null,null,""]
[null,null,null,null,null,null,null,null,null,""]
[null,null,null,null,null,null,null,null,null,""]
[null,null,null,null,null,null,null,null,null,""]
[null,null,null,null,null,null,null,null,null,""]
[null,null,null,null,null,null,null,null,null,""]
[null,null,null,null,null,null,null,null,null,""]
[null,null,null,null,null,null,null,null,null,""]
[null,null,null,null,null,null,null,null,null,""]
[null,null,null,null,null,null,null,null,null,""]
[null,null,null,null,null,null,null,null,null,""]
[null,null,null,null,null,null,null,null,null,""]
[null,null,null,null,null,null,null,null,null,""]
[null,null,null,null,null,null,null,null,null,""]
[null,null,null,null,null,null,null,null,null,""]
[null,null,null,null,null,null,null,null,null,""]
[null,null,null,null,null,null,null,null,null,""]
[null,null,null,null,null,null,null,null,null,""]
[null,null,null,null,null,null,null,null,null,""]
[null,null,null,null,null,null,null,null,null,""]
[null,null,null,null,null,null,null,null,null,""]
[null,null,null,null,null,null,null,null,null,""]
[null,null,null,null,null,null,null,null,null,""]
[null,null,null,null,null,null,null,null,null,""]
[null,null,null,null,null,null,null,null,null,""]
[null,null,null,null,null,null,null,null,null,""]
[null,null,null,null,null,null,null,null,null,""]
[null,null,null,null,null,null,null,null,null,""]
[null,null,null,null,null,null,null,null,null,""]
[null,null,null,null,null,null,null,null,null,""]
[null,null,null,null,null,null,null,null,null,""]
[null,null,null,null,null,null,null,null,null,""]
[null,null,null,null,null,null,null,null,null,""]
[null,null,null,null,null,null,null,null,null,""]
[null,null,null,null,null,null,null,null,null,""]
[null,null,null,null,null,null,null,null,null,""]
[null,null,null,null,null,null,null,null,null,""]
[null,null,null,null,null,null,null,null,null,""]
[null,null,null,null,null,null,null,null,null,""]
[null,null,null,null,null,null,null,null,null,""]
[null,null,null,null,null,null,null,null,null,""]
[null,null,null,null,null,null,null,null,null,""]
[null,null,null,null,null,null,null,null,null,""]
[null,null,null,null,null,null,null,null,null,""]
[null,null,null,null,null,null,null,null,null,""]
[null,null,null,null,null,null,null,null,null,""]
[null,null,null,null,null,null,null,null,null,""]
[null,null,null,null,null,null,null,null,null,""]
[null,null,null,null,null,null,null,null,null,""]
[null,null,null,null,null,null,null,null,null,""]
[null,null,null,null,null,null,null,null,null,""]
[null,null,null,null,null,null,null,null,null,""]
[null,null,null,null,null,null,null,null,null,""]
[null,null,null,null,null,null,null,null,null,""]
[null,null,null,null,null,null,null,null,null,""]
[null,null,null,null,null,null,null,null,null,""]
[null,null,null,null,null,null,null,null,null,""]
[null,null,null,null,null,null,null,null,null,{"$f":"IF(ISBLANK(E1931),\"\",E1931)","v":""}]
[null,null,null,null,null,null,null,null,null,""]
[null,null,null,null,null,null,null,null,null,""]
[null,null,null,null,null,null,null,null,null,""]
[null,null,null,null,null,null,null,null,null,""]
[null,null,null,null,null,null,null,null,null,""]
[null,null,null,null,null,null,null,null,null,""]
[null,null,null,null,null,null,null,null,null,""]
[null,null,null,null,null,null,null,null,null,""]
[null,null,null,null,null,null,null,null,null,""]
[null,null,null,null,null,null,null,null,null,""]
[null,null,null,null,null,null,null,null,null,""]
[null,null,null,null,null,null,null,null,null,""]
[null,null,null,null,null,null,null,null,null,""]
[null,null,null,null,null,null,null,null,null,""]
[null,null,null,null,null,null,null,null,null,""]
[null,null,null,null,null,null,null,null,null,""]
[null,null,null,null,null,null,null,null,null,""]
[null,null,null,null,null,null,null,null,null,""]
[null,null,null,null,null,null,null,null,null,""]
[null,null,null,null,null,null,null,null,null,""]
[null,null,null,null,null,null,null,null,null,""]
[null,null,null,null,null,null,null,null,null,""]
[null,null,null,null,null,null,null,null,null,""]
[null,null,null,null,null,null,null,null,null,""]
[null,null,null,null,null,null,null,null,null,""]
[null,null,null,null,null,null,null,null,null,""]
[null,null,null,null,null,null,null,null,null,""]
[null,null,null,null,null,null,null,null,null,""]
[null,null,null,null,null,null,null,null,null,""]
[null,null,null,null,null,null,null,null,null,""]
[null,null,null,null,null,null,null,null,null,""]
[null,null,null,null,null,null,null,null,null,""]
[null,null,null,null,null,null,null,null,null,""]
[null,null,null,null,null,null,null,null,null,""]
[null,null,null,null,null,null,null,null,null,""]
[null,null,null,null,null,null,null,null,null,""]
[null,null,null,null,null,null,null,null,null,""]
[null,null,null,null,null,null,null,null,null,""]
[null,null,null,null,null,null,null,null,null,""]
[null,null,null,null,null,null,null,null,null,""]
[null,null,null,null,null,null,null,null,null,""]
[null,null,null,null,null,null,null,null,null,""]
[null,null,null,null,null,null,null,null,null,""]
[null,null,null,null,null,null,null,null,null,""]
[null,null,null,null,null,null,null,null,null,""]
[null,null,null,null,null,null,null,null,null,""]
[null,null,null,null,null,null,null,null,null,""]
[null,null,null,null,null,null,null,null,null,""]
[null,null,null,null,null,null,null,null,null,""]
[null,null,null,null,null,null,null,null,null,""]
[null,null,null,null,null,null,null,null,null,""]
[null,null,null,null,null,null,null,null,null,""]
[null,null,null,null,null,null,null,null,null,""]
[null,null,null,null,null,null,null,null,null,""]
[null,null,null,null,null,null,null,null,null,""]
[null,null,null,null,null,null,null,null,null,""]
[null,null,null,null,null,null,null,null,null,""]
[null,null,null,null,null,null,null,null,null,""]
[null,null,null,null,null,null,null,null,null,""]
[null,null,null,null,null,null,null,null,null,""]
[null,null,null,null,null,null,null,null,null,""]
[null,null,null,null,null,null,null,null,null,""]
[null,null,null,null,null,null,null,null,null,""]
[null,null,null,null,null,null,null,null,null,{"$f":"IF(ISBLANK(E1995),\"\",E1995)","v":""}]
[null,null,null,null,null,null,null,null,null,""]
[null,null,null,null,null,null,null,null,null,""]
[null,null,null,null,null,null,null,null,null,""]
[null,null,null,null,null,null,null,null,null,""]
[null,null,null,null,null,null,null,null,null,""]
[null,null,null,null,null,null,null,null,null,""]
[null,null,null,null,null,null,null,null,null,""]
[null,null,null,null,null,null,null,null,null,""]
[null,null,null,null,null,null,null,null,null,""]
[null,null,null,null,null,null,null,null,null,""]
[null,null,null,null,null,null,null,null,null,""]
[null,null,null,null,null,null,null,null,null,""]
[null,null,null,null,null,null,null,null,null,""]
[null,null,null,null,null,null,null,null,null,""]
[null,null,null,null,null,null,null,null,null,""]
[null,null,null,null,null,null,null,null,null,""]
[null,null,null,null,null,null,null,null,null,""]
[null,null,null,null,null,null,null,null,null,""]
[null,null,null,null,null,null,null,null,null,""]
[null,null,null,null,null,null,null,null,null,""]
[null,null,null,null,null,null,null,null,null,{"$f":"IF(ISBLANK(E2123),\"\",E2123)","v":""}]
[null,null,null,null,null,null,null,null,null,""]
[null,null,null,null,null,null,null,null,null,""]
[null,null,null,null,null,null,null,null,null,""]
[null,null,null,null,null,null,null,null,null,""]
[null,null,null,null,null,null,null,null,null,""]
[null,null,null,null,null,null,null,null,null,""]
[null,null,null,null,null,null,null,null,null,{"$f":"IF(ISBLANK(E2187),\"\",E2187)","v":""}]
[null,null,null,null,null,null,null,null,null,""]
[null,null,null,null,null,null,null,null,null,""]
[null,null,null,null,null,null,null,null,null,""]
[null,null,null,null,null,null,null,null,null,""]
[null,null,null,null,null,null,null,null,null,""]
[null,null,null,null,null,null,null,null,null,""]
[null,null,null,null,null,null,null,null,null,""]
[null,null,null,null,null,null,null,null,null,""]
[null,null,null,null,null,null,null,null,null,""]
[null,null,null,null,null,null,null,null,null,""]
[null,null,null,null,null,null,null,null,null,""]
[null,null,null,null,null,null,null,null,null,""]
[null,null,null,null,null,null,null,null,null,""]
[null,null,null,null,null,null,null,null,null,""]
[null,null,null,null,null,null,null,null,null,""]
[null,null,null,null,null,null,null,null,null,""]
[null,null,null,null,null,null,null,null,null,""]
[null,null,null,null,null,null,null,null,null,""]
[null,null,null,null,null,null,null,null,null,""]
[null,null,null,null,null,null,null,null,null,""]
[null,null,null,null,null,null,null,null,null,""]
[null,null,null,null,null,null,null,null,null,""]
[null,null,null,null,null,null,null,null,null,""]
[null,null,null,null,null,null,null,null,null,""]
[null,null,null,null,null,null,null,null,null,""]
[null,null,null,null,null,null,null,null,null,""]
[null,null,null,null,null,null,null,null,null,""]
[null,null,null,null,null,null,null,null,null,""]
[null,null,null,null,null,null,null,null,null,""]
[null,null,null,null,null,null,null,null,null,""]
[null,null,null,null,null,null,null,null,null,""]
[null,null,null,null,null,null,null,null,null,""]
[null,null,null,null,null,null,null,null,null,""]
[null,null,null,null,null,null,null,null,null,""]
[null,null,null,null,null,null,null,null,null,""]
[null,null,null,null,null,null,null,null,null,""]
[null,null,null,null,null,null,null,null,null,""]
[null,null,null,null,null,null,null,null,null,""]
[null,null,null,null,null,null,null,null,null,""]
[null,null,null,null,null,null,null,null,null,""]
[null,null,null,null,null,null,null,null,null,""]
[null,null,null,null,null,null,null,null,null,""]
[null,null,null,null,null,null,null,null,null,""]
[null,null,null,null,null,null,null,null,null,""]
[null,null,null,null,null,null,null,null,null,""]
[null,null,null,null,null,null,null,null,null,""]
[null,null,null,null,null,null,null,null,null,""]
[null,null,null,null,null,null,null,null,null,""]
[null,null,null,null,null,null,null,null,null,""]
[null,null,null,null,null,null,null,null,null,""]
[null,null,null,null,null,null,null,null,null,""]
[null,null,null,null,null,null,null,null,null,""]
[null,null,null,null,null,null,null,null,null,""]
[null,null,null,null,null,null,null,null,null,""]
[null,null,null,null,null,null,null,null,null,{"$f":"IF(ISBLANK(E2635),\"\",E2635)","v":""}]
[null,null,null,null,null,null,null,null,null,""]
[null,null,null,null,null,null,null,null,null,""]
[null,null,null,null,null,null,null,null,null,""]
[null,null,null,null,null,null,null,null,null,""]
[null,null,null,null,null,null,null,null,null,""]
[null,null,null,null,null,null,null,null,null,""]
[null,null,null,null,null,null,null,null,null,""]
[null,null,null,null,null,null,null,null,null,""]
[null,null,null,null,null,null,null,null,null,""]
[null,null,null,null,null,null,null,null,null,""]
[null,null,null,null,null,null,null,null,null,""]
[null,null,null,null,null,null,null,null,null,""]
[null,null,null,null,null,null,null,null,null,""]
[null,null,null,null,null,null,null,null,null,""]
[null,null,null,null,null,null,null,null,null,""]
[null,null,null,null,null,null,null,null,null,""]
[null,null,null,null,null,null,null,null,null,""]
[null,null,null,null,null,null,null,null,null,""]
[null,null,null,null,null,null,null,null,null,""]
[null,null,null,null,null,null,null,null,null,""]
[null,null,null,null,null,null,null,null,null,""]
[null,null,null,null,null,null,null,null,null,""]
[null,null,null,null,null,null,null,null,null,""]
[null,null,null,null,null,null,null,null,null,""]
[null,null,null,null,null,null,null,null,null,""]
[null,null,null,null,null,null,null,null,null,""]
[null,null,null,null,null,null,null,null,null,""]
[null,null,null,null,null,null,null,null,null,""]
[null,null,null,null,null,null,null,null,null,""]
[null,null,null,null,null,null,null,null,null,""]
[null,null,null,null,null,null,null,null,null,""]
[null,null,null,null,null,null,null,null,null,""]
[null,null,null,null,null,null,null,null,null,""]
[null,null,null,null,null,null,null,null,null,""]
[null,null,null,null,null,null,null,null,null,""]
[null,null,null,null,null,null,null,null,null,""]
[null,null,null,null,null,null,null,null,null,""]
[null,null,null,null,null,null,null,null,null,""]
[null,null,null,null,null,null,null,null,null,""]
[null,null,null,null,null,null,null,null,null,""]
[null,null,null,null,null,null,null,null,null,""]
[null,null,null,null,null,null,null,null,null,""]
[null,null,null,null,null,null,null,null,null,""]
[null,null,null,null,null,null,null,null,null,""]
[null,null,null,null,null,null,null,null,null,""]
[null,null,null,null,null,null,null,null,null,""]
[null,null,null,null,null,null,null,null,null,""]
[null,null,null,null,null,null,null,null,null,""]
[null,null,null,null,null,null,null,null,null,""]
[null,null,null,null,null,null,null,null,null,""]
[null,null,null,null,null,null,null,null,null,""]
[null,null,null,null,null,null,null,null,null,""]
[null,null,null,null,null,null,null,null,null,""]
[null,null,null,null,null,null,null,null,null,""]
[null,null,null,null,null,null,null,null,null,""]
[null,null,null,null,null,null,null,null,null,""]
[null,null,null,null,null,null,null,null,null,""]
[null,null,null,null,null,null,null,null,null,""]
[null,null,null,null,null,null,null,null,null,""]
[null,null,null,null,null,null,null,null,null,""]
[null,null,null,null,null,null,null,null,null,""]
[null,null,null,null,null,null,null,null,null,""]
[null,null,null,null,null,null,null,null,null,""]
[null,null,null,null,null,null,null,null,null,""]
[null,null,null,null,null,null,null,null,null,""]
[null,null,null,null,null,null,null,null,null,""]
[null,null,null,null,null,null,null,null,null,""]
[null,null,null,null,null,null,null,null,null,""]
[null,null,null,null,null,null,null,null,null,""]
[null,null,null,null,null,null,null,null,null,""]
[null,null,null,null,null,null,null,null,null,""]
[null,null,null,null,null,null,null,null,null,""]
[null,null,null,null,null,null,null,null,null,""]
[null,null,null,null,null,null,null,null,null,""]
[null,null,null,null,null,null,null,null,null,""]
[null,null,null,null,null,null,null,null,null,""]
[null,null,null,null,null,null,null,null,null,""]
[null,null,null,null,null,null,null,null,null,""]
[null,null,null,null,null,null,null,null,null,""]
[null,null,null,null,null,null,null,null,null,""]
[null,null,null,null,null,null,null,null,null,""]
[null,null,null,null,null,null,null,null,null,""]
[null,null,null,null,null,null,null,null,null,""]
[null,null,null,null,null,null,null,null,null,""]
[null,null,null,null,null,null,null,null,null,""]
[null,null,null,null,null,null,null,null,null,""]
[null,null,null,null,null,null,null,null,null,""]
[null,null,null,null,null,null,null,null,null,""]
[null,null,null,null,null,null,null,null,null,""]
[null,null,null,null,null,null,null,null,null,""]
[null,null,null,null,null,null,null,null,null,""]
[null,null,null,null,null,null,null,null,null,""]
[null,null,null,null,null,null,null,null,null,""]
[null,null,null,null,null,null,null,null,null,""]
[null,null,null,null,null,null,null,null,null,""]
[null,null,null,null,null,null,null,null,null,""]
[null,null,null,null,null,null,null,null,null,""]
[null,null,null,null,null,null,null,null,null,""]
[null,null,null,null,null,null,null,null,null,""]
[null,null,null,null,null,null,null,null,null,""]
[null,null,null,null,null,null,null,null,null,""]
[null,null,null,null,null,null,null,null,null,""]
[null,null,null,null,null,null,null,null,null,""]
[null,null,null,null,null,null,null,null,null,""]
[null,null,null,null,null,null,null,null,null,""]
[null,null,null,null,null,null,null,null,null,""]
[null,null,null,null,null,null,null,null,null,""]
[null,null,null,null,null,null,null,null,null,""]
[null,null,null,null,null,null,null,null,null,""]
[null,null,null,null,null,null,null,null,null,""]
[null,null,null,null,null,null,null,null,null,""]
[null,null,null,null,null,null,null,null,null,""]
[null,null,null,null,null,null,null,null,null,""]
[null,null,null,null,null,null,null,null,null,""]
[null,null,null,null,null,null,null,null,null,""]
[null,null,null,null,null,null,null,null,null,""]
[null,null,null,null,null,null,null,null,null,""]
[null,null,null,null,null,null,null,null,null,""]
[null,null,null,null,null,null,null,null,null,""]
[null,null,null,null,null,null,null,null,null,""]
[null,null,null,null,null,null,null,null,null,""]
[null,null,null,null,null,null,null,null,null,""]
[null,null,null,null,null,null,null,null,null,""]
[null,null,null,null,null,null,null,null,null,""]
[null,null,null,null,null,null,null,null,null,""]
[null,null,null,null,null,null,null,null,null,""]
[null,null,null,null,null,null,null,null,null,""]
[null,null,null,null,null,null,null,null,null,""]
[null,null,null,null,null,null,null,null,null,""]
[null,null,null,null,null,null,null,null,null,""]
[null,null,null,null,null,null,null,null,null,""]
[null,null,null,null,null,null,null,null,null,""]
[null,null,null,null,null,null,null,null,null,""]
[null,null,null,null,null,null,null,null,null,{"$f":"IF(ISBLANK(E3723),\"\",E3723)","v":""}]
[null,null,null,null,null,null,null,null,null,""]
[null,null,null,null,null,null,null,null,null,""]
[null,null,null,null,null,null,null,null,null,""]
[null,null,null,null,null,null,null,null,null,""]
[null,null,null,null,null,null,null,null,null,""]
[null,null,null,null,null,null,null,null,null,""]
[null,null,null,null,null,null,null,null,null,""]
[null,null,null,null,null,null,null,null,null,""]
[null,null,null,null,null,null,null,null,null,""]
[null,null,null,null,null,null,null,null,null,""]
[null,null,null,null,null,null,null,null,null,""]
[null,null,null,null,null,null,null,null,null,""]
[null,null,null,null,null,null,null,null,null,""]
[null,null,null,null,null,null,null,null,null,""]
[null,null,null,null,null,null,null,null,null,""]
[null,null,null,null,null,null,null,null,null,""]
[null,null,null,null,null,null,null,null,null,""]
[null,null,null,null,null,null,null,null,null,""]
[null,null,null,null,null,null,null,null,null,""]
[null,null,null,null,null,null,null,null,null,""]
[null,null,null,null,null,null,null,null,null,""]
[null,null,null,null,null,null,null,null,null,""]
[null,null,null,null,null,null,null,null,null,""]
[null,null,null,null,null,null,null,null,null,""]
[null,null,null,null,null,null,null,null,null,""]
[null,null,null,null,null,null,null,null,null,""]
[null,null,null,null,null,null,null,null,null,""]
[null,null,null,null,null,null,null,null,null,""]
[null,null,null,null,null,null,null,null,null,""]
[null,null,null,null,null,null,null,null,null,""]
[null,null,null,null,null,null,null,null,null,""]
[null,null,null,null,null,null,null,null,null,""]
[null,null,null,null,null,null,null,null,null,""]
[null,null,null,null,null,null,null,null,null,""]
[null,null,null,null,null,null,null,null,null,""]
[null,null,null,null,null,null,null,null,null,""]
[null,null,null,null,null,null,null,null,null,""]
[null,null,null,null,null,null,null,null,null,""]
[null,null,null,null,null,null,null,null,null,""]
[null,null,null,null,null,null,null,null,null,""]
[null,null,null,null,null,null,null,null,null,""]
[null,null,null,null,null,null,null,null,null,""]
[null,null,null,null,null,null,null,null,null,""]
[null,null,null,null,null,null,null,null,null,""]
[null,null,null,null,null,null,null,null,null,""]
[null,null,null,null,null,null,null,null,null,""]
[null,null,null,null,null,null,null,null,null,""]
[null,null,null,null,null,null,null,null,null,""]
[null,null,null,null,null,null,null,null,null,""]
[null,null,null,null,null,null,null,null,null,""]
[null,null,null,null,null,null,null,null,null,""]
[null,null,null,null,null,null,null,null,null,""]
[null,null,null,null,null,null,null,null,null,""]
[null,null,null,null,null,null,null,null,null,""]
[null,null,null,null,null,null,null,null,null,""]
[null,null,null,null,null,null,null,null,null,""]
[null,null,null,null,null,null,null,null,null,""]
[null,null,null,null,null,null,null,null,null,""]
[null,null,null,null,null,null,null,null,null,""]
[null,null,null,null,null,null,null,null,null,""]
[null,null,null,null,null,null,null,null,null,""]
[null,null,null,null,null,null,null,null,null,""]
[null,null,null,null,null,null,null,null,null,""]
[null,null,null,null,null,null,null,null,null,""]
[null,null,null,null,null,null,null,null,null,""]
[null,null,null,null,null,null,null,null,null,""]
[null,null,null,null,null,null,null,null,null,""]
[null,null,null,null,null,null,null,null,null,""]
[null,null,null,null,null,null,null,null,null,""]
[null,null,null,null,null,null,null,null,null,""]
[null,null,null,null,null,null,null,null,null,""]
[null,null,null,null,null,null,null,null,null,""]
[null,null,null,null,null,null,null,null,null,""]
[null,null,null,null,null,null,null,null,null,""]
[null,null,null,null,null,null,null,null,null,""]
[null,null,null,null,null,null,null,null,null,""]
[null,null,null,null,null,null,null,null,null,""]
[null,null,null,null,null,null,null,null,null,""]
[null,null,null,null,null,null,null,null,null,""]
[null,null,null,null,null,null,null,null,null,""]
[null,null,null,null,null,null,null,null,null,""]
[null,null,null,null,null,null,null,null,null,""]
[null,null,null,null,null,null,null,null,null,""]
[null,null,null,null,null,null,null,null,null,""]
[null,null,null,null,null,null,null,null,null,""]
[null,null,null,null,null,null,null,null,null,""]
[null,null,null,null,null,null,null,null,null,""]
[null,null,null,null,null,null,null,null,null,""]
[null,null,null,null,null,null,null,null,null,""]
[null,null,null,null,null,null,null,null,null,""]
[null,null,null,null,null,null,null,null,null,""]
[null,null,null,null,null,null,null,null,null,""]
[null,null,null,null,null,null,null,null,null,""]
[null,null,null,null,null,null,null,null,null,""]
[null,null,null,null,null,null,null,null,null,""]
[null,null,null,null,null,null,null,null,null,""]
[null,null,null,null,null,null,null,null,null,""]
[null,null,null,null,null,null,null,null,null,""]
[null,null,null,null,null,null,null,null,null,""]
[null,null,null,null,null,null,null,null,null,""]
[null,null,null,null,null,null,null,null,null,""]
[null,null,null,null,null,null,null,null,null,""]
[null,null,null,null,null,null,null,null,null,""]
[null,null,null,null,null,null,null,null,null,""]
[null,null,null,null,null,null,null,null,null,""]
[null,null,null,null,null,null,null,null,null,""]
[null,null,null,null,null,null,null,null,null,""]
[null,null,null,null,null,null,null,null,null,""]
[null,null,null,null,null,null,null,null,null,""]
[null,null,null,null,null,null,null,null,null,""]
[null,null,null,null,null,null,null,null,null,""]
[null,null,null,null,null,null,null,null,null,""]
[null,null,null,null,null,null,null,null,null,""]
[null,null,null,null,null,null,null,null,null,""]
[null,null,null,null,null,null,null,null,null,""]
[null,null,null,null,null,null,null,null,null,""]
[null,null,null,null,null,null,null,null,null,""]
[null,null,null,null,null,null,null,null,null,""]
[null,null,null,null,null,null,null,null,null,""]
[null,null,null,null,null,null,null,null,null,""]
[null,null,null,null,null,null,null,null,null,""]
[null,null,null,null,null,null,null,null,null,""]
[null,null,null,null,null,null,null,null,null,""]
[null,null,null,null,null,null,null,null,null,""]
[null,null,null,null,null,null,null,null,null,""]
[null,null,null,null,null,null,null,null,null,""]
[null,null,null,null,null,null,null,null,null,""]
[null,null,null,null,null,null,null,null,null,""]
[null,null,null,null,null,null,null,null,null,""]
[null,null,null,null,null,null,null,null,null,""]
[null,null,null,null,null,null,null,null,null,""]
[null,null,null,null,null,null,null,null,null,""]
[null,null,null,null,null,null,null,null,null,""]
[null,null,null,null,null,null,null,null,null,""]
[null,null,null,null,null,null,null,null,null,""]
[null,null,null,null,null,null,null,null,null,""]
[null,null,null,null,null,null,null,null,null,""]
[null,null,null,null,null,null,null,null,null,""]
[null,null,null,null,null,null,null,null,null,""]
[null,null,null,null,null,null,null,null,null,""]
[null,null,null,null,null,null,null,null,null,""]
[null,null,null,null,null,null,null,null,null,""]
[null,null,null,null,null,null,null,null,null,""]
[null,null,null,null,null,null,null,null,null,""]
[null,null,null,null,null,null,null,null,null,""]
[null,null,null,null,null,null,null,null,null,""]
[null,null,null,null,null,null,null,null,null,""]
[null,null,null,null,null,null,null,null,null,""]
[null,null,null,null,null,null,null,null,null,""]
[null,null,null,null,null,null,null,null,null,""]
[null,null,null,null,null,null,null,null,null,""]
[null,null,null,null,null,null,null,null,null,""]
[null,null,null,null,null,null,null,null,null,""]
[null,null,null,null,null,null,null,null,null,""]
[null,null,null,null,null,null,null,null,null,""]
[null,null,null,null,null,null,null,null,null,""]
[null,null,null,null,null,null,null,null,null,""]
[null,null,null,null,null,null,null,null,null,""]
[null,null,null,null,null,null,null,null,null,""]
[null,null,null,null,null,null,null,null,null,""]
[null,null,null,null,null,null,null,null,null,""]
[null,null,null,null,null,null,null,null,null,""]
[null,null,null,null,null,null,null,null,null,""]
[null,null,null,null,null,null,null,null,null,""]
[null,null,null,null,null,null,null,null,null,""]
[null,null,null,null,null,null,null,null,null,""]
[null,null,null,null,null,null,null,null,null,""]
[null,null,null,null,null,null,null,null,null,""]
[null,null,null,null,null,null,null,null,null,""]
[null,null,null,null,null,null,null,null,null,""]
[null,null,null,null,null,null,null,null,null,""]
[null,null,null,null,null,null,null,null,null,""]
[null,null,null,null,null,null,null,null,null,""]
[null,null,null,null,null,null,null,null,null,""]
[null,null,null,null,null,null,null,null,null,""]
[null,null,null,null,null,null,null,null,null,""]
[null,null,null,null,null,null,null,null,null,""]
[null,null,null,null,null,null,null,null,null,""]
[null,null,null,null,null,null,null,null,null,""]
[null,null,null,null,null,null,null,null,null,""]
[null,null,null,null,null,null,null,null,null,""]
[null,null,null,null,null,null,null,null,null,""]
[null,null,null,null,null,null,null,null,null,""]
[null,null,null,null,null,null,null,null,null,""]
[null,null,null,null,null,null,null,null,null,""]
[null,null,null,null,null,null,null,null,null,""]
[null,null,null,null,null,null,null,null,null,""]
[null,null,null,null,null,null,null,null,null,{"$f":"IF(ISBLANK(E5259),\"\",E5259)","v":""}]
[null,null,null,null,null,null,null,null,null,""]
[null,null,null,null,null,null,null,null,null,""]
[null,null,null,null,null,null,null,null,null,""]
[null,null,null,null,null,null,null,null,null,""]
[null,null,null,null,null,null,null,null,null,""]
[null,null,null,null,null,null,null,null,null,""]
[null,null,null,null,null,null,null,null,null,{"$f":"IF(ISBLANK(E5323),\"\",E5323)","v":""}]
[null,null,null,null,null,null,null,null,null,""]
[null,null,null,null,null,null,null,null,null,""]
[null,null,null,null,null,null,null,null,null,""]
[null,null,null,null,null,null,null,null,null,""]
[null,null,null,null,null,null,null,null,null,""]
[null,null,null,null,null,null,null,null,null,""]
[null,null,null,null,null,null,null,null,null,""]
[null,null,null,null,null,null,null,null,null,""]
[null,null,null,null,null,null,null,null,null,""]
[null,null,null,null,null,null,null,null,null,""]
[null,null,null,null,null,null,null,null,null,""]
[null,null,null,null,null,null,null,null,null,""]
[null,null,null,null,null,null,null,null,null,""]
[null,null,null,null,null,null,null,null,null,""]
[null,null,null,null,null,null,null,null,null,""]
[null,null,null,null,null,null,null,null,null,""]
[null,null,null,null,null,null,null,null,null,""]
[null,null,null,null,null,null,null,null,null,""]
[null,null,null,null,null,null,null,null,null,""]
[null,null,null,null,null,null,null,null,null,""]
[null,null,null,null,null,null,null,null,null,""]
[null,null,null,null,null,null,null,null,null,""]
[null,null,null,null,null,null,null,null,null,""]
[null,null,null,null,null,null,null,null,null,""]
[null,null,null,null,null,null,null,null,null,""]
[null,null,null,null,null,null,null,null,null,""]
[null,null,null,null,null,null,null,null,null,""]
[null,null,null,null,null,null,null,null,null,""]
[null,null,null,null,null,null,null,null,null,""]
[null,null,null,null,null,null,null,null,null,""]
[null,null,null,null,null,null,null,null,null,""]
[null,null,null,null,null,null,null,null,null,""]
[null,null,null,null,null,null,null,null,null,""]
[null,null,null,null,null,null,null,null,null,""]
[null,null,null,null,null,null,null,null,null,""]
[null,null,null,null,null,null,null,null,null,""]
[null,null,null,null,null,null,null,null,null,""]
[null,null,null,null,null,null,null,null,null,""]
[null,null,null,null,null,null,null,null,null,""]
[null,null,null,null,null,null,null,null,null,""]
[null,null,null,null,null,null,null,null,null,""]
[null,null,null,null,null,null,null,null,null,""]
[null,null,null,null,null,null,null,null,null,""]
[null,null,null,null,null,null,null,null,null,""]
[null,null,null,null,null,null,null,null,null,""]
[null,null,null,null,null,null,null,null,null,""]
[null,null,null,null,null,null,null,null,null,""]
[null,null,null,null,null,null,null,null,null,""]
[null,null,null,null,null,null,null,null,null,""]
[null,null,null,null,null,null,null,null,null,""]
[null,null,null,null,null,null,null,null,null,""]
[null,null,null,null,null,null,null,null,null,""]
[null,null,null,null,null,null,null,null,null,""]
[null,null,null,null,null,null,null,null,null,""]
[null,null,null,null,null,null,null,null,null,{"$f":"IF(ISBLANK(E5771),\"\",E5771)","v":""}]
[null,null,null,null,null,null,null,null,null,""]
[null,null,null,null,null,null,null,null,null,""]
[null,null,null,null,null,null,null,null,null,""]
[null,null,null,null,null,null,null,null,null,""]
[null,null,null,null,null,null,null,null,null,""]
[null,null,null,null,null,null,null,null,null,""]
[null,null,null,null,null,null,null,null,null,""]
[null,null,null,null,null,null,null,null,null,""]
[null,null,null,null,null,null,null,null,null,""]
[null,null,null,null,null,null,null,null,null,""]
[null,null,null,null,null,null,null,null,null,""]
[null,null,null,null,null,null,null,null,null,""]
[null,null,null,null,null,null,null,null,null,""]
[null,null,null,null,null,null,null,null,null,""]
[null,null,null,null,null,null,null,null,null,""]
[null,null,null,null,null,null,null,null,null,""]
[null,null,null,null,null,null,null,null,null,""]
[null,null,null,null,null,null,null,null,null,""]
[null,null,null,null,null,null,null,null,null,""]
[null,null,null,null,null,null,null,null,null,""]
[null,null,null,null,null,null,null,null,null,""]
[null,null,null,null,null,null,null,null,null,""]
[null,null,null,null,null,null,null,null,null,""]
[null,null,null,null,null,null,null,null,null,""]
[null,null,null,null,null,null,null,null,null,""]
[null,null,null,null,null,null,null,null,null,""]
[null,null,null,null,null,null,null,null,null,""]
[null,null,null,null,null,null,null,null,null,""]
[null,null,null,null,null,null,null,null,null,""]
[null,null,null,null,null,null,null,null,null,""]
[null,null,null,null,null,null,null,null,null,""]
[null,null,null,null,null,null,null,null,null,""]
[null,null,null,null,null,null,null,null,null,""]
[null,null,null,null,null,null,null,null,null,""]
[null,null,null,null,null,null,null,null,null,""]
[null,null,null,null,null,null,null,null,null,""]
[null,null,null,null,null,null,null,null,null,""]
[null,null,null,null,null,null,null,null,null,""]
[null,null,null,null,null,null,null,null,null,""]
[null,null,null,null,null,null,null,null,null,{"$f":"IF(ISBLANK(E6091),\"\",E6091)","v":""}]
[null,null,null,null,null,null,null,null,null,""]
[null,null,null,null,null,null,null,null,null,""]
[null,null,null,null,null,null,null,null,null,""]
[null,null,null,null,null,null,null,null,null,""]
[null,null,null,null,null,null,null,null,null,""]
[null,null,null,null,null,null,null,null,null,""]
[null,null,null,null,null,null,null,null,null,""]
[null,null,null,null,null,null,null,null,null,""]
[null,null,null,null,null,null,null,null,null,""]
[null,null,null,null,null,null,null,null,null,""]
[null,null,null,null,null,null,null,null,null,""]
[null,null,null,null,null,null,null,null,null,""]
[null,null,null,null,null,null,null,null,null,""]
[null,null,null,null,null,null,null,null,null,""]
[null,null,null,null,null,null,null,null,null,{"$f":"IF(ISBLANK(E6219),\"\",E6219)","v":""}]
[null,null,null,null,null,null,null,null,null,""]
[null,null,null,null,null,null,null,null,null,""]
[null,null,null,null,null,null,null,null,null,""]
[null,null,null,null,null,null,null,null,null,""]
[null,null,null,null,null,null,null,null,null,""]
[null,null,null,null,null,null,null,null,null,""]
[null,null,null,null,null,null,null,null,null,""]
[null,null,null,null,null,null,null,null,null,""]
[null,null,null,null,null,null,null,null,null,""]
[null,null,null,null,null,null,null,null,null,""]
[null,null,null,null,null,null,null,null,null,""]
[null,null,null,null,null,null,null,null,null,""]
[null,null,null,null,null,null,null,null,null,""]
[null,null,null,null,null,null,null,null,null,""]
[null,null,null,null,null,null,null,null,null,""]
[null,null,null,null,null,null,null,null,null,""]
[null,null,null,null,null,null,null,null,null,""]
[null,null,null,null,null,null,null,null,null,""]
[null,null,null,null,null,null,null,null,null,""]
[null,null,null,null,null,null,null,null,null,""]
[null,null,null,null,null,null,null,null,null,""]
[null,null,null,null,null,null,null,null,null,""]
[null,null,null,null,null,null,null,null,null,""]
[null,null,null,null,null,null,null,null,null,""]
[null,null,null,null,null,null,null,null,null,""]
[null,null,null,null,null,null,null,null,null,""]
[null,null,null,null,null,null,null,null,null,""]
[null,null,null,null,null,null,null,null,null,""]
[null,null,null,null,null,null,null,null,null,""]
[null,null,null,null,null,null,null,null,null,""]
[null,null,null,null,null,null,null,null,null,""]
[null,null,null,null,null,null,null,null,null,""]
[null,null,null,null,null,null,null,null,null,""]
[null,null,null,null,null,null,null,null,null,""]
[null,null,null,null,null,null,null,null,null,""]
[null,null,null,null,null,null,null,null,null,""]
[null,null,null,null,null,null,null,null,null,""]
[null,null,null,null,null,null,null,null,null,""]
[null,null,null,null,null,null,null,null,null,""]
[null,null,null,null,null,null,null,null,null,""]
[null,null,null,null,null,null,null,null,null,""]
[null,null,null,null,null,null,null,null,null,""]
[null,null,null,null,null,null,null,null,null,""]
[null,null,null,null,null,null,null,null,null,""]
[null,null,null,null,null,null,null,null,null,""]
[null,null,null,null,null,null,null,null,null,""]
[null,null,null,null,null,null,null,null,null,""]
[null,null,null,null,null,null,null,null,null,""]
[null,null,null,null,null,null,null,null,null,""]
[null,null,null,null,null,null,null,null,null,""]
[null,null,null,null,null,null,null,null,null,""]
[null,null,null,null,null,null,null,null,null,""]
[null,null,null,null,null,null,null,null,null,""]
[null,null,null,null,null,null,null,null,null,""]
[null,null,null,null,null,null,null,null,null,{"$f":"IF(ISBLANK(E6667),\"\",E6667)","v":""}]
[null,null,null,null,null,null,null,null,null,""]
[null,null,null,null,null,null,null,null,null,""]
[null,null,null,null,null,null,null,null,null,""]
[null,null,null,null,null,null,null,null,null,""]
[null,null,null,null,null,null,null,null,null,""]
[null,null,null,null,null,null,null,null,null,""]
[null,null,null,null,null,null,null,null,null,""]
[null,null,null,null,null,null,null,null,null,""]
[null,null,null,null,null,null,null,null,null,""]
[null,null,null,null,null,null,null,null,null,""]
[null,null,null,null,null,null,null,null,null,""]
[null,null,null,null,null,null,null,null,null,""]
[null,null,null,null,null,null,null,null,null,""]
[null,null,null,null,null,null,null,null,null,""]
[null,null,null,null,null,null,null,null,null,""]
[null,null,null,null,null,null,null,null,null,""]
[null,null,null,null,null,null,null,null,null,""]
[null,null,null,null,null,null,null,null,null,""]
[null,null,null,null,null,null,null,null,null,""]
[null,null,null,null,null,null,null,null,null,""]
[null,null,null,null,null,null,null,null,null,""]
[null,null,null,null,null,null,null,null,null,""]
[null,null,null,null,null,null,null,null,null,""]
[null,null,null,null,null,null,null,null,null,""]
[null,null,null,null,null,null,null,null,null,""]
[null,null,null,null,null,null,null,null,null,""]
[null,null,null,null,null,null,null,null,null,""]
[null,null,null,null,null,null,null,null,null,""]
[null,null,null,null,null,null,null,null,null,""]
[null,null,null,null,null,null,null,null,null,""]
[null,null,null,null,null,null,null,null,null,""]
[null,null,null,null,null,null,null,null,null,""]
[null,null,null,null,null,null,null,null,null,""]
[null,null,null,null,null,null,null,null,null,""]
[null,null,null,null,null,null,null,null,null,""]
[null,null,null,null,null,null,null,null,null,""]
[null,null,null,null,null,null,null,null,null,""]
[null,null,null,null,null,null,null,null,null,""]
[null,null,null,null,null,null,null,null,null,""]
[null,null,null,null,null,null,null,null,null,""]
[null,null,null,null,null,null,null,null,null,""]
[null,null,null,null,null,null,null,null,null,""]
[null,null,null,null,null,null,null,null,null,""]
[null,null,null,null,null,null,null,null,null,""]
[null,null,null,null,null,null,null,null,null,""]
[null,null,null,null,null,null,null,null,null,""]
[null,null,null,null,null,null,null,null,null,""]
[null,null,null,null,null,null,null,null,null,""]
[null,null,null,null,null,null,null,null,null,""]
[null,null,null,null,null,null,null,null,null,""]
[null,null,null,null,null,null,null,null,null,""]
[null,null,null,null,null,null,null,null,null,""]
[null,null,null,null,null,null,null,null,null,""]
[null,null,null,null,null,null,null,null,null,""]
[null,null,null,null,null,null,null,null,null,{"$f":"IF(ISBLANK(E7115),\"\",E7115)","v":""}]
[null,null,null,null,null,null,null,null,null,""]
[null,null,null,null,null,null,null,null,null,""]
[null,null,null,null,null,null,null,null,null,""]
[null,null,null,null,null,null,null,null,null,""]
[null,null,null,null,null,null,null,null,null,""]
[null,null,null,null,null,null,null,null,null,""]
[null,null,null,null,null,null,null,null,null,""]
[null,null,null,null,null,null,null,null,null,""]
[null,null,null,null,null,null,null,null,null,""]
[null,null,null,null,null,null,null,null,null,""]
[null,null,null,null,null,null,null,null,null,""]
[null,null,null,null,null,null,null,null,null,""]
[null,null,null,null,null,null,null,null,null,""]
[null,null,null,null,null,null,null,null,null,""]
[null,null,null,null,null,null,null,null,null,""]
[null,null,null,null,null,null,null,null,null,""]
[null,null,null,null,null,null,null,null,null,""]
[null,null,null,null,null,null,null,null,null,""]
[null,null,null,null,null,null,null,null,null,""]
[null,null,null,null,null,null,null,null,null,""]
[null,null,null,null,null,null,null,null,null,""]
[null,null,null,null,null,null,null,null,null,""]
[null,null,null,null,null,null,null,null,null,""]
[null,null,null,null,null,null,null,null,null,""]
[null,null,null,null,null,null,null,null,null,""]
[null,null,null,null,null,null,null,null,null,""]
[null,null,null,null,null,null,null,null,null,""]
[null,null,null,null,null,null,null,null,null,""]
[null,null,null,null,null,null,null,null,null,""]
[null,null,null,null,null,null,null,null,null,""]
[null,null,null,null,null,null,null,null,null,""]
[null,null,null,null,null,null,null,null,null,""]
[null,null,null,null,null,null,null,null,null,""]
[null,null,null,null,null,null,null,null,null,""]
[null,null,null,null,null,null,null,null,null,""]
[null,null,null,null,null,null,null,null,null,""]
[null,null,null,null,null,null,null,null,null,""]
[null,null,null,null,null,null,null,null,null,""]
[null,null,null,null,null,null,null,null,null,""]
[null,null,null,null,null,null,null,null,null,""]
[null,null,null,null,null,null,null,null,null,""]
[null,null,null,null,null,null,null,null,null,""]
[null,null,null,null,null,null,null,null,null,""]
[null,null,null,null,null,null,null,null,null,""]
[null,null,null,null,null,null,null,null,null,""]
[null,null,null,null,null,null,null,null,null,""]
[null,null,null,null,null,null,null,null,null,""]
[null,null,null,null,null,null,null,null,null,""]
[null,null,null,null,null,null,null,null,null,""]
[null,null,null,null,null,null,null,null,null,""]
[null,null,null,null,null,null,null,null,null,""]
[null,null,null,null,null,null,null,null,null,""]
[null,null,null,null,null,null,null,null,null,""]
[null,null,null,null,null,null,null,null,null,""]
[null,null,null,null,null,null,null,null,null,{"$f":"IF(ISBLANK(E7563),\"\",E7563)","v":""}]
[null,null,null,null,null,null,null,null,null,""]
[null,null,null,null,null,null,null,null,null,""]
[null,null,null,null,null,null,null,null,null,""]
[null,null,null,null,null,null,null,null,null,""]
[null,null,null,null,null,null,null,null,null,""]
[null,null,null,null,null,null,null,null,null,""]
[null,null,null,null,null,null,null,null,null,""]
[null,null,null,null,null,null,null,null,null,""]
[null,null,null,null,null,null,null,null,null,""]
[null,null,null,null,null,null,null,null,null,""]
[null,null,null,null,null,null,null,null,null,""]
[null,null,null,null,null,null,null,null,null,""]
[null,null,null,null,null,null,null,null,null,""]
[null,null,null,null,null,null,null,null,null,""]
[null,null,null,null,null,null,null,null,null,""]
[null,null,null,null,null,null,null,null,null,""]
[null,null,null,null,null,null,null,null,null,""]
[null,null,null,null,null,null,null,null,null,""]
[null,null,null,null,null,null,null,null,null,""]
[null,null,null,null,null,null,null,null,null,""]
[null,null,null,null,null,null,null,null,null,""]
[null,null,null,null,null,null,null,null,null,""]
[null,null,null,null,null,null,null,null,null,""]
[null,null,null,null,null,null,null,null,null,""]
[null,null,null,null,null,null,null,null,null,""]
[null,null,null,null,null,null,null,null,null,""]
[null,null,null,null,null,null,null,null,null,""]
[null,null,null,null,null,null,null,null,null,""]
[null,null,null,null,null,null,null,null,null,""]
[null,null,null,null,null,null,null,null,null,""]
[null,null,null,null,null,null,null,null,null,""]
[null,null,null,null,null,null,null,null,null,""]
[null,null,null,null,null,null,null,null,null,""]
[null,null,null,null,null,null,null,null,null,""]
[null,null,null,null,null,null,null,null,null,""]
[null,null,null,null,null,null,null,null,null,""]
[null,null,null,null,null,null,null,null,null,""]
[null,null,null,null,null,null,null,null,null,""]
[null,null,null,null,null,null,null,null,null,""]
[null,null,null,null,null,null,null,null,null,""]
[null,null,null,null,null,null,null,null,null,""]
[null,null,null,null,null,null,null,null,null,""]
[null,null,null,null,null,null,null,null,null,""]
[null,null,null,null,null,null,null,null,null,""]
[null,null,null,null,null,null,null,null,null,""]
[null,null,null,null,null,null,null,null,null,""]
[null,null,null,null,null,null,null,null,null,""]
[null,null,null,null,null,null,null,null,null,""]
[null,null,null,null,null,null,null,null,null,""]
[null,null,null,null,null,null,null,null,null,""]
[null,null,null,null,null,null,null,null,null,""]
[null,null,null,null,null,null,null,null,null,""]
[null,null,null,null,null,null,null,null,null,""]
[null,null,null,null,null,null,null,null,null,""]
[null,null,null,null,null,null,null,null,null,{"$f":"IF(ISBLANK(E8011),\"\",E8011)","v":""}]
[null,null,null,null,null,null,null,null,null,""]
[null,null,null,null,null,null,null,null,null,""]
[null,null,null,null,null,null,null,null,null,""]
[null,null,null,null,null,null,null,null,null,""]
[null,null,null,null,null,null,null,null,null,""]
[null,null,null,null,null,null,null,null,null,""]
[null,null,null,null,null,null,null,null,null,""]
[null,null,null,null,null,null,null,null,null,""]
[null,null,null,null,null,null,null,null,null,""]
[null,null,null,null,null,null,null,null,null,""]
[null,null,null,null,null,null,null,null,null,""]
[null,null,null,null,null,null,null,null,null,""]
[null,null,null,null,null,null,null,null,null,""]
[null,null,null,null,null,null,null,null,null,""]
[null,null,null,null,null,null,null,null,null,""]
[null,null,null,null,null,null,null,null,null,""]
[null,null,null,null,null,null,null,null,null,""]
[null,null,null,null,null,null,null,null,null,""]
[null,null,null,null,null,null,null,null,null,""]
[null,null,null,null,null,null,null,null,null,""]
[null,null,null,null,null,null,null,null,null,""]
[null,null,null,null,null,null,null,null,null,""]
[null,null,null,null,null,null,null,null,null,""]
[null,null,null,null,null,null,null,null,null,""]
[null,null,null,null,null,null,null,null,null,""]
[null,null,null,null,null,null,null,null,null,""]
[null,null,null,null,null,null,null,null,null,""]
[null,null,null,null,null,null,null,null,null,""]
[null,null,null,null,null,null,null,null,null,""]
[null,null,null,null,null,null,null,null,null,""]
[null,null,null,null,null,null,null,null,null,""]
[null,null,null,null,null,null,null,null,null,""]
[null,null,null,null,null,null,null,null,null,""]
[null,null,null,null,null,null,null,null,null,""]
[null,null,null,null,null,null,null,null,null,""]
[null,null,null,null,null,null,null,null,null,""]
[null,null,null,null,null,null,null,null,null,""]
[null,null,null,null,null,null,null,null,null,""]
[null,null,null,null,null,null,null,null,null,""]
[null,null,null,null,null,null,null,null,null,""]
[null,null,null,null,null,null,null,null,null,""]
[null,null,null,null,null,null,null,null,null,""]
[null,null,null,null,null,null,null,null,null,""]
[null,null,null,null,null,null,null,null,null,""]
[null,null,null,null,null,null,null,null,null,""]
[null,null,null,null,null,null,null,null,null,""]
[null,null,null,null,null,null,null,null,null,""]
[null,null,null,null,null,null,null,null,null,""]
[null,null,null,null,null,null,null,null,null,""]
[null,null,null,null,null,null,null,null,null,""]
[null,null,null,null,null,null,null,null,null,""]
[null,null,null,null,null,null,null,null,null,""]
[null,null,null,null,null,null,null,null,null,""]
[null,null,null,null,null,null,null,null,null,""]
[null,null,null,null,null,null,null,null,null,{"$f":"IF(ISBLANK(E8459),\"\",E8459)","v":""}]
[null,null,null,null,null,null,null,null,null,""]
[null,null,null,null,null,null,null,null,null,""]
[null,null,null,null,null,null,null,null,null,""]
[null,null,null,null,null,null,null,null,null,""]
[null,null,null,null,null,null,null,null,null,""]
[null,null,null,null,null,null,null,null,null,""]
[null,null,null,null,null,null,null,null,null,""]
[null,null,null,null,null,null,null,null,null,""]
[null,null,null,null,null,null,null,null,null,""]
[null,null,null,null,null,null,null,null,null,""]
[null,null,null,null,null,null,null,null,null,""]
[null,null,null,null,null,null,null,null,null,""]
[null,null,null,null,null,null,null,null,null,""]
[null,null,null,null,null,null,null,null,null,""]
[null,null,null,null,null,null,null,null,null,""]
[null,null,null,null,null,null,null,null,null,""]
[null,null,null,null,null,null,null,null,null,""]
[null,null,null,null,null,null,null,null,null,""]
[null,null,null,null,null,null,null,null,null,""]
[null,null,null,null,null,null,null,null,null,""]
[null,null,null,null,null,null,null,null,null,""]
[null,null,null,null,null,null,null,null,null,""]
[null,null,null,null,null,null,null,null,null,""]
[null,null,null,null,null,null,null,null,null,""]
[null,null,null,null,null,null,null,null,null,""]
[null,null,null,null,null,null,null,null,null,""]
[null,null,null,null,null,null,null,null,null,""]
[null,null,null,null,null,null,null,null,null,""]
[null,null,null,null,null,null,null,null,null,""]
[null,null,null,null,null,null,null,null,null,""]
[null,null,null,null,null,null,null,null,null,""]
[null,null,null,null,null,null,null,null,null,""]
[null,null,null,null,null,null,null,null,null,""]
[null,null,null,null,null,null,null,null,null,""]
[null,null,null,null,null,null,null,null,null,""]
[null,null,null,null,null,null,null,null,null,""]
[null,null,null,null,null,null,null,null,null,""]
[null,null,null,null,null,null,null,null,null,""]
[null,null,null,null,null,null,null,null,null,""]
[null,null,null,null,null,null,null,null,null,""]
[null,null,null,null,null,null,null,null,null,""]
[null,null,null,null,null,null,null,null,null,""]
[null,null,null,null,null,null,null,null,null,""]
[null,null,null,null,null,null,null,null,null,""]
[null,null,null,null,null,null,null,null,null,""]
[null,null,null,null,null,null,null,null,null,""]
[null,null,null,null,null,null,null,null,null,""]
[null,null,null,null,null,null,null,null,null,""]
[null,null,null,null,null,null,null,null,null,""]
[null,null,null,null,null,null,null,null,null,""]
[null,null,null,null,null,null,null,null,null,""]
[null,null,null,null,null,null,null,null,null,""]
[null,null,null,null,null,null,null,null,null,""]
[null,null,null,null,null,null,null,null,null,""]
[null,null,null,null,null,null,null,null,null,""]
[null,null,null,null,null,null,null,null,null,""]
[null,null,null,null,null,null,null,null,null,""]
[null,null,null,null,null,null,null,null,null,""]
[null,null,null,null,null,null,null,null,null,""]
[null,null,null,null,null,null,null,null,null,""]
[null,null,null,null,null,null,null,null,null,""]
[null,null,null,null,null,null,null,null,null,""]
[null,null,null,null,null,null,null,null,null,""]
[null,null,null,null,null,null,null,null,null,""]
[null,null,null,null,null,null,null,null,null,""]
[null,null,null,null,null,null,null,null,null,""]
[null,null,null,null,null,null,null,null,null,""]
[null,null,null,null,null,null,null,null,null,""]
[null,null,null,null,null,null,null,null,null,""]
[null,null,null,null,null,null,null,null,null,""]
[null,null,null,null,null,null,null,null,null,""]
[null,null,null,null,null,null,null,null,null,""]
[null,null,null,null,null,null,null,null,null,""]
[null,null,null,null,null,null,null,null,null,""]
[null,null,null,null,null,null,null,null,null,""]
[null,null,null,null,null,null,null,null,null,""]
[null,null,null,null,null,null,null,null,null,""]
[null,null,null,null,null,null,null,null,null,""]
[null,null,null,null,null,null,null,null,null,""]
[null,null,null,null,null,null,null,null,null,""]
[null,null,null,null,null,null,null,null,null,""]
[null,null,null,null,null,null,null,null,null,""]
[null,null,null,null,null,null,null,null,null,""]
[null,null,null,null,null,null,null,null,null,""]
[null,null,null,null,null,null,null,null,null,""]
[null,null,null,null,null,null,null,null,null,""]
[null,null,null,null,null,null,null,null,null,""]
[null,null,null,null,null,null,null,null,null,""]
[null,null,null,null,null,null,null,null,null,""]
[null,null,null,null,null,null,null,null,null,""]
[null,null,null,null,null,null,null,null,null,""]
[null,null,null,null,null,null,null,null,null,""]
[null,null,null,null,null,null,null,null,null,""]
[null,null,null,null,null,null,null,null,null,""]
[null,null,null,null,null,null,null,null,null,""]
[null,null,null,null,null,null,null,null,null,""]
[null,null,null,null,null,null,null,null,null,""]
[null,null,null,null,null,null,null,null,null,""]
[null,null,null,null,null,null,null,null,null,""]
[null,null,null,null,null,null,null,null,null,""]
[null,null,null,null,null,null,null,null,null,""]
[null,null,null,null,null,null,null,null,null,""]
[null,null,null,null,null,null,null,null,null,""]
[null,null,null,null,null,null,null,null,null,""]
[null,null,null,null,null,null,null,null,null,""]
[null,null,null,null,null,null,null,null,null,""]
[null,null,null,null,null,null,null,null,null,""]
[null,null,null,null,null,null,null,null,null,""]
[null,null,null,null,null,null,null,null,null,""]
[null,null,null,null,null,null,null,null,null,""]
[null,null,null,null,null,null,null,null,null,""]
[null,null,null,null,null,null,null,null,null,""]
[null,null,null,null,null,null,null,null,null,""]
[null,null,null,null,null,null,null,null,null,""]
[null,null,null,null,null,null,null,null,null,""]
[null,null,null,null,null,null,null,null,null,""]
[null,null,null,null,null,null,null,null,null,""]
[null,null,null,null,null,null,null,null,null,""]
[null,null,null,null,null,null,null,null,null,""]
[null,null,null,null,null,null,null,null,null,""]
[null,null,null,null,null,null,null,null,null,""]
[null,null,null,null,null,null,null,null,null,""]
[null,null,null,null,null,null,null,null,null,""]
[null,null,null,null,null,null,null,null,null,""]
[null,null,null,null,null,null,null,null,null,""]
[null,null,null,null,null,null,null,null,null,""]
[null,null,null,null,null,null,null,null,null,""]
[null,null,null,null,null,null,null,null,null,""]
[null,null,null,null,null,null,null,null,null,""]
[null,null,null,null,null,null,null,null,null,""]
[null,null,null,null,null,null,null,null,null,""]
[null,null,null,null,null,null,null,null,null,""]
[null,null,null,null,null,null,null,null,null,""]
[null,null,null,null,null,null,null,null,null,""]
[null,null,null,null,null,null,null,null,null,""]
[null,null,null,null,null,null,null,null,null,""]
[null,null,null,null,null,null,null,null,null,""]
[null,null,null,null,null,null,null,null,null,""]
[null,null,null,null,null,null,null,null,null,""]
[null,null,null,null,null,null,null,null,null,""]
[null,null,null,null,null,null,null,null,null,""]
[null,null,null,null,null,null,null,null,null,""]
[null,null,null,null,null,null,null,null,null,""]
[null,null,null,null,null,null,null,null,null,""]
[null,null,null,null,null,null,null,null,null,""]
[null,null,null,null,null,null,null,null,null,""]
[null,null,null,null,null,null,null,null,null,""]
[null,null,null,null,null,null,null,null,null,""]
[null,null,null,null,null,null,null,null,null,""]
[null,null,null,null,null,null,null,null,null,""]
[null,null,null,null,null,null,null,null,null,""]
[null,null,null,null,null,null,null,null,null,""]
[null,null,null,null,null,null,null,null,null,""]
[null,null,null,null,null,null,null,null,null,""]
[null,null,null,null,null,null,null,null,null,""]
[null,null,null,null,null,null,null,null,null,""]
[null,null,null,null,null,null,null,null,null,""]
[null,null,null,null,null,null,null,null,null,""]
[null,null,null,null,null,null,null,null,null,""]
[null,null,null,null,null,null,null,null,null,""]
[null,null,null,null,null,null,null,null,null,""]
[null,null,null,null,null,null,null,null,null,""]
[null,null,null,null,null,null,null,null,null,""]
[null,null,null,null,null,null,null,null,null,{"$f":"IF(ISBLANK(E9803),\"\",E9803)","v":""}]
[null,null,null,null,null,null,null,null,null,""]
[null,null,null,null,null,null,null,null,null,""]
[null,null,null,null,null,null,null,null,null,""]
[null,null,null,null,null,null,null,null,null,""]
[null,null,null,null,null,null,null,null,null,""]
[null,null,null,null,null,null,null,null,null,""]
[null,null,null,null,null,null,null,null,null,""]
[null,null,null,null,null,null,null,null,null,""]
[null,null,null,null,null,null,null,null,null,""]
[null,null,null,null,null,null,null,null,null,""]
[null,null,null,null,null,null,null,null,null,""]
[null,null,null,null,null,null,null,null,null,""]
[null,null,null,null,null,null,null,null,null,""]
[null,null,null,null,null,null,null,null,null,""]
[null,null,null,null,null,null,null,null,null,""]
[null,null,null,null,null,null,null,null,null,""]
[null,null,null,null,null,null,null,null,null,""]
[null,null,null,null,null,null,null,null,null,""]
[null,null,null,null,null,null,null,null,null,""]
[null,null,null,null,null,null,null,null,null,""]
[null,null,null,null,null,null,null,null,null,""]
[null,null,null,null,null,null,null,null,null,""]
[null,null,null,null,null,null,null,null,null,""]
[null,null,null,null,null,null,null,null,null,""]
[null,null,null,null,null,null,null,null,null,""]
[null,null,null,null,null,null,null,null,null,""]
[null,null,null,null,null,null,null,null,null,""]
[null,null,null,null,null,null,null,null,null,""]
[null,null,null,null,null,null,null,null,null,""]
[null,null,null,null,null,null,null,null,null,""]
[null,null,null,null,null,null,null,null,null,""]
[null,null,null,null,null,null,null,null,null,""]
[null,null,null,null,null,null,null,null,null,""]
[null,null,null,null,null,null,null,null,null,""]
[null,null,null,null,null,null,null,null,null,""]
[null,null,null,null,null,null,null,null,null,""]
[null,null,null,null,null,null,null,null,null,""]
[null,null,null,null,null,null,null,null,null,""]
[null,null,null,null,null,null,null,null,null,""]
[null,null,null,null,null,null,null,null,null,""]
[null,null,null,null,null,null,null,null,null,""]
[null,null,null,null,null,null,null,null,null,""]
[null,null,null,null,null,null,null,null,null,""]
[null,null,null,null,null,null,null,null,null,""]
[null,null,null,null,null,null,null,null,null,""]
[null,null,null,null,null,null,null,null,null,""]
[null,null,null,null,null,null,null,null,null,""]
[null,null,null,null,null,null,null,null,null,""]
[null,null,null,null,null,null,null,null,null,""]
[null,null,null,null,null,null,null,null,null,""]
[null,null,null,null,null,null,null,null,null,""]
[null,null,null,null,null,null,null,null,null,""]
[null,null,null,null,null,null,null,null,null,""]
[null,null,null,null,null,null,null,null,null,""]
[null,null,null,null,null,null,null,null,null,{"$f":"IF(ISBLANK(E10251),\"\",E10251)","v":""}]
[null,null,null,null,null,null,null,null,null,""]
[null,null,null,null,null,null,null,null,null,""]
[null,null,null,null,null,null,null,null,null,""]
[null,null,null,null,null,null,null,null,null,""]
[null,null,null,null,null,null,null,null,null,""]
[null,null,null,null,null,null,null,null,null,""]
[null,null,null,null,null,null,null,null,null,""]
[null,null,null,null,null,null,null,null,null,""]
[null,null,null,null,null,null,null,null,null,""]
[null,null,null,null,null,null,null,null,null,""]
[null,null,null,null,null,null,null,null,null,""]
[null,null,null,null,null,null,null,null,null,""]
[null,null,null,null,null,null,null,null,null,""]
[null,null,null,null,null,null,null,null,null,""]
[null,null,null,null,null,null,null,null,null,""]
[null,null,null,null,null,null,null,null,null,""]
[null,null,null,null,null,null,null,null,null,""]
[null,null,null,null,null,null,null,null,null,""]
[null,null,null,null,null,null,null,null,null,""]
[null,null,null,null,null,null,null,null,null,""]
[null,null,null,null,null,null,null,null,null,""]
[null,null,null,null,null,null,null,null,null,""]
[null,null,null,null,null,null,null,null,null,""]
[null,null,null,null,null,null,null,null,null,""]
[null,null,null,null,null,null,null,null,null,""]
[null,null,null,null,null,null,null,null,null,""]
[null,null,null,null,null,null,null,null,null,""]
[null,null,null,null,null,null,null,null,null,""]
[null,null,null,null,null,null,null,null,null,""]
[null,null,null,null,null,null,null,null,null,""]
[null,null,null,null,null,null,null,null,null,""]
[null,null,null,null,null,null,null,null,null,""]
[null,null,null,null,null,null,null,null,null,""]
[null,null,null,null,null,null,null,null,null,""]
[null,null,null,null,null,null,null,null,null,""]
[null,null,null,null,null,null,null,null,null,""]
[null,null,null,null,null,null,null,null,null,""]
[null,null,null,null,null,null,null,null,null,""]
[null,null,null,null,null,null,null,null,null,""]
[null,null,null,null,null,null,null,null,null,""]
[null,null,null,null,null,null,null,null,null,""]
[null,null,null,null,null,null,null,null,null,""]
[null,null,null,null,null,null,null,null,null,""]
[null,null,null,null,null,null,null,null,null,""]
[null,null,null,null,null,null,null,null,null,""]
[null,null,null,null,null,null,null,null,null,""]
[null,null,null,null,null,null,null,null,null,""]
[null,null,null,null,null,null,null,null,null,""]
[null,null,null,null,null,null,null,null,null,""]
[null,null,null,null,null,null,null,null,null,""]
[null,null,null,null,null,null,null,null,null,""]
[null,null,null,null,null,null,null,null,null,""]
[null,null,null,null,null,null,null,null,null,""]
[null,null,null,null,null,null,null,null,null,""]
[null,null,null,null,null,null,null,null,null,{"$f":"IF(ISBLANK(E10699),\"\",E10699)","v":""}]
[null,null,null,null,null,null,null,null,null,""]
[null,null,null,null,null,null,null,null,null,""]
[null,null,null,null,null,null,null,null,null,""]
[null,null,null,null,null,null,null,null,null,""]
[null,null,null,null,null,null,null,null,null,""]
[null,null,null,null,null,null,null,null,null,""]
[null,null,null,null,null,null,null,null,null,""]
[null,null,null,null,null,null,null,null,null,""]
[null,null,null,null,null,null,null,null,null,""]
[null,null,null,null,null,null,null,null,null,""]
[null,null,null,null,null,null,null,null,null,""]
[null,null,null,null,null,null,null,null,null,""]
[null,null,null,null,null,null,null,null,null,""]
[null,null,null,null,null,null,null,null,null,""]
[null,null,null,null,null,null,null,null,null,""]
[null,null,null,null,null,null,null,null,null,""]
[null,null,null,null,null,null,null,null,null,""]
[null,null,null,null,null,null,null,null,null,""]
[null,null,null,null,null,null,null,null,null,""]
[null,null,null,null,null,null,null,null,null,""]
[null,null,null,null,null,null,null,null,null,""]
[null,null,null,null,null,null,null,null,null,""]
[null,null,null,null,null,null,null,null,null,""]
[null,null,null,null,null,null,null,null,null,""]
[null,null,null,null,null,null,null,null,null,""]
[null,null,null,null,null,null,null,null,null,""]
[null,null,null,null,null,null,null,null,null,""]
[null,null,null,null,null,null,null,null,null,""]
[null,null,null,null,null,null,null,null,null,""]
[null,null,null,null,null,null,null,null,null,""]
[null,null,null,null,null,null,null,null,null,""]
[null,null,null,null,null,null,null,null,null,""]
[null,null,null,null,null,null,null,null,null,""]
[null,null,null,null,null,null,null,null,null,""]
[null,null,null,null,null,null,null,null,null,""]
[null,null,null,null,null,null,null,null,null,""]
[null,null,null,null,null,null,null,null,null,""]
[null,null,null,null,null,null,null,null,null,""]
[null,null,null,null,null,null,null,null,null,""]
[null,null,null,null,null,null,null,null,null,""]
[null,null,null,null,null,null,null,null,null,""]
[null,null,null,null,null,null,null,null,null,""]
[null,null,null,null,null,null,null,null,null,""]
[null,null,null,null,null,null,null,null,null,""]
[null,null,null,null,null,null,null,null,null,""]
[null,null,null,null,null,null,null,null,null,""]
[null,null,null,null,null,null,null,null,null,""]
[null,null,null,null,null,null,null,null,null,""]
[null,null,null,null,null,null,null,null,null,""]
[null,null,null,null,null,null,null,null,null,""]
[null,null,null,null,null,null,null,null,null,""]
[null,null,null,null,null,null,null,null,null,""]
[null,null,null,null,null,null,null,null,null,""]
[null,null,null,null,null,null,null,null,null,""]
[null,null,null,null,null,null,null,null,null,{"$f":"IF(ISBLANK(E11147),\"\",E11147)","v":""}]
[null,null,null,null,null,null,null,null,null,""]
[null,null,null,null,null,null,null,null,null,""]
[null,null,null,null,null,null,null,null,null,""]
[null,null,null,null,null,null,null,null,null,""]
[null,null,null,null,null,null,null,null,null,""]
[null,null,null,null,null,null,null,null,null,""]
[null,null,null,null,null,null,null,null,null,""]
[null,null,null,null,null,null,null,null,null,""]
[null,null,null,null,null,null,null,null,null,""]
[null,null,null,null,null,null,null,null,null,""]
[null,null,null,null,null,null,null,null,null,""]
[null,null,null,null,null,null,null,null,null,""]
[null,null,null,null,null,null,null,null,null,""]
[null,null,null,null,null,null,null,null,null,""]
[null,null,null,null,null,null,null,null,null,""]
[null,null,null,null,null,null,null,null,null,""]
[null,null,null,null,null,null,null,null,null,""]
[null,null,null,null,null,null,null,null,null,""]
[null,null,null,null,null,null,null,null,null,""]
[null,null,null,null,null,null,null,null,null,""]
[null,null,null,null,null,null,null,null,null,""]
[null,null,null,null,null,null,null,null,null,""]
[null,null,null,null,null,null,null,null,null,""]
[null,null,null,null,null,null,null,null,null,""]
[null,null,null,null,null,null,null,null,null,""]
[null,null,null,null,null,null,null,null,null,""]
[null,null,null,null,null,null,null,null,null,""]
[null,null,null,null,null,null,null,null,null,""]
[null,null,null,null,null,null,null,null,null,""]
[null,null,null,null,null,null,null,null,null,""]
[null,null,null,null,null,null,null,null,null,""]
[null,null,null,null,null,null,null,null,null,""]
[null,null,null,null,null,null,null,null,null,""]
[null,null,null,null,null,null,null,null,null,""]
[null,null,null,null,null,null,null,null,null,""]
[null,null,null,null,null,null,null,null,null,""]
[null,null,null,null,null,null,null,null,null,""]
[null,null,null,null,null,null,null,null,null,""]
[null,null,null,null,null,null,null,null,null,""]
[null,null,null,null,null,null,null,null,null,""]
[null,null,null,null,null,null,null,null,null,""]
[null,null,null,null,null,null,null,null,null,""]
[null,null,null,null,null,null,null,null,null,""]
[null,null,null,null,null,null,null,null,null,""]
[null,null,null,null,null,null,null,null,null,""]
[null,null,null,null,null,null,null,null,null,""]
[null,null,null,null,null,null,null,null,null,""]
[null,null,null,null,null,null,null,null,null,""]
[null,null,null,null,null,null,null,null,null,""]
[null,null,null,null,null,null,null,null,null,""]
[null,null,null,null,null,null,null,null,null,""]
[null,null,null,null,null,null,null,null,null,""]
[null,null,null,null,null,null,null,null,null,""]
[null,null,null,null,null,null,null,null,null,""]
[null,null,null,null,null,null,null,null,null,{"$f":"IF(ISBLANK(E11595),\"\",E11595)","v":""}]
[null,null,null,null,null,null,null,null,null,""]
[null,null,null,null,null,null,null,null,null,""]
[null,null,null,null,null,null,null,null,null,""]
[null,null,null,null,null,null,null,null,null,""]
[null,null,null,null,null,null,null,null,null,""]
[null,null,null,null,null,null,null,null,null,""]
[null,null,null,null,null,null,null,null,null,{"$f":"IF(ISBLANK(E11659),\"\",E11659)","v":""}]
[null,null,null,null,null,null,null,null,null,""]
[null,null,null,null,null,null,null,null,null,""]
[null,null,null,null,null,null,null,null,null,""]
[null,null,null,null,null,null,null,null,null,""]
[null,null,null,null,null,null,null,null,null,""]
[null,null,null,null,null,null,null,null,null,""]
[null,null,null,null,null,null,null,null,null,""]
[null,null,null,null,null,null,null,null,null,""]
[null,null,null,null,null,null,null,null,null,""]
[null,null,null,null,null,null,null,null,null,""]
[null,null,null,null,null,null,null,null,null,""]
[null,null,null,null,null,null,null,null,null,""]
[null,null,null,null,null,null,null,null,null,""]
[null,null,null,null,null,null,null,null,null,""]
[null,null,null,null,null,null,null,null,null,""]
[null,null,null,null,null,null,null,null,null,""]
[null,null,null,null,null,null,null,null,null,""]
[null,null,null,null,null,null,null,null,null,""]
[null,null,null,null,null,null,null,null,null,""]
[null,null,null,null,null,null,null,null,null,""]
[null,null,null,null,null,null,null,null,null,""]
[null,null,null,null,null,null,null,null,null,""]
[null,null,null,null,null,null,null,null,null,""]
[null,null,null,null,null,null,null,null,null,""]
[null,null,null,null,null,null,null,null,null,""]
[null,null,null,null,null,null,null,null,null,""]
[null,null,null,null,null,null,null,null,null,""]
[null,null,null,null,null,null,null,null,null,""]
[null,null,null,null,null,null,null,null,null,""]
[null,null,null,null,null,null,null,null,null,""]
[null,null,null,null,null,null,null,null,null,""]
[null,null,null,null,null,null,null,null,null,""]
[null,null,null,null,null,null,null,null,null,""]
[null,null,null,null,null,null,null,null,null,""]
[null,null,null,null,null,null,null,null,null,""]
[null,null,null,null,null,null,null,null,null,""]
[null,null,null,null,null,null,null,null,null,""]
[null,null,null,null,null,null,null,null,null,""]
[null,null,null,null,null,null,null,null,null,""]
[null,null,null,null,null,null,null,null,null,""]
[null,null,null,null,null,null,null,null,null,""]
[null,null,null,null,null,null,null,null,null,""]
[null,null,null,null,null,null,null,null,null,""]
[null,null,null,null,null,null,null,null,null,""]
[null,null,null,null,null,null,null,null,null,""]
[null,null,null,null,null,null,null,null,null,""]
[null,null,null,null,null,null,null,null,null,""]
[null,null,null,null,null,null,null,null,null,""]
[null,null,null,null,null,null,null,null,null,""]
[null,null,null,null,null,null,null,null,null,""]
[null,null,null,null,null,null,null,null,null,""]
[null,null,null,null,null,null,null,null,null,""]
[null,null,null,null,null,null,null,null,null,""]
[null,null,null,null,null,null,null,null,null,""]
[null,null,null,null,null,null,null,null,null,{"$f":"IF(ISBLANK(E12107),\"\",E12107)","v":""}]
[null,null,null,null,null,null,null,null,null,""]
[null,null,null,null,null,null,null,null,null,""]
[null,null,null,null,null,null,null,null,null,""]
[null,null,null,null,null,null,null,null,null,""]
[null,null,null,null,null,null,null,null,null,""]
[null,null,null,null,null,null,null,null,null,""]
[null,null,null,null,null,null,null,null,null,""]
[null,null,null,null,null,null,null,null,null,""]
[null,null,null,null,null,null,null,null,null,""]
[null,null,null,null,null,null,null,null,null,""]
[null,null,null,null,null,null,null,null,null,""]
[null,null,null,null,null,null,null,null,null,""]
[null,null,null,null,null,null,null,null,null,""]
[null,null,null,null,null,null,null,null,null,""]
[null,null,null,null,null,null,null,null,null,""]
[null,null,null,null,null,null,null,null,null,""]
[null,null,null,null,null,null,null,null,null,""]
[null,null,null,null,null,null,null,null,null,""]
[null,null,null,null,null,null,null,null,null,""]
[null,null,null,null,null,null,null,null,null,""]
[null,null,null,null,null,null,null,null,null,""]
[null,null,null,null,null,null,null,null,null,""]
[null,null,null,null,null,null,null,null,null,""]
[null,null,null,null,null,null,null,null,null,""]
[null,null,null,null,null,null,null,null,null,""]
[null,null,null,null,null,null,null,null,null,""]
[null,null,null,null,null,null,null,null,null,""]
[null,null,null,null,null,null,null,null,null,""]
[null,null,null,null,null,null,null,null,null,""]
[null,null,null,null,null,null,null,null,null,""]
[null,null,null,null,null,null,null,null,null,""]
[null,null,null,null,null,null,null,null,null,""]
[null,null,null,null,null,null,null,null,null,""]
[null,null,null,null,null,null,null,null,null,""]
[null,null,null,null,null,null,null,null,null,""]
[null,null,null,null,null,null,null,null,null,""]
[null,null,null,null,null,null,null,null,null,""]
[null,null,null,null,null,null,null,null,null,""]
[null,null,null,null,null,null,null,null,null,""]
[null,null,null,null,null,null,null,null,null,""]
[null,null,null,null,null,null,null,null,null,""]
[null,null,null,null,null,null,null,null,null,""]
[null,null,null,null,null,null,null,null,null,""]
[null,null,null,null,null,null,null,null,null,""]
[null,null,null,null,null,null,null,null,null,""]
[null,null,null,null,null,null,null,null,null,""]
[null,null,null,null,null,null,null,null,null,""]
[null,null,null,null,null,null,null,null,null,""]
[null,null,null,null,null,null,null,null,null,""]
[null,null,null,null,null,null,null,null,null,""]
[null,null,null,null,null,null,null,null,null,""]
[null,null,null,null,null,null,null,null,null,""]
[null,null,null,null,null,null,null,null,null,""]
[null,null,null,null,null,null,null,null,null,""]
[null,null,null,null,null,null,null,null,null,{"$f":"IF(ISBLANK(E12555),\"\",E12555)","v":""}]
[null,null,null,null,null,null,null,null,null,""]
[null,null,null,null,null,null,null,null,null,""]
[null,null,null,null,null,null,null,null,null,""]
[null,null,null,null,null,null,null,null,null,""]
[null,null,null,null,null,null,null,null,null,""]
[null,null,null,null,null,null,null,null,null,""]
[null,null,null,null,null,null,null,null,null,""]
[null,null,null,null,null,null,null,null,null,""]
[null,null,null,null,null,null,null,null,null,""]
[null,null,null,null,null,null,null,null,null,""]
[null,null,null,null,null,null,null,null,null,""]
[null,null,null,null,null,null,null,null,null,""]
[null,null,null,null,null,null,null,null,null,""]
[null,null,null,null,null,null,null,null,null,""]
[null,null,null,null,null,null,null,null,null,""]
[null,null,null,null,null,null,null,null,null,""]
[null,null,null,null,null,null,null,null,null,""]
[null,null,null,null,null,null,null,null,null,""]
[null,null,null,null,null,null,null,null,null,""]
[null,null,null,null,null,null,null,null,null,""]
[null,null,null,null,null,null,null,null,null,""]
[null,null,null,null,null,null,null,null,null,""]
[null,null,null,null,null,null,null,null,null,""]
[null,null,null,null,null,null,null,null,null,""]
[null,null,null,null,null,null,null,null,null,""]
[null,null,null,null,null,null,null,null,null,""]
[null,null,null,null,null,null,null,null,null,""]
[null,null,null,null,null,null,null,null,null,""]
[null,null,null,null,null,null,null,null,null,""]
[null,null,null,null,null,null,null,null,null,""]
[null,null,null,null,null,null,null,null,null,""]
[null,null,null,null,null,null,null,null,null,""]
[null,null,null,null,null,null,null,null,null,""]
[null,null,null,null,null,null,null,null,null,""]
[null,null,null,null,null,null,null,null,null,""]
[null,null,null,null,null,null,null,null,null,""]
[null,null,null,null,null,null,null,null,null,""]
[null,null,null,null,null,null,null,null,null,""]
[null,null,null,null,null,null,null,null,null,""]
[null,null,null,null,null,null,null,null,null,""]
[null,null,null,null,null,null,null,null,null,""]
[null,null,null,null,null,null,null,null,null,""]
[null,null,null,null,null,null,null,null,null,""]
[null,null,null,null,null,null,null,null,null,""]
[null,null,null,null,null,null,null,null,null,""]
[null,null,null,null,null,null,null,null,null,""]
[null,null,null,null,null,null,null,null,null,""]
[null,null,null,null,null,null,null,null,null,""]
[null,null,null,null,null,null,null,null,null,""]
[null,null,null,null,null,null,null,null,null,""]
[null,null,null,null,null,null,null,null,null,""]
[null,null,null,null,null,null,null,null,null,""]
[null,null,null,null,null,null,null,null,null,""]
[null,null,null,null,null,null,null,null,null,""]
[null,null,null,null,null,null,null,null,null,""]
[null,null,null,null,null,null,null,null,null,""]
[null,null,null,null,null,null,null,null,null,""]
[null,null,null,null,null,null,null,null,null,""]
[null,null,null,null,null,null,null,null,null,""]
[null,null,null,null,null,null,null,null,null,""]
[null,null,null,null,null,null,null,null,null,""]
[null,null,null,null,null,null,null,null,null,""]
[null,null,null,null,null,null,null,null,null,""]
[null,null,null,null,null,null,null,null,null,""]
[null,null,null,null,null,null,null,null,null,""]
[null,null,null,null,null,null,null,null,null,""]
[null,null,null,null,null,null,null,null,null,""]
[null,null,null,null,null,null,null,null,null,""]
[null,null,null,null,null,null,null,null,null,""]
[null,null,null,null,null,null,null,null,null,""]
[null,null,null,null,null,null,null,null,null,""]
[null,null,null,null,null,null,null,null,null,""]
[null,null,null,null,null,null,null,null,null,""]
[null,null,null,null,null,null,null,null,null,""]
[null,null,null,null,null,null,null,null,null,""]
[null,null,null,null,null,null,null,null,null,""]
[null,null,null,null,null,null,null,null,null,""]
[null,null,null,null,null,null,null,null,null,""]
[null,null,null,null,null,null,null,null,null,""]
[null,null,null,null,null,null,null,null,null,""]
[null,null,null,null,null,null,null,null,null,""]
[null,null,null,null,null,null,null,null,null,""]
[null,null,null,null,null,null,null,null,null,""]
[null,null,null,null,null,null,null,null,null,""]
[null,null,null,null,null,null,null,null,null,""]
[null,null,null,null,null,null,null,null,null,""]
[null,null,null,null,null,null,null,null,null,""]
[null,null,null,null,null,null,null,null,null,""]
[null,null,null,null,null,null,null,null,null,""]
[null,null,null,null,null,null,null,null,null,""]
[null,null,null,null,null,null,null,null,null,""]
[null,null,null,null,null,null,null,null,null,""]
[null,null,null,null,null,null,null,null,null,""]
[null,null,null,null,null,null,null,null,null,""]
[null,null,null,null,null,null,null,null,null,""]
[null,null,null,null,null,null,null,null,null,""]
[null,null,null,null,null,null,null,null,null,""]
[null,null,null,null,null,null,null,null,null,""]
[null,null,null,null,null,null,null,null,null,""]
[null,null,null,null,null,null,null,null,null,""]
[null,null,null,null,null,null,null,null,null,""]
[null,null,null,null,null,null,null,null,null,""]
[null,null,null,null,null,null,null,null,null,""]
[null,null,null,null,null,null,null,null,null,""]
[null,null,null,null,null,null,null,null,null,""]
[null,null,null,null,null,null,null,null,null,""]
[null,null,null,null,null,null,null,null,null,""]
[null,null,null,null,null,null,null,null,null,""]
[null,null,null,null,null,null,null,null,null,""]
[null,null,null,null,null,null,null,null,null,""]
[null,null,null,null,null,null,null,null,null,""]
[null,null,null,null,null,null,null,null,null,""]
[null,null,null,null,null,null,null,null,null,""]
[null,null,null,null,null,null,null,null,null,""]
[null,null,null,null,null,null,null,null,null,""]
[null,null,null,null,null,null,null,null,null,""]
[null,null,null,null,null,null,null,null,null,""]
[null,null,null,null,null,null,null,null,null,""]
[null,null,null,null,null,null,null,null,null,""]
[null,null,null,null,null,null,null,null,null,""]
[null,null,null,null,null,null,null,null,null,""]
[null,null,null,null,null,null,null,null,null,""]
[null,null,null,null,null,null,null,null,null,""]
[null,null,null,null,null,null,null,null,null,""]
[null,null,null,null,null,null,null,null,null,""]
[null,null,null,null,null,null,null,null,null,""]
[null,null,null,null,null,null,null,null,null,""]
[null,null,null,null,null,null,null,null,null,""]
[null,null,null,null,null,null,null,null,null,""]
[null,null,null,null,null,null,null,null,null,""]
[null,null,null,null,null,null,null,null,null,""]
[null,null,null,null,null,null,null,null,null,""]
[null,null,null,null,null,null,null,null,null,""]
[null,null,null,null,null,null,null,null,null,""]
[null,null,null,null,null,null,null,null,null,""]
[null,null,null,null,null,null,null,null,null,""]
[null,null,null,null,null,null,null,null,null,""]
[null,null,null,null,null,null,null,null,null,""]
[null,null,null,null,null,null,null,null,null,""]
[null,null,null,null,null,null,null,null,null,""]
[null,null,null,null,null,null,null,null,null,""]
[null,null,null,null,null,null,null,null,null,""]
[null,null,null,null,null,null,null,null,null,""]
[null,null,null,null,null,null,null,null,null,""]
[null,null,null,null,null,null,null,null,null,""]
[null,null,null,null,null,null,null,null,null,""]
[null,null,null,null,null,null,null,null,null,""]
[null,null,null,null,null,null,null,null,null,""]
[null,null,null,null,null,null,null,null,null,""]
[null,null,null,null,null,null,null,null,null,""]
[null,null,null,null,null,null,null,null,null,""]
[null,null,null,null,null,null,null,null,null,""]
[null,null,null,null,null,null,null,null,null,""]
[null,null,null,null,null,null,null,null,null,""]
[null,null,null,null,null,null,null,null,null,""]
[null,null,null,null,null,null,null,null,null,""]
[null,null,null,null,null,null,null,null,null,""]
[null,null,null,null,null,null,null,null,null,""]
[null,null,null,null,null,null,null,null,null,""]
[null,null,null,null,null,null,null,null,null,""]
[null,null,null,null,null,null,null,null,null,""]
[null,null,null,null,null,null,null,null,null,""]
[null,null,null,null,null,null,null,null,null,""]
[null,null,null,null,null,null,null,null,null,""]
[null,null,null,null,null,null,null,null,null,""]
[null,null,null,null,null,null,null,null,null,""]
[null,null,null,null,null,null,null,null,null,""]
[null,null,null,null,null,null,null,null,null,""]
[null,null,null,null,null,null,null,null,null,""]
[null,null,null,null,null,null,null,null,null,""]
[null,null,null,null,null,null,null,null,null,""]
[null,null,null,null,null,null,null,null,null,""]
[null,null,null,null,null,null,null,null,null,""]
[null,null,null,null,null,null,null,null,null,""]
[null,null,null,null,null,null,null,null,null,""]
[null,null,null,null,null,null,null,null,null,""]
[null,null,null,null,null,null,null,null,null,""]
[null,null,null,null,null,null,null,null,null,""]
[null,null,null,null,null,null,null,null,null,""]
[null,null,null,null,null,null,null,null,null,""]
[null,null,null,null,null,null,null,null,null,""]
[null,null,null,null,null,null,null,null,null,""]
[null,null,null,null,null,null,null,null,null,""]
[null,null,null,null,null,null,null,null,null,""]
[null,null,null,null,null,null,null,null,null,""]
[null,null,null,null,null,null,null,null,null,""]
[null,null,null,null,null,null,null,null,null,""]
[null,null,null,null,null,null,null,null,null,""]
[null,null,null,null,null,null,null,null,null,""]
[null,null,null,null,null,null,null,null,null,""]
[null,null,null,null,null,null,null,null,null,""]
[null,null,null,null,null,null,null,null,null,""]
[null,null,null,null,null,null,null,null,null,""]
[null,null,null,null,null,null,null,null,null,""]
[null,null,null,null,null,null,null,null,null,""]
[null,null,null,null,null,null,null,null,null,""]
[null,null,null,null,null,null,null,null,null,""]
[null,null,null,null,null,null,null,null,null,""]
[null,null,null,null,null,null,null,null,null,""]
[null,null,null,null,null,null,null,null,null,""]
[null,null,null,null,null,null,null,null,null,""]
[null,null,null,null,null,null,null,null,null,""]
[null,null,null,null,null,null,null,null,null,""]
[null,null,null,null,null,null,null,null,null,""]
[null,null,null,null,null,null,null,null,null,""]
[null,null,null,null,null,null,null,null,null,""]
[null,null,null,null,null,null,null,null,null,""]
[null,null,null,null,null,null,null,null,null,""]
[null,null,null,null,null,null,null,null,null,""]
[null,null,null,null,null,null,null,null,null,""]
[null,null,null,null,null,null,null,null,null,""]
[null,null,null,null,null,null,null,null,null,""]
[null,null,null,null,null,null,null,null,null,""]
[null,null,null,null,null,null,null,null,null,""]
[null,null,null,null,null,null,null,null,null,""]
[null,null,null,null,null,null,null,null,null,""]
[null,null,null,null,null,null,null,null,null,""]
[null,null,null,null,null,null,null,null,null,""]
[null,null,null,null,null,null,null,null,null,""]
[null,null,null,null,null,null,null,null,null,""]
[null,null,null,null,null,null,null,null,null,""]
[null,null,null,null,null,null,null,null,null,""]
[null,null,null,null,null,null,null,null,null,""]
[null,null,null,null,null,null,null,null,null,""]
[null,null,null,null,null,null,null,null,null,""]
[null,null,null,null,null,null,null,null,null,""]
[null,null,null,null,null,null,null,null,null,""]
[null,null,null,null,null,null,null,null,null,""]
[null,null,null,null,null,null,null,null,null,""]
[null,null,null,null,null,null,null,null,null,""]
[null,null,null,null,null,null,null,null,null,""]
[null,null,null,null,null,null,null,null,null,""]
[null,null,null,null,null,null,null,null,null,""]
[null,null,null,null,null,null,null,null,null,""]
[null,null,null,null,null,null,null,null,null,""]
[null,null,null,null,null,null,null,null,null,""]
[null,null,null,null,null,null,null,null,null,""]
[null,null,null,null,null,null,null,null,null,""]
[null,null,null,null,null,null,null,null,null,""]
[null,null,null,null,null,null,null,null,null,""]
[null,null,null,null,null,null,null,null,null,""]
[null,null,null,null,null,null,null,null,null,""]
[null,null,null,null,null,null,null,null,null,""]
[null,null,null,null,null,null,null,null,null,""]
[null,null,null,null,null,null,null,null,null,""]
[null,null,null,null,null,null,null,null,null,""]
[null,null,null,null,null,null,null,null,null,""]
[null,null,null,null,null,null,null,null,null,""]
[null,null,null,null,null,null,null,null,null,""]
[null,null,null,null,null,null,null,null,null,""]
[null,null,null,null,null,null,null,null,null,""]
[null,null,null,null,null,null,null,null,null,""]
[null,null,null,null,null,null,null,null,null,""]
[null,null,null,null,null,null,null,null,null,""]
[null,null,null,null,null,null,null,null,null,""]
[null,null,null,null,null,null,null,null,null,""]
[null,null,null,null,null,null,null,null,null,""]
[null,null,null,null,null,null,null,null,null,""]
[null,null,null,null,null,null,null,null,null,""]
[null,null,null,null,null,null,null,null,null,""]
[null,null,null,null,null,null,null,null,null,""]
[null,null,null,null,null,null,null,null,null,""]
[null,null,null,null,null,null,null,null,null,""]
[null,null,null,null,null,null,null,null,null,""]
[null,null,null,null,null,null,null,null,null,""]
[null,null,null,null,null,null,null,null,null,""]
[null,null,null,null,null,null,null,null,null,{"$f":"IF(ISBLANK(E14731),\"\",E14731)","v":""}]
[null,null,null,null,null,null,null,null,null,""]
[null,null,null,null,null,null,null,null,null,""]
[null,null,null,null,null,null,null,null,null,""]
[null,null,null,null,null,null,null,null,null,""]
[null,null,null,null,null,null,null,null,null,""]
[null,null,null,null,null,null,null,null,null,""]
[null,null,null,null,null,null,null,null,null,{"$f":"IF(ISBLANK(E14795),\"\",E14795)","v":""}]
[null,null,null,null,null,null,null,null,null,""]
[null,null,null,null,null,null,null,null,null,""]
[null,null,null,null,null,null,null,null,null,""]
[null,null,null,null,null,null,null,null,null,""]
[null,null,null,null,null,null,null,null,null,""]
[null,null,null,null,null,null,null,null,null,""]
[null,null,null,null,null,null,null,null,null,""]
[null,null,null,null,null,null,null,null,null,""]
[null,null,null,null,null,null,null,null,null,""]
[null,null,null,null,null,null,null,null,null,""]
[null,null,null,null,null,null,null,null,null,""]
[null,null,null,null,null,null,null,null,null,""]
[null,null,null,null,null,null,null,null,null,""]
[null,null,null,null,null,null,null,null,null,""]
[null,null,null,null,null,null,null,null,null,""]
[null,null,null,null,null,null,null,null,null,""]
[null,null,null,null,null,null,null,null,null,""]
[null,null,null,null,null,null,null,null,null,""]
[null,null,null,null,null,null,null,null,null,""]
[null,null,null,null,null,null,null,null,null,""]
[null,null,null,null,null,null,null,null,null,""]
[null,null,null,null,null,null,null,null,null,""]
[null,null,null,null,null,null,null,null,null,""]
[null,null,null,null,null,null,null,null,null,""]
[null,null,null,null,null,null,null,null,null,""]
[null,null,null,null,null,null,null,null,null,""]
[null,null,null,null,null,null,null,null,null,""]
[null,null,null,null,null,null,null,null,null,""]
[null,null,null,null,null,null,null,null,null,""]
[null,null,null,null,null,null,null,null,null,""]
[null,null,null,null,null,null,null,null,null,""]
[null,null,null,null,null,null,null,null,null,""]
[null,null,null,null,null,null,null,null,null,""]
[null,null,null,null,null,null,null,null,null,""]
[null,null,null,null,null,null,null,null,null,""]
[null,null,null,null,null,null,null,null,null,""]
[null,null,null,null,null,null,null,null,null,""]
[null,null,null,null,null,null,null,null,null,""]
[null,null,null,null,null,null,null,null,null,""]
[null,null,null,null,null,null,null,null,null,""]
[null,null,null,null,null,null,null,null,null,""]
[null,null,null,null,null,null,null,null,null,""]
[null,null,null,null,null,null,null,null,null,""]
[null,null,null,null,null,null,null,null,null,""]
[null,null,null,null,null,null,null,null,null,""]
[null,null,null,null,null,null,null,null,null,""]
[null,null,null,null,null,null,null,null,null,""]
[null,null,null,null,null,null,null,null,null,""]
[null,null,null,null,null,null,null,null,null,""]
[null,null,null,null,null,null,null,null,null,""]
[null,null,null,null,null,null,null,null,null,""]
[null,null,null,null,null,null,null,null,null,""]
[null,null,null,null,null,null,null,null,null,""]
[null,null,null,null,null,null,null,null,null,""]
[null,null,null,null,null,null,null,null,null,{"$f":"IF(ISBLANK(E15243),\"\",E15243)","v":""}]
[null,null,null,null,null,null,null,null,null,""]
[null,null,null,null,null,null,null,null,null,""]
[null,null,null,null,null,null,null,null,null,""]
[null,null,null,null,null,null,null,null,null,""]
[null,null,null,null,null,null,null,null,null,""]
[null,null,null,null,null,null,null,null,null,""]
[null,null,null,null,null,null,null,null,null,""]
[null,null,null,null,null,null,null,null,null,""]
[null,null,null,null,null,null,null,null,null,""]
[null,null,null,null,null,null,null,null,null,""]
[null,null,null,null,null,null,null,null,null,""]
[null,null,null,null,null,null,null,null,null,""]
[null,null,null,null,null,null,null,null,null,""]
[null,null,null,null,null,null,null,null,null,""]
[null,null,null,null,null,null,null,null,null,""]
[null,null,null,null,null,null,null,null,null,""]
[null,null,null,null,null,null,null,null,null,""]
[null,null,null,null,null,null,null,null,null,""]
[null,null,null,null,null,null,null,null,null,""]
[null,null,null,null,null,null,null,null,null,""]
[null,null,null,null,null,null,null,null,null,""]
[null,null,null,null,null,null,null,null,null,""]
[null,null,null,null,null,null,null,null,null,""]
[null,null,null,null,null,null,null,null,null,""]
[null,null,null,null,null,null,null,null,null,""]
[null,null,null,null,null,null,null,null,null,""]
[null,null,null,null,null,null,null,null,null,""]
[null,null,null,null,null,null,null,null,null,""]
[null,null,null,null,null,null,null,null,null,""]
[null,null,null,null,null,null,null,null,null,""]
[null,null,null,null,null,null,null,null,null,""]
[null,null,null,null,null,null,null,null,null,""]
[null,null,null,null,null,null,null,null,null,""]
[null,null,null,null,null,null,null,null,null,""]
[null,null,null,null,null,null,null,null,null,""]
[null,null,null,null,null,null,null,null,null,""]
[null,null,null,null,null,null,null,null,null,""]
[null,null,null,null,null,null,null,null,null,""]
[null,null,null,null,null,null,null,null,null,""]
[null,null,null,null,null,null,null,null,null,""]
[null,null,null,null,null,null,null,null,null,""]
[null,null,null,null,null,null,null,null,null,""]
[null,null,null,null,null,null,null,null,null,""]
[null,null,null,null,null,null,null,null,null,""]
[null,null,null,null,null,null,null,null,null,""]
[null,null,null,null,null,null,null,null,null,""]
[null,null,null,null,null,null,null,null,null,""]
[null,null,null,null,null,null,null,null,null,""]
[null,null,null,null,null,null,null,null,null,""]
[null,null,null,null,null,null,null,null,null,""]
[null,null,null,null,null,null,null,null,null,""]
[null,null,null,null,null,null,null,null,null,""]
[null,null,null,null,null,null,null,null,null,""]
[null,null,null,null,null,null,null,null,null,""]
[null,null,null,null,null,null,null,null,null,{"$f":"IF(ISBLANK(E15691),\"\",E15691)","v":""}]
[null,null,null,null,null,null,null,null,null,""]
[null,null,null,null,null,null,null,null,null,""]
[null,null,null,null,null,null,null,null,null,""]
[null,null,null,null,null,null,null,null,null,""]
[null,null,null,null,null,null,null,null,null,""]
[null,null,null,null,null,null,null,null,null,""]
[null,null,null,null,null,null,null,null,null,""]
[null,null,null,null,null,null,null,null,null,""]
[null,null,null,null,null,null,null,null,null,""]
[null,null,null,null,null,null,null,null,null,""]
[null,null,null,null,null,null,null,null,null,""]
[null,null,null,null,null,null,null,null,null,""]
[null,null,null,null,null,null,null,null,null,""]
[null,null,null,null,null,null,null,null,null,""]
[null,null,null,null,null,null,null,null,null,""]
[null,null,null,null,null,null,null,null,null,""]
[null,null,null,null,null,null,null,null,null,""]
[null,null,null,null,null,null,null,null,null,""]
[null,null,null,null,null,null,null,null,null,""]
[null,null,null,null,null,null,null,null,null,""]
[null,null,null,null,null,null,null,null,null,""]
[null,null,null,null,null,null,null,null,null,""]
[null,null,null,null,null,null,null,null,null,""]
[null,null,null,null,null,null,null,null,null,""]
[null,null,null,null,null,null,null,null,null,""]
[null,null,null,null,null,null,null,null,null,""]
[null,null,null,null,null,null,null,null,null,""]
[null,null,null,null,null,null,null,null,null,""]
[null,null,null,null,null,null,null,null,null,""]
[null,null,null,null,null,null,null,null,null,""]
[null,null,null,null,null,null,null,null,null,""]
[null,null,null,null,null,null,null,null,null,""]
[null,null,null,null,null,null,null,null,null,""]
[null,null,null,null,null,null,null,null,null,""]
[null,null,null,null,null,null,null,null,null,""]
[null,null,null,null,null,null,null,null,null,""]
[null,null,null,null,null,null,null,null,null,""]
[null,null,null,null,null,null,null,null,null,""]
[null,null,null,null,null,null,null,null,null,""]
[null,null,null,null,null,null,null,null,null,""]
[null,null,null,null,null,null,null,null,null,""]
[null,null,null,null,null,null,null,null,null,""]
[null,null,null,null,null,null,null,null,null,""]
[null,null,null,null,null,null,null,null,null,""]
[null,null,null,null,null,null,null,null,null,""]
[null,null,null,null,null,null,null,null,null,""]
[null,null,null,null,null,null,null,null,null,""]
[null,null,null,null,null,null,null,null,null,""]
[null,null,null,null,null,null,null,null,null,""]
[null,null,null,null,null,null,null,null,null,""]
[null,null,null,null,null,null,null,null,null,""]
[null,null,null,null,null,null,null,null,null,""]
[null,null,null,null,null,null,null,null,null,""]
[null,null,null,null,null,null,null,null,null,""]
[null,null,null,null,null,null,null,null,null,{"$f":"IF(ISBLANK(E16139),\"\",E16139)","v":""}]
[null,null,null,null,null,null,null,null,null,""]
[null,null,null,null,null,null,null,null,null,""]
[null,null,null,null,null,null,null,null,null,""]
[null,null,null,null,null,null,null,null,null,""]
[null,null,null,null,null,null,null,null,null,""]
[null,null,null,null,null,null,null,null,null,""]
[null,null,null,null,null,null,null,null,null,""]
[null,null,null,null,null,null,null,null,null,""]
[null,null,null,null,null,null,null,null,null,""]
[null,null,null,null,null,null,null,null,null,""]
[null,null,null,null,null,null,null,null,null,""]
[null,null,null,null,null,null,null,null,null,""]
[null,null,null,null,null,null,null,null,null,""]
[null,null,null,null,null,null,null,null,null,""]
[null,null,null,null,null,null,null,null,null,""]
[null,null,null,null,null,null,null,null,null,""]
[null,null,null,null,null,null,null,null,null,""]
[null,null,null,null,null,null,null,null,null,""]
[null,null,null,null,null,null,null,null,null,""]
[null,null,null,null,null,null,null,null,null,""]
[null,null,null,null,null,null,null,null,null,""]
[null,null,null,null,null,null,null,null,null,""]
[null,null,null,null,null,null,null,null,null,""]
[null,null,null,null,null,null,null,null,null,""]
[null,null,null,null,null,null,null,null,null,""]
[null,null,null,null,null,null,null,null,null,""]
[null,null,null,null,null,null,null,null,null,""]
[null,null,null,null,null,null,null,null,null,""]
[null,null,null,null,null,null,null,null,null,""]
[null,null,null,null,null,null,null,null,null,""]
[null,null,null,null,null,null,null,null,null,""]
[null,null,null,null,null,null,null,null,null,""]
[null,null,null,null,null,null,null,null,null,""]
[null,null,null,null,null,null,null,null,null,""]
[null,null,null,null,null,null,null,null,null,""]
[null,null,null,null,null,null,null,null,null,""]
[null,null,null,null,null,null,null,null,null,""]
[null,null,null,null,null,null,null,null,null,""]
[null,null,null,null,null,null,null,null,null,""]
[null,null,null,null,null,null,null,null,null,""]
[null,null,null,null,null,null,null,null,null,""]
[null,null,null,null,null,null,null,null,null,""]
[null,null,null,null,null,null,null,null,null,""]
[null,null,null,null,null,null,null,null,null,""]
[null,null,null,null,null,null,null,null,null,""]
[null,null,null,null,null,null,null,null,null,""]
[null,null,null,null,null,null,null,null,null,""]
[null,null,null,null,null,null,null,null,null,""]
[null,null,null,null,null,null,null,null,null,""]
[null,null,null,null,null,null,null,null,null,""]
[null,null,null,null,null,null,null,null,null,""]
[null,null,null,null,null,null,null,null,null,""]
[null,null,null,null,null,null,null,null,null,""]
[null,null,null,null,null,null,null,null,null,""]
[null,null,null,null,null,null,null,null,null,{"$f":"IF(ISBLANK(E16587),\"\",E16587)","v":""}]
[null,null,null,null,null,null,null,null,null,""]
[null,null,null,null,null,null,null,null,null,""]
[null,null,null,null,null,null,null,null,null,""]
[null,null,null,null,null,null,null,null,null,""]
[null,null,null,null,null,null,null,null,null,""]
[null,null,null,null,null,null,null,null,null,""]
[null,null,null,null,null,null,null,null,null,""]
[null,null,null,null,null,null,null,null,null,""]
[null,null,null,null,null,null,null,null,null,""]
[null,null,null,null,null,null,null,null,null,""]
[null,null,null,null,null,null,null,null,null,""]
[null,null,null,null,null,null,null,null,null,""]
[null,null,null,null,null,null,null,null,null,""]
[null,null,null,null,null,null,null,null,null,""]
[null,null,null,null,null,null,null,null,null,""]
[null,null,null,null,null,null,null,null,null,""]
[null,null,null,null,null,null,null,null,null,""]
[null,null,null,null,null,null,null,null,null,""]
[null,null,null,null,null,null,null,null,null,""]
[null,null,null,null,null,null,null,null,null,""]
[null,null,null,null,null,null,null,null,null,""]
[null,null,null,null,null,null,null,null,null,""]
[null,null,null,null,null,null,null,null,null,""]
[null,null,null,null,null,null,null,null,null,""]
[null,null,null,null,null,null,null,null,null,""]
[null,null,null,null,null,null,null,null,null,""]
[null,null,null,null,null,null,null,null,null,""]
[null,null,null,null,null,null,null,null,null,""]
[null,null,null,null,null,null,null,null,null,""]
[null,null,null,null,null,null,null,null,null,""]
[null,null,null,null,null,null,null,null,null,""]
[null,null,null,null,null,null,null,null,null,""]
[null,null,null,null,null,null,null,null,null,""]
[null,null,null,null,null,null,null,null,null,""]
[null,null,null,null,null,null,null,null,null,""]
[null,null,null,null,null,null,null,null,null,""]
[null,null,null,null,null,null,null,null,null,""]
[null,null,null,null,null,null,null,null,null,""]
[null,null,null,null,null,null,null,null,null,""]
[null,null,null,null,null,null,null,null,null,""]
[null,null,null,null,null,null,null,null,null,""]
[null,null,null,null,null,null,null,null,null,""]
[null,null,null,null,null,null,null,null,null,""]
[null,null,null,null,null,null,null,null,null,""]
[null,null,null,null,null,null,null,null,null,""]
[null,null,null,null,null,null,null,null,null,""]
[null,null,null,null,null,null,null,null,null,""]
[null,null,null,null,null,null,null,null,null,""]
[null,null,null,null,null,null,null,null,null,""]
[null,null,null,null,null,null,null,null,null,""]
[null,null,null,null,null,null,null,null,null,""]
[null,null,null,null,null,null,null,null,null,""]
[null,null,null,null,null,null,null,null,null,""]
[null,null,null,null,null,null,null,null,null,""]
[null,null,null,null,null,null,null,null,null,{"$f":"IF(ISBLANK(E17035),\"\",E17035)","v":""}]
[null,null,null,null,null,null,null,null,null,""]
[null,null,null,null,null,null,null,null,null,""]
[null,null,null,null,null,null,null,null,null,""]
[null,null,null,null,null,null,null,null,null,""]
[null,null,null,null,null,null,null,null,null,""]
[null,null,null,null,null,null,null,null,null,""]
[null,null,null,null,null,null,null,null,null,""]
[null,null,null,null,null,null,null,null,null,""]
[null,null,null,null,null,null,null,null,null,""]
[null,null,null,null,null,null,null,null,null,""]
[null,null,null,null,null,null,null,null,null,""]
[null,null,null,null,null,null,null,null,null,""]
[null,null,null,null,null,null,null,null,null,""]
[null,null,null,null,null,null,null,null,null,""]
[null,null,null,null,null,null,null,null,null,""]
[null,null,null,null,null,null,null,null,null,""]
[null,null,null,null,null,null,null,null,null,""]
[null,null,null,null,null,null,null,null,null,""]
[null,null,null,null,null,null,null,null,null,""]
[null,null,null,null,null,null,null,null,null,""]
[null,null,null,null,null,null,null,null,null,""]
[null,null,null,null,null,null,null,null,null,""]
[null,null,null,null,null,null,null,null,null,""]
[null,null,null,null,null,null,null,null,null,""]
[null,null,null,null,null,null,null,null,null,""]
[null,null,null,null,null,null,null,null,null,""]
[null,null,null,null,null,null,null,null,null,""]
[null,null,null,null,null,null,null,null,null,""]
[null,null,null,null,null,null,null,null,null,""]
[null,null,null,null,null,null,null,null,null,""]
[null,null,null,null,null,null,null,null,null,""]
[null,null,null,null,null,null,null,null,null,""]
[null,null,null,null,null,null,null,null,null,""]
[null,null,null,null,null,null,null,null,null,""]
[null,null,null,null,null,null,null,null,null,""]
[null,null,null,null,null,null,null,null,null,""]
[null,null,null,null,null,null,null,null,null,""]
[null,null,null,null,null,null,null,null,null,""]
[null,null,null,null,null,null,null,null,null,""]
[null,null,null,null,null,null,null,null,null,""]
[null,null,null,null,null,null,null,null,null,""]
[null,null,null,null,null,null,null,null,null,""]
[null,null,null,null,null,null,null,null,null,""]
[null,null,null,null,null,null,null,null,null,""]
[null,null,null,null,null,null,null,null,null,""]
[null,null,null,null,null,null,null,null,null,""]
[null,null,null,null,null,null,null,null,null,""]
[null,null,null,null,null,null,null,null,null,""]
[null,null,null,null,null,null,null,null,null,""]
[null,null,null,null,null,null,null,null,null,""]
[null,null,null,null,null,null,null,null,null,""]
[null,null,null,null,null,null,null,null,null,""]
[null,null,null,null,null,null,null,null,null,""]
[null,null,null,null,null,null,null,null,null,""]
[null,null,null,null,null,null,null,null,null,{"$f":"IF(ISBLANK(E17483),\"\",E17483)","v":""}]
[null,null,null,null,null,null,null,null,null,""]
[null,null,null,null,null,null,null,null,null,""]
[null,null,null,null,null,null,null,null,null,""]
[null,null,null,null,null,null,null,null,null,""]
[null,null,null,null,null,null,null,null,null,""]
[null,null,null,null,null,null,null,null,null,""]
[null,null,null,null,null,null,null,null,null,""]
[null,null,null,null,null,null,null,null,null,""]
[null,null,null,null,null,null,null,null,null,""]
[null,null,null,null,null,null,null,null,null,""]
[null,null,null,null,null,null,null,null,null,""]
[null,null,null,null,null,null,null,null,null,""]
[null,null,null,null,null,null,null,null,null,""]
[null,null,null,null,null,null,null,null,null,""]
[null,null,null,null,null,null,null,null,null,""]
[null,null,null,null,null,null,null,null,null,""]
[null,null,null,null,null,null,null,null,null,""]
[null,null,null,null,null,null,null,null,null,""]
[null,null,null,null,null,null,null,null,null,""]
[null,null,null,null,null,null,null,null,null,""]
[null,null,null,null,null,null,null,null,null,""]
[null,null,null,null,null,null,null,null,null,""]
[null,null,null,null,null,null,null,null,null,""]
[null,null,null,null,null,null,null,null,null,""]
[null,null,null,null,null,null,null,null,null,""]
[null,null,null,null,null,null,null,null,null,""]
[null,null,null,null,null,null,null,null,null,""]
[null,null,null,null,null,null,null,null,null,""]
[null,null,null,null,null,null,null,null,null,""]
[null,null,null,null,null,null,null,null,null,""]
[null,null,null,null,null,null,null,null,null,""]
[null,null,null,null,null,null,null,null,null,""]
[null,null,null,null,null,null,null,null,null,""]
[null,null,null,null,null,null,null,null,null,""]
[null,null,null,null,null,null,null,null,null,""]
[null,null,null,null,null,null,null,null,null,""]
[null,null,null,null,null,null,null,null,null,""]
[null,null,null,null,null,null,null,null,null,""]
[null,null,null,null,null,null,null,null,null,""]
[null,null,null,null,null,null,null,null,null,""]
[null,null,null,null,null,null,null,null,null,""]
[null,null,null,null,null,null,null,null,null,""]
[null,null,null,null,null,null,null,null,null,""]
[null,null,null,null,null,null,null,null,null,""]
[null,null,null,null,null,null,null,null,null,""]
[null,null,null,null,null,null,null,null,null,""]
[null,null,null,null,null,null,null,null,null,""]
[null,null,null,null,null,null,null,null,null,""]
[null,null,null,null,null,null,null,null,null,""]
[null,null,null,null,null,null,null,null,null,""]
[null,null,null,null,null,null,null,null,null,""]
[null,null,null,null,null,null,null,null,null,""]
[null,null,null,null,null,null,null,null,null,""]
[null,null,null,null,null,null,null,null,null,""]
[null,null,null,null,null,null,null,null,null,""]
[null,null,null,null,null,null,null,null,null,""]
[null,null,null,null,null,null,null,null,null,""]
[null,null,null,null,null,null,null,null,null,""]
[null,null,null,null,null,null,null,null,null,""]
[null,null,null,null,null,null,null,null,null,""]
[null,null,null,null,null,null,null,null,null,""]
[null,null,null,null,null,null,null,null,null,""]
[null,null,null,null,null,null,null,null,null,""]
[null,null,null,null,null,null,null,null,null,""]
[null,null,null,null,null,null,null,null,null,""]
[null,null,null,null,null,null,null,null,null,""]
[null,null,null,null,null,null,null,null,null,""]
[null,null,null,null,null,null,null,null,null,""]
[null,null,null,null,null,null,null,null,null,""]
[null,null,null,null,null,null,null,null,null,""]
[null,null,null,null,null,null,null,null,null,""]
[null,null,null,null,null,null,null,null,null,""]
[null,null,null,null,null,null,null,null,null,""]
[null,null,null,null,null,null,null,null,null,""]
[null,null,null,null,null,null,null,null,null,""]
[null,null,null,null,null,null,null,null,null,""]
[null,null,null,null,null,null,null,null,null,""]
[null,null,null,null,null,null,null,null,null,""]
[null,null,null,null,null,null,null,null,null,""]
[null,null,null,null,null,null,null,null,null,""]
[null,null,null,null,null,null,null,null,null,""]
[null,null,null,null,null,null,null,null,null,""]
[null,null,null,null,null,null,null,null,null,""]
[null,null,null,null,null,null,null,null,null,""]
[null,null,null,null,null,null,null,null,null,""]
[null,null,null,null,null,null,null,null,null,""]
[null,null,null,null,null,null,null,null,null,""]
[null,null,null,null,null,null,null,null,null,""]
[null,null,null,null,null,null,null,null,null,""]
[null,null,null,null,null,null,null,null,null,""]
[null,null,null,null,null,null,null,null,null,""]
[null,null,null,null,null,null,null,null,null,""]
[null,null,null,null,null,null,null,null,null,""]
[null,null,null,null,null,null,null,null,null,""]
[null,null,null,null,null,null,null,null,null,""]
[null,null,null,null,null,null,null,null,null,""]
[null,null,null,null,null,null,null,null,null,""]
[null,null,null,null,null,null,null,null,null,""]
[null,null,null,null,null,null,null,null,null,""]
[null,null,null,null,null,null,null,null,null,""]
[null,null,null,null,null,null,null,null,null,""]
[null,null,null,null,null,null,null,null,null,""]
[null,null,null,null,null,null,null,null,null,""]
[null,null,null,null,null,null,null,null,null,""]
[null,null,null,null,null,null,null,null,null,""]
[null,null,null,null,null,null,null,null,null,""]
[null,null,null,null,null,null,null,null,null,""]
[null,null,null,null,null,null,null,null,null,""]
[null,null,null,null,null,null,null,null,null,""]
[null,null,null,null,null,null,null,null,null,""]
[null,null,null,null,null,null,null,null,null,""]
[null,null,null,null,null,null,null,null,null,""]
[null,null,null,null,null,null,null,null,null,""]
[null,null,null,null,null,null,null,null,null,""]
[null,null,null,null,null,null,null,null,null,""]
[null,null,null,null,null,null,null,null,null,""]
[null,null,null,null,null,null,null,null,null,""]
[null,null,null,null,null,null,null,null,null,""]
[null,null,null,null,null,null,null,null,null,""]
[null,null,null,null,null,null,null,null,null,""]
[null,null,null,null,null,null,null,null,null,""]
[null,null,null,null,null,null,null,null,null,""]
[null,null,null,null,null,null,null,null,null,""]
[null,null,null,null,null,null,null,null,null,""]
[null,null,null,null,null,null,null,null,null,""]
[null,null,null,null,null,null,null,null,null,""]
[null,null,null,null,null,null,null,null,null,""]
[null,null,null,null,null,null,null,null,null,""]
[null,null,null,null,null,null,null,null,null,""]
[null,null,null,null,null,null,null,null,null,""]
[null,null,null,null,null,null,null,null,null,""]
[null,null,null,null,null,null,null,null,null,""]
[null,null,null,null,null,null,null,null,null,""]
[null,null,null,null,null,null,null,null,null,""]
[null,null,null,null,null,null,null,null,null,""]
[null,null,null,null,null,null,null,null,null,""]
[null,null,null,null,null,null,null,null,null,""]
[null,null,null,null,null,null,null,null,null,""]
[null,null,null,null,null,null,null,null,null,""]
[null,null,null,null,null,null,null,null,null,""]
[null,null,null,null,null,null,null,null,null,""]
[null,null,null,null,null,null,null,null,null,""]
[null,null,null,null,null,null,null,null,null,""]
[null,null,null,null,null,null,null,null,null,""]
[null,null,null,null,null,null,null,null,null,""]
[null,null,null,null,null,null,null,null,null,""]
[null,null,null,null,null,null,null,null,null,""]
[null,null,null,null,null,null,null,null,null,""]
[null,null,null,null,null,null,null,null,null,""]
[null,null,null,null,null,null,null,null,null,""]
[null,null,null,null,null,null,null,null,null,{"$f":"IF(ISBLANK(E18379),\"\",E18379)","v":""}]
[null,null,null,null,null,null,null,null,null,""]
[null,null,null,null,null,null,null,null,null,""]
[null,null,null,null,null,null,null,null,null,""]
[null,null,null,null,null,null,null,null,null,""]
[null,null,null,null,null,null,null,null,null,""]
[null,null,null,null,null,null,null,null,null,""]
[null,null,null,null,null,null,null,null,null,""]
[null,null,null,null,null,null,null,null,null,""]
[null,null,null,null,null,null,null,null,null,""]
[null,null,null,null,null,null,null,null,null,""]
[null,null,null,null,null,null,null,null,null,""]
[null,null,null,null,null,null,null,null,null,""]
[null,null,null,null,null,null,null,null,null,""]
[null,null,null,null,null,null,null,null,null,""]
[null,null,null,null,null,null,null,null,null,""]
[null,null,null,null,null,null,null,null,null,""]
[null,null,null,null,null,null,null,null,null,""]
[null,null,null,null,null,null,null,null,null,""]
[null,null,null,null,null,null,null,null,null,""]
[null,null,null,null,null,null,null,null,null,""]
[null,null,null,null,null,null,null,null,null,""]
[null,null,null,null,null,null,null,null,null,""]
[null,null,null,null,null,null,null,null,null,""]
[null,null,null,null,null,null,null,null,null,""]
[null,null,null,null,null,null,null,null,null,""]
[null,null,null,null,null,null,null,null,null,""]
[null,null,null,null,null,null,null,null,null,""]
[null,null,null,null,null,null,null,null,null,""]
[null,null,null,null,null,null,null,null,null,""]
[null,null,null,null,null,null,null,null,null,""]
[null,null,null,null,null,null,null,null,null,""]
[null,null,null,null,null,null,null,null,null,""]
[null,null,null,null,null,null,null,null,null,""]
[null,null,null,null,null,null,null,null,null,""]
[null,null,null,null,null,null,null,null,null,""]
[null,null,null,null,null,null,null,null,null,""]
[null,null,null,null,null,null,null,null,null,""]
[null,null,null,null,null,null,null,null,null,""]
[null,null,null,null,null,null,null,null,null,""]
[null,null,null,null,null,null,null,null,null,""]
[null,null,null,null,null,null,null,null,null,""]
[null,null,null,null,null,null,null,null,null,""]
[null,null,null,null,null,null,null,null,null,""]
[null,null,null,null,null,null,null,null,null,""]
[null,null,null,null,null,null,null,null,null,""]
[null,null,null,null,null,null,null,null,null,""]
[null,null,null,null,null,null,null,null,null,""]
[null,null,null,null,null,null,null,null,null,""]
[null,null,null,null,null,null,null,null,null,""]
[null,null,null,null,null,null,null,null,null,""]
[null,null,null,null,null,null,null,null,null,""]
[null,null,null,null,null,null,null,null,null,""]
[null,null,null,null,null,null,null,null,null,""]
[null,null,null,null,null,null,null,null,null,""]
[null,null,null,null,null,null,null,null,null,""]
[null,null,null,null,null,null,null,null,null,""]
[null,null,null,null,null,null,null,null,null,""]
[null,null,null,null,null,null,null,null,null,""]
[null,null,null,null,null,null,null,null,null,""]
[null,null,null,null,null,null,null,null,null,""]
[null,null,null,null,null,null,null,null,null,""]
[null,null,null,null,null,null,null,null,null,""]
[null,null,null,null,null,null,null,null,null,""]
[null,null,null,null,null,null,null,null,null,{"$f":"IF(ISBLANK(E18443),\"\",E18443)","v":""}]
[null,null,null,null,null,null,null,null,null,""]
[null,null,null,null,null,null,null,null,null,""]
[null,null,null,null,null,null,null,null,null,""]
[null,null,null,null,null,null,null,null,null,""]
[null,null,null,null,null,null,null,null,null,""]
[null,null,null,null,null,null,null,null,null,""]
[null,null,null,null,null,null,null,null,null,""]
[null,null,null,null,null,null,null,null,null,""]
[null,null,null,null,null,null,null,null,null,""]
[null,null,null,null,null,null,null,null,null,""]
[null,null,null,null,null,null,null,null,null,""]
[null,null,null,null,null,null,null,null,null,""]
[null,null,null,null,null,null,null,null,null,""]
[null,null,null,null,null,null,null,null,null,""]
[null,null,null,null,null,null,null,null,null,""]
[null,null,null,null,null,null,null,null,null,""]
[null,null,null,null,null,null,null,null,null,""]
[null,null,null,null,null,null,null,null,null,""]
[null,null,null,null,null,null,null,null,null,""]
[null,null,null,null,null,null,null,null,null,""]
[null,null,null,null,null,null,null,null,null,""]
[null,null,null,null,null,null,null,null,null,""]
[null,null,null,null,null,null,null,null,null,""]
[null,null,null,null,null,null,null,null,null,""]
[null,null,null,null,null,null,null,null,null,""]
[null,null,null,null,null,null,null,null,null,""]
[null,null,null,null,null,null,null,null,null,""]
[null,null,null,null,null,null,null,null,null,""]
[null,null,null,null,null,null,null,null,null,""]
[null,null,null,null,null,null,null,null,null,""]
[null,null,null,null,null,null,null,null,null,""]
[null,null,null,null,null,null,null,null,null,""]
[null,null,null,null,null,null,null,null,null,""]
[null,null,null,null,null,null,null,null,null,""]
[null,null,null,null,null,null,null,null,null,""]
[null,null,null,null,null,null,null,null,null,""]
[null,null,null,null,null,null,null,null,null,""]
[null,null,null,null,null,null,null,null,null,""]
[null,null,null,null,null,null,null,null,null,""]
[null,null,null,null,null,null,null,null,null,""]
[null,null,null,null,null,null,null,null,null,""]
[null,null,null,null,null,null,null,null,null,""]
[null,null,null,null,null,null,null,null,null,""]
[null,null,null,null,null,null,null,null,null,""]
[null,null,null,null,null,null,null,null,null,""]
[null,null,null,null,null,null,null,null,null,""]
[null,null,null,null,null,null,null,null,null,""]
[null,null,null,null,null,null,null,null,null,""]
[null,null,null,null,null,null,null,null,null,""]
[null,null,null,null,null,null,null,null,null,""]
[null,null,null,null,null,null,null,null,null,""]
[null,null,null,null,null,null,null,null,null,""]
[null,null,null,null,null,null,null,null,null,""]
[null,null,null,null,null,null,null,null,null,""]
[null,null,null,null,null,null,null,null,null,""]
[null,null,null,null,null,null,null,null,null,""]
[null,null,null,null,null,null,null,null,null,""]
[null,null,null,null,null,null,null,null,null,""]
[null,null,null,null,null,null,null,null,null,""]
[null,null,null,null,null,null,null,null,null,""]
[null,null,null,null,null,null,null,null,null,""]
[null,null,null,null,null,null,null,null,null,""]
[null,null,null,null,null,null,null,null,null,""]
[null,null,null,null,null,null,null,null,null,{"$f":"IF(ISBLANK(E18507),\"\",E18507)","v":""}]
[null,null,null,null,null,null,null,null,null,""]
[null,null,null,null,null,null,null,null,null,""]
[null,null,null,null,null,null,null,null,null,""]
[null,null,null,null,null,null,null,null,null,""]
[null,null,null,null,null,null,null,null,null,""]
[null,null,null,null,null,null,null,null,null,""]
[null,null,null,null,null,null,null,null,null,""]
[null,null,null,null,null,null,null,null,null,""]
[null,null,null,null,null,null,null,null,null,""]
[null,null,null,null,null,null,null,null,null,""]
[null,null,null,null,null,null,null,null,null,""]
[null,null,null,null,null,null,null,null,null,""]
[null,null,null,null,null,null,null,null,null,""]
[null,null,null,null,null,null,null,null,null,""]
[null,null,null,null,null,null,null,null,null,""]
[null,null,null,null,null,null,null,null,null,""]
[null,null,null,null,null,null,null,null,null,""]
[null,null,null,null,null,null,null,null,null,""]
[null,null,null,null,null,null,null,null,null,""]
[null,null,null,null,null,null,null,null,null,""]
[null,null,null,null,null,null,null,null,null,""]
[null,null,null,null,null,null,null,null,null,""]
[null,null,null,null,null,null,null,null,null,""]
[null,null,null,null,null,null,null,null,null,""]
[null,null,null,null,null,null,null,null,null,""]
[null,null,null,null,null,null,null,null,null,""]
[null,null,null,null,null,null,null,null,null,""]
[null,null,null,null,null,null,null,null,null,""]
[null,null,null,null,null,null,null,null,null,""]
[null,null,null,null,null,null,null,null,null,""]
[null,null,null,null,null,null,null,null,null,""]
[null,null,null,null,null,null,null,null,null,""]
[null,null,null,null,null,null,null,null,null,""]
[null,null,null,null,null,null,null,null,null,""]
[null,null,null,null,null,null,null,null,null,""]
[null,null,null,null,null,null,null,null,null,""]
[null,null,null,null,null,null,null,null,null,""]
[null,null,null,null,null,null,null,null,null,""]
[null,null,null,null,null,null,null,null,null,""]
[null,null,null,null,null,null,null,null,null,""]
[null,null,null,null,null,null,null,null,null,""]
[null,null,null,null,null,null,null,null,null,""]
[null,null,null,null,null,null,null,null,null,""]
[null,null,null,null,null,null,null,null,null,""]
[null,null,null,null,null,null,null,null,null,""]
[null,null,null,null,null,null,null,null,null,""]
[null,null,null,null,null,null,null,null,null,""]
[null,null,null,null,null,null,null,null,null,""]
[null,null,null,null,null,null,null,null,null,""]
[null,null,null,null,null,null,null,null,null,""]
[null,null,null,null,null,null,null,null,null,""]
[null,null,null,null,null,null,null,null,null,""]
[null,null,null,null,null,null,null,null,null,""]
[null,null,null,null,null,null,null,null,null,""]
[null,null,null,null,null,null,null,null,null,""]
[null,null,null,null,null,null,null,null,null,""]
[null,null,null,null,null,null,null,null,null,""]
[null,null,null,null,null,null,null,null,null,""]
[null,null,null,null,null,null,null,null,null,""]
[null,null,null,null,null,null,null,null,null,""]
[null,null,null,null,null,null,null,null,null,""]
[null,null,null,null,null,null,null,null,null,""]
[null,null,null,null,null,null,null,null,null,""]
[null,null,null,null,null,null,null,null,null,{"$f":"IF(ISBLANK(E18571),\"\",E18571)","v":""}]
[null,null,null,null,null,null,null,null,null,""]
[null,null,null,null,null,null,null,null,null,""]
[null,null,null,null,null,null,null,null,null,""]
[null,null,null,null,null,null,null,null,null,""]
[null,null,null,null,null,null,null,null,null,""]
[null,null,null,null,null,null,null,null,null,""]
[null,null,null,null,null,null,null,null,null,""]
[null,null,null,null,null,null,null,null,null,""]
[null,null,null,null,null,null,null,null,null,""]
[null,null,null,null,null,null,null,null,null,""]
[null,null,null,null,null,null,null,null,null,""]
[null,null,null,null,null,null,null,null,null,""]
[null,null,null,null,null,null,null,null,null,""]
[null,null,null,null,null,null,null,null,null,""]
[null,null,null,null,null,null,null,null,null,""]
[null,null,null,null,null,null,null,null,null,""]
[null,null,null,null,null,null,null,null,null,""]
[null,null,null,null,null,null,null,null,null,""]
[null,null,null,null,null,null,null,null,null,""]
[null,null,null,null,null,null,null,null,null,""]
[null,null,null,null,null,null,null,null,null,""]
[null,null,null,null,null,null,null,null,null,""]
[null,null,null,null,null,null,null,null,null,""]
[null,null,null,null,null,null,null,null,null,""]
[null,null,null,null,null,null,null,null,null,""]
[null,null,null,null,null,null,null,null,null,""]
[null,null,null,null,null,null,null,null,null,""]
[null,null,null,null,null,null,null,null,null,""]
[null,null,null,null,null,null,null,null,null,""]
[null,null,null,null,null,null,null,null,null,""]
[null,null,null,null,null,null,null,null,null,""]
[null,null,null,null,null,null,null,null,null,""]
[null,null,null,null,null,null,null,null,null,""]
[null,null,null,null,null,null,null,null,null,""]
[null,null,null,null,null,null,null,null,null,""]
[null,null,null,null,null,null,null,null,null,""]
[null,null,null,null,null,null,null,null,null,""]
[null,null,null,null,null,null,null,null,null,""]
[null,null,null,null,null,null,null,null,null,""]
[null,null,null,null,null,null,null,null,null,""]
[null,null,null,null,null,null,null,null,null,""]
[null,null,null,null,null,null,null,null,null,""]
[null,null,null,null,null,null,null,null,null,""]
[null,null,null,null,null,null,null,null,null,""]
[null,null,null,null,null,null,null,null,null,""]
[null,null,null,null,null,null,null,null,null,""]
[null,null,null,null,null,null,null,null,null,""]
[null,null,null,null,null,null,null,null,null,""]
[null,null,null,null,null,null,null,null,null,""]
[null,null,null,null,null,null,null,null,null,""]
[null,null,null,null,null,null,null,null,null,""]
[null,null,null,null,null,null,null,null,null,""]
[null,null,null,null,null,null,null,null,null,""]
[null,null,null,null,null,null,null,null,null,""]
[null,null,null,null,null,null,null,null,null,""]
[null,null,null,null,null,null,null,null,null,""]
[null,null,null,null,null,null,null,null,null,""]
[null,null,null,null,null,null,null,null,null,""]
[null,null,null,null,null,null,null,null,null,""]
[null,null,null,null,null,null,null,null,null,""]
[null,null,null,null,null,null,null,null,null,""]
[null,null,null,null,null,null,null,null,null,""]
[null,null,null,null,null,null,null,null,null,""]
[null,null,null,null,null,null,null,null,null,{"$f":"IF(ISBLANK(E18635),\"\",E18635)","v":""}]
[null,null,null,null,null,null,null,null,null,""]
[null,null,null,null,null,null,null,null,null,""]
[null,null,null,null,null,null,null,null,null,""]
[null,null,null,null,null,null,null,null,null,""]
[null,null,null,null,null,null,null,null,null,""]
[null,null,null,null,null,null,null,null,null,""]
[null,null,null,null,null,null,null,null,null,""]
[null,null,null,null,null,null,null,null,null,""]
[null,null,null,null,null,null,null,null,null,""]
[null,null,null,null,null,null,null,null,null,""]
[null,null,null,null,null,null,null,null,null,""]
[null,null,null,null,null,null,null,null,null,""]
[null,null,null,null,null,null,null,null,null,""]
[null,null,null,null,null,null,null,null,null,""]
[null,null,null,null,null,null,null,null,null,""]
[null,null,null,null,null,null,null,null,null,""]
[null,null,null,null,null,null,null,null,null,""]
[null,null,null,null,null,null,null,null,null,""]
[null,null,null,null,null,null,null,null,null,""]
[null,null,null,null,null,null,null,null,null,""]
[null,null,null,null,null,null,null,null,null,""]
[null,null,null,null,null,null,null,null,null,""]
[null,null,null,null,null,null,null,null,null,""]
[null,null,null,null,null,null,null,null,null,""]
[null,null,null,null,null,null,null,null,null,""]
[null,null,null,null,null,null,null,null,null,""]
[null,null,null,null,null,null,null,null,null,""]
[null,null,null,null,null,null,null,null,null,""]
[null,null,null,null,null,null,null,null,null,""]
[null,null,null,null,null,null,null,null,null,""]
[null,null,null,null,null,null,null,null,null,""]
[null,null,null,null,null,null,null,null,null,""]
[null,null,null,null,null,null,null,null,null,""]
[null,null,null,null,null,null,null,null,null,""]
[null,null,null,null,null,null,null,null,null,""]
[null,null,null,null,null,null,null,null,null,""]
[null,null,null,null,null,null,null,null,null,""]
[null,null,null,null,null,null,null,null,null,""]
[null,null,null,null,null,null,null,null,null,""]
[null,null,null,null,null,null,null,null,null,""]
[null,null,null,null,null,null,null,null,null,""]
[null,null,null,null,null,null,null,null,null,""]
[null,null,null,null,null,null,null,null,null,""]
[null,null,null,null,null,null,null,null,null,""]
[null,null,null,null,null,null,null,null,null,""]
[null,null,null,null,null,null,null,null,null,""]
[null,null,null,null,null,null,null,null,null,""]
[null,null,null,null,null,null,null,null,null,""]
[null,null,null,null,null,null,null,null,null,""]
[null,null,null,null,null,null,null,null,null,""]
[null,null,null,null,null,null,null,null,null,""]
[null,null,null,null,null,null,null,null,null,""]
[null,null,null,null,null,null,null,null,null,""]
[null,null,null,null,null,null,null,null,null,""]
[null,null,null,null,null,null,null,null,null,""]
[null,null,null,null,null,null,null,null,null,""]
[null,null,null,null,null,null,null,null,null,""]
[null,null,null,null,null,null,null,null,null,""]
[null,null,null,null,null,null,null,null,null,""]
[null,null,null,null,null,null,null,null,null,""]
[null,null,null,null,null,null,null,null,null,""]
[null,null,null,null,null,null,null,null,null,""]
[null,null,null,null,null,null,null,null,null,""]
[null,null,null,null,null,null,null,null,null,{"$f":"IF(ISBLANK(E18699),\"\",E18699)","v":""}]
[null,null,null,null,null,null,null,null,null,""]
[null,null,null,null,null,null,null,null,null,""]
[null,null,null,null,null,null,null,null,null,""]
[null,null,null,null,null,null,null,null,null,""]
[null,null,null,null,null,null,null,null,null,""]
[null,null,null,null,null,null,null,null,null,""]
[null,null,null,null,null,null,null,null,null,""]
[null,null,null,null,null,null,null,null,null,""]
[null,null,null,null,null,null,null,null,null,""]
[null,null,null,null,null,null,null,null,null,""]
[null,null,null,null,null,null,null,null,null,""]
[null,null,null,null,null,null,null,null,null,""]
[null,null,null,null,null,null,null,null,null,""]
[null,null,null,null,null,null,null,null,null,""]
[null,null,null,null,null,null,null,null,null,""]
[null,null,null,null,null,null,null,null,null,""]
[null,null,null,null,null,null,null,null,null,""]
[null,null,null,null,null,null,null,null,null,""]
[null,null,null,null,null,null,null,null,null,""]
[null,null,null,null,null,null,null,null,null,""]
[null,null,null,null,null,null,null,null,null,""]
[null,null,null,null,null,null,null,null,null,""]
[null,null,null,null,null,null,null,null,null,""]
[null,null,null,null,null,null,null,null,null,""]
[null,null,null,null,null,null,null,null,null,""]
[null,null,null,null,null,null,null,null,null,""]
[null,null,null,null,null,null,null,null,null,""]
[null,null,null,null,null,null,null,null,null,""]
[null,null,null,null,null,null,null,null,null,""]
[null,null,null,null,null,null,null,null,null,""]
[null,null,null,null,null,null,null,null,null,""]
[null,null,null,null,null,null,null,null,null,""]
[null,null,null,null,null,null,null,null,null,""]
[null,null,null,null,null,null,null,null,null,""]
[null,null,null,null,null,null,null,null,null,""]
[null,null,null,null,null,null,null,null,null,""]
[null,null,null,null,null,null,null,null,null,""]
[null,null,null,null,null,null,null,null,null,""]
[null,null,null,null,null,null,null,null,null,""]
[null,null,null,null,null,null,null,null,null,""]
[null,null,null,null,null,null,null,null,null,""]
[null,null,null,null,null,null,null,null,null,""]
[null,null,null,null,null,null,null,null,null,""]
[null,null,null,null,null,null,null,null,null,""]
[null,null,null,null,null,null,null,null,null,""]
[null,null,null,null,null,null,null,null,null,""]
[null,null,null,null,null,null,null,null,null,""]
[null,null,null,null,null,null,null,null,null,""]
[null,null,null,null,null,null,null,null,null,""]
[null,null,null,null,null,null,null,null,null,""]
[null,null,null,null,null,null,null,null,null,""]
[null,null,null,null,null,null,null,null,null,""]
[null,null,null,null,null,null,null,null,null,""]
[null,null,null,null,null,null,null,null,null,""]
[null,null,null,null,null,null,null,null,null,""]
[null,null,null,null,null,null,null,null,null,""]
[null,null,null,null,null,null,null,null,null,""]
[null,null,null,null,null,null,null,null,null,""]
[null,null,null,null,null,null,null,null,null,""]
[null,null,null,null,null,null,null,null,null,""]
[null,null,null,null,null,null,null,null,null,""]
[null,null,null,null,null,null,null,null,null,""]
[null,null,null,null,null,null,null,null,null,""]
[null,null,null,null,null,null,null,null,null,{"$f":"IF(ISBLANK(E18763),\"\",E18763)","v":""}]
[null,null,null,null,null,null,null,null,null,""]
[null,null,null,null,null,null,null,null,null,""]
[null,null,null,null,null,null,null,null,null,""]
[null,null,null,null,null,null,null,null,null,""]
[null,null,null,null,null,null,null,null,null,""]
[null,null,null,null,null,null,null,null,null,""]
[null,null,null,null,null,null,null,null,null,""]
[null,null,null,null,null,null,null,null,null,""]
[null,null,null,null,null,null,null,null,null,""]
[null,null,null,null,null,null,null,null,null,""]
[null,null,null,null,null,null,null,null,null,""]
[null,null,null,null,null,null,null,null,null,""]
[null,null,null,null,null,null,null,null,null,""]
[null,null,null,null,null,null,null,null,null,""]
[null,null,null,null,null,null,null,null,null,""]
[null,null,null,null,null,null,null,null,null,""]
[null,null,null,null,null,null,null,null,null,""]
[null,null,null,null,null,null,null,null,null,""]
[null,null,null,null,null,null,null,null,null,""]
[null,null,null,null,null,null,null,null,null,""]
[null,null,null,null,null,null,null,null,null,""]
[null,null,null,null,null,null,null,null,null,""]
[null,null,null,null,null,null,null,null,null,""]
[null,null,null,null,null,null,null,null,null,""]
[null,null,null,null,null,null,null,null,null,""]
[null,null,null,null,null,null,null,null,null,""]
[null,null,null,null,null,null,null,null,null,""]
[null,null,null,null,null,null,null,null,null,""]
[null,null,null,null,null,null,null,null,null,""]
[null,null,null,null,null,null,null,null,null,""]
[null,null,null,null,null,null,null,null,null,""]
[null,null,null,null,null,null,null,null,null,""]
[null,null,null,null,null,null,null,null,null,""]
[null,null,null,null,null,null,null,null,null,""]
[null,null,null,null,null,null,null,null,null,""]
[null,null,null,null,null,null,null,null,null,""]
[null,null,null,null,null,null,null,null,null,""]
[null,null,null,null,null,null,null,null,null,""]
[null,null,null,null,null,null,null,null,null,""]
[null,null,null,null,null,null,null,null,null,""]
[null,null,null,null,null,null,null,null,null,""]
[null,null,null,null,null,null,null,null,null,""]
[null,null,null,null,null,null,null,null,null,""]
[null,null,null,null,null,null,null,null,null,""]
[null,null,null,null,null,null,null,null,null,""]
[null,null,null,null,null,null,null,null,null,""]
[null,null,null,null,null,null,null,null,null,""]
[null,null,null,null,null,null,null,null,null,""]
[null,null,null,null,null,null,null,null,null,""]
[null,null,null,null,null,null,null,null,null,""]
[null,null,null,null,null,null,null,null,null,""]
[null,null,null,null,null,null,null,null,null,""]
[null,null,null,null,null,null,null,null,null,""]
[null,null,null,null,null,null,null,null,null,""]
[null,null,null,null,null,null,null,null,null,""]
[null,null,null,null,null,null,null,null,null,""]
[null,null,null,null,null,null,null,null,null,""]
[null,null,null,null,null,null,null,null,null,""]
[null,null,null,null,null,null,null,null,null,""]
[null,null,null,null,null,null,null,null,null,""]
[null,null,null,null,null,null,null,null,null,""]
[null,null,null,null,null,null,null,null,null,""]
[null,null,null,null,null,null,null,null,null,""]
[null,null,null,null,null,null,null,null,null,{"$f":"IF(ISBLANK(E18827),\"\",E18827)","v":""}]
[null,null,null,null,null,null,null,null,null,""]
[null,null,null,null,null,null,null,null,null,""]
[null,null,null,null,null,null,null,null,null,""]
[null,null,null,null,null,null,null,null,null,""]

{"sheet":"7.Informations EFS","index":7,"n_rows":121,"n_cols":7,"rows_kept":121,"cut":false,"hidden":false,"merged":[[24,6,27,9],[24,10,27,17],[6,8,6,16],[7,8,7,16],[8,8,8,16],[8,1,8,6],[6,1,6,6],[7,1,7,6],[10,8,10,16],[11,8,11,16],[12,8,12,16],[13,8,13,16],[10,1,10,6],[11,1,11,6],[12,1,12,6]]}
[]
[null,"INFORMATIONS ECONOMIQUES, FINANCIERES ET SOCIALES"]
[]
[]
[null,"Merci d'indiquer les éléments suivants, en vous référant à l'onglet \"Définitions\"."]
[]
[null,"Chiffre d'affaires lié à la vente de titres de transport (k€ HT)"]
[null,"Chiffre d'affaires lié à d'autres prestations (k€ HT)"]
[null,"Nature de ces autres prestations"]
[]
[null,"Nombre d'employés au sein de l'entreprise"]
[null,"Nombre d'employés au 01/01/2015"]
[null,"Part des chauffeurs d'autocars dans l'ensemble des emplois"]
[null,"Nombre total de chauffeurs pour les lignes commercialisées, y compris pour les partenariats et la sous-traitance"]
[]
[]
[]
[null,"Merci de fournir une répartition, par ligne commercialisée, du chiffre d'affaires lié à l'activité de transport par autocar : "]
[]
[null,{"$f":"'3.Zones_desservies'!B44","v":"n° de ligne"},"Chiffre d'affaires (vente de billets)\nk€ HT","Chiffre d'affaires (autres prestations)\nk€ HT","Chiffre d'affaires total\nk€ HT"]
[null,{"$f":"IF('5.Services délivrés'!N9=\"\",\"\",'5.Services délivrés'!N9)","v":""},null,null,{"$f":"IF(B21=\"\",\"\",C21+D21)","v":""}]
[null,{"$f":"IF('5.Services délivrés'!N10=\"\",\"\",'5.Services délivrés'!N10)","v":""},null,null,{"$f":"IF(B22=\"\",\"\",C22+D22)","v":""}]
[null,{"$f":"IF('5.Services délivrés'!N11=\"\",\"\",'5.Services délivrés'!N11)","v":""},null,null,""]
[null,{"$f":"IF('5.Services délivrés'!N12=\"\",\"\",'5.Services délivrés'!N12)","v":""},null,null,""]
[null,{"$f":"IF('5.Services délivrés'!N13=\"\",\"\",'5.Services délivrés'!N13)","v":""},null,null,"",null,"Merci de préciser la nature des autres prestations, ainsi que les éventuelles clés de répartition utilisées"]
[null,{"$f":"IF('5.Services délivrés'!N14=\"\",\"\",'5.Services délivrés'!N14)","v":""},null,null,""]
[null,{"$f":"IF('5.Services délivrés'!N15=\"\",\"\",'5.Services délivrés'!N15)","v":""},null,null,""]
[null,{"$f":"IF('5.Services délivrés'!N16=\"\",\"\",'5.Services délivrés'!N16)","v":""},null,null,""]
[null,{"$f":"IF('5.Services délivrés'!N17=\"\",\"\",'5.Services délivrés'!N17)","v":""},null,null,""]
[null,{"$f":"IF('5.Services délivrés'!N18=\"\",\"\",'5.Services délivrés'!N18)","v":""},null,null,""]
[null,{"$f":"IF('5.Services délivrés'!N19=\"\",\"\",'5.Services délivrés'!N19)","v":""},null,null,""]
[null,{"$f":"IF('5.Services délivrés'!N20=\"\",\"\",'5.Services délivrés'!N20)","v":""},null,null,""]
[null,{"$f":"IF('5.Services délivrés'!N21=\"\",\"\",'5.Services délivrés'!N21)","v":""},null,null,""]
[null,{"$f":"IF('5.Services délivrés'!N22=\"\",\"\",'5.Services délivrés'!N22)","v":""},null,null,""]
[null,{"$f":"IF('5.Services délivrés'!N23=\"\",\"\",'5.Services délivrés'!N23)","v":""},null,null,""]
[null,{"$f":"IF('5.Services délivrés'!N24=\"\",\"\",'5.Services délivrés'!N24)","v":""},null,null,""]
[null,{"$f":"IF('5.Services délivrés'!N25=\"\",\"\",'5.Services délivrés'!N25)","v":""},null,null,""]
[null,{"$f":"IF('5.Services délivrés'!N26=\"\",\"\",'5.Services délivrés'!N26)","v":""},null,null,""]
[null,{"$f":"IF('5.Services délivrés'!N27=\"\",\"\",'5.Services délivrés'!N27)","v":""},null,null,""]
[null,{"$f":"IF('5.Services délivrés'!N28=\"\",\"\",'5.Services délivrés'!N28)","v":""},null,null,""]
[null,{"$f":"IF('5.Services délivrés'!N29=\"\",\"\",'5.Services délivrés'!N29)","v":""},null,null,""]
[null,{"$f":"IF('5.Services délivrés'!N30=\"\",\"\",'5.Services délivrés'!N30)","v":""},null,null,""]
[null,{"$f":"IF('5.Services délivrés'!N31=\"\",\"\",'5.Services délivrés'!N31)","v":""},null,null,""]
[null,{"$f":"IF('5.Services délivrés'!N32=\"\",\"\",'5.Services délivrés'!N32)","v":""},null,null,""]
[null,{"$f":"IF('5.Services délivrés'!N33=\"\",\"\",'5.Services délivrés'!N33)","v":""},null,null,""]
[null,{"$f":"IF('5.Services délivrés'!N34=\"\",\"\",'5.Services délivrés'!N34)","v":""},null,null,""]
[null,{"$f":"IF('5.Services délivrés'!N35=\"\",\"\",'5.Services délivrés'!N35)","v":""},null,null,""]
[null,{"$f":"IF('5.Services délivrés'!N36=\"\",\"\",'5.Services délivrés'!N36)","v":""},null,null,""]
[null,{"$f":"IF('5.Services délivrés'!N37=\"\",\"\",'5.Services délivrés'!N37)","v":""},null,null,""]
[null,{"$f":"IF('5.Services délivrés'!N38=\"\",\"\",'5.Services délivrés'!N38)","v":""},null,null,""]
[null,{"$f":"IF('5.Services délivrés'!N39=\"\",\"\",'5.Services délivrés'!N39)","v":""},null,null,""]
[null,{"$f":"IF('5.Services délivrés'!N40=\"\",\"\",'5.Services délivrés'!N40)","v":""},null,null,""]
[null,{"$f":"IF('5.Services délivrés'!N41=\"\",\"\",'5.Services délivrés'!N41)","v":""},null,null,""]
[null,{"$f":"IF('5.Services délivrés'!N42=\"\",\"\",'5.Services délivrés'!N42)","v":""},null,null,""]
[null,{"$f":"IF('5.Services délivrés'!N43=\"\",\"\",'5.Services délivrés'!N43)","v":""},null,null,""]
[null,{"$f":"IF('5.Services délivrés'!N44=\"\",\"\",'5.Services délivrés'!N44)","v":""},null,null,""]
[null,{"$f":"IF('5.Services délivrés'!N45=\"\",\"\",'5.Services délivrés'!N45)","v":""},null,null,""]
[null,{"$f":"IF('5.Services délivrés'!N46=\"\",\"\",'5.Services délivrés'!N46)","v":""},null,null,""]
[null,{"$f":"IF('5.Services délivrés'!N47=\"\",\"\",'5.Services délivrés'!N47)","v":""},null,null,""]
[null,{"$f":"IF('5.Services délivrés'!N48=\"\",\"\",'5.Services délivrés'!N48)","v":""},null,null,""]
[null,{"$f":"IF('5.Services délivrés'!N49=\"\",\"\",'5.Services délivrés'!N49)","v":""},null,null,""]
[null,{"$f":"IF('5.Services délivrés'!N50=\"\",\"\",'5.Services délivrés'!N50)","v":""},null,null,""]
[null,{"$f":"IF('5.Services délivrés'!N51=\"\",\"\",'5.Services délivrés'!N51)","v":""},null,null,""]
[null,{"$f":"IF('5.Services délivrés'!N52=\"\",\"\",'5.Services délivrés'!N52)","v":""},null,null,""]
[null,{"$f":"IF('5.Services délivrés'!N53=\"\",\"\",'5.Services délivrés'!N53)","v":""},null,null,""]
[null,{"$f":"IF('5.Services délivrés'!N54=\"\",\"\",'5.Services délivrés'!N54)","v":""},null,null,""]
[null,{"$f":"IF('5.Services délivrés'!N55=\"\",\"\",'5.Services délivrés'!N55)","v":""},null,null,""]
[null,{"$f":"IF('5.Services délivrés'!N56=\"\",\"\",'5.Services délivrés'!N56)","v":""},null,null,""]
[null,{"$f":"IF('5.Services délivrés'!N57=\"\",\"\",'5.Services délivrés'!N57)","v":""},null,null,""]
[null,{"$f":"IF('5.Services délivrés'!N58=\"\",\"\",'5.Services délivrés'!N58)","v":""},null,null,""]
[null,{"$f":"IF('5.Services délivrés'!N59=\"\",\"\",'5.Services délivrés'!N59)","v":""},null,null,""]
[null,{"$f":"IF('5.Services délivrés'!N60=\"\",\"\",'5.Services délivrés'!N60)","v":""},null,null,""]
[null,{"$f":"IF('5.Services délivrés'!N61=\"\",\"\",'5.Services délivrés'!N61)","v":""},null,null,""]
[null,{"$f":"IF('5.Services délivrés'!N62=\"\",\"\",'5.Services délivrés'!N62)","v":""},null,null,""]
[null,{"$f":"IF('5.Services délivrés'!N63=\"\",\"\",'5.Services délivrés'!N63)","v":""},null,null,""]
[null,{"$f":"IF('5.Services délivrés'!N64=\"\",\"\",'5.Services délivrés'!N64)","v":""},null,null,""]
[null,{"$f":"IF('5.Services délivrés'!N65=\"\",\"\",'5.Services délivrés'!N65)","v":""},null,null,""]
[null,{"$f":"IF('5.Services délivrés'!N66=\"\",\"\",'5.Services délivrés'!N66)","v":""},null,null,""]
[null,{"$f":"IF('5.Services délivrés'!N67=\"\",\"\",'5.Services délivrés'!N67)","v":""},null,null,""]
[null,{"$f":"IF('5.Services délivrés'!N68=\"\",\"\",'5.Services délivrés'!N68)","v":""},null,null,""]
[null,{"$f":"IF('5.Services délivrés'!N69=\"\",\"\",'5.Services délivrés'!N69)","v":""},null,null,""]
[null,{"$f":"IF('5.Services délivrés'!N70=\"\",\"\",'5.Services délivrés'!N70)","v":""},null,null,""]
[null,{"$f":"IF('5.Services délivrés'!N71=\"\",\"\",'5.Services délivrés'!N71)","v":""},null,null,""]
[null,{"$f":"IF('5.Services délivrés'!N72=\"\",\"\",'5.Services délivrés'!N72)","v":""},null,null,""]
[null,{"$f":"IF('5.Services délivrés'!N73=\"\",\"\",'5.Services délivrés'!N73)","v":""},null,null,""]
[null,{"$f":"IF('5.Services délivrés'!N74=\"\",\"\",'5.Services délivrés'!N74)","v":""},null,null,{"$f":"IF(B86=\"\",\"\",C86+D86)","v":""}]
[null,{"$f":"IF('5.Services délivrés'!N75=\"\",\"\",'5.Services délivrés'!N75)","v":""},null,null,""]
[null,{"$f":"IF('5.Services délivrés'!N76=\"\",\"\",'5.Services délivrés'!N76)","v":""},null,null,""]
[null,{"$f":"IF('5.Services délivrés'!N77=\"\",\"\",'5.Services délivrés'!N77)","v":""},null,null,""]
[null,{"$f":"IF('5.Services délivrés'!N78=\"\",\"\",'5.Services délivrés'!N78)","v":""},null,null,""]
[null,{"$f":"IF('5.Services délivrés'!N79=\"\",\"\",'5.Services délivrés'!N79)","v":""},null,null,""]
[null,{"$f":"IF('5.Services délivrés'!N80=\"\",\"\",'5.Services délivrés'!N80)","v":""},null,null,""]
[null,{"$f":"IF('5.Services délivrés'!N81=\"\",\"\",'5.Services délivrés'!N81)","v":""},null,null,""]
[null,{"$f":"IF('5.Services délivrés'!N82=\"\",\"\",'5.Services délivrés'!N82)","v":""},null,null,""]
[null,{"$f":"IF('5.Services délivrés'!N83=\"\",\"\",'5.Services délivrés'!N83)","v":""},null,null,""]
[null,{"$f":"IF('5.Services délivrés'!N84=\"\",\"\",'5.Services délivrés'!N84)","v":""},null,null,""]
[null,{"$f":"IF('5.Services délivrés'!N85=\"\",\"\",'5.Services délivrés'!N85)","v":""},null,null,""]
[null,{"$f":"IF('5.Services délivrés'!N86=\"\",\"\",'5.Services délivrés'!N86)","v":""},null,null,""]
[null,{"$f":"IF('5.Services délivrés'!N87=\"\",\"\",'5.Services délivrés'!N87)","v":""},null,null,""]
[null,{"$f":"IF('5.Services délivrés'!N88=\"\",\"\",'5.Services délivrés'!N88)","v":""},null,null,""]
[null,{"$f":"IF('5.Services délivrés'!N89=\"\",\"\",'5.Services délivrés'!N89)","v":""},null,null,""]
[null,{"$f":"IF('5.Services délivrés'!N90=\"\",\"\",'5.Services délivrés'!N90)","v":""},null,null,""]
[null,{"$f":"IF('5.Services délivrés'!N91=\"\",\"\",'5.Services délivrés'!N91)","v":""},null,null,""]
[null,{"$f":"IF('5.Services délivrés'!N92=\"\",\"\",'5.Services délivrés'!N92)","v":""},null,null,""]
[null,{"$f":"IF('5.Services délivrés'!N93=\"\",\"\",'5.Services délivrés'!N93)","v":""},null,null,""]
[null,{"$f":"IF('5.Services délivrés'!N94=\"\",\"\",'5.Services délivrés'!N94)","v":""},null,null,""]
[null,{"$f":"IF('5.Services délivrés'!N95=\"\",\"\",'5.Services délivrés'!N95)","v":""},null,null,""]
[null,{"$f":"IF('5.Services délivrés'!N96=\"\",\"\",'5.Services délivrés'!N96)","v":""},null,null,""]
[null,{"$f":"IF('5.Services délivrés'!N97=\"\",\"\",'5.Services délivrés'!N97)","v":""},null,null,""]
[null,{"$f":"IF('5.Services délivrés'!N98=\"\",\"\",'5.Services délivrés'!N98)","v":""},null,null,""]
[null,{"$f":"IF('5.Services délivrés'!N99=\"\",\"\",'5.Services délivrés'!N99)","v":""},null,null,""]
[null,{"$f":"IF('5.Services délivrés'!N100=\"\",\"\",'5.Services délivrés'!N100)","v":""},null,null,""]
[null,{"$f":"IF('5.Services délivrés'!N101=\"\",\"\",'5.Services délivrés'!N101)","v":""},null,null,""]
[null,{"$f":"IF('5.Services délivrés'!N102=\"\",\"\",'5.Services délivrés'!N102)","v":""},null,null,""]
[null,{"$f":"IF('5.Services délivrés'!N103=\"\",\"\",'5.Services délivrés'!N103)","v":""},null,null,""]
[null,{"$f":"IF('5.Services délivrés'!N104=\"\",\"\",'5.Services délivrés'!N104)","v":""},null,null,""]
[null,{"$f":"IF('5.Services délivrés'!N105=\"\",\"\",'5.Services délivrés'!N105)","v":""},null,null,""]
[null,{"$f":"IF('5.Services délivrés'!N106=\"\",\"\",'5.Services délivrés'!N106)","v":""},null,null,""]
[null,{"$f":"IF('5.Services délivrés'!N107=\"\",\"\",'5.Services délivrés'!N107)","v":""},null,null,""]
[null,{"$f":"IF('5.Services délivrés'!N108=\"\",\"\",'5.Services délivrés'!N108)","v":""},null,null,""]
[null,"_","_","_","_"]